BEGIN:VCALENDAR
VERSION:2.0
PRODID:-//UM//UM*Events//EN
CALSCALE:GREGORIAN
BEGIN:VTIMEZONE
TZID:America/Detroit
TZURL:http://tzurl.org/zoneinfo/America/Detroit
X-LIC-LOCATION:America/Detroit
BEGIN:DAYLIGHT
TZOFFSETFROM:-0500
TZOFFSETTO:-0400
TZNAME:EDT
DTSTART:20070311T020000
RRULE:FREQ=YEARLY;BYMONTH=3;BYDAY=2SU
END:DAYLIGHT
BEGIN:STANDARD
TZOFFSETFROM:-0400
TZOFFSETTO:-0500
TZNAME:EST
DTSTART:20071104T020000
RRULE:FREQ=YEARLY;BYMONTH=11;BYDAY=1SU
END:STANDARD
END:VTIMEZONE
BEGIN:VEVENT
DTSTAMP:20210511T124519
DTSTART;TZID=America/Detroit:20210602T080000
DTEND;TZID=America/Detroit:20210602T230000
SUMMARY:Other:Become a UROP Research Mentor
DESCRIPTION:Submit a Research Project for the 2021-2022 Academic Year: https://lsa.umich.edu/urop/research-mentors.html\n\nUROP Research Mentors are faculty and post-doc researchers from across all U-M's 19 Schools and Colleges who provide undergraduate student researchers an opportunity to engage in research activities that help them learn about the pursuit of knowledge within an academic discipline. This early exposure to research fosters a valuable academic experience for students. Through this collaboration\, students gain research skills and mentorship that lead to academic retention\, a more positive undergraduate experience and paths to graduate school.
UID:83879-21619424@events.umich.edu
URL:https://events.umich.edu/event/83879
CLASS:PUBLIC
STATUS:CONFIRMED
CATEGORIES:AEM Featured,Education,Faculty,Free,Graduate and Professional Students,Graduate Students,Interdisciplinary,Mentorship,Research,research data,Staff,Urop
LOCATION:Off Campus Location
CONTACT:
END:VEVENT
BEGIN:VEVENT
DTSTAMP:20210430T095709
DTSTART;TZID=America/Detroit:20210602T080000
DTEND;TZID=America/Detroit:20210602T230000
SUMMARY:Careers / Jobs:Changing Gears Application Open
DESCRIPTION:Learn more about the Changing Gears Program and apply at: myumi.ch/uropcg\n\nChanging Gears (CG) is a UROP program designed primarily for community college transfer students who will be attending the University of Michigan\, but also serves students transferring from 4 year institutions. Students in the CG Program become a part of an ongoing faculty-driven research\, scholarly or creative project in their field of interest. Students learn valuable academic skills\, applying these skills to their research project\, academics\, and future career opportunities\, while receiving academic credit or compensation for their efforts in research work.\n\nIf you are a U-M Transfer Student and not graduating until winter 2022 and/or after\, you are eligible to apply to the 2021-2022 UROP Changing Gears Program.
UID:83922-21616929@events.umich.edu
URL:https://events.umich.edu/event/83922
CLASS:PUBLIC
STATUS:CONFIRMED
CATEGORIES:AEM Featured,first-generation,Free,Interdisciplinary,Networking,Office Hours,Research,Transfer Students,Undergraduate,Undergraduate Students,Urop
LOCATION:Off Campus Location
CONTACT:
END:VEVENT
BEGIN:VEVENT
DTSTAMP:20220502T122639
DTSTART;TZID=America/Detroit:20210602T080000
DTEND;TZID=America/Detroit:20210602T230000
SUMMARY:Careers / Jobs:UROP First-Year Application Open
DESCRIPTION:Our \"Traditional UROP Program\" has been our flagship program running over 30 years. This Academic Year program\, in which students participate for both Fall and Winter Terms\, is designed for University of Michigan first and second year undergraduate students enrolled on the Ann Arbor campus who are seeking a first time research experience. Student research assistants work alongside a faculty member\, research scientist or professional practitioner on an ongoing or new research project.\n\nLearn more and apply at: myumi.ch/uropyearone\n\nApplications being accepted on a rolling basis.
UID:83923-21617048@events.umich.edu
URL:https://events.umich.edu/event/83923
CLASS:PUBLIC
STATUS:CONFIRMED
CATEGORIES:AEM Featured,Applications,first-generation,Free,Interdisciplinary,Networking,Research,Undergraduate,Undergraduate Students,Urop
LOCATION:Undergraduate Science Building
CONTACT:
END:VEVENT
BEGIN:VEVENT
DTSTAMP:20210804T182828
DTSTART;TZID=America/Detroit:20210602T080000
DTEND;TZID=America/Detroit:20210602T230000
SUMMARY:Careers / Jobs:UROP Research Scholars Application now open
DESCRIPTION:The UROP Research Scholars Program is designed for students who want to expand on their first year UROP experience and participate in UROP for a second year at an advanced level. In this program\, students build upon the knowledge gained in a first undergraduate research experience to further explore the connections between research\, a liberal arts education\, and communicating skills to advance their future professional goals. Students are expected to explore various written and oral possibilities for communicating their research process\, identifying the limits set by the discipline and the opportunities that lie beyond.\n\nApply at: https://myumi.ch/uroprs
UID:82067-21014947@events.umich.edu
URL:https://events.umich.edu/event/82067
CLASS:PUBLIC
STATUS:CONFIRMED
CATEGORIES:AEM Featured,Applications,Free,Interdisciplinary,Research,Undergraduate,Undergraduate Students,Urop
LOCATION:Off Campus Location
CONTACT:
END:VEVENT
BEGIN:VEVENT
DTSTAMP:20210714T155619
DTSTART;TZID=America/Detroit:20210602T080000
DTEND;TZID=America/Detroit:20210602T230000
SUMMARY:Careers / Jobs:UROP Rising Sophomore Applications Open
DESCRIPTION:The Undergraduate Research Opportunity Program is now accepting applications for students who will be rising sophomores during the 2021-2022 academic year. \n\nLearn more and apply today at http://myumi.ch/uropsophomore\n\nRising Sophomore Applications are being accepted on a rolling basis.
UID:80546-21203414@events.umich.edu
URL:https://events.umich.edu/event/80546
CLASS:PUBLIC
STATUS:CONFIRMED
CATEGORIES:AEM Featured,Applications,first-generation,Free,Research,Sophomore,Undergraduate,Undergraduate Students,Urop
LOCATION:Off Campus Location
CONTACT:
END:VEVENT
BEGIN:VEVENT
DTSTAMP:20210520T103033
DTSTART;TZID=America/Detroit:20210602T110000
DTEND;TZID=America/Detroit:20210602T123000
SUMMARY:Workshop / Seminar:Advanced Energy Technologies
DESCRIPTION:This all-star panel of energy experts will dive into the legal\, socio-political\, and environmental considerations for small modular nuclear reactors. In addition to offering a technical overview\, the 90-minute panel will discuss clean energy standards\, zero emission credits\, licensing\, regulations\, and safety issues.
UID:84087-21619938@events.umich.edu
URL:https://events.umich.edu/event/84087
CLASS:PUBLIC
STATUS:CONFIRMED
CATEGORIES:Energy,Engineering,Entrepreneurship,Sustainability
LOCATION:Off Campus Location
CONTACT:
END:VEVENT
BEGIN:VEVENT
DTSTAMP:20210520T134609
DTSTART;TZID=America/Detroit:20210602T120000
DTEND;TZID=America/Detroit:20210602T130000
SUMMARY:Livestream / Virtual:Homelessness and School Discipline Discussion Panel
DESCRIPTION:Please join us for the opportunity to learn about new research from Poverty Solutions at the University of Michigan on homelessness and school discipline. The research will be presented by Jennifer Erb-Downward\, a senior research associate at Poverty Solutions. \n\nThe presentation will be followed by a discussion panel featuring three individuals with professional and lived experience:\n- Julie Ratekin\, assistant director of programs at Wayne Metropolitan Community Action Agency\n- Sarena Shivers\, deputy executive director of professional learning and member services at Michigan Association of Superintendents and Administrators\n- Brittney Barros\, Student Advocacy Center board member and social worker\n\nThe Homelessness and School Discipline Discussion Panel is sponsored by Student Advocacy Center\, Street Democracy and Poverty Solutions at U-M.
UID:84091-21619970@events.umich.edu
URL:https://events.umich.edu/event/84091
CLASS:PUBLIC
STATUS:CONFIRMED
CATEGORIES:Education,Poverty
LOCATION:Off Campus Location
CONTACT:
END:VEVENT
BEGIN:VEVENT
DTSTAMP:20240116T141648
DTSTART;TZID=America/Detroit:20210602T120000
DTEND;TZID=America/Detroit:20210602T123000
SUMMARY:Well-being:North Campus Mindfulness Meditation Drop-In (Online)
DESCRIPTION:Take a moment to create some space to breathe and invite a sense of calm into your day. This is a guided mindfulness meditation drop-in session. No experience necessary. Free and open to all. \n\nEmail dmitryb@umich.edu to sign up for the mailing list. You will receive a weekly reminder with the zoom link. Also\, you can add the sessions to your Google Calendar: https://tinyurl.com/y3kbkwd6
UID:40967-21619234@events.umich.edu
URL:https://events.umich.edu/event/40967
CLASS:PUBLIC
STATUS:CONFIRMED
CATEGORIES:Health & Wellness,Meditation,Mindfulness,Mindfulness\, Meditation,North campus,Stress Reduction,Virtual,Well-being
LOCATION:Off Campus Location
CONTACT:
END:VEVENT
BEGIN:VEVENT
DTSTAMP:20210602T135602
DTSTART;TZID=America/Detroit:20210602T130000
DTEND;TZID=America/Detroit:20210602T140000
SUMMARY:Livestream / Virtual:UROP Summer Virtual Office Hours
DESCRIPTION:UROP Staff will be available during the summer via Zoom office hours to answer questions from those who drop in. No appointment necessary.\n\nWednesdays (1-2pm ET)\nThursdays (1-2pm ET)\nFriday (11:30am - 12:30pm ET)\nhttps://myumi.ch/1p1d3\n\nThe Undergraduate Research Opportunity Program (UROP) offers several different programs throughout the academic year for University of Michigan-Ann Arbor undergraduate students to discover the world of research through collaborations with U-M researchers. Students participating in the program are called research assistants and work alongside a faculty member\, research scientist or professional practitioner on an ongoing or new research project.
UID:84176-21620712@events.umich.edu
URL:https://events.umich.edu/event/84176
CLASS:PUBLIC
STATUS:CONFIRMED
CATEGORIES:Admissions,AEM Featured,Applications,first-generation,Free,Interdisciplinary,Office Hours,Research,Undergraduate,Undergraduate Students,Urop,Virtual
LOCATION:Off Campus Location
CONTACT:
END:VEVENT
BEGIN:VEVENT
DTSTAMP:20210517T142054
DTSTART;TZID=America/Detroit:20210602T140000
DTEND;TZID=America/Detroit:20210602T153000
SUMMARY:Performance:A Celebration of Black Music I
DESCRIPTION:*I am America too.* With these powerful words\, Afro-American poet Langston Hughes expressed the right of coloured people to be an equal part of American culture and society. As a member of the »Harlem Renaissance«\, a dynamic movement initiated by Afro-American artists in the 1920s\, Hughes became a true classic. With his deeply humanistic attitude\, his intellect\, sense of humour and incorruptible integrity\, he produced works that remain timeless and touching to this day. The concert programme *Langston Hughes: Singing Harlem in Europe* features musical settings of his texts by composers like Wilhelm Grosz\, Florence Price and Leonard Bernstein\, showing that humanity and truthfulness know no bounds – neither then\, nor now.\n\n*Note: All Hamburg International Music Festival 2021 concerts are available to stream free of charge. Once premiered\, each concert stream can be accessed for the whole festival period.*
UID:84065-21619786@events.umich.edu
URL:https://events.umich.edu/event/84065
CLASS:PUBLIC
STATUS:CONFIRMED
CATEGORIES:Festival,German,Music,Poetry
LOCATION:Off Campus Location
CONTACT:
END:VEVENT
BEGIN:VEVENT
DTSTAMP:20210506T120820
DTSTART;TZID=America/Detroit:20210602T140000
DTEND;TZID=America/Detroit:20210602T153000
SUMMARY:Meeting:CoderSpaces (Wednesdays)
DESCRIPTION:Are you grappling with a piece of code\, trying to compute on a cluster\, or just getting started with a new method such as machine learning? Then we might have just the right space for you.\n\nAll members of the U-M community are invited to join our weekly virtual CoderSpaces\, Mondays – Thursdays\, during the Summer 2021 term to get research support and connect with others.\n\nThe virtual sessions are designed to assist faculty\, staff\, and students with research methodology\, statistics\, data science applications\, and computational programming for research.\n\nOur hosts have a wide set of methodological and technological expertise. They come to you from a variety of departments and disciplines and are looking forward to serving the U-M community in their research endeavors.\n\nCoderSpaces provide a casual\, productive\, and inclusive environment. Everyone is welcome regardless of skill level.\n\nWednesdays 2-2:30 p.m.\nJoin via Zoom* (https://umich.zoom.us/j/96392817699)\n*Users will have to sign in with their UMICH (Level-1) credentials.\n\nwith Armand Burks (ARC/UMSI)\, Jule Krüger (ISR/ARC)\, Meghan Richey (ARC)\, Shelly Johnson (ARC)\n\nExpertise: automation of tasks and workflows\, Bash\, C++\, cloud analytics\, data analysis\, management and visualization\, Git\, GNU Make\, high performance computing\, installing software on University clusters\, Java\, LaTeX\, machine learning (Tensorflow\, Keras\, convolutional neural networks)\, natural language processing\, Python\, R\, R Markdown\, web scraping (Selenium)
UID:83926-21619128@events.umich.edu
URL:https://events.umich.edu/event/83926
CLASS:PUBLIC
STATUS:CONFIRMED
CATEGORIES:Arc,Data Science,Information And Technology,Office Hours,Virtual
LOCATION:Off Campus Location
CONTACT:
END:VEVENT
BEGIN:VEVENT
DTSTAMP:20210602T095943
DTSTART;TZID=America/Detroit:20210602T160000
DTEND;TZID=America/Detroit:20210602T170000
SUMMARY:Presentation:Transfer Transitions: Transfer Student Communities and Programming
DESCRIPTION:Please join the LSA Transfer Student Center over the summer for Transfer Transitions to learn how you can build on the skills you already possess to make a smooth transition in your first semester and discover all the opportunities available for you. Every other week we will feature a group of opportunities and resources centered on a topic.\n\nThis week we feature optiMize\, Transfer Connections\, and the Undergraduate Research Opportunity Program. Serving transfer students is at the core of these three programs\, all of which offer extensive opportunities to join in the transfer student community in addition to their other programming
UID:84179-21620701@events.umich.edu
URL:https://events.umich.edu/event/84179
CLASS:PUBLIC
STATUS:CONFIRMED
CATEGORIES:Transfer Students
LOCATION:Off Campus Location
CONTACT:
END:VEVENT
END:VCALENDAR