BEGIN:VCALENDAR
VERSION:2.0
PRODID:-//UM//UM*Events//EN
CALSCALE:GREGORIAN
BEGIN:VTIMEZONE
TZID:America/Detroit
TZURL:http://tzurl.org/zoneinfo/America/Detroit
X-LIC-LOCATION:America/Detroit
BEGIN:DAYLIGHT
TZOFFSETFROM:-0500
TZOFFSETTO:-0400
TZNAME:EDT
DTSTART:20070311T020000
RRULE:FREQ=YEARLY;BYMONTH=3;BYDAY=2SU
END:DAYLIGHT
BEGIN:STANDARD
TZOFFSETFROM:-0400
TZOFFSETTO:-0500
TZNAME:EST
DTSTART:20071104T020000
RRULE:FREQ=YEARLY;BYMONTH=11;BYDAY=1SU
END:STANDARD
END:VTIMEZONE
BEGIN:VEVENT
DTSTAMP:20210511T124519
DTSTART;TZID=America/Detroit:20210608T080000
DTEND;TZID=America/Detroit:20210608T230000
SUMMARY:Other:Become a UROP Research Mentor
DESCRIPTION:Submit a Research Project for the 2021-2022 Academic Year: https://lsa.umich.edu/urop/research-mentors.html\n\nUROP Research Mentors are faculty and post-doc researchers from across all U-M's 19 Schools and Colleges who provide undergraduate student researchers an opportunity to engage in research activities that help them learn about the pursuit of knowledge within an academic discipline. This early exposure to research fosters a valuable academic experience for students. Through this collaboration\, students gain research skills and mentorship that lead to academic retention\, a more positive undergraduate experience and paths to graduate school.
UID:83879-21619430@events.umich.edu
URL:https://events.umich.edu/event/83879
CLASS:PUBLIC
STATUS:CONFIRMED
CATEGORIES:AEM Featured,Education,Faculty,Free,Graduate and Professional Students,Graduate Students,Interdisciplinary,Mentorship,Research,research data,Staff,Urop
LOCATION:Off Campus Location
CONTACT:
END:VEVENT
BEGIN:VEVENT
DTSTAMP:20210430T095709
DTSTART;TZID=America/Detroit:20210608T080000
DTEND;TZID=America/Detroit:20210608T230000
SUMMARY:Careers / Jobs:Changing Gears Application Open
DESCRIPTION:Learn more about the Changing Gears Program and apply at: myumi.ch/uropcg\n\nChanging Gears (CG) is a UROP program designed primarily for community college transfer students who will be attending the University of Michigan\, but also serves students transferring from 4 year institutions. Students in the CG Program become a part of an ongoing faculty-driven research\, scholarly or creative project in their field of interest. Students learn valuable academic skills\, applying these skills to their research project\, academics\, and future career opportunities\, while receiving academic credit or compensation for their efforts in research work.\n\nIf you are a U-M Transfer Student and not graduating until winter 2022 and/or after\, you are eligible to apply to the 2021-2022 UROP Changing Gears Program.
UID:83922-21616935@events.umich.edu
URL:https://events.umich.edu/event/83922
CLASS:PUBLIC
STATUS:CONFIRMED
CATEGORIES:AEM Featured,first-generation,Free,Interdisciplinary,Networking,Office Hours,Research,Transfer Students,Undergraduate,Undergraduate Students,Urop
LOCATION:Off Campus Location
CONTACT:
END:VEVENT
BEGIN:VEVENT
DTSTAMP:20220502T122639
DTSTART;TZID=America/Detroit:20210608T080000
DTEND;TZID=America/Detroit:20210608T230000
SUMMARY:Careers / Jobs:UROP First-Year Application Open
DESCRIPTION:Our \"Traditional UROP Program\" has been our flagship program running over 30 years. This Academic Year program\, in which students participate for both Fall and Winter Terms\, is designed for University of Michigan first and second year undergraduate students enrolled on the Ann Arbor campus who are seeking a first time research experience. Student research assistants work alongside a faculty member\, research scientist or professional practitioner on an ongoing or new research project.\n\nLearn more and apply at: myumi.ch/uropyearone\n\nApplications being accepted on a rolling basis.
UID:83923-21617054@events.umich.edu
URL:https://events.umich.edu/event/83923
CLASS:PUBLIC
STATUS:CONFIRMED
CATEGORIES:AEM Featured,Applications,first-generation,Free,Interdisciplinary,Networking,Research,Undergraduate,Undergraduate Students,Urop
LOCATION:Undergraduate Science Building
CONTACT:
END:VEVENT
BEGIN:VEVENT
DTSTAMP:20210804T182828
DTSTART;TZID=America/Detroit:20210608T080000
DTEND;TZID=America/Detroit:20210608T230000
SUMMARY:Careers / Jobs:UROP Research Scholars Application now open
DESCRIPTION:The UROP Research Scholars Program is designed for students who want to expand on their first year UROP experience and participate in UROP for a second year at an advanced level. In this program\, students build upon the knowledge gained in a first undergraduate research experience to further explore the connections between research\, a liberal arts education\, and communicating skills to advance their future professional goals. Students are expected to explore various written and oral possibilities for communicating their research process\, identifying the limits set by the discipline and the opportunities that lie beyond.\n\nApply at: https://myumi.ch/uroprs
UID:82067-21014953@events.umich.edu
URL:https://events.umich.edu/event/82067
CLASS:PUBLIC
STATUS:CONFIRMED
CATEGORIES:AEM Featured,Applications,Free,Interdisciplinary,Research,Undergraduate,Undergraduate Students,Urop
LOCATION:Off Campus Location
CONTACT:
END:VEVENT
BEGIN:VEVENT
DTSTAMP:20210714T155619
DTSTART;TZID=America/Detroit:20210608T080000
DTEND;TZID=America/Detroit:20210608T230000
SUMMARY:Careers / Jobs:UROP Rising Sophomore Applications Open
DESCRIPTION:The Undergraduate Research Opportunity Program is now accepting applications for students who will be rising sophomores during the 2021-2022 academic year. \n\nLearn more and apply today at http://myumi.ch/uropsophomore\n\nRising Sophomore Applications are being accepted on a rolling basis.
UID:80546-21203420@events.umich.edu
URL:https://events.umich.edu/event/80546
CLASS:PUBLIC
STATUS:CONFIRMED
CATEGORIES:AEM Featured,Applications,first-generation,Free,Research,Sophomore,Undergraduate,Undergraduate Students,Urop
LOCATION:Off Campus Location
CONTACT:
END:VEVENT
BEGIN:VEVENT
DTSTAMP:20210428T181514
DTSTART;TZID=America/Detroit:20210608T100000
DTEND;TZID=America/Detroit:20210608T113000
SUMMARY:Livestream / Virtual:Integrating Critical Perspectives into Leadership: Moving Theory and Practice Towards Inclusion and Justice
DESCRIPTION:This session will provide a foundational exploration of critical social theory and the utility of cultivating critical perspectives to interrogate leadership theory and practice. Participants will learn the art of deconstruction and reconstruction of leadership theory and practice\, to challenge dominant norms and discover how to engage in leadership grounded in social justice and inclusion.\nSpeaker: Natasha Turman (she/her/hers)\, Director\, Women in Science and Engineering Residence Program\nRegistration is required at https://myumi.ch/R5llQ.\nWe want to ensure full and equitable participation in our events. If an accommodation would promote your full participation in this event\, please follow the registration link to indicate your accommodation requirements. Please let us know as soon as possible in order to have adequate time\, preferably one week\, to arrange for your requested accommodations or an effective alternative.
UID:83897-21605169@events.umich.edu
URL:https://events.umich.edu/event/83897
CLASS:PUBLIC
STATUS:CONFIRMED
CATEGORIES:Diversity,Graduate Students
LOCATION:Off Campus Location
CONTACT:
END:VEVENT
BEGIN:VEVENT
DTSTAMP:20211209T160155
DTSTART;TZID=America/Detroit:20210608T100000
DTEND;TZID=America/Detroit:20210608T110000
SUMMARY:Other:LSA Technology Services Research Support Office Hours
DESCRIPTION:The Research Team within LSA Technology Services is excited to announce virtual office hours for research computing support. These are regularly scheduled times when we will have subject matter experts in geographic information systems\, high performance computing\, digital scholarship\, and computer programming available for drop-in support. Faculty\, staff\, and students with research-related questions pertaining to any of these areas can stop by to ask questions\, get help working through a problem\, or inquire about a new project—no appointment necessary!\n\nNot sure what we can do to help? Read on for more details about the services provided by each of these teams.\n\n*Digital Scholarship*\nOur digital scholarship team specializes in humanities\, social sciences\, and interdisciplinary digital project methods and can provide assistance with:\n* Conceptualizing\, planning\, and finding resources for a digital project\n* How to version\, archive\, and preserve a project\n* Sustainability\, preservation\, accessibility\, privacy\, consent\, or grant requirements\nNew to digital projects? We can also talk about how to demonstrate the scholarly rigor of your digital project\, accurately credit the labor required of the project at every stage\, and how to provide evidence and metrics for promotion and job dossiers.\n\n*Geographic Information Systems (GIS)*\n\nOur GIS specialists can help with your geographic data needs\, including the following:\n* Making maps for use in a class\, grant proposal\, or publication\n* Geospatial analysis: identifying spatial patterns and trends in your data\n* Georeferencing: assigning geographic coordinates to a historic paper map or a hand-drawn sketch for digital use as a basemap or combined display with other data\n* Geocoding: convert a spreadsheet with addresses into latitude-longitude so you can plot your data on a map\n* StoryMaps: harness the power of maps to tell your story\n* Integrating smartphones or tablets and GIS in your field courses or researchSetting up workshops for a class or group interested in learning to use GIS in the context of your discipline\n* Assistance with ESRI's ArcGIS platform\, including ArcGIS Pro and ArcGIS Online\, or other geospatial software\n* Developing your own custom GIS web application or mobile application\n\n*High Performance Computing (HPC)*\n\nOur HPC team can help with:\n* Accessing U-M’s new Great Lakes HPC (High Performance Computing) cluster\n* Moving your computational work from your laptop or workstation to the cluster\, freeing up your machines for other tasks\n* Compiling\, installing\, or configuring a wide range of computational software\n* Setting up automated workflows to save time\n* Debugging your programs to see why they are crashing\n* Evaluating the benefits of parallel computing\, more memory or system resources for your code\nWe regularly support Python\, R\, MATLAB\, C/C++\, Java\, Julia\, Go\, and many other applications.\n\n*Research Support Programming*\n\nOur computer programming team can help with any of the following:\n\n* Debugging\, repair\, and improvements or upgrades to your existing code\n* References to training and coding resources to assist in your project\n* Design and development of custom software to support your research\n* Incorporation of lab-specific hardware into custom software applications.\n* Writing funding for any of the above into your grant proposals\nWe're experienced in MATLAB\, Python\, R\, LabVIEW\, JavaScript\, MedPC\, iOS development\, and more.\n\nWho can join the office hours?\nLSA Faculty\, staff\, and students with research-related questions on geographic information systems\, high performance computing\, digital scholarship\, and computer programming\n\nWhen and where is it?\nOur virtual office hours use Zoom:\nMondays\, 2:00–3:00 P.M.\nTuesdays\, 10:00–11:00 A.M.\nThursdays\, 3:00–4:00 P.M.
UID:77718-20270755@events.umich.edu
URL:https://events.umich.edu/event/77718
CLASS:PUBLIC
STATUS:CONFIRMED
CATEGORIES:Digital Humanities,Digital Projects,Digital Scholarship,Faculty,Gis,Graduate Students,Humanities,Lsa,Office Hours,Postdoctoral Research Fellows,Qualitative Social Sciences,research,Science,Virtual
LOCATION:Off Campus Location
CONTACT:
END:VEVENT
BEGIN:VEVENT
DTSTAMP:20201216T122338
DTSTART;TZID=America/Detroit:20210608T100000
DTEND;TZID=America/Detroit:20210608T113000
SUMMARY:Lecture / Discussion:Sovereignty Sharing in Fragile States
DESCRIPTION:This lecture will be live streamed\n\nIn many parts of the world\, countries emerging from conflict suffer from grave deficits in the rule of law. Weak courts\, police\, and anti-corruption mechanisms allow insecurity\, graft and impunity to fester.  In some extraordinary cases the United Nations and other international actors have partnered with national governments\, sharing sovereign authority over key functions\, to bolster the rule of law. This talk will discuss the power and pitfalls of sharing sovereignty\, drawing examples in West Africa\, the Middle East\, Southeast Asia\, and Central America.\n\nOur presenter\, John D. Ciorciari is an Associate professor of Public Policy and Director of the Ford School’s Weiser Diplomacy Center and International Policy Center at the Gerald R. Ford School of Public Policy\, University of Michigan.  His research focuses on international law and politics in the Global South. He is the author or editor of several books on international politics and law\, including a new book entitled “Sovereignty Sharing in Fragile States”.  He received his AB and JD from Harvard University\, his DPhil and Fulbright Scholarship from the University of Oxford.\n\nThis is the last of ten lectures to be presented once each month from September 2020 through June 2021. A new series will start in September 2021.Learn from well-known experts about an array of interesting subjects\, with an interactive Q&A period following each lecture.\n\nPreregistration is required via the OLLI website or phone.  A link to access the lecture will be e-mailed to you a few days prior to the first lecture.
UID:80031-20548975@events.umich.edu
URL:https://events.umich.edu/event/80031
CLASS:PUBLIC
STATUS:CONFIRMED
CATEGORIES:lifelong learning,retirement
LOCATION:Off Campus Location
CONTACT:
END:VEVENT
BEGIN:VEVENT
DTSTAMP:20210601T153404
DTSTART;TZID=America/Detroit:20210608T100000
DTEND;TZID=America/Detroit:20210608T110000
SUMMARY:Livestream / Virtual:UROP Changing Gears Drop In Virtual Office Hours
DESCRIPTION:Changing Gears/Transfer Student Summer Director Drop-In Hours\n(Tuesdays 10am - 11am\, EDT)\nNo appointment necessary \n- join the conversation at: https://umich.zoom.us/j/92736318275\n\nChanging Gears (CG) is a UROP program designed primarily for community college transfer students who will be attending the University of Michigan\, but also serves students transferring from 4 year institutions. Students in the CG Program become a part of an ongoing faculty-driven research\, scholarly or creative project in their field of interest. Students learn valuable academic skills\, applying these skills to their research project\, academics\, and future career opportunities\, while receiving academic credit or compensation for their efforts in research work.\n\nIf you are a U-M Transfer Student and not graduating until winter 2022 and/or after\, you are eligible to apply to the 2021-2022 UROP Changing Gears Program. The 2021-2022 application will be available starting May 1\, 2021
UID:84175-21620651@events.umich.edu
URL:https://events.umich.edu/event/84175
CLASS:PUBLIC
STATUS:CONFIRMED
CATEGORIES:AEM Featured,Applications,first-generation,Free,Interdisciplinary,Office Hours,Research,Transfer Students,Undergraduate,Undergraduate Students,Urop,Virtual
LOCATION:Off Campus Location
CONTACT:
END:VEVENT
BEGIN:VEVENT
DTSTAMP:20210625T165417
DTSTART;TZID=America/Detroit:20210608T110000
DTEND;TZID=America/Detroit:20210608T160000
SUMMARY:Exhibition:Halal Metropolis
DESCRIPTION:The Halal Metrop­o­lis exhi­bi­tion\, by artist Osman Khan\, pho­tog­ra­pher Razi Jafri\, and his­to­rian Sally How­ell\, explores the facts\, fic­tions\, and imag­i­nar­ies of the Mus­lim population(s) in Detroit and South­east Michi­gan as viewed through his­tor­i­cal research\, doc­u­men­ta­tion of cur­rent con­di­tions\, and explo­rations of future desires. The Halal Metrop­o­lis alludes to the estab­lished and grow­ing Mus­lim pop­u­la­tion in Detroit and its metro area\, one of the largest and most diverse Mus­lim pop­u­la­tions in the U.S.\, whose vis­i­bil­ity is both pro­nounced and extremely present in the city\, yet whose nar­ra­tive seems unusu­ally silent in the larger Detroit story. The exhi­bi­tion blends archival mate­ri­als\, social and polit­i­cal arti­facts\, pho­tog­ra­phy\, and art to explore the con­gru­ent and con­tra­dict­ing ideas\, aes­thet­ics\, and cul­tures work­ing to make the halal metrop­o­lis both a real and imag­i­nary entity.\n\nFea­tur­ing works by:\n\nAmna Asghar\nQais Assali\nBGIRL MAMA\nNour Ball­out\nAdnan Charara\nKecia Escoe\nParisa Ghaderi\nAnthony Keith Giannini\nRazi Jafri\nOsman Khan\nMaamoul Press\nEndi Poskovic\nHaleem ​‘Stringz’ Rasul\nReem Taki\n\nThis exhi­bi­tion is pre­sented in part­ner­ship with the Uni­ver­sity of Michigan-Dearborn’s Cen­ter for Arab Amer­i­can Stud­ies (CAAS)\, with sup­port from the Knight Foun­da­tion\, the Doris Duke Foun­da­tion\, the Andy Warhol Foun­da­tion for the Visual Arts\, the El-Hibri Foun­da­tion\, the Com­mu­nity Foun­da­tion of SE Michi­gan\, and the Michi­gan Human­i­ties Council.
UID:84359-21623522@events.umich.edu
URL:https://events.umich.edu/event/84359
CLASS:PUBLIC
STATUS:CONFIRMED
CATEGORIES:Art,Detroit,Exhibition,Multidisciplinary Design,Muslim
LOCATION:Off Campus Location
CONTACT:
END:VEVENT
BEGIN:VEVENT
DTSTAMP:20210427T111206
DTSTART;TZID=America/Detroit:20210608T120000
DTEND;TZID=America/Detroit:20210608T130000
SUMMARY:Performance:Postponed: An Evening with Rob Massard
DESCRIPTION:Tickets on sale May 1!
UID:74465-18738461@events.umich.edu
URL:https://events.umich.edu/event/74465
CLASS:PUBLIC
STATUS:CONFIRMED
CATEGORIES:
LOCATION:Off Campus Location
CONTACT:
END:VEVENT
BEGIN:VEVENT
DTSTAMP:20210421T135124
DTSTART;TZID=America/Detroit:20210608T130000
DTEND;TZID=America/Detroit:20210608T150000
SUMMARY:Workshop / Seminar:LSA DEI Workshop: Implicit Bias
DESCRIPTION:*This program has been modified to deliver in a remote setting and updated to include content directly related to the COVID-19 pandemic. For questions or requests for accommodation\, please contact our Administrative Coordinator\, Mikalia Dennis (mikaliad@umich.edu) as soon as possible.*\n\n\n\nIn this session\, participants will learn to:\n\n- Examine your own background and identities and how these identities shape our experiences and perspectives\n- Discuss how the brain functions\, and relate how unconscious bias is a natural function of the human mind\n- Identify patterns of unconscious bias that influence decision-making processes\n- Confront internal biases and practice conscious awareness\n- Review strategies to create transformational change in the workplace\n\nYou will benefit by:\n\n- Raising self-awareness\, sparking conversation with others and initiating new actions\n- Enhancing your professional and personal effectiveness on and off the job\n- Positively influencing personal and organizational decisions\n- Creating stronger and more positive work relationships with others\n\nAudience:\n\nThis session is open to all LSA employees. It is recommended that participants complete this course before enrolling in the Microaggression Session. *External guests may request to join as space allows.*
UID:83836-21548044@events.umich.edu
URL:https://events.umich.edu/event/83836
CLASS:PUBLIC
STATUS:CONFIRMED
CATEGORIES:Diversity Equity And Inclusion,Inclusion,Staff,Workshop
LOCATION:Off Campus Location
CONTACT:
END:VEVENT
BEGIN:VEVENT
DTSTAMP:20210223T134610
DTSTART;TZID=America/Detroit:20210608T140000
DTEND;TZID=America/Detroit:20210608T160000
SUMMARY:Conference / Symposium:2021 ROLAND “RED” HISS EVENT\, DEPARTMENT OF LEARNING HEALTH SCIENCES
DESCRIPTION:All Michigan Medicine faculty and staff are cordially invited to attend the Department of Learning Health Sciences’ Annual Roland “Red” Hiss Virtual Event on June 8\, 2021 from 2:00-4:00pm. This event honors the life and work of Dr. Roland “Red” Hiss (1932-2016) and celebrates the accomplishments of Scholars in the Medical Education Scholars Program.\n\nThis year\, the Hiss Event will take place as an MESP Virtual Research Symposium. Dr. Hiss’ legacy will be celebrated by recognizing the accomplishments of recent participants in the Medical Education Scholars Program. \n\nWe will use an online platform to host the event\, and an interactive program will be shared with all registered guests in the days leading up to the event. In addition to event information\, this program will contain instructions for accessing the virtual platform. To register and receive additional details about the event\, please follow this link: REGISTER NOW.\n\nWe hope you will join us as we celebrate the past\, present\, and future of medical education research at the University of Michigan!
UID:82446-21100193@events.umich.edu
URL:https://events.umich.edu/event/82446
CLASS:PUBLIC
STATUS:CONFIRMED
CATEGORIES:Alumni,Basic Science,Graduation,Poster Presentation,Research,Science,symposium
LOCATION:Off Campus Location
CONTACT:
END:VEVENT
BEGIN:VEVENT
DTSTAMP:20210714T141205
DTSTART;TZID=America/Detroit:20210608T140000
DTEND;TZID=America/Detroit:20210608T153000
SUMMARY:Meeting:CoderSpaces (Tuesdays)
DESCRIPTION:Are you grappling with a piece of code\, trying to compute on a cluster\, or just getting started with a new method such as machine learning? Then we might have just the right space for you.\n\nAll members of the U-M community are invited to join our weekly virtual CoderSpaces\, Mondays – Thursdays\, during the Summer 2021 term to get research support and connect with others.\n\nThe virtual sessions are designed to assist faculty\, staff\, and students with research methodology\, statistics\, data science applications\, and computational programming for research.\n\nOur hosts have a wide set of methodological and technological expertise. They come to you from a variety of departments and disciplines and are looking forward to serving the U-M community in their research endeavors.\n\nCoderSpaces provide a casual\, productive\, and inclusive environment. Everyone is welcome regardless of skill level.\n\nTuesdays 2-3:30 p.m.\nJoin via Zoom* (https://umich.zoom.us/j/99832397131)\n*Users will have to sign in with their UMICH (Level-1) credentials.\n\nwith Alexander Gaenko (CSCAR)\, Chen Chen (PDHP/ISR)\, Liz Hanley (PDHP/ISR)\, Paul Schulz (PDHP/ISR)\n\nExpertise: C/C++\, CMake/GNU Make\, data management\, data visualization\, Fortran\, Git\, high performance computing\, Julia\, Mplus\, natural language processing\, parallelization\, performance analysis\, Perl\, Python\, R\, SAS\, secure computing enclaves\, shell\, SQL\, Stata\, statistical computing\, survey methods (hypothesis testing\, imputation\, modeling\, statistics\, sampling\, questionnaire design\, weighting)\, text analysis\, web applications (front-end HTML/CSS/JavaScript stack)\, web scraping
UID:83963-21619214@events.umich.edu
URL:https://events.umich.edu/event/83963
CLASS:PUBLIC
STATUS:CONFIRMED
CATEGORIES:Data Science,Information And Technology,Office Hours,Virtual
LOCATION:Off Campus Location
CONTACT:
END:VEVENT
BEGIN:VEVENT
DTSTAMP:20210518T164003
DTSTART;TZID=America/Detroit:20210608T140000
DTEND;TZID=America/Detroit:20210608T150000
SUMMARY:Livestream / Virtual:The Unexpected Power of Selflessness: Giving back for Father’s Day
DESCRIPTION:What if your path to a more successful\, healthy\, and satisfying life is actually not about you? \n\nSeven years ago\, Richard Lui walked into his supervisor’s office at NBC’s 30 Rock headquarters\, prepared to give up his dream news anchor job. Having just learned of his father’s Alzheimer’s\, the journalist wanted to be with him during his important last years\, even if it meant setting aside his career. Lui reduced his work hours and joined 53 million Americans in becoming a family caregiver. His book\, Enough About Me\, is inspired by that decision to live to take care of someone else.\n\nAs we look toward celebrating Father’s Day soon\, we invite you to join us for this heartfelt fireside chat hosted by Julia Lee Cunningham\, where Lui shares how one of the big ideas of our time is more in reach than we thought. How small choices toward selflessness are not a compromise. And as we celebrate the love and learnings that fathers and father figures contribute to our lives\, Father’s Day can also be a day for everyone to show that choice by choice\, step by step\, we can do something bigger than ourselves. \n\nAbout Lui\nAuthor Richard Lui is a veteran and award-winning journalist with more than 30 years in television\, film\, technology\, and business. Currently at MSNBC and previously with CNN Worldwide\, he is the first Asian American man to anchor a daily national cable news program\, and a team Emmy and Peabody winner. He has just completed an Oscars Qualifying documentary on student caregivers in military families that will hit national broadcast and mainstream streaming in late spring 2021. In addition\, Richard’s 15-year business career involves a fintech patent and launching six tech brands over three business cycles. Richard has lived\, worked\, and volunteered on every continent.\n\nHost\nJulia Lee Cunningham\, Assistant Professor of Management and Organizations\, Michigan Ross\n\nFree\, registration required to obtain login information: https://positiveorgs.bus.umich.edu/2021-summer-series-registration-richard-lui/
UID:84075-21619817@events.umich.edu
URL:https://events.umich.edu/event/84075
CLASS:PUBLIC
STATUS:CONFIRMED
CATEGORIES:Books,Discussion,Free,Leadership,Lecture,Michigan Ross,Research
LOCATION:Off Campus Location
CONTACT:
END:VEVENT
END:VCALENDAR