BEGIN:VCALENDAR
VERSION:2.0
PRODID:-//UM//UM*Events//EN
CALSCALE:GREGORIAN
BEGIN:VTIMEZONE
TZID:America/Detroit
TZURL:http://tzurl.org/zoneinfo/America/Detroit
X-LIC-LOCATION:America/Detroit
BEGIN:DAYLIGHT
TZOFFSETFROM:-0500
TZOFFSETTO:-0400
TZNAME:EDT
DTSTART:20070311T020000
RRULE:FREQ=YEARLY;BYMONTH=3;BYDAY=2SU
END:DAYLIGHT
BEGIN:STANDARD
TZOFFSETFROM:-0400
TZOFFSETTO:-0500
TZNAME:EST
DTSTART:20071104T020000
RRULE:FREQ=YEARLY;BYMONTH=11;BYDAY=1SU
END:STANDARD
END:VTIMEZONE
BEGIN:VEVENT
DTSTAMP:20210511T124519
DTSTART;TZID=America/Detroit:20210609T080000
DTEND;TZID=America/Detroit:20210609T230000
SUMMARY:Other:Become a UROP Research Mentor
DESCRIPTION:Submit a Research Project for the 2021-2022 Academic Year: https://lsa.umich.edu/urop/research-mentors.html\n\nUROP Research Mentors are faculty and post-doc researchers from across all U-M's 19 Schools and Colleges who provide undergraduate student researchers an opportunity to engage in research activities that help them learn about the pursuit of knowledge within an academic discipline. This early exposure to research fosters a valuable academic experience for students. Through this collaboration\, students gain research skills and mentorship that lead to academic retention\, a more positive undergraduate experience and paths to graduate school.
UID:83879-21619431@events.umich.edu
URL:https://events.umich.edu/event/83879
CLASS:PUBLIC
STATUS:CONFIRMED
CATEGORIES:AEM Featured,Education,Faculty,Free,Graduate and Professional Students,Graduate Students,Interdisciplinary,Mentorship,Research,research data,Staff,Urop
LOCATION:Off Campus Location
CONTACT:
END:VEVENT
BEGIN:VEVENT
DTSTAMP:20210430T095709
DTSTART;TZID=America/Detroit:20210609T080000
DTEND;TZID=America/Detroit:20210609T230000
SUMMARY:Careers / Jobs:Changing Gears Application Open
DESCRIPTION:Learn more about the Changing Gears Program and apply at: myumi.ch/uropcg\n\nChanging Gears (CG) is a UROP program designed primarily for community college transfer students who will be attending the University of Michigan\, but also serves students transferring from 4 year institutions. Students in the CG Program become a part of an ongoing faculty-driven research\, scholarly or creative project in their field of interest. Students learn valuable academic skills\, applying these skills to their research project\, academics\, and future career opportunities\, while receiving academic credit or compensation for their efforts in research work.\n\nIf you are a U-M Transfer Student and not graduating until winter 2022 and/or after\, you are eligible to apply to the 2021-2022 UROP Changing Gears Program.
UID:83922-21616936@events.umich.edu
URL:https://events.umich.edu/event/83922
CLASS:PUBLIC
STATUS:CONFIRMED
CATEGORIES:AEM Featured,first-generation,Free,Interdisciplinary,Networking,Office Hours,Research,Transfer Students,Undergraduate,Undergraduate Students,Urop
LOCATION:Off Campus Location
CONTACT:
END:VEVENT
BEGIN:VEVENT
DTSTAMP:20220502T122639
DTSTART;TZID=America/Detroit:20210609T080000
DTEND;TZID=America/Detroit:20210609T230000
SUMMARY:Careers / Jobs:UROP First-Year Application Open
DESCRIPTION:Our \"Traditional UROP Program\" has been our flagship program running over 30 years. This Academic Year program\, in which students participate for both Fall and Winter Terms\, is designed for University of Michigan first and second year undergraduate students enrolled on the Ann Arbor campus who are seeking a first time research experience. Student research assistants work alongside a faculty member\, research scientist or professional practitioner on an ongoing or new research project.\n\nLearn more and apply at: myumi.ch/uropyearone\n\nApplications being accepted on a rolling basis.
UID:83923-21617055@events.umich.edu
URL:https://events.umich.edu/event/83923
CLASS:PUBLIC
STATUS:CONFIRMED
CATEGORIES:AEM Featured,Applications,first-generation,Free,Interdisciplinary,Networking,Research,Undergraduate,Undergraduate Students,Urop
LOCATION:Undergraduate Science Building
CONTACT:
END:VEVENT
BEGIN:VEVENT
DTSTAMP:20210804T182828
DTSTART;TZID=America/Detroit:20210609T080000
DTEND;TZID=America/Detroit:20210609T230000
SUMMARY:Careers / Jobs:UROP Research Scholars Application now open
DESCRIPTION:The UROP Research Scholars Program is designed for students who want to expand on their first year UROP experience and participate in UROP for a second year at an advanced level. In this program\, students build upon the knowledge gained in a first undergraduate research experience to further explore the connections between research\, a liberal arts education\, and communicating skills to advance their future professional goals. Students are expected to explore various written and oral possibilities for communicating their research process\, identifying the limits set by the discipline and the opportunities that lie beyond.\n\nApply at: https://myumi.ch/uroprs
UID:82067-21014954@events.umich.edu
URL:https://events.umich.edu/event/82067
CLASS:PUBLIC
STATUS:CONFIRMED
CATEGORIES:AEM Featured,Applications,Free,Interdisciplinary,Research,Undergraduate,Undergraduate Students,Urop
LOCATION:Off Campus Location
CONTACT:
END:VEVENT
BEGIN:VEVENT
DTSTAMP:20210714T155619
DTSTART;TZID=America/Detroit:20210609T080000
DTEND;TZID=America/Detroit:20210609T230000
SUMMARY:Careers / Jobs:UROP Rising Sophomore Applications Open
DESCRIPTION:The Undergraduate Research Opportunity Program is now accepting applications for students who will be rising sophomores during the 2021-2022 academic year. \n\nLearn more and apply today at http://myumi.ch/uropsophomore\n\nRising Sophomore Applications are being accepted on a rolling basis.
UID:80546-21203421@events.umich.edu
URL:https://events.umich.edu/event/80546
CLASS:PUBLIC
STATUS:CONFIRMED
CATEGORIES:AEM Featured,Applications,first-generation,Free,Research,Sophomore,Undergraduate,Undergraduate Students,Urop
LOCATION:Off Campus Location
CONTACT:
END:VEVENT
BEGIN:VEVENT
DTSTAMP:20210526T121526
DTSTART;TZID=America/Detroit:20210609T110000
DTEND;TZID=America/Detroit:20210609T114500
SUMMARY:Livestream / Virtual:Coffee Chats for Graduate Students: Transferable Skills
DESCRIPTION:We are offering a series of virtual coffee chats for the graduate student community\, hosted by Rackham’s embedded University Career Center career counselor. The topic for this session is transferable skills—translating skills you’ve gained during graduate school to the job market. We’ll spend the first few minutes reviewing transferable skills\, and the remainder of the session discussing different types of graduate school experiences\, with a focus on articulating the transferable skills gained from these experiences. To get the most out of the session\, please review this worksheet and come prepared with questions or experiences to share. This event is intended to be interactive and therefore a recording will not be available.\nRegistration is required at https://myumi.ch/qgw41.\nWe want to ensure full and equitable participation in our events. If an accommodation would promote your full participation in this event\, please follow the registration link to indicate your accommodation requirements. Please let us know as soon as possible in order to have adequate time\, preferably one week\, to arrange for your requested accommodations or an effective alternative.
UID:84137-21620390@events.umich.edu
URL:https://events.umich.edu/event/84137
CLASS:PUBLIC
STATUS:CONFIRMED
CATEGORIES:Graduate Students
LOCATION:Off Campus Location
CONTACT:
END:VEVENT
BEGIN:VEVENT
DTSTAMP:20210520T064441
DTSTART;TZID=America/Detroit:20210609T120000
DTEND;TZID=America/Detroit:20210609T130000
SUMMARY:Workshop / Seminar:Getting Engaged in Campus Education Innovation Activities
DESCRIPTION:Our next Virtual Talking Circle (VTC) will feature representatives from several units on campus that are leading the way in cultivating education innovation:  The Center for Academic Innovation (CAI)\, Fast Forward Medical Innovation (FFMI)\, and the International Mixed Reality Grand Rounds.\n\nJoin us on Wednesday\, June 9\, 2021 from 12:00 - 1:00 PM to learn more about these units and how you can get involved in their education innovation activities. We hope you will also share other education innovation resources available to faculty\, staff and learners. \n\nAll are welcome!\n\nRegister via Zoom at:  https://umich.zoom.us/webinar/register/WN_xVYKDuaYSXa6AevHutqXBA
UID:84084-21619928@events.umich.edu
URL:https://events.umich.edu/event/84084
CLASS:PUBLIC
STATUS:CONFIRMED
CATEGORIES:Basic Science,Biomedical Engineering,Biosciences,Climate and Space Sciences and Engineering,Education,Electrical Engineering and Computer Science,Engineering,Graduate,Graduate School,Industrial and Operations Engineering,Information and Technology,Life Science,Medicine
LOCATION:Off Campus Location
CONTACT:
END:VEVENT
BEGIN:VEVENT
DTSTAMP:20240116T141648
DTSTART;TZID=America/Detroit:20210609T120000
DTEND;TZID=America/Detroit:20210609T123000
SUMMARY:Well-being:North Campus Mindfulness Meditation Drop-In (Online)
DESCRIPTION:Take a moment to create some space to breathe and invite a sense of calm into your day. This is a guided mindfulness meditation drop-in session. No experience necessary. Free and open to all. \n\nEmail dmitryb@umich.edu to sign up for the mailing list. You will receive a weekly reminder with the zoom link. Also\, you can add the sessions to your Google Calendar: https://tinyurl.com/y3kbkwd6
UID:40967-21619235@events.umich.edu
URL:https://events.umich.edu/event/40967
CLASS:PUBLIC
STATUS:CONFIRMED
CATEGORIES:Health & Wellness,Meditation,Mindfulness,Mindfulness\, Meditation,North campus,Stress Reduction,Virtual,Well-being
LOCATION:Off Campus Location
CONTACT:
END:VEVENT
BEGIN:VEVENT
DTSTAMP:20210513T133249
DTSTART;TZID=America/Detroit:20210609T130000
DTEND;TZID=America/Detroit:20210609T140000
SUMMARY:Livestream / Virtual:Safety Assessment of Autonomous Vehicles with a Naturalistic and Adversarial Driving Environment
DESCRIPTION:Safety performance testing is critical to the development and deployment of autonomous vehicles (AVs). The prevailing approach life-like simulations of our driving environment. However\, due to its high dimensionality and the rareness of safety-critical events\, hundreds of millions of miles would be required to demonstrate an AV's safety performance. \n\nThe research in this presentation proposes a naturalistic and adversarial driving environment that can significantly reduce the required number of miles driven while simultaneously maintaining unbiasedness. Drs. Henry Liu and Shuo Feng will demonstrate the effectiveness of this in a highway-driving simulation.\n\nLearn more about the proposed research: https://myumi.ch/BoQ2Q\n\n---\nAbout the speakers:\nDr. Henry Liu is a professor in the Department of Civil and Environmental Engineering at the University of Michigan\, a Research Professor at the University of Michigan Transportation Research Institute (UMTRI)\, and the Director for the Center for Connected and Automated Transportation (CCAT). Professor Liu conducts interdisciplinary research at the interface of transportation engineering\, automotive engineering\, and artificial intelligence. Specifically\, his scholarly interests concern traffic flow monitoring\, modeling\, and control\, as well as testing and evaluation of connected and automated vehicles (CAVs). He has published more than 120 refereed journal papers on these topics and his work has been widely recognized in the public media for promoting smart transportation innovations. He has appeared on media outlets including CNBC\, Forbes\, Technode\, and more. In 2019\, Professor Liu was invited to testify on the nation's transportation research agenda in front of the US House Subcommittee on Research and Technology. Professor Liu has nurtured a new generation of scholars\, and some of his Ph.D. students and postdocs have joined first-class universities such as Columbia\, Purdue\, and RPI. Professor Liu is also the managing editor of the Journal of Intelligent Transportation Systems.\n\nDr. Shuo Feng is a postdoctoral research fellow in the Department of Civil and Environmental Engineering at the University of Michigan\, Ann Arbor. He received his bachelor’s and Ph.D. degrees in the Department of Automation at Tsinghua University\, China\, in 2014 and 2019\, respectively. He was also a visiting scholar at the University of Michigan from 2017 to 2019.  His research interests lie in the testing and evaluation of connected and automated vehicles (CAVs)\, cooperative automation\, and traffic environment modeling. Dr. Feng has published around 20 articles in refereed journals including Nature Communications\, IEEE Transactions on Intelligent Transportation Systems\, IEEE Transactions on Control Systems Technology\, and Transportation Research Part C: Emerging Technologies. He has served as a member in the SAE ORAD V&V committee and workshop organizer of the IEEE 2021 Intelligent Vehicles Symposium. He received the “Best Ph.D. Dissertation Award” from the IEEE Intelligent Transportation Systems Society (ITSS) in 2020.
UID:84039-21619637@events.umich.edu
URL:https://events.umich.edu/event/84039
CLASS:PUBLIC
STATUS:CONFIRMED
CATEGORIES:brown bag,Civil and Environmental Engineering,Discussion,Education,Engineering,Engineering Academic Calendar,Faculty,Free,Graduate and Professional Students,Information and Technology,Leadership,Lecture,Michigan Engineering,Research,Science,seminar,Talk,Virtual,Webcast
LOCATION:Off Campus Location
CONTACT:
END:VEVENT
BEGIN:VEVENT
DTSTAMP:20210602T135602
DTSTART;TZID=America/Detroit:20210609T130000
DTEND;TZID=America/Detroit:20210609T140000
SUMMARY:Livestream / Virtual:UROP Summer Virtual Office Hours
DESCRIPTION:UROP Staff will be available during the summer via Zoom office hours to answer questions from those who drop in. No appointment necessary.\n\nWednesdays (1-2pm ET)\nThursdays (1-2pm ET)\nFriday (11:30am - 12:30pm ET)\nhttps://myumi.ch/1p1d3\n\nThe Undergraduate Research Opportunity Program (UROP) offers several different programs throughout the academic year for University of Michigan-Ann Arbor undergraduate students to discover the world of research through collaborations with U-M researchers. Students participating in the program are called research assistants and work alongside a faculty member\, research scientist or professional practitioner on an ongoing or new research project.
UID:84176-21620713@events.umich.edu
URL:https://events.umich.edu/event/84176
CLASS:PUBLIC
STATUS:CONFIRMED
CATEGORIES:Admissions,AEM Featured,Applications,first-generation,Free,Interdisciplinary,Office Hours,Research,Undergraduate,Undergraduate Students,Urop,Virtual
LOCATION:Off Campus Location
CONTACT:
END:VEVENT
BEGIN:VEVENT
DTSTAMP:20210506T120820
DTSTART;TZID=America/Detroit:20210609T140000
DTEND;TZID=America/Detroit:20210609T153000
SUMMARY:Meeting:CoderSpaces (Wednesdays)
DESCRIPTION:Are you grappling with a piece of code\, trying to compute on a cluster\, or just getting started with a new method such as machine learning? Then we might have just the right space for you.\n\nAll members of the U-M community are invited to join our weekly virtual CoderSpaces\, Mondays – Thursdays\, during the Summer 2021 term to get research support and connect with others.\n\nThe virtual sessions are designed to assist faculty\, staff\, and students with research methodology\, statistics\, data science applications\, and computational programming for research.\n\nOur hosts have a wide set of methodological and technological expertise. They come to you from a variety of departments and disciplines and are looking forward to serving the U-M community in their research endeavors.\n\nCoderSpaces provide a casual\, productive\, and inclusive environment. Everyone is welcome regardless of skill level.\n\nWednesdays 2-2:30 p.m.\nJoin via Zoom* (https://umich.zoom.us/j/96392817699)\n*Users will have to sign in with their UMICH (Level-1) credentials.\n\nwith Armand Burks (ARC/UMSI)\, Jule Krüger (ISR/ARC)\, Meghan Richey (ARC)\, Shelly Johnson (ARC)\n\nExpertise: automation of tasks and workflows\, Bash\, C++\, cloud analytics\, data analysis\, management and visualization\, Git\, GNU Make\, high performance computing\, installing software on University clusters\, Java\, LaTeX\, machine learning (Tensorflow\, Keras\, convolutional neural networks)\, natural language processing\, Python\, R\, R Markdown\, web scraping (Selenium)
UID:83926-21619129@events.umich.edu
URL:https://events.umich.edu/event/83926
CLASS:PUBLIC
STATUS:CONFIRMED
CATEGORIES:Arc,Data Science,Information And Technology,Office Hours,Virtual
LOCATION:Off Campus Location
CONTACT:
END:VEVENT
BEGIN:VEVENT
DTSTAMP:20210525T142542
DTSTART;TZID=America/Detroit:20210609T140000
DTEND;TZID=America/Detroit:20210609T150000
SUMMARY:Presentation:Transfer to LSA Information Session
DESCRIPTION:Join the LSA Student Recruitment Team for our weekly virtual sessions where we will discuss LSA requirements\, transfer credit\, pre-transfer academic advising\, LSA opportunities and other transfer tidbits. Each session includes a Q & A featuring the Transfer Student Ambassadors. For any questions about this session\, please email us at LSATransferCenter@umich.edu.\n\nTo register\, please visit: https://umich.zoom.us/meeting/register/tJcqdO-grDguHtfZdBnYJ62DWOx8P5h57-mt
UID:84116-21620315@events.umich.edu
URL:https://events.umich.edu/event/84116
CLASS:PUBLIC
STATUS:CONFIRMED
CATEGORIES:Transfer Students
LOCATION:Off Campus Location
CONTACT:
END:VEVENT
BEGIN:VEVENT
DTSTAMP:20210607T124343
DTSTART;TZID=America/Detroit:20210609T190000
DTEND;TZID=America/Detroit:20210609T200000
SUMMARY:Presentation:Summer Sensations with Kaylah and Jake!
DESCRIPTION:Hi\, we are Jake and Kaylah\, two of the LSA Transfer Student Ambassadors. Join us every other week on Wednesdays for informal chats covering a variety of topics. We have set a topic for each week\, but we want you to feel free to ask us anything that you want so if we stray from the topic that will be perfectly fine.\n\nThe first week we will focus on how to get off to a great start in your classes this fall including advice on how to adjust to the pace of classes\, understanding the structure of U-M classes\, how to declare your major\, and anything else you want to talk about\n\nHere’s our schedule for the rest of the summer:\n*June 23* - Community Building\n*July 7* - Food and Housing\n*July 21* - Academic Well Being\n*August 4* - Music\, Recreation\, Entertainment\, Sports\n*August 18* - Campus Activism
UID:84231-21620790@events.umich.edu
URL:https://events.umich.edu/event/84231
CLASS:PUBLIC
STATUS:CONFIRMED
CATEGORIES:Transfer Students
LOCATION:Off Campus Location
CONTACT:
END:VEVENT
END:VCALENDAR