BEGIN:VCALENDAR
VERSION:2.0
PRODID:-//UM//UM*Events//EN
CALSCALE:GREGORIAN
BEGIN:VTIMEZONE
TZID:America/Detroit
TZURL:http://tzurl.org/zoneinfo/America/Detroit
X-LIC-LOCATION:America/Detroit
BEGIN:DAYLIGHT
TZOFFSETFROM:-0500
TZOFFSETTO:-0400
TZNAME:EDT
DTSTART:20070311T020000
RRULE:FREQ=YEARLY;BYMONTH=3;BYDAY=2SU
END:DAYLIGHT
BEGIN:STANDARD
TZOFFSETFROM:-0400
TZOFFSETTO:-0500
TZNAME:EST
DTSTART:20071104T020000
RRULE:FREQ=YEARLY;BYMONTH=11;BYDAY=1SU
END:STANDARD
END:VTIMEZONE
BEGIN:VEVENT
DTSTAMP:20210511T124519
DTSTART;TZID=America/Detroit:20210613T080000
DTEND;TZID=America/Detroit:20210613T230000
SUMMARY:Other:Become a UROP Research Mentor
DESCRIPTION:Submit a Research Project for the 2021-2022 Academic Year: https://lsa.umich.edu/urop/research-mentors.html\n\nUROP Research Mentors are faculty and post-doc researchers from across all U-M's 19 Schools and Colleges who provide undergraduate student researchers an opportunity to engage in research activities that help them learn about the pursuit of knowledge within an academic discipline. This early exposure to research fosters a valuable academic experience for students. Through this collaboration\, students gain research skills and mentorship that lead to academic retention\, a more positive undergraduate experience and paths to graduate school.
UID:83879-21619435@events.umich.edu
URL:https://events.umich.edu/event/83879
CLASS:PUBLIC
STATUS:CONFIRMED
CATEGORIES:Free,AEM Featured,Education,Faculty,Urop,Graduate and Professional Students,Graduate Students,Interdisciplinary,Mentorship,Research,research data,Staff
LOCATION:Off Campus Location
CONTACT:
END:VEVENT
BEGIN:VEVENT
DTSTAMP:20210430T095709
DTSTART;TZID=America/Detroit:20210613T080000
DTEND;TZID=America/Detroit:20210613T230000
SUMMARY:Careers / Jobs:Changing Gears Application Open
DESCRIPTION:Learn more about the Changing Gears Program and apply at: myumi.ch/uropcg\n\nChanging Gears (CG) is a UROP program designed primarily for community college transfer students who will be attending the University of Michigan\, but also serves students transferring from 4 year institutions. Students in the CG Program become a part of an ongoing faculty-driven research\, scholarly or creative project in their field of interest. Students learn valuable academic skills\, applying these skills to their research project\, academics\, and future career opportunities\, while receiving academic credit or compensation for their efforts in research work.\n\nIf you are a U-M Transfer Student and not graduating until winter 2022 and/or after\, you are eligible to apply to the 2021-2022 UROP Changing Gears Program.
UID:83922-21616940@events.umich.edu
URL:https://events.umich.edu/event/83922
CLASS:PUBLIC
STATUS:CONFIRMED
CATEGORIES:Office Hours,AEM Featured,first-generation,Interdisciplinary,Networking,Research,Transfer Students,Undergraduate,Undergraduate Students,Urop,Free
LOCATION:Off Campus Location
CONTACT:
END:VEVENT
BEGIN:VEVENT
DTSTAMP:20220502T122639
DTSTART;TZID=America/Detroit:20210613T080000
DTEND;TZID=America/Detroit:20210613T230000
SUMMARY:Careers / Jobs:UROP First-Year Application Open
DESCRIPTION:Our \"Traditional UROP Program\" has been our flagship program running over 30 years. This Academic Year program\, in which students participate for both Fall and Winter Terms\, is designed for University of Michigan first and second year undergraduate students enrolled on the Ann Arbor campus who are seeking a first time research experience. Student research assistants work alongside a faculty member\, research scientist or professional practitioner on an ongoing or new research project.\n\nLearn more and apply at: myumi.ch/uropyearone\n\nApplications being accepted on a rolling basis.
UID:83923-21617059@events.umich.edu
URL:https://events.umich.edu/event/83923
CLASS:PUBLIC
STATUS:CONFIRMED
CATEGORIES:first-generation,AEM Featured,Applications,Free,Interdisciplinary,Networking,Research,Undergraduate,Undergraduate Students,Urop
LOCATION:Undergraduate Science Building
CONTACT:
END:VEVENT
BEGIN:VEVENT
DTSTAMP:20210804T182828
DTSTART;TZID=America/Detroit:20210613T080000
DTEND;TZID=America/Detroit:20210613T230000
SUMMARY:Careers / Jobs:UROP Research Scholars Application now open
DESCRIPTION:The UROP Research Scholars Program is designed for students who want to expand on their first year UROP experience and participate in UROP for a second year at an advanced level. In this program\, students build upon the knowledge gained in a first undergraduate research experience to further explore the connections between research\, a liberal arts education\, and communicating skills to advance their future professional goals. Students are expected to explore various written and oral possibilities for communicating their research process\, identifying the limits set by the discipline and the opportunities that lie beyond.\n\nApply at: https://myumi.ch/uroprs
UID:82067-21014958@events.umich.edu
URL:https://events.umich.edu/event/82067
CLASS:PUBLIC
STATUS:CONFIRMED
CATEGORIES:Applications,AEM Featured,Free,Interdisciplinary,Research,Undergraduate,Undergraduate Students,Urop
LOCATION:Off Campus Location
CONTACT:
END:VEVENT
BEGIN:VEVENT
DTSTAMP:20210714T155619
DTSTART;TZID=America/Detroit:20210613T080000
DTEND;TZID=America/Detroit:20210613T230000
SUMMARY:Careers / Jobs:UROP Rising Sophomore Applications Open
DESCRIPTION:The Undergraduate Research Opportunity Program is now accepting applications for students who will be rising sophomores during the 2021-2022 academic year. \n\nLearn more and apply today at http://myumi.ch/uropsophomore\n\nRising Sophomore Applications are being accepted on a rolling basis.
UID:80546-21203425@events.umich.edu
URL:https://events.umich.edu/event/80546
CLASS:PUBLIC
STATUS:CONFIRMED
CATEGORIES:Undergraduate Students,Applications,first-generation,Free,Research,Sophomore,Undergraduate,Urop,AEM Featured
LOCATION:Off Campus Location
CONTACT:
END:VEVENT
BEGIN:VEVENT
DTSTAMP:20210602T110141
DTSTART;TZID=America/Detroit:20210613T090000
DTEND;TZID=America/Detroit:20210613T170000
SUMMARY:Workshop / Seminar:Time-Resolved Vibrational Spectroscopy Meeting
DESCRIPTION:For more than 30 years\, the International Conference on Time-Resolved Vibrational Spectroscopy (TRVS) has played a central role in highlighting state-of-the-art progress in understanding\, manipulating\, and driving vibrations in molecular and material dynamics.\n\nTRVS 2021 (June 13-18) will bring researchers from around the world together to discuss the following topics:\n\n• Dynamics of liquids\, solids\, interfaces\, and nanostructured materials\n\n• Role of vibrational dynamics in electronically excited molecules and materials\n\n• Chemical\, vibrational\, and hydrogen bonding dynamics\n\n• Time-resolved vibrational spectroscopy in molecular biophysics and photobiology\n\n• Proton and electron transfer studies for energy conversion and storage\n\n• Advances in multi-dimensional vibrational spectroscopy: Infrared\, Raman\, and THz\n\n• New laser sources and spectrometers\n\n• Single molecule vibrational spectroscopy\n\n• Theoretical and computational spectroscopy\n\nPlease see https://www.trvs2021.org/ for more information and to register.\n\nHosts: U-M Physicist Jennifer Ogilvie and research team along with U-M Chemist Kevin Kubyarch.
UID:84177-21620694@events.umich.edu
URL:https://events.umich.edu/event/84177
CLASS:PUBLIC
STATUS:CONFIRMED
CATEGORIES:Workshop,Physics,Natural Sciences,Free
LOCATION:Off Campus Location
CONTACT:
END:VEVENT
END:VCALENDAR