BEGIN:VCALENDAR
VERSION:2.0
PRODID:-//UM//UM*Events//EN
CALSCALE:GREGORIAN
BEGIN:VTIMEZONE
TZID:America/Detroit
TZURL:http://tzurl.org/zoneinfo/America/Detroit
X-LIC-LOCATION:America/Detroit
BEGIN:DAYLIGHT
TZOFFSETFROM:-0500
TZOFFSETTO:-0400
TZNAME:EDT
DTSTART:20070311T020000
RRULE:FREQ=YEARLY;BYMONTH=3;BYDAY=2SU
END:DAYLIGHT
BEGIN:STANDARD
TZOFFSETFROM:-0400
TZOFFSETTO:-0500
TZNAME:EST
DTSTART:20071104T020000
RRULE:FREQ=YEARLY;BYMONTH=11;BYDAY=1SU
END:STANDARD
END:VTIMEZONE
BEGIN:VEVENT
DTSTAMP:20210511T124519
DTSTART;TZID=America/Detroit:20210615T080000
DTEND;TZID=America/Detroit:20210615T230000
SUMMARY:Other:Become a UROP Research Mentor
DESCRIPTION:Submit a Research Project for the 2021-2022 Academic Year: https://lsa.umich.edu/urop/research-mentors.html\n\nUROP Research Mentors are faculty and post-doc researchers from across all U-M's 19 Schools and Colleges who provide undergraduate student researchers an opportunity to engage in research activities that help them learn about the pursuit of knowledge within an academic discipline. This early exposure to research fosters a valuable academic experience for students. Through this collaboration\, students gain research skills and mentorship that lead to academic retention\, a more positive undergraduate experience and paths to graduate school.
UID:83879-21619437@events.umich.edu
URL:https://events.umich.edu/event/83879
CLASS:PUBLIC
STATUS:CONFIRMED
CATEGORIES:AEM Featured,Education,Faculty,Free,Graduate and Professional Students,Graduate Students,Interdisciplinary,Mentorship,Research,research data,Staff,Urop
LOCATION:Off Campus Location
CONTACT:
END:VEVENT
BEGIN:VEVENT
DTSTAMP:20210430T095709
DTSTART;TZID=America/Detroit:20210615T080000
DTEND;TZID=America/Detroit:20210615T230000
SUMMARY:Careers / Jobs:Changing Gears Application Open
DESCRIPTION:Learn more about the Changing Gears Program and apply at: myumi.ch/uropcg\n\nChanging Gears (CG) is a UROP program designed primarily for community college transfer students who will be attending the University of Michigan\, but also serves students transferring from 4 year institutions. Students in the CG Program become a part of an ongoing faculty-driven research\, scholarly or creative project in their field of interest. Students learn valuable academic skills\, applying these skills to their research project\, academics\, and future career opportunities\, while receiving academic credit or compensation for their efforts in research work.\n\nIf you are a U-M Transfer Student and not graduating until winter 2022 and/or after\, you are eligible to apply to the 2021-2022 UROP Changing Gears Program.
UID:83922-21616942@events.umich.edu
URL:https://events.umich.edu/event/83922
CLASS:PUBLIC
STATUS:CONFIRMED
CATEGORIES:AEM Featured,first-generation,Free,Interdisciplinary,Networking,Office Hours,Research,Transfer Students,Undergraduate,Undergraduate Students,Urop
LOCATION:Off Campus Location
CONTACT:
END:VEVENT
BEGIN:VEVENT
DTSTAMP:20220502T122639
DTSTART;TZID=America/Detroit:20210615T080000
DTEND;TZID=America/Detroit:20210615T230000
SUMMARY:Careers / Jobs:UROP First-Year Application Open
DESCRIPTION:Our \"Traditional UROP Program\" has been our flagship program running over 30 years. This Academic Year program\, in which students participate for both Fall and Winter Terms\, is designed for University of Michigan first and second year undergraduate students enrolled on the Ann Arbor campus who are seeking a first time research experience. Student research assistants work alongside a faculty member\, research scientist or professional practitioner on an ongoing or new research project.\n\nLearn more and apply at: myumi.ch/uropyearone\n\nApplications being accepted on a rolling basis.
UID:83923-21617061@events.umich.edu
URL:https://events.umich.edu/event/83923
CLASS:PUBLIC
STATUS:CONFIRMED
CATEGORIES:AEM Featured,Applications,first-generation,Free,Interdisciplinary,Networking,Research,Undergraduate,Undergraduate Students,Urop
LOCATION:Undergraduate Science Building
CONTACT:
END:VEVENT
BEGIN:VEVENT
DTSTAMP:20210804T182828
DTSTART;TZID=America/Detroit:20210615T080000
DTEND;TZID=America/Detroit:20210615T230000
SUMMARY:Careers / Jobs:UROP Research Scholars Application now open
DESCRIPTION:The UROP Research Scholars Program is designed for students who want to expand on their first year UROP experience and participate in UROP for a second year at an advanced level. In this program\, students build upon the knowledge gained in a first undergraduate research experience to further explore the connections between research\, a liberal arts education\, and communicating skills to advance their future professional goals. Students are expected to explore various written and oral possibilities for communicating their research process\, identifying the limits set by the discipline and the opportunities that lie beyond.\n\nApply at: https://myumi.ch/uroprs
UID:82067-21014960@events.umich.edu
URL:https://events.umich.edu/event/82067
CLASS:PUBLIC
STATUS:CONFIRMED
CATEGORIES:AEM Featured,Applications,Free,Interdisciplinary,Research,Undergraduate,Undergraduate Students,Urop
LOCATION:Off Campus Location
CONTACT:
END:VEVENT
BEGIN:VEVENT
DTSTAMP:20210714T155619
DTSTART;TZID=America/Detroit:20210615T080000
DTEND;TZID=America/Detroit:20210615T230000
SUMMARY:Careers / Jobs:UROP Rising Sophomore Applications Open
DESCRIPTION:The Undergraduate Research Opportunity Program is now accepting applications for students who will be rising sophomores during the 2021-2022 academic year. \n\nLearn more and apply today at http://myumi.ch/uropsophomore\n\nRising Sophomore Applications are being accepted on a rolling basis.
UID:80546-21203427@events.umich.edu
URL:https://events.umich.edu/event/80546
CLASS:PUBLIC
STATUS:CONFIRMED
CATEGORIES:AEM Featured,Applications,first-generation,Free,Research,Sophomore,Undergraduate,Undergraduate Students,Urop
LOCATION:Off Campus Location
CONTACT:
END:VEVENT
BEGIN:VEVENT
DTSTAMP:20210602T110141
DTSTART;TZID=America/Detroit:20210615T090000
DTEND;TZID=America/Detroit:20210615T170000
SUMMARY:Workshop / Seminar:Time-Resolved Vibrational Spectroscopy Meeting
DESCRIPTION:For more than 30 years\, the International Conference on Time-Resolved Vibrational Spectroscopy (TRVS) has played a central role in highlighting state-of-the-art progress in understanding\, manipulating\, and driving vibrations in molecular and material dynamics.\n\nTRVS 2021 (June 13-18) will bring researchers from around the world together to discuss the following topics:\n\n• Dynamics of liquids\, solids\, interfaces\, and nanostructured materials\n\n• Role of vibrational dynamics in electronically excited molecules and materials\n\n• Chemical\, vibrational\, and hydrogen bonding dynamics\n\n• Time-resolved vibrational spectroscopy in molecular biophysics and photobiology\n\n• Proton and electron transfer studies for energy conversion and storage\n\n• Advances in multi-dimensional vibrational spectroscopy: Infrared\, Raman\, and THz\n\n• New laser sources and spectrometers\n\n• Single molecule vibrational spectroscopy\n\n• Theoretical and computational spectroscopy\n\nPlease see https://www.trvs2021.org/ for more information and to register.\n\nHosts: U-M Physicist Jennifer Ogilvie and research team along with U-M Chemist Kevin Kubyarch.
UID:84177-21620696@events.umich.edu
URL:https://events.umich.edu/event/84177
CLASS:PUBLIC
STATUS:CONFIRMED
CATEGORIES:Free,Natural Sciences,Physics,Workshop
LOCATION:Off Campus Location
CONTACT:
END:VEVENT
BEGIN:VEVENT
DTSTAMP:20210505T181519
DTSTART;TZID=America/Detroit:20210615T100000
DTEND;TZID=America/Detroit:20210615T113000
SUMMARY:Livestream / Virtual:Empowering Teams and Building Trust Through Experiential Learning
DESCRIPTION:“Make your fun have meaning.” Through a variety of interactive problem-solving activities and outdoor experiences\, Adventure Leadership facilitators regularly help teams develop a deeper understanding of themselves and their relationships to others within their organization’s environment. A significant part of this process relies heavily on creating a secure space for exploration—both physically and emotionally. In this workshop\, you will learn how to leverage Kolb’s Experiential Learning Cycle\, Tuckman’s Stages of Group Development\, and Project Adventure’s Challenge By Choice philosophy to build an internal locus of control within each member of any team and by empowering individuals to decide how they can best engage and participate in group processes. Learn to lead by instilling others with a sense of self-efficacy and develop trust while also increasing confidence\, testing endurance\, and practicing resilience.\nSpeaker: Jessa Lytle (she/her/hers)\, Assistant Director of Adventure Leadership\, Recreational Sports\nThis workshop is designed for master’s students\, doctoral students\, and postdoctoral fellows. For faculty and staff\, please contact RackhamEvents@umich.edu to see if we can accommodate your attendance.\nRegistration is required at https://myumi.ch/wlZwN.\nWe want to ensure full and equitable participation in our events. If an accommodation would promote your full participation in this event\, please follow the registration link to indicate your accommodation requirements. Please let us know as soon as possible in order to have adequate time\, preferably one week\, to arrange for your requested accommodations or an effective alternative.
UID:83979-21619281@events.umich.edu
URL:https://events.umich.edu/event/83979
CLASS:PUBLIC
STATUS:CONFIRMED
CATEGORIES:Diversity,Graduate Students
LOCATION:Off Campus Location
CONTACT:
END:VEVENT
BEGIN:VEVENT
DTSTAMP:20210610T181512
DTSTART;TZID=America/Detroit:20210615T100000
DTEND;TZID=America/Detroit:20210615T120000
SUMMARY:Livestream / Virtual:Juneteenth Symposium: Celebrating Black Joy\, Hope\, and Healing—African American History and Culture
DESCRIPTION:10:00 a.m. Welcome\nGregory Thomas\, Program Manager\, Office of Academic Multicultural Initiatives\n10:05 a.m. Praise Dance\nMichelle Dennis\n10:20 a.m. Musical Performance\nBethel African Methodist Episcopal Church\n10:30 a.m. Artist Talk\nTylonn J. Sawyer\, Multidisciplinary Artist Educator and Curator\n11:30 a.m. Musical Performance\nMichigan Gospel Chorale\n11:40 a.m. What’s Happening Next\nGregory Thomas\, Program Manager\, Office of Academic Multicultural Initiatives\nThis event is co-sponsored by Rackham’s Strategic Action Leadership Team\, NAACP Ann Arbor Branch\, Association of Black Social Work Students\, Department of Afroamerican and African Studies\, Center for Social Solutions\, In Collaboration with: Office of Diversity\, Equity\, and Inclusion and the CEW+ Women of Color Task Force.\nFor full symposium information and links to the live stream of events visit https://rackham.umich.edu/juneteenth-symposium/.\nWe want to ensure full and equitable participation in our events. If an accommodation would promote your full participation in this event\, please follow the registration link to indicate your accommodation requirements. Please let us know as soon as possible in order to have adequate time\, preferably one week\, to arrange for your requested accommodations or an effective alternative.
UID:84226-21620785@events.umich.edu
URL:https://events.umich.edu/event/84226
CLASS:PUBLIC
STATUS:CONFIRMED
CATEGORIES:Diversity,Graduate Students
LOCATION:Off Campus Location
CONTACT:
END:VEVENT
BEGIN:VEVENT
DTSTAMP:20211209T160155
DTSTART;TZID=America/Detroit:20210615T100000
DTEND;TZID=America/Detroit:20210615T110000
SUMMARY:Other:LSA Technology Services Research Support Office Hours
DESCRIPTION:The Research Team within LSA Technology Services is excited to announce virtual office hours for research computing support. These are regularly scheduled times when we will have subject matter experts in geographic information systems\, high performance computing\, digital scholarship\, and computer programming available for drop-in support. Faculty\, staff\, and students with research-related questions pertaining to any of these areas can stop by to ask questions\, get help working through a problem\, or inquire about a new project—no appointment necessary!\n\nNot sure what we can do to help? Read on for more details about the services provided by each of these teams.\n\n*Digital Scholarship*\nOur digital scholarship team specializes in humanities\, social sciences\, and interdisciplinary digital project methods and can provide assistance with:\n* Conceptualizing\, planning\, and finding resources for a digital project\n* How to version\, archive\, and preserve a project\n* Sustainability\, preservation\, accessibility\, privacy\, consent\, or grant requirements\nNew to digital projects? We can also talk about how to demonstrate the scholarly rigor of your digital project\, accurately credit the labor required of the project at every stage\, and how to provide evidence and metrics for promotion and job dossiers.\n\n*Geographic Information Systems (GIS)*\n\nOur GIS specialists can help with your geographic data needs\, including the following:\n* Making maps for use in a class\, grant proposal\, or publication\n* Geospatial analysis: identifying spatial patterns and trends in your data\n* Georeferencing: assigning geographic coordinates to a historic paper map or a hand-drawn sketch for digital use as a basemap or combined display with other data\n* Geocoding: convert a spreadsheet with addresses into latitude-longitude so you can plot your data on a map\n* StoryMaps: harness the power of maps to tell your story\n* Integrating smartphones or tablets and GIS in your field courses or researchSetting up workshops for a class or group interested in learning to use GIS in the context of your discipline\n* Assistance with ESRI's ArcGIS platform\, including ArcGIS Pro and ArcGIS Online\, or other geospatial software\n* Developing your own custom GIS web application or mobile application\n\n*High Performance Computing (HPC)*\n\nOur HPC team can help with:\n* Accessing U-M’s new Great Lakes HPC (High Performance Computing) cluster\n* Moving your computational work from your laptop or workstation to the cluster\, freeing up your machines for other tasks\n* Compiling\, installing\, or configuring a wide range of computational software\n* Setting up automated workflows to save time\n* Debugging your programs to see why they are crashing\n* Evaluating the benefits of parallel computing\, more memory or system resources for your code\nWe regularly support Python\, R\, MATLAB\, C/C++\, Java\, Julia\, Go\, and many other applications.\n\n*Research Support Programming*\n\nOur computer programming team can help with any of the following:\n\n* Debugging\, repair\, and improvements or upgrades to your existing code\n* References to training and coding resources to assist in your project\n* Design and development of custom software to support your research\n* Incorporation of lab-specific hardware into custom software applications.\n* Writing funding for any of the above into your grant proposals\nWe're experienced in MATLAB\, Python\, R\, LabVIEW\, JavaScript\, MedPC\, iOS development\, and more.\n\nWho can join the office hours?\nLSA Faculty\, staff\, and students with research-related questions on geographic information systems\, high performance computing\, digital scholarship\, and computer programming\n\nWhen and where is it?\nOur virtual office hours use Zoom:\nMondays\, 2:00–3:00 P.M.\nTuesdays\, 10:00–11:00 A.M.\nThursdays\, 3:00–4:00 P.M.
UID:77718-20270756@events.umich.edu
URL:https://events.umich.edu/event/77718
CLASS:PUBLIC
STATUS:CONFIRMED
CATEGORIES:Digital Humanities,Digital Projects,Digital Scholarship,Faculty,Gis,Graduate Students,Humanities,Lsa,Office Hours,Postdoctoral Research Fellows,Qualitative Social Sciences,research,Science,Virtual
LOCATION:Off Campus Location
CONTACT:
END:VEVENT
BEGIN:VEVENT
DTSTAMP:20210601T153404
DTSTART;TZID=America/Detroit:20210615T100000
DTEND;TZID=America/Detroit:20210615T110000
SUMMARY:Livestream / Virtual:UROP Changing Gears Drop In Virtual Office Hours
DESCRIPTION:Changing Gears/Transfer Student Summer Director Drop-In Hours\n(Tuesdays 10am - 11am\, EDT)\nNo appointment necessary \n- join the conversation at: https://umich.zoom.us/j/92736318275\n\nChanging Gears (CG) is a UROP program designed primarily for community college transfer students who will be attending the University of Michigan\, but also serves students transferring from 4 year institutions. Students in the CG Program become a part of an ongoing faculty-driven research\, scholarly or creative project in their field of interest. Students learn valuable academic skills\, applying these skills to their research project\, academics\, and future career opportunities\, while receiving academic credit or compensation for their efforts in research work.\n\nIf you are a U-M Transfer Student and not graduating until winter 2022 and/or after\, you are eligible to apply to the 2021-2022 UROP Changing Gears Program. The 2021-2022 application will be available starting May 1\, 2021
UID:84175-21620652@events.umich.edu
URL:https://events.umich.edu/event/84175
CLASS:PUBLIC
STATUS:CONFIRMED
CATEGORIES:AEM Featured,Applications,first-generation,Free,Interdisciplinary,Office Hours,Research,Transfer Students,Undergraduate,Undergraduate Students,Urop,Virtual
LOCATION:Off Campus Location
CONTACT:
END:VEVENT
BEGIN:VEVENT
DTSTAMP:20210625T165417
DTSTART;TZID=America/Detroit:20210615T110000
DTEND;TZID=America/Detroit:20210615T160000
SUMMARY:Exhibition:Halal Metropolis
DESCRIPTION:The Halal Metrop­o­lis exhi­bi­tion\, by artist Osman Khan\, pho­tog­ra­pher Razi Jafri\, and his­to­rian Sally How­ell\, explores the facts\, fic­tions\, and imag­i­nar­ies of the Mus­lim population(s) in Detroit and South­east Michi­gan as viewed through his­tor­i­cal research\, doc­u­men­ta­tion of cur­rent con­di­tions\, and explo­rations of future desires. The Halal Metrop­o­lis alludes to the estab­lished and grow­ing Mus­lim pop­u­la­tion in Detroit and its metro area\, one of the largest and most diverse Mus­lim pop­u­la­tions in the U.S.\, whose vis­i­bil­ity is both pro­nounced and extremely present in the city\, yet whose nar­ra­tive seems unusu­ally silent in the larger Detroit story. The exhi­bi­tion blends archival mate­ri­als\, social and polit­i­cal arti­facts\, pho­tog­ra­phy\, and art to explore the con­gru­ent and con­tra­dict­ing ideas\, aes­thet­ics\, and cul­tures work­ing to make the halal metrop­o­lis both a real and imag­i­nary entity.\n\nFea­tur­ing works by:\n\nAmna Asghar\nQais Assali\nBGIRL MAMA\nNour Ball­out\nAdnan Charara\nKecia Escoe\nParisa Ghaderi\nAnthony Keith Giannini\nRazi Jafri\nOsman Khan\nMaamoul Press\nEndi Poskovic\nHaleem ​‘Stringz’ Rasul\nReem Taki\n\nThis exhi­bi­tion is pre­sented in part­ner­ship with the Uni­ver­sity of Michigan-Dearborn’s Cen­ter for Arab Amer­i­can Stud­ies (CAAS)\, with sup­port from the Knight Foun­da­tion\, the Doris Duke Foun­da­tion\, the Andy Warhol Foun­da­tion for the Visual Arts\, the El-Hibri Foun­da­tion\, the Com­mu­nity Foun­da­tion of SE Michi­gan\, and the Michi­gan Human­i­ties Council.
UID:84359-21623523@events.umich.edu
URL:https://events.umich.edu/event/84359
CLASS:PUBLIC
STATUS:CONFIRMED
CATEGORIES:Art,Detroit,Exhibition,Multidisciplinary Design,Muslim
LOCATION:Off Campus Location
CONTACT:
END:VEVENT
BEGIN:VEVENT
DTSTAMP:20210525T152130
DTSTART;TZID=America/Detroit:20210615T120000
DTEND;TZID=America/Detroit:20210615T130000
SUMMARY:Lecture / Discussion:Clinical Simulation Center Brown Bag Discussion
DESCRIPTION:\"Omni II Infant\, Safe Patient Handling Obesity suit\, UH Training Room and Juno-Med fidelity manikin\"\n\nOur team is planning four short lightning talks\, highlighting some new equipment and additions to our courses.\n\nThis will be a Zoom meeting.\nhttps://umich.zoom.us/j/97929340876 \n\nDial by your location\n+1 646 876 9923\nMeeting ID: 979 2934 0876\n\nFind your local number: https://umich.zoom.us/u/ac04eNX6TC
UID:84097-21620084@events.umich.edu
URL:https://events.umich.edu/event/84097
CLASS:PUBLIC
STATUS:CONFIRMED
CATEGORIES:academic medicine,Basic Science,Free,Health Professions,Health Science,Healthcare,Implementation Science,Information and Technology,Interdisciplinary,Interprofessional Education,Medical Education,Medicine,Robotics,Science
LOCATION:Off Campus Location
CONTACT:
END:VEVENT
BEGIN:VEVENT
DTSTAMP:20210714T141205
DTSTART;TZID=America/Detroit:20210615T140000
DTEND;TZID=America/Detroit:20210615T153000
SUMMARY:Meeting:CoderSpaces (Tuesdays)
DESCRIPTION:Are you grappling with a piece of code\, trying to compute on a cluster\, or just getting started with a new method such as machine learning? Then we might have just the right space for you.\n\nAll members of the U-M community are invited to join our weekly virtual CoderSpaces\, Mondays – Thursdays\, during the Summer 2021 term to get research support and connect with others.\n\nThe virtual sessions are designed to assist faculty\, staff\, and students with research methodology\, statistics\, data science applications\, and computational programming for research.\n\nOur hosts have a wide set of methodological and technological expertise. They come to you from a variety of departments and disciplines and are looking forward to serving the U-M community in their research endeavors.\n\nCoderSpaces provide a casual\, productive\, and inclusive environment. Everyone is welcome regardless of skill level.\n\nTuesdays 2-3:30 p.m.\nJoin via Zoom* (https://umich.zoom.us/j/99832397131)\n*Users will have to sign in with their UMICH (Level-1) credentials.\n\nwith Alexander Gaenko (CSCAR)\, Chen Chen (PDHP/ISR)\, Liz Hanley (PDHP/ISR)\, Paul Schulz (PDHP/ISR)\n\nExpertise: C/C++\, CMake/GNU Make\, data management\, data visualization\, Fortran\, Git\, high performance computing\, Julia\, Mplus\, natural language processing\, parallelization\, performance analysis\, Perl\, Python\, R\, SAS\, secure computing enclaves\, shell\, SQL\, Stata\, statistical computing\, survey methods (hypothesis testing\, imputation\, modeling\, statistics\, sampling\, questionnaire design\, weighting)\, text analysis\, web applications (front-end HTML/CSS/JavaScript stack)\, web scraping
UID:83963-21619215@events.umich.edu
URL:https://events.umich.edu/event/83963
CLASS:PUBLIC
STATUS:CONFIRMED
CATEGORIES:Data Science,Information And Technology,Office Hours,Virtual
LOCATION:Off Campus Location
CONTACT:
END:VEVENT
END:VCALENDAR