BEGIN:VCALENDAR
VERSION:2.0
PRODID:-//UM//UM*Events//EN
CALSCALE:GREGORIAN
BEGIN:VTIMEZONE
TZID:America/Detroit
TZURL:http://tzurl.org/zoneinfo/America/Detroit
X-LIC-LOCATION:America/Detroit
BEGIN:DAYLIGHT
TZOFFSETFROM:-0500
TZOFFSETTO:-0400
TZNAME:EDT
DTSTART:20070311T020000
RRULE:FREQ=YEARLY;BYMONTH=3;BYDAY=2SU
END:DAYLIGHT
BEGIN:STANDARD
TZOFFSETFROM:-0400
TZOFFSETTO:-0500
TZNAME:EST
DTSTART:20071104T020000
RRULE:FREQ=YEARLY;BYMONTH=11;BYDAY=1SU
END:STANDARD
END:VTIMEZONE
BEGIN:VEVENT
DTSTAMP:20210511T124519
DTSTART;TZID=America/Detroit:20210616T080000
DTEND;TZID=America/Detroit:20210616T230000
SUMMARY:Other:Become a UROP Research Mentor
DESCRIPTION:Submit a Research Project for the 2021-2022 Academic Year: https://lsa.umich.edu/urop/research-mentors.html\n\nUROP Research Mentors are faculty and post-doc researchers from across all U-M's 19 Schools and Colleges who provide undergraduate student researchers an opportunity to engage in research activities that help them learn about the pursuit of knowledge within an academic discipline. This early exposure to research fosters a valuable academic experience for students. Through this collaboration\, students gain research skills and mentorship that lead to academic retention\, a more positive undergraduate experience and paths to graduate school.
UID:83879-21619438@events.umich.edu
URL:https://events.umich.edu/event/83879
CLASS:PUBLIC
STATUS:CONFIRMED
CATEGORIES:AEM Featured,Education,Faculty,Free,Graduate and Professional Students,Graduate Students,Interdisciplinary,Mentorship,Research,research data,Staff,Urop
LOCATION:Off Campus Location
CONTACT:
END:VEVENT
BEGIN:VEVENT
DTSTAMP:20210430T095709
DTSTART;TZID=America/Detroit:20210616T080000
DTEND;TZID=America/Detroit:20210616T230000
SUMMARY:Careers / Jobs:Changing Gears Application Open
DESCRIPTION:Learn more about the Changing Gears Program and apply at: myumi.ch/uropcg\n\nChanging Gears (CG) is a UROP program designed primarily for community college transfer students who will be attending the University of Michigan\, but also serves students transferring from 4 year institutions. Students in the CG Program become a part of an ongoing faculty-driven research\, scholarly or creative project in their field of interest. Students learn valuable academic skills\, applying these skills to their research project\, academics\, and future career opportunities\, while receiving academic credit or compensation for their efforts in research work.\n\nIf you are a U-M Transfer Student and not graduating until winter 2022 and/or after\, you are eligible to apply to the 2021-2022 UROP Changing Gears Program.
UID:83922-21616943@events.umich.edu
URL:https://events.umich.edu/event/83922
CLASS:PUBLIC
STATUS:CONFIRMED
CATEGORIES:AEM Featured,first-generation,Free,Interdisciplinary,Networking,Office Hours,Research,Transfer Students,Undergraduate,Undergraduate Students,Urop
LOCATION:Off Campus Location
CONTACT:
END:VEVENT
BEGIN:VEVENT
DTSTAMP:20220502T122639
DTSTART;TZID=America/Detroit:20210616T080000
DTEND;TZID=America/Detroit:20210616T230000
SUMMARY:Careers / Jobs:UROP First-Year Application Open
DESCRIPTION:Our \"Traditional UROP Program\" has been our flagship program running over 30 years. This Academic Year program\, in which students participate for both Fall and Winter Terms\, is designed for University of Michigan first and second year undergraduate students enrolled on the Ann Arbor campus who are seeking a first time research experience. Student research assistants work alongside a faculty member\, research scientist or professional practitioner on an ongoing or new research project.\n\nLearn more and apply at: myumi.ch/uropyearone\n\nApplications being accepted on a rolling basis.
UID:83923-21617062@events.umich.edu
URL:https://events.umich.edu/event/83923
CLASS:PUBLIC
STATUS:CONFIRMED
CATEGORIES:AEM Featured,Applications,first-generation,Free,Interdisciplinary,Networking,Research,Undergraduate,Undergraduate Students,Urop
LOCATION:Undergraduate Science Building
CONTACT:
END:VEVENT
BEGIN:VEVENT
DTSTAMP:20210804T182828
DTSTART;TZID=America/Detroit:20210616T080000
DTEND;TZID=America/Detroit:20210616T230000
SUMMARY:Careers / Jobs:UROP Research Scholars Application now open
DESCRIPTION:The UROP Research Scholars Program is designed for students who want to expand on their first year UROP experience and participate in UROP for a second year at an advanced level. In this program\, students build upon the knowledge gained in a first undergraduate research experience to further explore the connections between research\, a liberal arts education\, and communicating skills to advance their future professional goals. Students are expected to explore various written and oral possibilities for communicating their research process\, identifying the limits set by the discipline and the opportunities that lie beyond.\n\nApply at: https://myumi.ch/uroprs
UID:82067-21014961@events.umich.edu
URL:https://events.umich.edu/event/82067
CLASS:PUBLIC
STATUS:CONFIRMED
CATEGORIES:AEM Featured,Applications,Free,Interdisciplinary,Research,Undergraduate,Undergraduate Students,Urop
LOCATION:Off Campus Location
CONTACT:
END:VEVENT
BEGIN:VEVENT
DTSTAMP:20210714T155619
DTSTART;TZID=America/Detroit:20210616T080000
DTEND;TZID=America/Detroit:20210616T230000
SUMMARY:Careers / Jobs:UROP Rising Sophomore Applications Open
DESCRIPTION:The Undergraduate Research Opportunity Program is now accepting applications for students who will be rising sophomores during the 2021-2022 academic year. \n\nLearn more and apply today at http://myumi.ch/uropsophomore\n\nRising Sophomore Applications are being accepted on a rolling basis.
UID:80546-21203428@events.umich.edu
URL:https://events.umich.edu/event/80546
CLASS:PUBLIC
STATUS:CONFIRMED
CATEGORIES:AEM Featured,Applications,first-generation,Free,Research,Sophomore,Undergraduate,Undergraduate Students,Urop
LOCATION:Off Campus Location
CONTACT:
END:VEVENT
BEGIN:VEVENT
DTSTAMP:20210602T110141
DTSTART;TZID=America/Detroit:20210616T090000
DTEND;TZID=America/Detroit:20210616T170000
SUMMARY:Workshop / Seminar:Time-Resolved Vibrational Spectroscopy Meeting
DESCRIPTION:For more than 30 years\, the International Conference on Time-Resolved Vibrational Spectroscopy (TRVS) has played a central role in highlighting state-of-the-art progress in understanding\, manipulating\, and driving vibrations in molecular and material dynamics.\n\nTRVS 2021 (June 13-18) will bring researchers from around the world together to discuss the following topics:\n\n• Dynamics of liquids\, solids\, interfaces\, and nanostructured materials\n\n• Role of vibrational dynamics in electronically excited molecules and materials\n\n• Chemical\, vibrational\, and hydrogen bonding dynamics\n\n• Time-resolved vibrational spectroscopy in molecular biophysics and photobiology\n\n• Proton and electron transfer studies for energy conversion and storage\n\n• Advances in multi-dimensional vibrational spectroscopy: Infrared\, Raman\, and THz\n\n• New laser sources and spectrometers\n\n• Single molecule vibrational spectroscopy\n\n• Theoretical and computational spectroscopy\n\nPlease see https://www.trvs2021.org/ for more information and to register.\n\nHosts: U-M Physicist Jennifer Ogilvie and research team along with U-M Chemist Kevin Kubyarch.
UID:84177-21620697@events.umich.edu
URL:https://events.umich.edu/event/84177
CLASS:PUBLIC
STATUS:CONFIRMED
CATEGORIES:Free,Natural Sciences,Physics,Workshop
LOCATION:Off Campus Location
CONTACT:
END:VEVENT
BEGIN:VEVENT
DTSTAMP:20210616T181514
DTSTART;TZID=America/Detroit:20210616T100000
DTEND;TZID=America/Detroit:20210616T120000
SUMMARY:Auditions:Juneteenth Symposium: Celebrating Black Joy\, Hope\, and Healing—Art and Culture
DESCRIPTION:10:00 a.m. Welcome\nGregory Thomas\, Program Manager\, Office of Academic Multicultural Initiatives\n10:05 a.m. Welcoming Remarks\nMike Solomon\, Dean\, Rackham Graduate School\n10:10 a.m. Spoken Word\nDr. Melba Joyce Boyd\, Visiting Professor of Afroamerican and African Studies\n10:25 a.m. Articulations of Blackness\, Black Life\, and Black History in University of Michigan Museum of Arts’s Collections\nOzi Uduma\, Assistant Curator of Global Contemporary Art\, University of Michigan Museum of Art\n11:00 a.m. Poem\nmonét cooper\, Doctoral Student\, Joint Program in English and Education\n11:05 a.m. Transition and Break\n11:20 a.m. Seven Last Words of the Unarmed\nU-M Men’s Glee Club\n11:45 a.m. What’s Happening Next\, Program Manager\, Office of Academic and Multicultural Initiatives\nGregory Thomas\, Program Manager\, Office of Academic Multicultural Initiatives\nThis event is co-sponsored by Rackham’s Strategic Action Leadership Team\, NAACP Ann Arbor Branch\, Association of Black Social Work Students\, Department of Afroamerican and African Studies\, Center for Social Solutions\, In Collaboration with: Office of Diversity\, Equity\, and Inclusion and the CEW+ Women of Color Task Force.\nFor full symposium information and links to the live stream of events visit https://rackham.umich.edu/juneteenth-symposium/.\nWe want to ensure full and equitable participation in our events. If an accommodation would promote your full participation in this event\, please follow the registration link to indicate your accommodation requirements. Please let us know as soon as possible in order to have adequate time\, preferably one week\, to arrange for your requested accommodations or an effective alternative.
UID:84227-21620786@events.umich.edu
URL:https://events.umich.edu/event/84227
CLASS:PUBLIC
STATUS:CONFIRMED
CATEGORIES:Diversity,Graduate Students
LOCATION:Off Campus Location
CONTACT:
END:VEVENT
BEGIN:VEVENT
DTSTAMP:20210616T121521
DTSTART;TZID=America/Detroit:20210616T102500
DTEND;TZID=America/Detroit:20210616T110000
SUMMARY:Presentation:U-M 2021 Juneteenth Symposium: Articulations of Blackness\, Black Life\, and Black History in University of Michigan Museum of Arts’s Collections with Ozi Uduma
DESCRIPTION:Click here to register: https://rackham.umich.edu/juneteenth-symposium/.\n \nJoin Ozi Uduma\, assistant curator of global contemporary art at UMMA\, for this special virtual tour on the occasion of U-M’s inaugural campus-wide Juneteenth Symposium. The Symposium will explore the theme of “Celebrating Black Joy\, Hope\, and Healing.” A partnership between U-M and the Ann Arbor Branch of the NAACP\, this Juneteenth observance aims to celebrate and recognize the liberation of all Black people from slavery\, made official by the emancipation on June 19\, 1865\, in Galveston\, Texas. Juneteenth is also known as Freedom Day\, Jubilee Day\, Liberation Day\, and Emancipation Day. It is celebrated throughout the nation and as a state holiday in Michigan. It is also officially observed in Ann Arbor.\n \nOzi Uduma is the assistant curator of global contemporary art at the University of Michigan Museum of Art (UMMA). Uduma is a graduate of the University of Michigan. She was born and raised in Detroit and is of Nigerian descent. Uduma is the curator of the exhibition Unsettling Histories: Legacies of Slavery and Colonialism (opening fall 2021) and the co-curator of We Write to You About Africa (opening fall 2021). Uduma’s art interest mostly focuses on modern and contemporary Black artists.\n \nThe 2021 U-M Juneteenth Symposium will run June 14-18. For more information\, click here. \n\nThe U-M Juneteenth Symposium is organized by Rackham’s Strategic Action Lead Team\, the NAACP Ann Arbor Branch\, Association of Black Social Work Students\, the Department of Afroamerican and African Studies\, and the Center for Social Solutions\, in collaboration with Office of Diversity\, Equity\, and Inclusion and the CEW+ Women of Color Task Force.
UID:84254-21620818@events.umich.edu
URL:https://events.umich.edu/event/84254
CLASS:PUBLIC
STATUS:CONFIRMED
CATEGORIES:Africa,Art,Detroit,Exhibition,Graduate,History,Holiday,Museum,symposium,Tour,UMMA
LOCATION:Museum of Art - University of Michigan Museum of Art 
CONTACT:
END:VEVENT
BEGIN:VEVENT
DTSTAMP:20240116T141648
DTSTART;TZID=America/Detroit:20210616T120000
DTEND;TZID=America/Detroit:20210616T123000
SUMMARY:Well-being:North Campus Mindfulness Meditation Drop-In (Online)
DESCRIPTION:Take a moment to create some space to breathe and invite a sense of calm into your day. This is a guided mindfulness meditation drop-in session. No experience necessary. Free and open to all. \n\nEmail dmitryb@umich.edu to sign up for the mailing list. You will receive a weekly reminder with the zoom link. Also\, you can add the sessions to your Google Calendar: https://tinyurl.com/y3kbkwd6
UID:40967-21619236@events.umich.edu
URL:https://events.umich.edu/event/40967
CLASS:PUBLIC
STATUS:CONFIRMED
CATEGORIES:Health & Wellness,Meditation,Mindfulness,Mindfulness\, Meditation,North campus,Stress Reduction,Virtual,Well-being
LOCATION:Off Campus Location
CONTACT:
END:VEVENT
BEGIN:VEVENT
DTSTAMP:20210614T110530
DTSTART;TZID=America/Detroit:20210616T130000
DTEND;TZID=America/Detroit:20210616T140000
SUMMARY:Livestream / Virtual:Getting to Know Michigan Dining
DESCRIPTION:MDining features nine dining halls\, catering services & more than two dozen markets & cafés across campus. We provide delicious food & create memorable experiences for members of the university community. In the area of allergen management and nutrition information\, MDining offers sophisticated online tools\, a mobile app\, point-of-service signage and product labeling to help guests make safe and informed choices at every meal. With a focus on the current and future health of individuals\, communities and the natural environment\, Michigan Dining promotes sustainable practices by reducing and composting food waste\, recycling and purchasing local and sustainably harvested foods.
UID:84277-21621022@events.umich.edu
URL:https://events.umich.edu/event/84277
CLASS:PUBLIC
STATUS:CONFIRMED
CATEGORIES:Free,Virtual
LOCATION:Off Campus Location
CONTACT:
END:VEVENT
BEGIN:VEVENT
DTSTAMP:20210623T110922
DTSTART;TZID=America/Detroit:20210616T130000
DTEND;TZID=America/Detroit:20210616T134500
SUMMARY:Livestream / Virtual:Info Session: Student Opportunities for AIDS/HIV Research (SOAR) Program
DESCRIPTION:Are you interested in attending graduate school after your bachelor’s degree? Are you interested in research focused on HIV in sexual and gender minority communities and communities of color? Are you a rising junior at University of Michigan Ann Arbor?\n\nIf you answered yes to these three questions then the Student Opportunities for AIDS/HIV Research (SOAR) program may be for you. Scheduled to launch in September\, SOAR is a two-year experience for juniors and seniors that aims to prepare students for graduate education and eventual careers in behavioral and social science research involving HIV/AIDS\, with a focus on sexual and gender minority communities.\n\nThis information session is for students\, faculty\, and staff at the University of Michigan to learn more about the program\, meet SOAR co-directors\, Professors Gary Harper and Anna Kirkland\, and ask questions!\n\nWe'll talk about why the SOAR program is unique and can answer any questions about the application process\, program activities\, benefits and more.\n\nPlease register to get the Zoom link: https://myumi.ch/88zxn
UID:84221-21620779@events.umich.edu
URL:https://events.umich.edu/event/84221
CLASS:PUBLIC
STATUS:CONFIRMED
CATEGORIES:Career,Inclusion,LGBT,Nursing,Professional Development,Psychology,Public Health,Queer Trans Indigenous People of Color-QTIPOC,Research,Social Impact,Social Justice,Social Sciences,Undergraduate,Undergraduate Students,Virtual,Women's Studies,Workshop
LOCATION:Off Campus Location
CONTACT:
END:VEVENT
BEGIN:VEVENT
DTSTAMP:20210602T135602
DTSTART;TZID=America/Detroit:20210616T130000
DTEND;TZID=America/Detroit:20210616T140000
SUMMARY:Livestream / Virtual:UROP Summer Virtual Office Hours
DESCRIPTION:UROP Staff will be available during the summer via Zoom office hours to answer questions from those who drop in. No appointment necessary.\n\nWednesdays (1-2pm ET)\nThursdays (1-2pm ET)\nFriday (11:30am - 12:30pm ET)\nhttps://myumi.ch/1p1d3\n\nThe Undergraduate Research Opportunity Program (UROP) offers several different programs throughout the academic year for University of Michigan-Ann Arbor undergraduate students to discover the world of research through collaborations with U-M researchers. Students participating in the program are called research assistants and work alongside a faculty member\, research scientist or professional practitioner on an ongoing or new research project.
UID:84176-21620714@events.umich.edu
URL:https://events.umich.edu/event/84176
CLASS:PUBLIC
STATUS:CONFIRMED
CATEGORIES:Admissions,AEM Featured,Applications,first-generation,Free,Interdisciplinary,Office Hours,Research,Undergraduate,Undergraduate Students,Urop,Virtual
LOCATION:Off Campus Location
CONTACT:
END:VEVENT
BEGIN:VEVENT
DTSTAMP:20210506T120820
DTSTART;TZID=America/Detroit:20210616T140000
DTEND;TZID=America/Detroit:20210616T153000
SUMMARY:Meeting:CoderSpaces (Wednesdays)
DESCRIPTION:Are you grappling with a piece of code\, trying to compute on a cluster\, or just getting started with a new method such as machine learning? Then we might have just the right space for you.\n\nAll members of the U-M community are invited to join our weekly virtual CoderSpaces\, Mondays – Thursdays\, during the Summer 2021 term to get research support and connect with others.\n\nThe virtual sessions are designed to assist faculty\, staff\, and students with research methodology\, statistics\, data science applications\, and computational programming for research.\n\nOur hosts have a wide set of methodological and technological expertise. They come to you from a variety of departments and disciplines and are looking forward to serving the U-M community in their research endeavors.\n\nCoderSpaces provide a casual\, productive\, and inclusive environment. Everyone is welcome regardless of skill level.\n\nWednesdays 2-2:30 p.m.\nJoin via Zoom* (https://umich.zoom.us/j/96392817699)\n*Users will have to sign in with their UMICH (Level-1) credentials.\n\nwith Armand Burks (ARC/UMSI)\, Jule Krüger (ISR/ARC)\, Meghan Richey (ARC)\, Shelly Johnson (ARC)\n\nExpertise: automation of tasks and workflows\, Bash\, C++\, cloud analytics\, data analysis\, management and visualization\, Git\, GNU Make\, high performance computing\, installing software on University clusters\, Java\, LaTeX\, machine learning (Tensorflow\, Keras\, convolutional neural networks)\, natural language processing\, Python\, R\, R Markdown\, web scraping (Selenium)
UID:83926-21619130@events.umich.edu
URL:https://events.umich.edu/event/83926
CLASS:PUBLIC
STATUS:CONFIRMED
CATEGORIES:Arc,Data Science,Information And Technology,Office Hours,Virtual
LOCATION:Off Campus Location
CONTACT:
END:VEVENT
BEGIN:VEVENT
DTSTAMP:20210519T163523
DTSTART;TZID=America/Detroit:20210616T150000
DTEND;TZID=America/Detroit:20210616T160000
SUMMARY:Lecture / Discussion:Author Talk: Is Superman Circumcised? The Complete Jewish History of the World’s Greatest Hero
DESCRIPTION:Superman is the most famous character in the world. He’s the first superhero\, an American icon — and he’s Jewish!\n\nAuthor Roy Schwartz discusses his new book\, \"Is Superman Circumcised? The Complete Jewish History of the World’s Greatest Hero\,\" exploring the underlying themes of a beloved modern mythology in a fascinating and entertaining journey through Jewish tradition\, American history\, and comic book lore\, sure to give readers a newfound appreciation for the Mensch of Steel!\n\nRegister at https://umlib.us/superman
UID:84083-21619871@events.umich.edu
URL:https://events.umich.edu/event/84083
CLASS:PUBLIC
STATUS:CONFIRMED
CATEGORIES:Books,History,Jewish Studies,Library
LOCATION:Off Campus Location - Register for this Zoom event at umlib.us/superman
CONTACT:
END:VEVENT
BEGIN:VEVENT
DTSTAMP:20201210T071907
DTSTART;TZID=America/Detroit:20210616T153000
DTEND;TZID=America/Detroit:20210616T170000
SUMMARY:Class / Instruction:HEARD AROUND TOWN: Michigan Speak
DESCRIPTION:“Do you say ‘pop’ or ‘soda’ or ‘soft drink’?  Do you know what a ‘Michigan left’ is?  Did you know ‘Yooper’ is now in some standard dictionaries?  Come hear about what is happening to English in Michigan and share the changes you’re hearing in the language.”\n\nPresenter Anne Curzan\, dean of LSA at University of Michigan is a trained linguist and studies the history of the English language.  She describes herself as a fount of random linguistic information about how English got to be the way it is—information she shares every Sunday on the show “That’s What They Say” on Michigan Public Radio. She has also dedicated one major strand of her career to helping students and the broader public understand linguistic diversity as part of cultural diversity\, and language change as a natural part of living languages.\n\nDr. Curzan has received university awards for outstanding research and undergraduate teaching\, including the Henry Russel Award and the John Dewey Award. She is an Arthur F. Thurnau Professor and the Geneva Smitherman Collegiate Professor of English Language and Literature\, Linguistics\, and Education.\n\nPreregistration is required via the OLLI website or phone.  A link to access the presentation will be e-mailed to you approximately one week prior to the event.
UID:79829-20507636@events.umich.edu
URL:https://events.umich.edu/event/79829
CLASS:PUBLIC
STATUS:CONFIRMED
CATEGORIES:Language,Lecture,Lifelong Learning,Retirement
LOCATION:Off Campus Location
CONTACT:
END:VEVENT
BEGIN:VEVENT
DTSTAMP:20210413T145857
DTSTART;TZID=America/Detroit:20210616T160000
DTEND;TZID=America/Detroit:20210616T170000
SUMMARY:Livestream / Virtual:Graduate Application Information Session
DESCRIPTION:Join the Recruiting & Admissions team to learn more about how to apply to the graduate nursing programs!  Register at https://umforms.tfaforms.net/218020.
UID:83748-21485471@events.umich.edu
URL:https://events.umich.edu/event/83748
CLASS:PUBLIC
STATUS:CONFIRMED
CATEGORIES:Nursing,Virtual
LOCATION:Off Campus Location
CONTACT:
END:VEVENT
BEGIN:VEVENT
DTSTAMP:20210602T100445
DTSTART;TZID=America/Detroit:20210616T160000
DTEND;TZID=America/Detroit:20210616T173000
SUMMARY:Presentation:Transfer Transitions: Academic Support
DESCRIPTION:Please join the LSA Transfer Student Center over the summer for Transfer Transitions to learn how you can build on the skills you already possess to make a smooth transition in your first semester and discover all the opportunities available for you. Every other week we will feature a group of opportunities and resources centered on a topic.\n\nThese programs offer academic and transition support to help you succeed in your courses as you transition to U-M and on through completing your bachelor’s degree. \n\n>> Science Learning Center\n>> Making the Most of Michigan\n>> University Libraries\n>> Sweetland Center for Writing\n>> Language Resource Center\n>> Honors Program\n>> Transfer Interest Groups in the Transfer Student Center
UID:84181-21620702@events.umich.edu
URL:https://events.umich.edu/event/84181
CLASS:PUBLIC
STATUS:CONFIRMED
CATEGORIES:Transfer Students
LOCATION:Off Campus Location
CONTACT:
END:VEVENT
BEGIN:VEVENT
DTSTAMP:20210525T142734
DTSTART;TZID=America/Detroit:20210616T180000
DTEND;TZID=America/Detroit:20210616T190000
SUMMARY:Presentation:Transfer to LSA Information Session
DESCRIPTION:Join the LSA Student Recruitment Team for our weekly virtual sessions where we will discuss LSA requirements\, transfer credit\, pre-transfer academic advising\, LSA opportunities and other transfer tidbits. Each session includes a Q & A featuring the Transfer Student Ambassadors. For any questions about this session\, please email us at LSATransferCenter@umich.edu.\n\nTo register\, please visit:  https://umich.zoom.us/meeting/register/tJwrc--tpjMuHdajBqRcJ2u57rbKatnx5RUN
UID:84117-21620316@events.umich.edu
URL:https://events.umich.edu/event/84117
CLASS:PUBLIC
STATUS:CONFIRMED
CATEGORIES:Transfer Students
LOCATION:Off Campus Location
CONTACT:
END:VEVENT
END:VCALENDAR