BEGIN:VCALENDAR
VERSION:2.0
PRODID:-//UM//UM*Events//EN
CALSCALE:GREGORIAN
BEGIN:VTIMEZONE
TZID:America/Detroit
TZURL:http://tzurl.org/zoneinfo/America/Detroit
X-LIC-LOCATION:America/Detroit
BEGIN:DAYLIGHT
TZOFFSETFROM:-0500
TZOFFSETTO:-0400
TZNAME:EDT
DTSTART:20070311T020000
RRULE:FREQ=YEARLY;BYMONTH=3;BYDAY=2SU
END:DAYLIGHT
BEGIN:STANDARD
TZOFFSETFROM:-0400
TZOFFSETTO:-0500
TZNAME:EST
DTSTART:20071104T020000
RRULE:FREQ=YEARLY;BYMONTH=11;BYDAY=1SU
END:STANDARD
END:VTIMEZONE
BEGIN:VEVENT
DTSTAMP:20210511T124519
DTSTART;TZID=America/Detroit:20210618T080000
DTEND;TZID=America/Detroit:20210618T230000
SUMMARY:Other:Become a UROP Research Mentor
DESCRIPTION:Submit a Research Project for the 2021-2022 Academic Year: https://lsa.umich.edu/urop/research-mentors.html\n\nUROP Research Mentors are faculty and post-doc researchers from across all U-M's 19 Schools and Colleges who provide undergraduate student researchers an opportunity to engage in research activities that help them learn about the pursuit of knowledge within an academic discipline. This early exposure to research fosters a valuable academic experience for students. Through this collaboration\, students gain research skills and mentorship that lead to academic retention\, a more positive undergraduate experience and paths to graduate school.
UID:83879-21619440@events.umich.edu
URL:https://events.umich.edu/event/83879
CLASS:PUBLIC
STATUS:CONFIRMED
CATEGORIES:AEM Featured,Education,Faculty,Free,Graduate and Professional Students,Graduate Students,Interdisciplinary,Mentorship,Research,research data,Staff,Urop
LOCATION:Off Campus Location
CONTACT:
END:VEVENT
BEGIN:VEVENT
DTSTAMP:20210430T095709
DTSTART;TZID=America/Detroit:20210618T080000
DTEND;TZID=America/Detroit:20210618T230000
SUMMARY:Careers / Jobs:Changing Gears Application Open
DESCRIPTION:Learn more about the Changing Gears Program and apply at: myumi.ch/uropcg\n\nChanging Gears (CG) is a UROP program designed primarily for community college transfer students who will be attending the University of Michigan\, but also serves students transferring from 4 year institutions. Students in the CG Program become a part of an ongoing faculty-driven research\, scholarly or creative project in their field of interest. Students learn valuable academic skills\, applying these skills to their research project\, academics\, and future career opportunities\, while receiving academic credit or compensation for their efforts in research work.\n\nIf you are a U-M Transfer Student and not graduating until winter 2022 and/or after\, you are eligible to apply to the 2021-2022 UROP Changing Gears Program.
UID:83922-21616945@events.umich.edu
URL:https://events.umich.edu/event/83922
CLASS:PUBLIC
STATUS:CONFIRMED
CATEGORIES:AEM Featured,first-generation,Free,Interdisciplinary,Networking,Office Hours,Research,Transfer Students,Undergraduate,Undergraduate Students,Urop
LOCATION:Off Campus Location
CONTACT:
END:VEVENT
BEGIN:VEVENT
DTSTAMP:20220502T122639
DTSTART;TZID=America/Detroit:20210618T080000
DTEND;TZID=America/Detroit:20210618T230000
SUMMARY:Careers / Jobs:UROP First-Year Application Open
DESCRIPTION:Our \"Traditional UROP Program\" has been our flagship program running over 30 years. This Academic Year program\, in which students participate for both Fall and Winter Terms\, is designed for University of Michigan first and second year undergraduate students enrolled on the Ann Arbor campus who are seeking a first time research experience. Student research assistants work alongside a faculty member\, research scientist or professional practitioner on an ongoing or new research project.\n\nLearn more and apply at: myumi.ch/uropyearone\n\nApplications being accepted on a rolling basis.
UID:83923-21617064@events.umich.edu
URL:https://events.umich.edu/event/83923
CLASS:PUBLIC
STATUS:CONFIRMED
CATEGORIES:AEM Featured,Applications,first-generation,Free,Interdisciplinary,Networking,Research,Undergraduate,Undergraduate Students,Urop
LOCATION:Undergraduate Science Building
CONTACT:
END:VEVENT
BEGIN:VEVENT
DTSTAMP:20210804T182828
DTSTART;TZID=America/Detroit:20210618T080000
DTEND;TZID=America/Detroit:20210618T230000
SUMMARY:Careers / Jobs:UROP Research Scholars Application now open
DESCRIPTION:The UROP Research Scholars Program is designed for students who want to expand on their first year UROP experience and participate in UROP for a second year at an advanced level. In this program\, students build upon the knowledge gained in a first undergraduate research experience to further explore the connections between research\, a liberal arts education\, and communicating skills to advance their future professional goals. Students are expected to explore various written and oral possibilities for communicating their research process\, identifying the limits set by the discipline and the opportunities that lie beyond.\n\nApply at: https://myumi.ch/uroprs
UID:82067-21014963@events.umich.edu
URL:https://events.umich.edu/event/82067
CLASS:PUBLIC
STATUS:CONFIRMED
CATEGORIES:AEM Featured,Applications,Free,Interdisciplinary,Research,Undergraduate,Undergraduate Students,Urop
LOCATION:Off Campus Location
CONTACT:
END:VEVENT
BEGIN:VEVENT
DTSTAMP:20210714T155619
DTSTART;TZID=America/Detroit:20210618T080000
DTEND;TZID=America/Detroit:20210618T230000
SUMMARY:Careers / Jobs:UROP Rising Sophomore Applications Open
DESCRIPTION:The Undergraduate Research Opportunity Program is now accepting applications for students who will be rising sophomores during the 2021-2022 academic year. \n\nLearn more and apply today at http://myumi.ch/uropsophomore\n\nRising Sophomore Applications are being accepted on a rolling basis.
UID:80546-21203430@events.umich.edu
URL:https://events.umich.edu/event/80546
CLASS:PUBLIC
STATUS:CONFIRMED
CATEGORIES:AEM Featured,Applications,first-generation,Free,Research,Sophomore,Undergraduate,Undergraduate Students,Urop
LOCATION:Off Campus Location
CONTACT:
END:VEVENT
BEGIN:VEVENT
DTSTAMP:20210514T101730
DTSTART;TZID=America/Detroit:20210618T083000
DTEND;TZID=America/Detroit:20210618T133000
SUMMARY:Workshop / Seminar:WCTF 2021 Juneteenth Celebration
DESCRIPTION:RSVP here:  http://www.cew.umich.edu/events/wctf-2021-juneteenth-celebration\n\nJoin the Women of Color Task Force for its 2nd annual Juneteenth observance event. The theme for our event is “Improving Intercultural Race Relations to Develop Intercultural Solidarity.” \n\nJuneteenth\, also called Jubilee Day\, Freedom Day\, Liberation Day\, or Emancipation Day\, is the designated holiday commemorating the freedom of the slaves in the United States\, traditionally observed annually on June 19th. President Abraham Lincoln’s Emancipation Proclamation had officially outlawed slavery in Texas and the other states in rebellion against the Union almost two and a half years earlier on January 1\, 1863. Enforcement of the Proclamation generally relied on the advancement of the Union troops. The anniversary of the June 19\, 1865 date recognizes the day that the announcement by Union Army Major General Gordon Granger\, proclaiming freedom from slavery and the end of the Civil War was delivered to Galveston\, Texas. \n\nThe Juneteenth holiday is celebrated on Saturday\, June 19\, 2021\, but we invite you to join us for our celebration on Friday\, June 18th\, from 8:30 am - 1:30 pm.\n\nShare your photos from past Juneteenth celebrations and events organized by your community and/or family!! If you have a picture to share\, you may upload your photo by midnight on June 4th into this Google form: https://forms.gle/bMZ46tGH1YedgE1a7. Submissions will be reviewed\, and selected photos will be included in a slideshow that will be shown at the virtual Juneteenth event.
UID:84038-21619636@events.umich.edu
URL:https://events.umich.edu/event/84038
CLASS:PUBLIC
STATUS:CONFIRMED
CATEGORIES:center for the education of women,Civil Rights,diversity,Diversity Equity and Inclusion,Diversity Strategic Plan,Free,Human Rights,Inclusion,Juneteenth,leadership development,multicultural,panel discussion,Personal Development,Political Rights,Professional Development,Racism,Resilience,Social Impact,social justice,Virtual,women of color,women of color task force
LOCATION:Off Campus Location
CONTACT:
END:VEVENT
BEGIN:VEVENT
DTSTAMP:20210602T110141
DTSTART;TZID=America/Detroit:20210618T090000
DTEND;TZID=America/Detroit:20210618T170000
SUMMARY:Workshop / Seminar:Time-Resolved Vibrational Spectroscopy Meeting
DESCRIPTION:For more than 30 years\, the International Conference on Time-Resolved Vibrational Spectroscopy (TRVS) has played a central role in highlighting state-of-the-art progress in understanding\, manipulating\, and driving vibrations in molecular and material dynamics.\n\nTRVS 2021 (June 13-18) will bring researchers from around the world together to discuss the following topics:\n\n• Dynamics of liquids\, solids\, interfaces\, and nanostructured materials\n\n• Role of vibrational dynamics in electronically excited molecules and materials\n\n• Chemical\, vibrational\, and hydrogen bonding dynamics\n\n• Time-resolved vibrational spectroscopy in molecular biophysics and photobiology\n\n• Proton and electron transfer studies for energy conversion and storage\n\n• Advances in multi-dimensional vibrational spectroscopy: Infrared\, Raman\, and THz\n\n• New laser sources and spectrometers\n\n• Single molecule vibrational spectroscopy\n\n• Theoretical and computational spectroscopy\n\nPlease see https://www.trvs2021.org/ for more information and to register.\n\nHosts: U-M Physicist Jennifer Ogilvie and research team along with U-M Chemist Kevin Kubyarch.
UID:84177-21620699@events.umich.edu
URL:https://events.umich.edu/event/84177
CLASS:PUBLIC
STATUS:CONFIRMED
CATEGORIES:Free,Natural Sciences,Physics,Workshop
LOCATION:Off Campus Location
CONTACT:
END:VEVENT
BEGIN:VEVENT
DTSTAMP:20210611T121514
DTSTART;TZID=America/Detroit:20210618T100000
DTEND;TZID=America/Detroit:20210618T110000
SUMMARY:Livestream / Virtual:Juneteenth Symposium: Celebrating Black Joy\, Hope\, and Healing—Closing
DESCRIPTION:10:00 a.m. Welcome\nGregory Thomas\, Program Manager\, Office of Academic Multicultural Initiatives\n10:05 a.m. Introduction of Keynote Speaker\nDr. Katrina Wade-Golden\, Deputy Chief Diversity Officer \n10:10 a.m. Keynote Address\nDr. Robert Sellers\, Chief Diversity Officer\n10:40 a.m. Closing Remarks\nDr. Martino Harmon\, Vice President of Student Life\nThis event is co-sponsored by Rackham’s Strategic Action Leadership Team\, NAACP Ann Arbor Branch\, Association of Black Social Work Students\, Department of Afroamerican and African Studies\, Center for Social Solutions\, In Collaboration with: Office of Diversity\, Equity\, and Inclusion and the CEW+ Women of Color Task Force.\nFor full symposium information and links to the live stream of events visit https://rackham.umich.edu/juneteenth-symposium/.\nWe want to ensure full and equitable participation in our events. If an accommodation would promote your full participation in this event\, please follow the registration link to indicate your accommodation requirements. Please let us know as soon as possible in order to have adequate time\, preferably one week\, to arrange for your requested accommodations or an effective alternative.\nAdditional Events: Friday June 18\, 2021\n8:30 a.m. to 1:30 p.m. Women of Color Task Force: Juneteenth Celebration\n1:00 to 2:00 p.m. EECS Juneteenth Celebration\n2:00 to 3:30 p.m. Center for Social Solutions: 20 Things Everyone Should Know About Slavery—A Roundtable Discussion
UID:84229-21620788@events.umich.edu
URL:https://events.umich.edu/event/84229
CLASS:PUBLIC
STATUS:CONFIRMED
CATEGORIES:Diversity,Graduate Students
LOCATION:Off Campus Location
CONTACT:
END:VEVENT
BEGIN:VEVENT
DTSTAMP:20210601T143811
DTSTART;TZID=America/Detroit:20210618T100000
DTEND;TZID=America/Detroit:20210618T110000
SUMMARY:Livestream / Virtual:The Clements Bookworm: African American Children in the Antebellum North
DESCRIPTION:In her new book “Beyond the Boundaries of Childhood: African American Children in the Antebellum North\,” Dr. Crystal Webster argues that young African Americans were frequently left outside the 19th century's emerging constructions of both race and childhood. They were marginalized in the development of schooling\, ignored in debates over child labor\, and presumed to lack the inherent innocence ascribed to white children. Drawing evidence from the urban centers of Boston\, New York\, and Philadelphia\, Webster's innovative research yields a powerful new history of African American childhood before the Civil War\, showing that Black children nevertheless carved out physical and social space for play\, for learning\, and for their own aspirations. \n\nDr. Webster joins us in conversation with Clements Library Director Paul Erickson. This episode coincides with the celebration of Juneteenth and a growing national recognition of understudied histories and experiences of African Americans in the past.   \n\nRegister at myumi.ch/gjgzR\n\n*This episode of the Bookworm is generously sponsored by an anonymous Clements Supporter.*\n\n*The Clements Bookworm is a webinar series in which panelists and featured guests discuss history topics. Recommended books\, articles\, and other resources are provided in each session. Inspired by the traditional Clements Library researcher tea time\, we invite you to pull up a chair at our [virtual] table. Live attendees are encouraged to post comments and questions\, respond to polls\, and add to our conversation and camaraderie.*
UID:84098-21620232@events.umich.edu
URL:https://events.umich.edu/event/84098
CLASS:PUBLIC
STATUS:CONFIRMED
CATEGORIES:african american,american culture,american history,Books,Children,Culture,Diversity Equity and Inclusion,Education,Family,Free,history,Humanities,libraries,Library,race,Talk,Virtual
LOCATION:Off Campus Location
CONTACT:
END:VEVENT
BEGIN:VEVENT
DTSTAMP:20210625T165417
DTSTART;TZID=America/Detroit:20210618T110000
DTEND;TZID=America/Detroit:20210618T160000
SUMMARY:Exhibition:Halal Metropolis
DESCRIPTION:The Halal Metrop­o­lis exhi­bi­tion\, by artist Osman Khan\, pho­tog­ra­pher Razi Jafri\, and his­to­rian Sally How­ell\, explores the facts\, fic­tions\, and imag­i­nar­ies of the Mus­lim population(s) in Detroit and South­east Michi­gan as viewed through his­tor­i­cal research\, doc­u­men­ta­tion of cur­rent con­di­tions\, and explo­rations of future desires. The Halal Metrop­o­lis alludes to the estab­lished and grow­ing Mus­lim pop­u­la­tion in Detroit and its metro area\, one of the largest and most diverse Mus­lim pop­u­la­tions in the U.S.\, whose vis­i­bil­ity is both pro­nounced and extremely present in the city\, yet whose nar­ra­tive seems unusu­ally silent in the larger Detroit story. The exhi­bi­tion blends archival mate­ri­als\, social and polit­i­cal arti­facts\, pho­tog­ra­phy\, and art to explore the con­gru­ent and con­tra­dict­ing ideas\, aes­thet­ics\, and cul­tures work­ing to make the halal metrop­o­lis both a real and imag­i­nary entity.\n\nFea­tur­ing works by:\n\nAmna Asghar\nQais Assali\nBGIRL MAMA\nNour Ball­out\nAdnan Charara\nKecia Escoe\nParisa Ghaderi\nAnthony Keith Giannini\nRazi Jafri\nOsman Khan\nMaamoul Press\nEndi Poskovic\nHaleem ​‘Stringz’ Rasul\nReem Taki\n\nThis exhi­bi­tion is pre­sented in part­ner­ship with the Uni­ver­sity of Michigan-Dearborn’s Cen­ter for Arab Amer­i­can Stud­ies (CAAS)\, with sup­port from the Knight Foun­da­tion\, the Doris Duke Foun­da­tion\, the Andy Warhol Foun­da­tion for the Visual Arts\, the El-Hibri Foun­da­tion\, the Com­mu­nity Foun­da­tion of SE Michi­gan\, and the Michi­gan Human­i­ties Council.
UID:84359-21623508@events.umich.edu
URL:https://events.umich.edu/event/84359
CLASS:PUBLIC
STATUS:CONFIRMED
CATEGORIES:Art,Detroit,Exhibition,Multidisciplinary Design,Muslim
LOCATION:Off Campus Location
CONTACT:
END:VEVENT
BEGIN:VEVENT
DTSTAMP:20210602T135602
DTSTART;TZID=America/Detroit:20210618T113000
DTEND;TZID=America/Detroit:20210618T123000
SUMMARY:Livestream / Virtual:UROP Summer Virtual Office Hours
DESCRIPTION:UROP Staff will be available during the summer via Zoom office hours to answer questions from those who drop in. No appointment necessary.\n\nWednesdays (1-2pm ET)\nThursdays (1-2pm ET)\nFriday (11:30am - 12:30pm ET)\nhttps://myumi.ch/1p1d3\n\nThe Undergraduate Research Opportunity Program (UROP) offers several different programs throughout the academic year for University of Michigan-Ann Arbor undergraduate students to discover the world of research through collaborations with U-M researchers. Students participating in the program are called research assistants and work alongside a faculty member\, research scientist or professional practitioner on an ongoing or new research project.
UID:84176-21620735@events.umich.edu
URL:https://events.umich.edu/event/84176
CLASS:PUBLIC
STATUS:CONFIRMED
CATEGORIES:Admissions,AEM Featured,Applications,first-generation,Free,Interdisciplinary,Office Hours,Research,Undergraduate,Undergraduate Students,Urop,Virtual
LOCATION:Off Campus Location
CONTACT:
END:VEVENT
BEGIN:VEVENT
DTSTAMP:20210517T120850
DTSTART;TZID=America/Detroit:20210618T130000
DTEND;TZID=America/Detroit:20210618T140000
SUMMARY:Livestream / Virtual:EECS Juneteenth Celebration
DESCRIPTION:https://umich.zoom.us/j/99331130203\nPasscode: 719944\n\nEECS invites you to our second Juneteenth celebration on Friday\, June 18\, from 1:00 – 2:00 p.m. ET.\n\nJuneteenth is the oldest nationally celebrated commemoration of the ending of slavery in the United States. It celebrates African American freedom and achievement. Its goal is to promote and cultivate knowledge and appreciation of African American history and culture while encouraging continuous self-development and respect for all cultures. More info >\n\nOur Juneteenth celebration will include:\n\n-Performance of the Black National Anthem\n-Reading of the Emancipation Proclamation\n-Recognition of Dr. Willie Hobbs Moore\, the first Black woman at Michigan to earn a BS and MS in Electrical Engineering (‘58 and ‘61)\, and the first Black woman in the country to earn a PhD in physics.\n-Panel discussion on the representation of black students in STEM\nAll are welcome to attend to celebrate and learn!\n\nIf you have any problems accessing the event\, please email eecs-comm@umich.edu.\n\nFollowing the event\, there will be an open Zoom meeting for additional questions and discussion.\n\nhttps://umich.zoom.us/j/95094857220\nPasscode: 010976
UID:84060-21619781@events.umich.edu
URL:https://events.umich.edu/event/84060
CLASS:PUBLIC
STATUS:CONFIRMED
CATEGORIES:Computer Engineering,Computer Science,Culture,Diversity,Diversity Equity and Inclusion,Electrical Engineering and Computer Science,engineering,Entrepreneurship,Free,Graduate,Graduate Students,Michigan Engineering,Michigan Robotics,Robotics,Undergraduate,Undergraduate Students
LOCATION:Off Campus Location
CONTACT:
END:VEVENT
BEGIN:VEVENT
DTSTAMP:20210607T161457
DTSTART;TZID=America/Detroit:20210618T140000
DTEND;TZID=America/Detroit:20210618T153000
SUMMARY:Lecture / Discussion:20 Things Everyone Should Know about Slavery
DESCRIPTION:Panelists will seek to generate a discussion about how historical knowledge might contribute solutions to the problems of contemporary expressions of human slavery and offer new pathways to democracy and freedom.\n\nAmong American historians\, it is generally agreed that the historical study of chattel slavery covered about 250 years: from 1619 to 1865 in the United States and to 1888 in Brazil and the Americas. Yet slavery has not disappeared. Globally\, an estimated 27–40 million persons are victims of involuntary servitude. What if these contemporary forms of human labor exploitation constitute a “Third Slavery”? \n\nIntroductions will be given by Dr. Earl Lewis\, director of the Center for Social Solutions and the Thomas C. Holt Distinguished University Professor of Afroamerican and African Studies\, History\, and Public Policy. \n\nThe roundtable discussion will be chaired by Dr. Daina Ramey Berry\, the Oliver H. Radkey Regents Professor of History at the University of Texas at Austin. Panelists include: \n\nDavid W. Blight\, the Sterling Professor of History and director of the Gilder Lehrman Center for the Study of Slavery\, Resistance\, and Abolition at Yale University\; \n\nAmbassador (ret.) Luis C.deBaca\, a Senior Fellow at the Gilder Lehrman Center for the Study of Slavery\, Resistance\, and Abolition at Yale University\; \n\nDuncan Jepson is the managing director of Liberty Shared\, a legal advocacy non-profit that aims to prevent human trafficking\;\n\nGenevieve LeBaron\, Professor of Politics and Director of Sheffield Political Economy Research Institute at the University of Sheffield\;\n\nJames Alexander Robinson\, Assistant Professor in the Department of Ethnic Studies with emphasis in Black Studies at the Metropolitan State University\, and curator of the Third Slavery archive for the Center for Social Solutions.\n\nWe send a special thank you to our co-sponsors of this event:\nLSA Office of Diversity\, Equity\, and Inclusion\nUM Law School's Human Trafficking Clinic (HTC)\nUM Poverty Solutions\nUM Rackham Graduate School\nGerald R. Ford School of Public Policy
UID:83859-21555873@events.umich.edu
URL:https://events.umich.edu/event/83859
CLASS:PUBLIC
STATUS:CONFIRMED
CATEGORIES:History,Poverty,social justice
LOCATION:Off Campus Location - https://umich.zoom.us/webinar/register/WN_D_mMT1XmRAyu1Re6vKnvuQ
CONTACT:
END:VEVENT
BEGIN:VEVENT
DTSTAMP:20210614T111012
DTSTART;TZID=America/Detroit:20210618T140000
DTEND;TZID=America/Detroit:20210618T150000
SUMMARY:Livestream / Virtual:Living in Michigan Housing
DESCRIPTION:Michigan Housing is the on-campus home for thousands of new incoming first-years. In this session we answer some of the big questions\, such as: When will I hear about my housing assignment? When is move-in? What furniture will be in my room when I move in? When do I hear about roommates? May I bring a humidifier? (No) How should I do laundry? (Regularly). It's the details that make a dorm room a home\, and we'll be getting to as many of your questions as we can. \n\nAudience: incoming first-year and transfer students\, parents\, and families
UID:84278-21621023@events.umich.edu
URL:https://events.umich.edu/event/84278
CLASS:PUBLIC
STATUS:CONFIRMED
CATEGORIES:Free,Virtual
LOCATION:Off Campus Location
CONTACT:
END:VEVENT
BEGIN:VEVENT
DTSTAMP:20210615T184959
DTSTART;TZID=America/Detroit:20210618T160000
DTEND;TZID=America/Detroit:20210618T170000
SUMMARY:Social / Informal Gathering:Juneteenth Celebration
DESCRIPTION:Join MCSP and Prof. Ronald Woods for a time of learning about the history of Juneteenth and get to know MCSP students and staff!\n\nPlease email mcsprogram@umich.edu for Zoom link.
UID:84286-21621034@events.umich.edu
URL:https://events.umich.edu/event/84286
CLASS:PUBLIC
STATUS:CONFIRMED
CATEGORIES:African American,Culture,Education,History
LOCATION:Off Campus Location
CONTACT:
END:VEVENT
END:VCALENDAR