BEGIN:VCALENDAR
VERSION:2.0
PRODID:-//UM//UM*Events//EN
CALSCALE:GREGORIAN
BEGIN:VTIMEZONE
TZID:America/Detroit
TZURL:http://tzurl.org/zoneinfo/America/Detroit
X-LIC-LOCATION:America/Detroit
BEGIN:DAYLIGHT
TZOFFSETFROM:-0500
TZOFFSETTO:-0400
TZNAME:EDT
DTSTART:20070311T020000
RRULE:FREQ=YEARLY;BYMONTH=3;BYDAY=2SU
END:DAYLIGHT
BEGIN:STANDARD
TZOFFSETFROM:-0400
TZOFFSETTO:-0500
TZNAME:EST
DTSTART:20071104T020000
RRULE:FREQ=YEARLY;BYMONTH=11;BYDAY=1SU
END:STANDARD
END:VTIMEZONE
BEGIN:VEVENT
DTSTAMP:20200527T150708
DTSTART;TZID=America/Detroit:20210623T080000
DTEND;TZID=America/Detroit:20210623T180000
SUMMARY:Conference / Symposium:2021 International Symposium on Transportation Data and Modelling (ISTDM)
DESCRIPTION:ISTDM 2021 aims to gather transportation researchers and practitioners across the globe for exploring the frontiers of big data\, modeling and simulation to advance transportation research to support the connected\, cooperative and automated mobility. With a greater focus on emerging technologies\, ISTDM 2021 rebrands the two long-standing transportation symposia: International Symposium of Transport Simulation (ISTS)\, and the International Workshop on Traffic Data Collection and its Standardization (IWTDCS). During the three-day conference\, plenary sessions featuring renowned speakers and interactive breakout sessions will take place at the University of Michigan in Ann Arbor\, United States.
UID:69501-18954527@events.umich.edu
URL:https://events.umich.edu/event/69501
CLASS:PUBLIC
STATUS:CONFIRMED
CATEGORIES:Civil and Environmental Engineering,Energy,Engineering,Graduate and Professional Students,Graduate Students,Michigan Engineering,symposium,Undergraduate Students
LOCATION:
CONTACT:
END:VEVENT
BEGIN:VEVENT
DTSTAMP:20210511T124519
DTSTART;TZID=America/Detroit:20210623T080000
DTEND;TZID=America/Detroit:20210623T230000
SUMMARY:Other:Become a UROP Research Mentor
DESCRIPTION:Submit a Research Project for the 2021-2022 Academic Year: https://lsa.umich.edu/urop/research-mentors.html\n\nUROP Research Mentors are faculty and post-doc researchers from across all U-M's 19 Schools and Colleges who provide undergraduate student researchers an opportunity to engage in research activities that help them learn about the pursuit of knowledge within an academic discipline. This early exposure to research fosters a valuable academic experience for students. Through this collaboration\, students gain research skills and mentorship that lead to academic retention\, a more positive undergraduate experience and paths to graduate school.
UID:83879-21619445@events.umich.edu
URL:https://events.umich.edu/event/83879
CLASS:PUBLIC
STATUS:CONFIRMED
CATEGORIES:AEM Featured,Education,Faculty,Free,Graduate and Professional Students,Graduate Students,Interdisciplinary,Mentorship,Research,research data,Staff,Urop
LOCATION:Off Campus Location
CONTACT:
END:VEVENT
BEGIN:VEVENT
DTSTAMP:20210622T125149
DTSTART;TZID=America/Detroit:20210623T080000
DTEND;TZID=America/Detroit:20210623T230000
SUMMARY:Conference / Symposium:Become a UROP Symposium Presentation Judge
DESCRIPTION:Provide your expertise during the 2021 Virtual Summer Research Symposium on August 4th. UROP is looking for graduate students\, postdoctoral fellows\, faculty and staff who are interested in awarding undergraduate researchers with a blue ribbon honors for their UROP presentation during symposium.\n\nBecome a UROP Symposium judge at: https://myumi.ch/1p1eY
UID:84344-21623378@events.umich.edu
URL:https://events.umich.edu/event/84344
CLASS:PUBLIC
STATUS:CONFIRMED
CATEGORIES:AEM Featured,Energy,Engineering,Faculty,Fellowship,first-generation,Free,Graduate and Professional Students,Graduate Students,Interdisciplinary,LGBT,Public Health,Research,Staff,symposium,Urop,Virtual,Women's Studies
LOCATION:Off Campus Location
CONTACT:
END:VEVENT
BEGIN:VEVENT
DTSTAMP:20210430T095709
DTSTART;TZID=America/Detroit:20210623T080000
DTEND;TZID=America/Detroit:20210623T230000
SUMMARY:Careers / Jobs:Changing Gears Application Open
DESCRIPTION:Learn more about the Changing Gears Program and apply at: myumi.ch/uropcg\n\nChanging Gears (CG) is a UROP program designed primarily for community college transfer students who will be attending the University of Michigan\, but also serves students transferring from 4 year institutions. Students in the CG Program become a part of an ongoing faculty-driven research\, scholarly or creative project in their field of interest. Students learn valuable academic skills\, applying these skills to their research project\, academics\, and future career opportunities\, while receiving academic credit or compensation for their efforts in research work.\n\nIf you are a U-M Transfer Student and not graduating until winter 2022 and/or after\, you are eligible to apply to the 2021-2022 UROP Changing Gears Program.
UID:83922-21616950@events.umich.edu
URL:https://events.umich.edu/event/83922
CLASS:PUBLIC
STATUS:CONFIRMED
CATEGORIES:AEM Featured,first-generation,Free,Interdisciplinary,Networking,Office Hours,Research,Transfer Students,Undergraduate,Undergraduate Students,Urop
LOCATION:Off Campus Location
CONTACT:
END:VEVENT
BEGIN:VEVENT
DTSTAMP:20220502T122639
DTSTART;TZID=America/Detroit:20210623T080000
DTEND;TZID=America/Detroit:20210623T230000
SUMMARY:Careers / Jobs:UROP First-Year Application Open
DESCRIPTION:Our \"Traditional UROP Program\" has been our flagship program running over 30 years. This Academic Year program\, in which students participate for both Fall and Winter Terms\, is designed for University of Michigan first and second year undergraduate students enrolled on the Ann Arbor campus who are seeking a first time research experience. Student research assistants work alongside a faculty member\, research scientist or professional practitioner on an ongoing or new research project.\n\nLearn more and apply at: myumi.ch/uropyearone\n\nApplications being accepted on a rolling basis.
UID:83923-21617069@events.umich.edu
URL:https://events.umich.edu/event/83923
CLASS:PUBLIC
STATUS:CONFIRMED
CATEGORIES:AEM Featured,Applications,first-generation,Free,Interdisciplinary,Networking,Research,Undergraduate,Undergraduate Students,Urop
LOCATION:Undergraduate Science Building
CONTACT:
END:VEVENT
BEGIN:VEVENT
DTSTAMP:20210804T182828
DTSTART;TZID=America/Detroit:20210623T080000
DTEND;TZID=America/Detroit:20210623T230000
SUMMARY:Careers / Jobs:UROP Research Scholars Application now open
DESCRIPTION:The UROP Research Scholars Program is designed for students who want to expand on their first year UROP experience and participate in UROP for a second year at an advanced level. In this program\, students build upon the knowledge gained in a first undergraduate research experience to further explore the connections between research\, a liberal arts education\, and communicating skills to advance their future professional goals. Students are expected to explore various written and oral possibilities for communicating their research process\, identifying the limits set by the discipline and the opportunities that lie beyond.\n\nApply at: https://myumi.ch/uroprs
UID:82067-21014968@events.umich.edu
URL:https://events.umich.edu/event/82067
CLASS:PUBLIC
STATUS:CONFIRMED
CATEGORIES:AEM Featured,Applications,Free,Interdisciplinary,Research,Undergraduate,Undergraduate Students,Urop
LOCATION:Off Campus Location
CONTACT:
END:VEVENT
BEGIN:VEVENT
DTSTAMP:20210714T155619
DTSTART;TZID=America/Detroit:20210623T080000
DTEND;TZID=America/Detroit:20210623T230000
SUMMARY:Careers / Jobs:UROP Rising Sophomore Applications Open
DESCRIPTION:The Undergraduate Research Opportunity Program is now accepting applications for students who will be rising sophomores during the 2021-2022 academic year. \n\nLearn more and apply today at http://myumi.ch/uropsophomore\n\nRising Sophomore Applications are being accepted on a rolling basis.
UID:80546-21203435@events.umich.edu
URL:https://events.umich.edu/event/80546
CLASS:PUBLIC
STATUS:CONFIRMED
CATEGORIES:AEM Featured,Applications,first-generation,Free,Research,Sophomore,Undergraduate,Undergraduate Students,Urop
LOCATION:Off Campus Location
CONTACT:
END:VEVENT
BEGIN:VEVENT
DTSTAMP:20210504T102716
DTSTART;TZID=America/Detroit:20210623T084500
DTEND;TZID=America/Detroit:20210623T122000
SUMMARY:Conference / Symposium:2021 International Symposium on Transportation Data and Modeling
DESCRIPTION:ISTDM 2021 aims to gather transportation researchers and practitioners across the globe for exploring the frontiers of big data\, modeling\, and simulation to advance transportation research to support the connected\, cooperative\, and automated mobility. With a greater focus on emerging technologies\, ISTDM 2021 rebrands the two long-standing transportation symposia: International Symposium of Transport Simulation (ISTS)\, and the International Workshop on Traffic Data Collection and its Standardization (IWTDCS).\n\nThe conference program can be found at https://limos.engin.umich.edu/istdm2021/schedule/.
UID:83965-21619229@events.umich.edu
URL:https://events.umich.edu/event/83965
CLASS:PUBLIC
STATUS:CONFIRMED
CATEGORIES:Civil and Environmental Engineering,conference,Discussion,Education,Electrical Engineering and Computer Science,Energy,Engineering,Engineering Academic Calendar,Faculty,Free,Industrial and Operations Engineering,Industry Session,Information and Technology,Lecture,Mechanical Engineering,Michigan Engineering,Professional Development,Research,Science,seminar,symposium,Talk,Webcast
LOCATION:Off Campus Location
CONTACT:
END:VEVENT
BEGIN:VEVENT
DTSTAMP:20210617T181513
DTSTART;TZID=America/Detroit:20210623T110000
DTEND;TZID=America/Detroit:20210623T114500
SUMMARY:Livestream / Virtual:Coffee Chats for Graduate Students: Leveraging Your Network
DESCRIPTION:We are offering weekly coffee chats for the graduate student community\, hosted by Rackham’s embedded University Career Center career counselor. Connecting with others is an important part of graduate school\, and networking is critical to your job or internship search. Join this discussion to learn strategies for building your network in the virtual environment\, and how to leverage this network for career exploration as well as job or internship searching. There will be plenty of time for your questions! This event is intended to be interactive and therefore a recording will not be available.\nRegistration is required at https://myumi.ch/pd35Y.\nWe want to ensure full and equitable participation in our events. If an accommodation would promote your full participation in this event\, please follow the registration link to indicate your accommodation requirements. Please let us know as soon as possible in order to have adequate time\, preferably one week\, to arrange for your requested accommodations or an effective alternative.
UID:84313-21623272@events.umich.edu
URL:https://events.umich.edu/event/84313
CLASS:PUBLIC
STATUS:CONFIRMED
CATEGORIES:Graduate Students
LOCATION:Off Campus Location
CONTACT:
END:VEVENT
BEGIN:VEVENT
DTSTAMP:20210608T161436
DTSTART;TZID=America/Detroit:20210623T110000
DTEND;TZID=America/Detroit:20210623T120000
SUMMARY:Livestream / Virtual:The MIRS Advantage - Masters in International And Regional Studies
DESCRIPTION:Join MIRS advisor Charlie Polinko for an informational webinar for the Masters in International and Regional Studies Program. Charlie will present on topics related to the program structure\, admissions requirements\, funding and financial aid\, specialization tracks\, and dual-degree opportunities for students interested in applying for the Fall 2022 term. Registration is required at https://myumi.ch/v2jDR\n   \n   The Masters in International and Regional Studies combines an interdisciplinary curriculum\, deep regional/thematic expertise\, rigorous methodological training\, and international experiences to enable students to situate global issues and challenges in their cultural\, historical\, geographical\, political\, and socioeconomic contexts and to approach them in diverse ways. MIRS is designed to prepare students for global career opportunities\, whether in academia\, private\, or public sectors.\n   \n   MIRS builds on the strengths of the International Institute’s interdisciplinary centers and programs. Our centers and programs rank among the nation’s finest in their respective fields of study\; five have been designated as U.S. Department of Education National Resource Centers. Students have the unique option of pursuing either a regional or thematic track with multiple specializations anchored in one of our centers or programs.\n   \n   Specializations include:\n   African Studies\n   Islamic Studies\n   Chinese Studies\n   Japanese Studies\n   Middle Eastern and North African Studies\n   Russian\, East European\, and Eurasian Studies\n   South Asian Studies\n   Southeast Asian Studies\n   \n   For additional information\, contact MIRS-Info@umich.edu.
UID:84243-21620800@events.umich.edu
URL:https://events.umich.edu/event/84243
CLASS:PUBLIC
STATUS:CONFIRMED
CATEGORIES:Global,Graduate And Professional Students,International
LOCATION:Off Campus Location
CONTACT:
END:VEVENT
BEGIN:VEVENT
DTSTAMP:20210620T195909
DTSTART;TZID=America/Detroit:20210623T113000
DTEND;TZID=America/Detroit:20210623T123000
SUMMARY:Livestream / Virtual:The International Center - we're not just for international students!
DESCRIPTION:Stop by to learn about International Center (IC) programs including immigration/visa advising\, cultural events\, education abroad advising\, leadership programs\, and Peace Corps Prep/Peace Corps advising. The IC's mission is to provide services and programs for the diverse community at U-M by accomplishing its core work to serve the international population\, facilitate intercultural and international education\, and foster a global campus community.\n\nAudience: all undergraduate and graduate students\, families\, and parents
UID:84322-21623330@events.umich.edu
URL:https://events.umich.edu/event/84322
CLASS:PUBLIC
STATUS:CONFIRMED
CATEGORIES:Free,Virtual
LOCATION:Off Campus Location
CONTACT:
END:VEVENT
BEGIN:VEVENT
DTSTAMP:20210421T142416
DTSTART;TZID=America/Detroit:20210623T130000
DTEND;TZID=America/Detroit:20210623T150000
SUMMARY:Workshop / Seminar:LSA DEI Workshop: Hired-In
DESCRIPTION:Hiring Involvement in Recruiting For Equity\, Diversity\, and Inclusion\n\n*For questions or requests for accommodation\, please contact our Administrative Coordinator\, Mikalia Dennis (mikaliad@umich.edu) as soon as possible.*\n\n\nIn this session\, participants will:\n\n- Increase awareness of how implicit bias can show up during the hiring process\n- Gain an awareness of the importance of consistent guidelines\, evaluation and candidate experience\n- Discuss equitable hiring conventions\n- Increase knowledge regarding affirmative action goals\n- Learn about resources that exist in LSA and on campus\n\nAudience:\n\nThis course is required for all staff who are involved in the staff recruiting and selection process for LSA.
UID:83843-21548055@events.umich.edu
URL:https://events.umich.edu/event/83843
CLASS:PUBLIC
STATUS:CONFIRMED
CATEGORIES:Diversity Equity And Inclusion,Inclusion
LOCATION:Off Campus Location
CONTACT:
END:VEVENT
BEGIN:VEVENT
DTSTAMP:20210602T135602
DTSTART;TZID=America/Detroit:20210623T130000
DTEND;TZID=America/Detroit:20210623T140000
SUMMARY:Livestream / Virtual:UROP Summer Virtual Office Hours
DESCRIPTION:UROP Staff will be available during the summer via Zoom office hours to answer questions from those who drop in. No appointment necessary.\n\nWednesdays (1-2pm ET)\nThursdays (1-2pm ET)\nFriday (11:30am - 12:30pm ET)\nhttps://myumi.ch/1p1d3\n\nThe Undergraduate Research Opportunity Program (UROP) offers several different programs throughout the academic year for University of Michigan-Ann Arbor undergraduate students to discover the world of research through collaborations with U-M researchers. Students participating in the program are called research assistants and work alongside a faculty member\, research scientist or professional practitioner on an ongoing or new research project.
UID:84176-21620715@events.umich.edu
URL:https://events.umich.edu/event/84176
CLASS:PUBLIC
STATUS:CONFIRMED
CATEGORIES:Admissions,AEM Featured,Applications,first-generation,Free,Interdisciplinary,Office Hours,Research,Undergraduate,Undergraduate Students,Urop,Virtual
LOCATION:Off Campus Location
CONTACT:
END:VEVENT
BEGIN:VEVENT
DTSTAMP:20210506T120820
DTSTART;TZID=America/Detroit:20210623T140000
DTEND;TZID=America/Detroit:20210623T153000
SUMMARY:Meeting:CoderSpaces (Wednesdays)
DESCRIPTION:Are you grappling with a piece of code\, trying to compute on a cluster\, or just getting started with a new method such as machine learning? Then we might have just the right space for you.\n\nAll members of the U-M community are invited to join our weekly virtual CoderSpaces\, Mondays – Thursdays\, during the Summer 2021 term to get research support and connect with others.\n\nThe virtual sessions are designed to assist faculty\, staff\, and students with research methodology\, statistics\, data science applications\, and computational programming for research.\n\nOur hosts have a wide set of methodological and technological expertise. They come to you from a variety of departments and disciplines and are looking forward to serving the U-M community in their research endeavors.\n\nCoderSpaces provide a casual\, productive\, and inclusive environment. Everyone is welcome regardless of skill level.\n\nWednesdays 2-2:30 p.m.\nJoin via Zoom* (https://umich.zoom.us/j/96392817699)\n*Users will have to sign in with their UMICH (Level-1) credentials.\n\nwith Armand Burks (ARC/UMSI)\, Jule Krüger (ISR/ARC)\, Meghan Richey (ARC)\, Shelly Johnson (ARC)\n\nExpertise: automation of tasks and workflows\, Bash\, C++\, cloud analytics\, data analysis\, management and visualization\, Git\, GNU Make\, high performance computing\, installing software on University clusters\, Java\, LaTeX\, machine learning (Tensorflow\, Keras\, convolutional neural networks)\, natural language processing\, Python\, R\, R Markdown\, web scraping (Selenium)
UID:83926-21619131@events.umich.edu
URL:https://events.umich.edu/event/83926
CLASS:PUBLIC
STATUS:CONFIRMED
CATEGORIES:Arc,Data Science,Information And Technology,Office Hours,Virtual
LOCATION:Off Campus Location
CONTACT:
END:VEVENT
BEGIN:VEVENT
DTSTAMP:20210614T134325
DTSTART;TZID=America/Detroit:20210623T140000
DTEND;TZID=America/Detroit:20210623T160000
SUMMARY:Careers / Jobs:University Unions Virtual Student Job Fair
DESCRIPTION:Are you looking for employment for the next academic year? University Unions will be hosting a virtual job fair on June 23rd from 2-4pm. We will have plenty of positions for late summer and for the 2021-2022 academic year! Jobs such as building managers\, Information Services\, Programming Assistants\, Set-up and AV staff\, Art Coordinators\, Drivers\, Peer Advisors and more! Positions will be in Michigan Union\, Michigan League\, Pierpont Commons\, Palmer Commons and the Student Theatre Arts Complex.\n\nSign up at https://sessions.studentlife.umich.edu/p/track/5667 to receive a link to the virtual job fair.
UID:84257-21620821@events.umich.edu
URL:https://events.umich.edu/event/84257
CLASS:PUBLIC
STATUS:CONFIRMED
CATEGORIES:Recruiting,Student Affairs,Undergraduate Students,Virtual
LOCATION:Off Campus Location
CONTACT:
END:VEVENT
BEGIN:VEVENT
DTSTAMP:20210615T230433
DTSTART;TZID=America/Detroit:20210623T150000
SUMMARY:Lecture / Discussion:PhD Defense: Jiayue Cao
DESCRIPTION:The stomach and brain interact closely with each other. Their interactions are central to digestive functions and the “gut feeling”. The neural pathways that mediate the stomach-brain interactions include the vagus nerve and the thoracic nerve. Through these nerves\, the stomach can relay neural signals to a number of brain regions that span a central gastric network. This gastric network allows the brain to monitor and regulate gastric physiology and allows the stomach to influence emotion and cognition. Impairment of this gastric network may lead to both gastric and neurological disorders\, e.g.\, anxiety\, gastroparesis\, functional dyspepsia\, and obesity. However\, the structural constituents and functional roles of the central gastric network remain unclear. In my dissertation research\, I leveraged complementary techniques to characterize the central gastric network in rats across a wide range of scales and different gastric states. In animal experiments\, I used functional magnetic resonance imaging (fMRI) to map brain activity synchronized with gastric electrical activity and to map brain activations induced by electrical stimulation applied to the cervical vagus or its afferent terminals on the stomach. I also used neurophysiology to characterize gastric neurons in brainstem in response to gastric electrical stimulation. Results from my studies suggest that 1) gastric neurons in the brainstem are selective to the orientation of muscle activity relayed through intramuscular arrays\, 2) the central gastric network is intrinsically coupled to gastric slow waves and their amplitude fluctuations primarily via vagal signaling\, 3) selective stimulation of the vagus can evoke widespread and fast brain responses and alter functional connectivity within and beyond the central gastric network. My dissertation research contributes to the foundation of mapping and characterizing the central and peripheral mechanisms of gastric interoception and sheds new light on where and how to stimulate the peripheral nerves to modulate stomach-brain interactions.\n\n \n\nDate: Wednesday\, June 23\, 2021\n\nTime: 3:00 PM\n\nZoom: https://umich.zoom.us/j/2757414653\n\nChair: Dr. Zhongming Liu
UID:84287-21621035@events.umich.edu
URL:https://events.umich.edu/event/84287
CLASS:PUBLIC
STATUS:CONFIRMED
CATEGORIES:Basic Science,Biointerfaces,Biology,biomedical,biomedical engineering,Bioninterfaces,Biosciences,Biotechnology,bme,engineer,engineering,Life Science,Medicine,Michigan Engineering,Science
LOCATION:Off Campus Location
CONTACT:
END:VEVENT
BEGIN:VEVENT
DTSTAMP:20210615T181514
DTSTART;TZID=America/Detroit:20210623T150000
DTEND;TZID=America/Detroit:20210623T160000
SUMMARY:Livestream / Virtual:Rackham Minority Serving Institutions Initiative Coffee Chat Series: Fisk-Vanderbilt Master’s to Ph.D. Bridge Program—A Model for Inclusive Graduate Education
DESCRIPTION:This talk will provide an overview of the Fisk-Vanderbilt Master’s to Ph.D. Bridge Program (FVBP) Model for inclusive graduate education. Further\, Dina Myers Stroud will present findings from a study conducted as part of the Fisk-Vanderbilt LSAMP Regional Center of Excellence in Broadening Participation to understand what FVBP activities students report as contributing to their success. This session will be of particular interest to those looking to build on their mentoring practices and develop activities to foster a sense of community.\nSpeaker\nDina Myers Stroud serves as faculty at both Fisk and Vanderbilt University. As the executive director of the Fisk-Vanderbilt Master’s to Ph.D. Bridge Program (FVBP) since 2012\, Stroud strives to advocate for and mentor students from underrepresented and underserved groups into and through STEM Ph.D. programs. In 2018\, Stroud began serving as the director of the LSAMP Regional Center of Excellence in Broadening Participation. There she directs educational research centered on the FVBP\, in collaboration with the Peabody School of Education at Vanderbilt and the American Institutes for Research. Trained as a development biologist\, Stroud did postdoctoral work in cardiovascular research at UCLA\, NYU and the Vanderbilt University Medical Center. She is also a certified national research mentoring network mentor training facilitator and was part of the original team behind the development of mentor-mentee supportive technology known as MyNRMN.\nRegistration is required at https://myumi.ch/v23Y3.\nWe want to ensure full and equitable participation in our events. If an accommodation would promote your full participation in this event\, please follow the registration link to indicate your accommodation requirements. Please let us know as soon as possible in order to have adequate time\, preferably one week\, to arrange for your requested accommodations or an effective alternative.
UID:84285-21621033@events.umich.edu
URL:https://events.umich.edu/event/84285
CLASS:PUBLIC
STATUS:CONFIRMED
CATEGORIES:Diversity,Graduate Students
LOCATION:Off Campus Location
CONTACT:
END:VEVENT
BEGIN:VEVENT
DTSTAMP:20210326T153519
DTSTART;TZID=America/Detroit:20210623T160000
DTEND;TZID=America/Detroit:20210623T171500
SUMMARY:Workshop / Seminar:Entering\, Engaging\, and Exiting Communities Respectfully - June
DESCRIPTION:This interactive virtual workshop introduces principles and practices for thoughtfully engaging with communities\, including motivations\, impact of social identities\, and strategies for engaging in reciprocal\, ethical\, and respectful ways.
UID:83350-21346229@events.umich.edu
URL:https://events.umich.edu/event/83350
CLASS:PUBLIC
STATUS:CONFIRMED
CATEGORIES:Free
LOCATION:Off Campus Location
CONTACT:
END:VEVENT
BEGIN:VEVENT
DTSTAMP:20210625T180002
DTSTART;TZID=America/Detroit:20210623T160000
DTEND;TZID=America/Detroit:20210623T235959
SUMMARY:Fair / Festival:Summer Orientation Virtual Org Fair 2021 (TABLES ARE LIVE FRIDAY\, JUNE 25 6-8PM ET)
DESCRIPTION:This Summer Orientation virtual fair is an opportunity for incoming students to be connected with student organizations and university departments before coming to campus this fall. ORGS AND DEPARTMENTS WILL BE AVAILABLE FROM 6-8PM ET ON FRIDAY\, JUNE 25TH. For more information for participants\, please visit:https://campusinvolvement.umich.edu/attending-summer-orientation-fairs
UID:84326-21623531@events.umich.edu
URL:https://events.umich.edu/event/84326
CLASS:PUBLIC
STATUS:CONFIRMED
CATEGORIES:
LOCATION:MaizePages and Zoom
CONTACT:
END:VEVENT
BEGIN:VEVENT
DTSTAMP:20210602T163321
DTSTART;TZID=America/Detroit:20210623T180000
DTEND;TZID=America/Detroit:20210623T190000
SUMMARY:Well-being:Prioritize Wellness
DESCRIPTION:With the many changes surrounding virtual learning at U-M\, it is important to practice wellness and self care to balance your student experience. Prioritizing your wellness is just as important as prioritizing your academics! Join us as we learn about the 8 dimensions of wellness\, develop skills to manage the feelings and experiences you may be going through\, and learn about resources to support you on your wellness journey. All the tools we share will be applicable to everyone who is working remotely! \n\nPlease note the time listed is in EST.\n\n***This event is part of the First Year Experience (FYE) Summer Series! Register for the Zoom link and find the full list of events here: https://myumi.ch/BoYMg***
UID:84192-21620746@events.umich.edu
URL:https://events.umich.edu/event/84192
CLASS:PUBLIC
STATUS:CONFIRMED
CATEGORIES:Academics,Education,First Year Experience,first year students,first-generation,Free,Health & Wellness,Transfer Students,Undergraduate,Undergraduate Students,Virtual,Well-being,Workshop
LOCATION:Off Campus Location
CONTACT:
END:VEVENT
END:VCALENDAR