BEGIN:VCALENDAR
VERSION:2.0
PRODID:-//UM//UM*Events//EN
CALSCALE:GREGORIAN
BEGIN:VTIMEZONE
TZID:America/Detroit
TZURL:http://tzurl.org/zoneinfo/America/Detroit
X-LIC-LOCATION:America/Detroit
BEGIN:DAYLIGHT
TZOFFSETFROM:-0500
TZOFFSETTO:-0400
TZNAME:EDT
DTSTART:20070311T020000
RRULE:FREQ=YEARLY;BYMONTH=3;BYDAY=2SU
END:DAYLIGHT
BEGIN:STANDARD
TZOFFSETFROM:-0400
TZOFFSETTO:-0500
TZNAME:EST
DTSTART:20071104T020000
RRULE:FREQ=YEARLY;BYMONTH=11;BYDAY=1SU
END:STANDARD
END:VTIMEZONE
BEGIN:VEVENT
DTSTAMP:20210625T180002
DTSTART;TZID=America/Detroit:20210625T000000
DTEND;TZID=America/Detroit:20210625T235959
SUMMARY:Fair / Festival:Summer Orientation Virtual Org Fair 2021 (TABLES ARE LIVE FRIDAY\, JUNE 25 6-8PM ET)
DESCRIPTION:This Summer Orientation virtual fair is an opportunity for incoming students to be connected with student organizations and university departments before coming to campus this fall. ORGS AND DEPARTMENTS WILL BE AVAILABLE FROM 6-8PM ET ON FRIDAY\, JUNE 25TH. For more information for participants\, please visit:https://campusinvolvement.umich.edu/attending-summer-orientation-fairs
UID:84326-21623533@events.umich.edu
URL:https://events.umich.edu/event/84326
CLASS:PUBLIC
STATUS:CONFIRMED
CATEGORIES:
LOCATION:MaizePages and Zoom
CONTACT:
END:VEVENT
BEGIN:VEVENT
DTSTAMP:20210511T124519
DTSTART;TZID=America/Detroit:20210625T080000
DTEND;TZID=America/Detroit:20210625T230000
SUMMARY:Other:Become a UROP Research Mentor
DESCRIPTION:Submit a Research Project for the 2021-2022 Academic Year: https://lsa.umich.edu/urop/research-mentors.html\n\nUROP Research Mentors are faculty and post-doc researchers from across all U-M's 19 Schools and Colleges who provide undergraduate student researchers an opportunity to engage in research activities that help them learn about the pursuit of knowledge within an academic discipline. This early exposure to research fosters a valuable academic experience for students. Through this collaboration\, students gain research skills and mentorship that lead to academic retention\, a more positive undergraduate experience and paths to graduate school.
UID:83879-21619447@events.umich.edu
URL:https://events.umich.edu/event/83879
CLASS:PUBLIC
STATUS:CONFIRMED
CATEGORIES:AEM Featured,Education,Faculty,Free,Graduate and Professional Students,Graduate Students,Interdisciplinary,Mentorship,Research,research data,Staff,Urop
LOCATION:Off Campus Location
CONTACT:
END:VEVENT
BEGIN:VEVENT
DTSTAMP:20210622T125149
DTSTART;TZID=America/Detroit:20210625T080000
DTEND;TZID=America/Detroit:20210625T230000
SUMMARY:Conference / Symposium:Become a UROP Symposium Presentation Judge
DESCRIPTION:Provide your expertise during the 2021 Virtual Summer Research Symposium on August 4th. UROP is looking for graduate students\, postdoctoral fellows\, faculty and staff who are interested in awarding undergraduate researchers with a blue ribbon honors for their UROP presentation during symposium.\n\nBecome a UROP Symposium judge at: https://myumi.ch/1p1eY
UID:84344-21623380@events.umich.edu
URL:https://events.umich.edu/event/84344
CLASS:PUBLIC
STATUS:CONFIRMED
CATEGORIES:AEM Featured,Energy,Engineering,Faculty,Fellowship,first-generation,Free,Graduate and Professional Students,Graduate Students,Interdisciplinary,LGBT,Public Health,Research,Staff,symposium,Urop,Virtual,Women's Studies
LOCATION:Off Campus Location
CONTACT:
END:VEVENT
BEGIN:VEVENT
DTSTAMP:20210430T095709
DTSTART;TZID=America/Detroit:20210625T080000
DTEND;TZID=America/Detroit:20210625T230000
SUMMARY:Careers / Jobs:Changing Gears Application Open
DESCRIPTION:Learn more about the Changing Gears Program and apply at: myumi.ch/uropcg\n\nChanging Gears (CG) is a UROP program designed primarily for community college transfer students who will be attending the University of Michigan\, but also serves students transferring from 4 year institutions. Students in the CG Program become a part of an ongoing faculty-driven research\, scholarly or creative project in their field of interest. Students learn valuable academic skills\, applying these skills to their research project\, academics\, and future career opportunities\, while receiving academic credit or compensation for their efforts in research work.\n\nIf you are a U-M Transfer Student and not graduating until winter 2022 and/or after\, you are eligible to apply to the 2021-2022 UROP Changing Gears Program.
UID:83922-21616952@events.umich.edu
URL:https://events.umich.edu/event/83922
CLASS:PUBLIC
STATUS:CONFIRMED
CATEGORIES:AEM Featured,first-generation,Free,Interdisciplinary,Networking,Office Hours,Research,Transfer Students,Undergraduate,Undergraduate Students,Urop
LOCATION:Off Campus Location
CONTACT:
END:VEVENT
BEGIN:VEVENT
DTSTAMP:20220502T122639
DTSTART;TZID=America/Detroit:20210625T080000
DTEND;TZID=America/Detroit:20210625T230000
SUMMARY:Careers / Jobs:UROP First-Year Application Open
DESCRIPTION:Our \"Traditional UROP Program\" has been our flagship program running over 30 years. This Academic Year program\, in which students participate for both Fall and Winter Terms\, is designed for University of Michigan first and second year undergraduate students enrolled on the Ann Arbor campus who are seeking a first time research experience. Student research assistants work alongside a faculty member\, research scientist or professional practitioner on an ongoing or new research project.\n\nLearn more and apply at: myumi.ch/uropyearone\n\nApplications being accepted on a rolling basis.
UID:83923-21617071@events.umich.edu
URL:https://events.umich.edu/event/83923
CLASS:PUBLIC
STATUS:CONFIRMED
CATEGORIES:AEM Featured,Applications,first-generation,Free,Interdisciplinary,Networking,Research,Undergraduate,Undergraduate Students,Urop
LOCATION:Undergraduate Science Building
CONTACT:
END:VEVENT
BEGIN:VEVENT
DTSTAMP:20210804T182828
DTSTART;TZID=America/Detroit:20210625T080000
DTEND;TZID=America/Detroit:20210625T230000
SUMMARY:Careers / Jobs:UROP Research Scholars Application now open
DESCRIPTION:The UROP Research Scholars Program is designed for students who want to expand on their first year UROP experience and participate in UROP for a second year at an advanced level. In this program\, students build upon the knowledge gained in a first undergraduate research experience to further explore the connections between research\, a liberal arts education\, and communicating skills to advance their future professional goals. Students are expected to explore various written and oral possibilities for communicating their research process\, identifying the limits set by the discipline and the opportunities that lie beyond.\n\nApply at: https://myumi.ch/uroprs
UID:82067-21014970@events.umich.edu
URL:https://events.umich.edu/event/82067
CLASS:PUBLIC
STATUS:CONFIRMED
CATEGORIES:AEM Featured,Applications,Free,Interdisciplinary,Research,Undergraduate,Undergraduate Students,Urop
LOCATION:Off Campus Location
CONTACT:
END:VEVENT
BEGIN:VEVENT
DTSTAMP:20210714T155619
DTSTART;TZID=America/Detroit:20210625T080000
DTEND;TZID=America/Detroit:20210625T230000
SUMMARY:Careers / Jobs:UROP Rising Sophomore Applications Open
DESCRIPTION:The Undergraduate Research Opportunity Program is now accepting applications for students who will be rising sophomores during the 2021-2022 academic year. \n\nLearn more and apply today at http://myumi.ch/uropsophomore\n\nRising Sophomore Applications are being accepted on a rolling basis.
UID:80546-21203437@events.umich.edu
URL:https://events.umich.edu/event/80546
CLASS:PUBLIC
STATUS:CONFIRMED
CATEGORIES:AEM Featured,Applications,first-generation,Free,Research,Sophomore,Undergraduate,Undergraduate Students,Urop
LOCATION:Off Campus Location
CONTACT:
END:VEVENT
BEGIN:VEVENT
DTSTAMP:20210527T130613
DTSTART;TZID=America/Detroit:20210625T090000
DTEND;TZID=America/Detroit:20210625T140000
SUMMARY:Workshop / Seminar:Grade 6-14 Teacher Workshop. Rite Smells: A Sensory Exploration of the Historic Trade of the Indian Ocean
DESCRIPTION:Join us on Friday\, June 25\, 2021\, at “Rite Smells: A Sensory Exploration of the Historic Trade of the Indian Ocean\,” an interactive workshop for Grade 6-14 educators! The workshop will take place from 9:00 a.m. - 11:00 a.m.\; 12:00 - 2:00 p.m. (Eastern Time).\n\nJoin trained “nose” and educator Michelle Krell Kydd in a sensory exploration of the historic routes of trade from the Indian Ocean\, the Bay of Bengal and the Arabian Sea. In this experiential learning environment Kydd will lead teachers in exploring a “scent flight” of eight aromatic plant essences from Southeast Asia\, India\, the Middle East and North Africa\, transforming the abstract nature of smell into articulated lived experience. Teachers will learn how to integrate olfactory experiences in classroom settings with an emphasis on the relationship between spirituality and smellscape in various rites and rituals.\n\nU-M Professor Jatin Dua will then provide an overview of the historical maritime trade of the Indian Ocean. Darin Stockdill will conclude with a discussion with participants about strategies for teaching this knowledge in classrooms.\n\nBenefits of “Rite Smells”:\n\n-    Customized scent kits for use in this workshop\n-    Lecture by a scholar about the regional history and geography\n-    Multimedia educational resources\n-    Lesson plan created by the Center for Education Design\, Evaluation and Research at the U-M School of Education\n-    State Continuing Education Clock Hours (SCECHs) from the Michigan Department of Education (Michigan educators only)\n\n\nSchedule at a Glance (in Eastern Times):\n\n9:00 - 11:00 am: Interactive sensory exploration with Michelle Krell Kydd\n11:00 am - 12:00 am: Break\n12:00 - 1:00 pm: Lecture by Professor Jatin Dua\n1:00 pm - 2:00 pm: How to Teach this New Content\, with Darin Stockdill\n\nCo-sponsors:\nCenter for South Asian Studies\, Center for Southeast Asian Studies\, Center for Middle Eastern & North African Studies\, and the Center for African Studies\, Center for Education\, Design\, Evaluation\, and Research
UID:84089-21619950@events.umich.edu
URL:https://events.umich.edu/event/84089
CLASS:PUBLIC
STATUS:CONFIRMED
CATEGORIES:Training,Workshop
LOCATION:Off Campus Location
CONTACT:
END:VEVENT
BEGIN:VEVENT
DTSTAMP:20210625T165417
DTSTART;TZID=America/Detroit:20210625T110000
DTEND;TZID=America/Detroit:20210625T160000
SUMMARY:Exhibition:Halal Metropolis
DESCRIPTION:The Halal Metrop­o­lis exhi­bi­tion\, by artist Osman Khan\, pho­tog­ra­pher Razi Jafri\, and his­to­rian Sally How­ell\, explores the facts\, fic­tions\, and imag­i­nar­ies of the Mus­lim population(s) in Detroit and South­east Michi­gan as viewed through his­tor­i­cal research\, doc­u­men­ta­tion of cur­rent con­di­tions\, and explo­rations of future desires. The Halal Metrop­o­lis alludes to the estab­lished and grow­ing Mus­lim pop­u­la­tion in Detroit and its metro area\, one of the largest and most diverse Mus­lim pop­u­la­tions in the U.S.\, whose vis­i­bil­ity is both pro­nounced and extremely present in the city\, yet whose nar­ra­tive seems unusu­ally silent in the larger Detroit story. The exhi­bi­tion blends archival mate­ri­als\, social and polit­i­cal arti­facts\, pho­tog­ra­phy\, and art to explore the con­gru­ent and con­tra­dict­ing ideas\, aes­thet­ics\, and cul­tures work­ing to make the halal metrop­o­lis both a real and imag­i­nary entity.\n\nFea­tur­ing works by:\n\nAmna Asghar\nQais Assali\nBGIRL MAMA\nNour Ball­out\nAdnan Charara\nKecia Escoe\nParisa Ghaderi\nAnthony Keith Giannini\nRazi Jafri\nOsman Khan\nMaamoul Press\nEndi Poskovic\nHaleem ​‘Stringz’ Rasul\nReem Taki\n\nThis exhi­bi­tion is pre­sented in part­ner­ship with the Uni­ver­sity of Michigan-Dearborn’s Cen­ter for Arab Amer­i­can Stud­ies (CAAS)\, with sup­port from the Knight Foun­da­tion\, the Doris Duke Foun­da­tion\, the Andy Warhol Foun­da­tion for the Visual Arts\, the El-Hibri Foun­da­tion\, the Com­mu­nity Foun­da­tion of SE Michi­gan\, and the Michi­gan Human­i­ties Council.
UID:84359-21623501@events.umich.edu
URL:https://events.umich.edu/event/84359
CLASS:PUBLIC
STATUS:CONFIRMED
CATEGORIES:Art,Detroit,Exhibition,Multidisciplinary Design,Muslim
LOCATION:Off Campus Location
CONTACT:
END:VEVENT
BEGIN:VEVENT
DTSTAMP:20210625T165417
DTSTART;TZID=America/Detroit:20210625T110000
DTEND;TZID=America/Detroit:20210625T160000
SUMMARY:Exhibition:Halal Metropolis
DESCRIPTION:The Halal Metrop­o­lis exhi­bi­tion\, by artist Osman Khan\, pho­tog­ra­pher Razi Jafri\, and his­to­rian Sally How­ell\, explores the facts\, fic­tions\, and imag­i­nar­ies of the Mus­lim population(s) in Detroit and South­east Michi­gan as viewed through his­tor­i­cal research\, doc­u­men­ta­tion of cur­rent con­di­tions\, and explo­rations of future desires. The Halal Metrop­o­lis alludes to the estab­lished and grow­ing Mus­lim pop­u­la­tion in Detroit and its metro area\, one of the largest and most diverse Mus­lim pop­u­la­tions in the U.S.\, whose vis­i­bil­ity is both pro­nounced and extremely present in the city\, yet whose nar­ra­tive seems unusu­ally silent in the larger Detroit story. The exhi­bi­tion blends archival mate­ri­als\, social and polit­i­cal arti­facts\, pho­tog­ra­phy\, and art to explore the con­gru­ent and con­tra­dict­ing ideas\, aes­thet­ics\, and cul­tures work­ing to make the halal metrop­o­lis both a real and imag­i­nary entity.\n\nFea­tur­ing works by:\n\nAmna Asghar\nQais Assali\nBGIRL MAMA\nNour Ball­out\nAdnan Charara\nKecia Escoe\nParisa Ghaderi\nAnthony Keith Giannini\nRazi Jafri\nOsman Khan\nMaamoul Press\nEndi Poskovic\nHaleem ​‘Stringz’ Rasul\nReem Taki\n\nThis exhi­bi­tion is pre­sented in part­ner­ship with the Uni­ver­sity of Michigan-Dearborn’s Cen­ter for Arab Amer­i­can Stud­ies (CAAS)\, with sup­port from the Knight Foun­da­tion\, the Doris Duke Foun­da­tion\, the Andy Warhol Foun­da­tion for the Visual Arts\, the El-Hibri Foun­da­tion\, the Com­mu­nity Foun­da­tion of SE Michi­gan\, and the Michi­gan Human­i­ties Council.
UID:84359-21623509@events.umich.edu
URL:https://events.umich.edu/event/84359
CLASS:PUBLIC
STATUS:CONFIRMED
CATEGORIES:Art,Detroit,Exhibition,Multidisciplinary Design,Muslim
LOCATION:Off Campus Location
CONTACT:
END:VEVENT
BEGIN:VEVENT
DTSTAMP:20210602T135602
DTSTART;TZID=America/Detroit:20210625T113000
DTEND;TZID=America/Detroit:20210625T123000
SUMMARY:Livestream / Virtual:UROP Summer Virtual Office Hours
DESCRIPTION:UROP Staff will be available during the summer via Zoom office hours to answer questions from those who drop in. No appointment necessary.\n\nWednesdays (1-2pm ET)\nThursdays (1-2pm ET)\nFriday (11:30am - 12:30pm ET)\nhttps://myumi.ch/1p1d3\n\nThe Undergraduate Research Opportunity Program (UROP) offers several different programs throughout the academic year for University of Michigan-Ann Arbor undergraduate students to discover the world of research through collaborations with U-M researchers. Students participating in the program are called research assistants and work alongside a faculty member\, research scientist or professional practitioner on an ongoing or new research project.
UID:84176-21620736@events.umich.edu
URL:https://events.umich.edu/event/84176
CLASS:PUBLIC
STATUS:CONFIRMED
CATEGORIES:Admissions,AEM Featured,Applications,first-generation,Free,Interdisciplinary,Office Hours,Research,Undergraduate,Undergraduate Students,Urop,Virtual
LOCATION:Off Campus Location
CONTACT:
END:VEVENT
BEGIN:VEVENT
DTSTAMP:20210608T112405
DTSTART;TZID=America/Detroit:20210625T120000
DTEND;TZID=America/Detroit:20210625T133000
SUMMARY:Lecture / Discussion:Black & Free: Exploring Liberation and Freedom in the 21st Century
DESCRIPTION:Although freedom and liberation are often considered to be synonymous\, this Juneteenth\, we take another approach. A quick glance across the thoughts and actions of Black Americans demonstrates the notions and realities of freedom and liberation may be different experiences. For some\, freedom is the capacity to think for yourself\, to determine the direction of your future without outside assistance or influence. Yet\, for others\, liberation is the ability to move freely throughout the society – it assumes the absence of bondage and oppression\, an unshackling\, an unfettering\, an unchaining. Throughout history\, people of African descent have fought to not only be free\, but to thrive in liberation. The Diaspora’s diversity\, then\, brings to the table numerous perspectives and ways of imagining and working towards a free and liberated world for Black people. Can this world be known in the 21st century? Can freedom and liberation coexist? What obstacles remain to be dismantled and removed? Are we already free\, and how can this be?\n\nPanelists include: Drs. Caree Ann Banton (University of Arkansas)\, Philip Butler (Iliff School of Theology)\, Jennifer Gómez (Wayne State University)\, LaTricia Mitchell (University of Michigan and Black Campus Ministries)\, Dominique Thomas (The Community Psychologist)\n\nModerated by Dr. Meredith Hope (NCID)
UID:84214-21620768@events.umich.edu
URL:https://events.umich.edu/event/84214
CLASS:PUBLIC
STATUS:CONFIRMED
CATEGORIES:AEM Featured,Juneteenth
LOCATION:Off Campus Location
CONTACT:
END:VEVENT
BEGIN:VEVENT
DTSTAMP:20210330T093455
DTSTART;TZID=America/Detroit:20210625T120000
DTEND;TZID=America/Detroit:20210625T130000
SUMMARY:Workshop / Seminar:Fulbright U.S. Student Program: 2021 Application. Q&A Brown Bag Session
DESCRIPTION:Do you have thoughts about your specific Fulbright U.S. Student Program goals? Join us for a lunchtime question and answer session\, where you're welcome to chat about the 2021 Fulbright U.S. Student Program Application\, as well as listen to fellow U-M students voice their questions. \n\nThis session will not be recorded.\n\nSchedules:\n04/30/2021\; 05/28/2021\; 06/25/2021\; 07/30/2021\n12:00-1:00 PM
UID:83413-21375685@events.umich.edu
URL:https://events.umich.edu/event/83413
CLASS:PUBLIC
STATUS:CONFIRMED
CATEGORIES:Fulbright,Scholarship,Workshop
LOCATION:Off Campus Location
CONTACT:
END:VEVENT
BEGIN:VEVENT
DTSTAMP:20210610T164640
DTSTART;TZID=America/Detroit:20210625T120000
DTEND;TZID=America/Detroit:20210625T130000
SUMMARY:Livestream / Virtual:Planning an NSF STC Proposal
DESCRIPTION:U-M Research Development will present an overview of the NSF Science and Technology Centers\; an RFP is expected in coming months.\n\nDuring this discussion\, speakers will provide an overview of STCs and award history\; insight into federal funding priorities and emerging research areas\, and how investigators can work with schools/colleges and OVPR to develop competitive proposals.\n\nSpeakers include Nick Wigginton\, Asst. Vice President for Research\; Brad Orr\, Associate Vice President for Research\; Neil Canfield\, Director of Federal Relations\; and Research Associate Deans Eric Michielssen (College of Engineering) and Chris Poulsen (LSA-Natural Sciences). \n\nZoom invites will be sent via email after you register.
UID:84258-21620822@events.umich.edu
URL:https://events.umich.edu/event/84258
CLASS:PUBLIC
STATUS:CONFIRMED
CATEGORIES:Funding,Research,Science
LOCATION:Off Campus Location
CONTACT:
END:VEVENT
BEGIN:VEVENT
DTSTAMP:20210620T200225
DTSTART;TZID=America/Detroit:20210625T130000
DTEND;TZID=America/Detroit:20210625T140000
SUMMARY:Livestream / Virtual:University Health Service (UHS): Your Student’s Campus Health & Wellness Resource
DESCRIPTION:Join University Health Service (UHS) physicians as they highlight campus health and wellness resources and provide a comprehensive overview of how students access health care and other well-being services on campus.\n\nAudience: parents\, guardians\, and families
UID:84323-21623331@events.umich.edu
URL:https://events.umich.edu/event/84323
CLASS:PUBLIC
STATUS:CONFIRMED
CATEGORIES:Free,Virtual
LOCATION:Off Campus Location
CONTACT:
END:VEVENT
BEGIN:VEVENT
DTSTAMP:20210625T144506
DTSTART;TZID=America/Detroit:20210625T200000
DTEND;TZID=America/Detroit:20210625T230000
SUMMARY:Performance:LIVESTREAM DUE TO RAIN - Kishi Bashi (duo) SOLD OUT
DESCRIPTION:***This in-person event at Fuller Park has been cancelled due to inclement\nweather. Please look for an email from info@noonchorus.com at the email\naddress you used to purchase your tickets. The Noonchorus email will include\nyour unique link to the livestream broadcast.***\n\nA2SF and The Ark look forward to seeing you this weekend at our outdoor concert series at Fuller Park. You can find event information and FAQ here.  A few things to note as you get ready to attend:\n\nHealth Screening:\nWe ask you and your guests to review these questions and only attend if you answer NO to all them the day of the event:\nAre you exhibiting any symptoms of Covid-19?  (e.g.\, fever\, cough\, shortness of breath/difficulty breathing\, loss of taste or smell)\nHave you tested positive for Covid-19 within the last 14 days?\nHave been exposed to anyone who is known to have tested positive COVID-19?\nHave you been advised to quarantine?\n\nWeather-related Livestream\nA reminder that if weather prevents us from gathering in-person\, we’ll switch to a remote livestream broadcast.  Notice of a switch to live broadcast will be posted on The Ark’s event FAQ page here\, and on the A2SF website. We plan to post any change in event status by 4:30 prior to the Kishi Bashi (duo) and The War and Treaty evening shows Friday/Saturday\, and by 1:30 on Saturday for the Laith Al Saadi Trio show.  \n\nIf we switch to live online broadcast\, ticket purchasers will receive an email from info@noonchorus.com with  unique links for each ticket purchased that you can forward to your guests.  Follow the instructions in the email to get set up. You can watch live and also view the concert for up to 72 hours after the show.  If you need help with your livestream\, contact help@noonchorus.com or (716) 880-9734.  For FAQ and other information from NoonChorus\, visit www.noonchorus.com/techfaq/\n\nFinal Reminders\nPrimary parking for concert-goers is lot M-71 on the south side of Fuller Road opposite Fuller Park.  Parking for those requiring handicap access is lot M-78 adjacent to Fuller Pool. Additional overflow parking may be available in other nearby lots including Island Park. See the parking map for more information.\n\nRemember to bring lawn chairs.\n\nWhen arriving at Fuller Park\, follow wayfinding signage to the performance venue on Field #3 that will begin near the pool building.\n\nEnjoy the show!\n\n\nABOUT THE KISHI BASHI (duo):\nKishi Bashi is the pseudonym of singer\, multi-instrumentalist\, and songwriter Kaoru Ishibashi. Born in Seattle\, Washington\, Ishibashi grew up in Norfolk\, Virginia where both of his parents were professors at Old Dominion University. As a 1994 graduate of Matthew Fontaine Maury High School\, he went on to study film scoring at Berklee College of Music before becoming a renowned violinist. Ishibashi has recorded and toured internationally as a violinist with diverse artists such as Regina Spektor\, Sondre Lerche\, and most recently\, the Athens\, Georgia-based indie rock band\, of Montreal. He remains based in Athens.\n\nMORE ABOUT THE EVENT:\nBy purchasing a ticket you agree that you and your guests will comply with health and safety\n laws\, orders\, ordinances\, regulations and health and safety guidance\n adopted by the State of Michigan\, the County of Washtenaw and the\n event organizers -including any face mask and social distancing\n guidelines in place at the time of the shows. Attendees who do not\n comply will be asked to leave. Event guidelines will be updated as circumstances and requirements\n change in our community. Please check back for updated information\n and be sure to review before attending a show.\n\n\n\n\n\nGates open one hour before show time\n\n\nAll Ages (everyone 1 year and up needs a ticket)\n\n\nPlease bring your own chairs or blankets.\n\n\nMaximum 6 tickets per purchaser.\n\n\n\n\n\nEvent seating will be in socially distanced pods of up to 6 people.  All tickets for a pod must be purchased in one transaction. \n\n\nYou will be emailed a Registration Form closer to the event to collect contact information for all attendees in your pod. \n\n\nNo refunds or exchanges\n\n\nNo pets\n\n\nNo smoking\n\n\nProgram subject to change\n\n\nShould weather force a cancellation\, concert will be broadcast live from The Ark with an exclusive streaming link provided to ticket-holders.\n\n\n$75 and $125 tickets include a tax-deductible contribution in support of both The Ark and A2SF. You will receive two receipts to document your contribution—one from each organization.\n\n\nClick for Event FAQ: https://theark.org/faq-a2sf-ark-present
UID:84078-21619847@events.umich.edu
URL:https://events.umich.edu/event/84078
CLASS:PUBLIC
STATUS:CONFIRMED
CATEGORIES:The Ark
LOCATION:Off Campus Location
CONTACT:
END:VEVENT
END:VCALENDAR