BEGIN:VCALENDAR
VERSION:2.0
PRODID:-//UM//UM*Events//EN
CALSCALE:GREGORIAN
BEGIN:VTIMEZONE
TZID:America/Detroit
TZURL:http://tzurl.org/zoneinfo/America/Detroit
X-LIC-LOCATION:America/Detroit
BEGIN:DAYLIGHT
TZOFFSETFROM:-0500
TZOFFSETTO:-0400
TZNAME:EDT
DTSTART:20070311T020000
RRULE:FREQ=YEARLY;BYMONTH=3;BYDAY=2SU
END:DAYLIGHT
BEGIN:STANDARD
TZOFFSETFROM:-0400
TZOFFSETTO:-0500
TZNAME:EST
DTSTART:20071104T020000
RRULE:FREQ=YEARLY;BYMONTH=11;BYDAY=1SU
END:STANDARD
END:VTIMEZONE
BEGIN:VEVENT
DTSTAMP:20210625T180002
DTSTART;TZID=America/Detroit:20210626T000000
DTEND;TZID=America/Detroit:20210626T200000
SUMMARY:Fair / Festival:Summer Orientation Virtual Org Fair 2021 (TABLES ARE LIVE FRIDAY\, JUNE 25 6-8PM ET)
DESCRIPTION:This Summer Orientation virtual fair is an opportunity for incoming students to be connected with student organizations and university departments before coming to campus this fall. ORGS AND DEPARTMENTS WILL BE AVAILABLE FROM 6-8PM ET ON FRIDAY\, JUNE 25TH. For more information for participants\, please visit:https://campusinvolvement.umich.edu/attending-summer-orientation-fairs
UID:84326-21623534@events.umich.edu
URL:https://events.umich.edu/event/84326
CLASS:PUBLIC
STATUS:CONFIRMED
CATEGORIES:
LOCATION:MaizePages and Zoom
CONTACT:
END:VEVENT
BEGIN:VEVENT
DTSTAMP:20210511T124519
DTSTART;TZID=America/Detroit:20210626T080000
DTEND;TZID=America/Detroit:20210626T230000
SUMMARY:Other:Become a UROP Research Mentor
DESCRIPTION:Submit a Research Project for the 2021-2022 Academic Year: https://lsa.umich.edu/urop/research-mentors.html\n\nUROP Research Mentors are faculty and post-doc researchers from across all U-M's 19 Schools and Colleges who provide undergraduate student researchers an opportunity to engage in research activities that help them learn about the pursuit of knowledge within an academic discipline. This early exposure to research fosters a valuable academic experience for students. Through this collaboration\, students gain research skills and mentorship that lead to academic retention\, a more positive undergraduate experience and paths to graduate school.
UID:83879-21619448@events.umich.edu
URL:https://events.umich.edu/event/83879
CLASS:PUBLIC
STATUS:CONFIRMED
CATEGORIES:AEM Featured,Education,Faculty,Free,Graduate and Professional Students,Graduate Students,Interdisciplinary,Mentorship,Research,research data,Staff,Urop
LOCATION:Off Campus Location
CONTACT:
END:VEVENT
BEGIN:VEVENT
DTSTAMP:20210622T125149
DTSTART;TZID=America/Detroit:20210626T080000
DTEND;TZID=America/Detroit:20210626T230000
SUMMARY:Conference / Symposium:Become a UROP Symposium Presentation Judge
DESCRIPTION:Provide your expertise during the 2021 Virtual Summer Research Symposium on August 4th. UROP is looking for graduate students\, postdoctoral fellows\, faculty and staff who are interested in awarding undergraduate researchers with a blue ribbon honors for their UROP presentation during symposium.\n\nBecome a UROP Symposium judge at: https://myumi.ch/1p1eY
UID:84344-21623381@events.umich.edu
URL:https://events.umich.edu/event/84344
CLASS:PUBLIC
STATUS:CONFIRMED
CATEGORIES:AEM Featured,Energy,Engineering,Faculty,Fellowship,first-generation,Free,Graduate and Professional Students,Graduate Students,Interdisciplinary,LGBT,Public Health,Research,Staff,symposium,Urop,Virtual,Women's Studies
LOCATION:Off Campus Location
CONTACT:
END:VEVENT
BEGIN:VEVENT
DTSTAMP:20210430T095709
DTSTART;TZID=America/Detroit:20210626T080000
DTEND;TZID=America/Detroit:20210626T230000
SUMMARY:Careers / Jobs:Changing Gears Application Open
DESCRIPTION:Learn more about the Changing Gears Program and apply at: myumi.ch/uropcg\n\nChanging Gears (CG) is a UROP program designed primarily for community college transfer students who will be attending the University of Michigan\, but also serves students transferring from 4 year institutions. Students in the CG Program become a part of an ongoing faculty-driven research\, scholarly or creative project in their field of interest. Students learn valuable academic skills\, applying these skills to their research project\, academics\, and future career opportunities\, while receiving academic credit or compensation for their efforts in research work.\n\nIf you are a U-M Transfer Student and not graduating until winter 2022 and/or after\, you are eligible to apply to the 2021-2022 UROP Changing Gears Program.
UID:83922-21616953@events.umich.edu
URL:https://events.umich.edu/event/83922
CLASS:PUBLIC
STATUS:CONFIRMED
CATEGORIES:AEM Featured,first-generation,Free,Interdisciplinary,Networking,Office Hours,Research,Transfer Students,Undergraduate,Undergraduate Students,Urop
LOCATION:Off Campus Location
CONTACT:
END:VEVENT
BEGIN:VEVENT
DTSTAMP:20220502T122639
DTSTART;TZID=America/Detroit:20210626T080000
DTEND;TZID=America/Detroit:20210626T230000
SUMMARY:Careers / Jobs:UROP First-Year Application Open
DESCRIPTION:Our \"Traditional UROP Program\" has been our flagship program running over 30 years. This Academic Year program\, in which students participate for both Fall and Winter Terms\, is designed for University of Michigan first and second year undergraduate students enrolled on the Ann Arbor campus who are seeking a first time research experience. Student research assistants work alongside a faculty member\, research scientist or professional practitioner on an ongoing or new research project.\n\nLearn more and apply at: myumi.ch/uropyearone\n\nApplications being accepted on a rolling basis.
UID:83923-21617072@events.umich.edu
URL:https://events.umich.edu/event/83923
CLASS:PUBLIC
STATUS:CONFIRMED
CATEGORIES:AEM Featured,Applications,first-generation,Free,Interdisciplinary,Networking,Research,Undergraduate,Undergraduate Students,Urop
LOCATION:Undergraduate Science Building
CONTACT:
END:VEVENT
BEGIN:VEVENT
DTSTAMP:20210804T182828
DTSTART;TZID=America/Detroit:20210626T080000
DTEND;TZID=America/Detroit:20210626T230000
SUMMARY:Careers / Jobs:UROP Research Scholars Application now open
DESCRIPTION:The UROP Research Scholars Program is designed for students who want to expand on their first year UROP experience and participate in UROP for a second year at an advanced level. In this program\, students build upon the knowledge gained in a first undergraduate research experience to further explore the connections between research\, a liberal arts education\, and communicating skills to advance their future professional goals. Students are expected to explore various written and oral possibilities for communicating their research process\, identifying the limits set by the discipline and the opportunities that lie beyond.\n\nApply at: https://myumi.ch/uroprs
UID:82067-21014971@events.umich.edu
URL:https://events.umich.edu/event/82067
CLASS:PUBLIC
STATUS:CONFIRMED
CATEGORIES:AEM Featured,Applications,Free,Interdisciplinary,Research,Undergraduate,Undergraduate Students,Urop
LOCATION:Off Campus Location
CONTACT:
END:VEVENT
BEGIN:VEVENT
DTSTAMP:20210714T155619
DTSTART;TZID=America/Detroit:20210626T080000
DTEND;TZID=America/Detroit:20210626T230000
SUMMARY:Careers / Jobs:UROP Rising Sophomore Applications Open
DESCRIPTION:The Undergraduate Research Opportunity Program is now accepting applications for students who will be rising sophomores during the 2021-2022 academic year. \n\nLearn more and apply today at http://myumi.ch/uropsophomore\n\nRising Sophomore Applications are being accepted on a rolling basis.
UID:80546-21203438@events.umich.edu
URL:https://events.umich.edu/event/80546
CLASS:PUBLIC
STATUS:CONFIRMED
CATEGORIES:AEM Featured,Applications,first-generation,Free,Research,Sophomore,Undergraduate,Undergraduate Students,Urop
LOCATION:Off Campus Location
CONTACT:
END:VEVENT
BEGIN:VEVENT
DTSTAMP:20210625T165417
DTSTART;TZID=America/Detroit:20210626T110000
DTEND;TZID=America/Detroit:20210626T160000
SUMMARY:Exhibition:Halal Metropolis
DESCRIPTION:The Halal Metrop­o­lis exhi­bi­tion\, by artist Osman Khan\, pho­tog­ra­pher Razi Jafri\, and his­to­rian Sally How­ell\, explores the facts\, fic­tions\, and imag­i­nar­ies of the Mus­lim population(s) in Detroit and South­east Michi­gan as viewed through his­tor­i­cal research\, doc­u­men­ta­tion of cur­rent con­di­tions\, and explo­rations of future desires. The Halal Metrop­o­lis alludes to the estab­lished and grow­ing Mus­lim pop­u­la­tion in Detroit and its metro area\, one of the largest and most diverse Mus­lim pop­u­la­tions in the U.S.\, whose vis­i­bil­ity is both pro­nounced and extremely present in the city\, yet whose nar­ra­tive seems unusu­ally silent in the larger Detroit story. The exhi­bi­tion blends archival mate­ri­als\, social and polit­i­cal arti­facts\, pho­tog­ra­phy\, and art to explore the con­gru­ent and con­tra­dict­ing ideas\, aes­thet­ics\, and cul­tures work­ing to make the halal metrop­o­lis both a real and imag­i­nary entity.\n\nFea­tur­ing works by:\n\nAmna Asghar\nQais Assali\nBGIRL MAMA\nNour Ball­out\nAdnan Charara\nKecia Escoe\nParisa Ghaderi\nAnthony Keith Giannini\nRazi Jafri\nOsman Khan\nMaamoul Press\nEndi Poskovic\nHaleem ​‘Stringz’ Rasul\nReem Taki\n\nThis exhi­bi­tion is pre­sented in part­ner­ship with the Uni­ver­sity of Michigan-Dearborn’s Cen­ter for Arab Amer­i­can Stud­ies (CAAS)\, with sup­port from the Knight Foun­da­tion\, the Doris Duke Foun­da­tion\, the Andy Warhol Foun­da­tion for the Visual Arts\, the El-Hibri Foun­da­tion\, the Com­mu­nity Foun­da­tion of SE Michi­gan\, and the Michi­gan Human­i­ties Council.
UID:84359-21623517@events.umich.edu
URL:https://events.umich.edu/event/84359
CLASS:PUBLIC
STATUS:CONFIRMED
CATEGORIES:Art,Detroit,Exhibition,Multidisciplinary Design,Muslim
LOCATION:Off Campus Location
CONTACT:
END:VEVENT
BEGIN:VEVENT
DTSTAMP:20210518T121314
DTSTART;TZID=America/Detroit:20210626T140000
DTEND;TZID=America/Detroit:20210626T150000
SUMMARY:Livestream / Virtual:Virtual Saturday Sampler Tour | The Archaeology of Daily Life
DESCRIPTION:Saturday Sampler tours are back! We've missed you and are thrilled to be offering our Saturday Sampler tours virtually. Join us over Zoom to explore the Kelsey Museum from the comfort of your home.\n\nThe theme of this week's tour is \"The Archaeology of Daily Life.\"\nThrough study of the material remains of past human societies\, archaeology helps us understand how ancient peoples lived. This tour will explore some items in the Kelsey's collection to demonstrate how this works.\n\nZoom link:\nhttps://umich.zoom.us/j/98615763784
UID:84073-21619813@events.umich.edu
URL:https://events.umich.edu/event/84073
CLASS:PUBLIC
STATUS:CONFIRMED
CATEGORIES:Archaeology,Free
LOCATION:Off Campus Location
CONTACT:
END:VEVENT
BEGIN:VEVENT
DTSTAMP:20210603T161257
DTSTART;TZID=America/Detroit:20210626T150000
DTEND;TZID=America/Detroit:20210626T170000
SUMMARY:Social / Informal Gathering:Student Caregiver Gathering led by MCASP
DESCRIPTION:Join fellow Student-Caregivers Saturday\, June 26\, 2021\, in Rainbow Park Northwood IV at 3:00 pm to share stories\, resources\, and gain support. This event is open to partners and children. All families are welcome!\n\nRSVP at: http://www.cew.umich.edu/events/student-caregiver-gathering-led-by-mcasp
UID:84217-21620771@events.umich.edu
URL:https://events.umich.edu/event/84217
CLASS:PUBLIC
STATUS:CONFIRMED
CATEGORIES:Caregiver,Caregivers,Children,Diversity Equity and Inclusion,Family,first-generation,Free,Graduate and Professional Students,graduate students,networking,Nontraditional Students,north campus,Outdoors,Self-care,Student Parent,Student Parents,Students With Children,Undergraduate Students,Well-being,Wellness,women,Work-life Balance
LOCATION:Northwood IV Apartments - Rainbow Park
CONTACT:
END:VEVENT
BEGIN:VEVENT
DTSTAMP:20210626T134853
DTSTART;TZID=America/Detroit:20210626T160000
DTEND;TZID=America/Detroit:20210626T190000
SUMMARY:Performance:LIVESTREAM DUE TO RAIN - Laith Al-Saadi Trio
DESCRIPTION:WEATHER ANNOUNCEMENT: \nThe Laith Al Saadi Trio fundraising concert scheduled for in-person at Fuller Park has been changed to a live stream format due to risk of spontaneous thunderstorms and lightning. Please look for an email from info@noonchorus.com at the email address you used to purchase your tickets. The NoonChorus email will include your unique link to the live stream broadcast. There are no refunds or exchanges available.\n*************************\nA2SF and The Ark look forward to seeing you this weekend at our outdoor concert series at Fuller Park. You can find event information and FAQ here.  A few things to note as you get ready to attend:\n\nHealth Screening:\nWe ask you and your guests to review these questions and only attend if you answer NO to all them the day of the event:\nAre you exhibiting any symptoms of Covid-19?  (e.g.\, fever\, cough\, shortness of breath/difficulty breathing\, loss of taste or smell)\nHave you tested positive for Covid-19 within the last 14 days?\nHave been exposed to anyone who is known to have tested positive COVID-19?\nHave you been advised to quarantine?\n\nWeather-related Livestream\nA reminder that if weather prevents us from gathering in-person\, we’ll switch to a remote livestream broadcast.  Notice of a switch to live broadcast will be posted on The Ark’s event FAQ page here\, and on the A2SF website. We plan to post any change in event status by 4:30 prior to the Kishi Bashi (duo) and The War and Treaty evening shows Friday/Saturday\, and by 1:30 on Saturday for the Laith Al Saadi Trio show.  \n\nIf we switch to live online broadcast\, ticket purchasers will receive an email from info@noonchorus.com with  unique links for each ticket purchased that you can forward to your guests.  Follow the instructions in the email to get set up. You can watch live and also view the concert for up to 72 hours after the show.  If you need help with your livestream\, contact help@noonchorus.com or (716) 880-9734.  For FAQ and other information from NoonChorus\, visit www.noonchorus.com/techfaq/\n\nFinal Reminders\nPrimary parking for concert-goers is lot M-71 on the south side of Fuller Road opposite Fuller Park.  Parking for those requiring handicap access is lot M-78 adjacent to Fuller Pool. Additional overflow parking may be available in other nearby lots including Island Park. See the parking map for more information.\n\nRemember to bring lawn chairs.\n\nWhen arriving at Fuller Park\, follow wayfinding signage to the performance venue on Field #3 that will begin near the pool building.\n\nEnjoy the show!\n\n\nABOUT THE ARTIST:\nIn 2016\, Laith Al-Saadi won America’s hearts and a spot in the Season 10 finale of NBC’s “The Voice.” Now he’s poised to bring his authentic blend of blues\, soul and classic rock to audiences around the nation and the world. \n\nLaith Al-Saadi has always had the perfect combination of Midwestern hustle and incredible musical chops – honed at the University of Michigan school of music in his hometown of Ann Arbor\, and on stages across the country working with legends like Taj Mahal\, Luther Allison\, Buddy Guy\, Son Seals\, Gregg Allman\, B.B. King\, Aretha Franklin\, Paul Rodgers and recently opened for Bob Seger on his farewell tour in January\, 2019. \n\nFor this special fundraising event\, Laith will appear with his trio.\n\nMORE ABOUT THE EVENT:\nBy purchasing a ticket you agree that you and your guests will comply with health and safety\n laws\, orders\, ordinances\, regulations and health and safety guidance\n adopted by the State of Michigan\, the County of Washtenaw and the\n event organizers -including any face mask and social distancing\n guidelines in place at the time of the shows. Attendees who do not\n comply will be asked to leave. Event guidelines will be updated as circumstances and requirements\n change in our community. Please check back for updated information\n and be sure to review before attending a show.\n\n\n\n\n\nGates open one hour before show time\n\n\nAll Ages (everyone 1 year and up needs a ticket)\n\n\nPlease bring your own chairs or blankets.\n\n\nMaximum 6 tickets per purchaser.\n\n\n\n\n\nEvent seating will be in socially distanced pods of up to 6 people.  All tickets for a pod must be purchased in one transaction. \n\n\nYou will be emailed a Registration Form closer to the event to collect contact information for all attendees in your pod. \n\n\nNo refunds or exchanges\n\n\nNo pets\n\n\nNo smoking\n\n\nProgram subject to change\n\n\nShould weather force a cancellation\, concert will be broadcast live from The Ark with an exclusive streaming link provided to ticket-holders.\n\n\n$75 and $125 tickets include a tax-deductible contribution in support of both The Ark and A2SF. You will receive two receipts to document your contribution—one from each organization.\n\n\nClick for Event FAQ: https://theark.org/faq-a2sf-ark-present
UID:84079-21619848@events.umich.edu
URL:https://events.umich.edu/event/84079
CLASS:PUBLIC
STATUS:CONFIRMED
CATEGORIES:The Ark
LOCATION:Off Campus Location
CONTACT:
END:VEVENT
BEGIN:VEVENT
DTSTAMP:20210626T161519
DTSTART;TZID=America/Detroit:20210626T200000
DTEND;TZID=America/Detroit:20210626T230000
SUMMARY:Performance:LIVESTREAM DUE TO RAIN - The War & Treaty (SOLDOUT)
DESCRIPTION:The Laith Al Saadi Trio fundraising concert scheduled for in-person at Fuller Park has been changed to a live stream format due to risk of spontaneous thunderstorms and lightning. Please look for an email from info@noonchorus.com at the email address you used to purchase your tickets. The NoonChorus email will include your unique link to the live stream broadcast.\n\nA2SF and The Ark look forward to seeing you this weekend at our outdoor concert series at Fuller Park. You can find event information and FAQ here.  A few things to note as you get ready to attend:\n\nHealth Screening:\nWe ask you and your guests to review these questions and only attend if you answer NO to all them the day of the event:\nAre you exhibiting any symptoms of Covid-19?  (e.g.\, fever\, cough\, shortness of breath/difficulty breathing\, loss of taste or smell)\nHave you tested positive for Covid-19 within the last 14 days?\nHave been exposed to anyone who is known to have tested positive COVID-19?\nHave you been advised to quarantine?\n\nWeather-related Livestream\nA reminder that if weather prevents us from gathering in-person\, we’ll switch to a remote livestream broadcast.  Notice of a switch to live broadcast will be posted on The Ark’s event FAQ page here\, and on the A2SF website. We plan to post any change in event status by 4:30 prior to the Kishi Bashi (duo) and The War and Treaty evening shows Friday/Saturday\, and by 1:30 on Saturday for the Laith Al Saadi Trio show.  \n\nIf we switch to live online broadcast\, ticket purchasers will receive an email from info@noonchorus.com with  unique links for each ticket purchased that you can forward to your guests.  Follow the instructions in the email to get set up. You can watch live and also view the concert for up to 72 hours after the show.  If you need help with your livestream\, contact help@noonchorus.com or (716) 880-9734.  For FAQ and other information from NoonChorus\, visit www.noonchorus.com/techfaq/\n\nFinal Reminders\nPrimary parking for concert-goers is lot M-71 on the south side of Fuller Road opposite Fuller Park.  Parking for those requiring handicap access is lot M-78 adjacent to Fuller Pool. Additional overflow parking may be available in other nearby lots including Island Park. See the parking map for more information.\n\nRemember to bring lawn chairs.\n\nWhen arriving at Fuller Park\, follow wayfinding signage to the performance venue on Field #3 that will begin near the pool building.\n\nEnjoy the show!\n\n\nABOUT THE ARTISTS:\nSince forming in 2014\, The War And Treaty have amassed a following as eclectic as their sound itself\, a bluesy but joyful fusion of Southern soul\, gospel\, country\, and rock-and-roll. Known for a live show nearly revival-like in intensity\, the husband-and-wife team of Michael Trotter Jr. and Tanya Blount-Trotter endlessly create an exhilarating exchange of energy with their audience\, a dynamic they’ve brought to the stage in opening for the legendary Al Green and touring with the likes of Brandi Carlile and Jason Isbell.\n\nMORE ABOUT THE EVENT:\nBy purchasing a ticket you agree that you and your guests will comply with health and safety\n laws\, orders\, ordinances\, regulations and health and safety guidance\n adopted by the State of Michigan\, the County of Washtenaw and the\n event organizers -including any face mask and social distancing\n guidelines in place at the time of the shows. Attendees who do not\n comply will be asked to leave. Event guidelines will be updated as circumstances and requirements\n change in our community. Please check back for updated information\n and be sure to review before attending a show.\n\n\n\n\n\nGates open one hour before show time\n\n\nAll Ages (everyone 1 year and up needs a ticket)\n\n\nPlease bring your own chairs or blankets.\n\n\nMaximum 6 tickets per purchaser.\n\n\n\n\n\nEvent seating will be in socially distanced pods of up to 6 people.  All tickets for a pod must be purchased in one transaction. \n\n\nYou will be emailed a Registration Form closer to the event to collect contact information for all attendees in your pod. \n\n\nNo refunds or exchanges\n\n\nNo pets\n\n\nNo smoking\n\n\nProgram subject to change\n\n\nShould weather force a cancellation\, concert will be broadcast live from The Ark with an exclusive streaming link provided to ticket-holders.\n\n\n$75 and $125 tickets include a tax-deductible contribution in support of both The Ark and A2SF. You will receive two receipts to document your contribution—one from each organization.\n\n\nClick for Event FAQ: https://theark.org/faq-a2sf-ark-present
UID:84080-21619849@events.umich.edu
URL:https://events.umich.edu/event/84080
CLASS:PUBLIC
STATUS:CONFIRMED
CATEGORIES:The Ark
LOCATION:Off Campus Location
CONTACT:
END:VEVENT
END:VCALENDAR