BEGIN:VCALENDAR
VERSION:2.0
PRODID:-//UM//UM*Events//EN
CALSCALE:GREGORIAN
BEGIN:VTIMEZONE
TZID:America/Detroit
TZURL:http://tzurl.org/zoneinfo/America/Detroit
X-LIC-LOCATION:America/Detroit
BEGIN:DAYLIGHT
TZOFFSETFROM:-0500
TZOFFSETTO:-0400
TZNAME:EDT
DTSTART:20070311T020000
RRULE:FREQ=YEARLY;BYMONTH=3;BYDAY=2SU
END:DAYLIGHT
BEGIN:STANDARD
TZOFFSETFROM:-0400
TZOFFSETTO:-0500
TZNAME:EST
DTSTART:20071104T020000
RRULE:FREQ=YEARLY;BYMONTH=11;BYDAY=1SU
END:STANDARD
END:VTIMEZONE
BEGIN:VEVENT
DTSTAMP:20210511T124519
DTSTART;TZID=America/Detroit:20210628T080000
DTEND;TZID=America/Detroit:20210628T230000
SUMMARY:Other:Become a UROP Research Mentor
DESCRIPTION:Submit a Research Project for the 2021-2022 Academic Year: https://lsa.umich.edu/urop/research-mentors.html\n\nUROP Research Mentors are faculty and post-doc researchers from across all U-M's 19 Schools and Colleges who provide undergraduate student researchers an opportunity to engage in research activities that help them learn about the pursuit of knowledge within an academic discipline. This early exposure to research fosters a valuable academic experience for students. Through this collaboration\, students gain research skills and mentorship that lead to academic retention\, a more positive undergraduate experience and paths to graduate school.
UID:83879-21619450@events.umich.edu
URL:https://events.umich.edu/event/83879
CLASS:PUBLIC
STATUS:CONFIRMED
CATEGORIES:AEM Featured,Education,Faculty,Free,Graduate and Professional Students,Graduate Students,Interdisciplinary,Mentorship,Research,research data,Staff,Urop
LOCATION:Off Campus Location
CONTACT:
END:VEVENT
BEGIN:VEVENT
DTSTAMP:20210622T125149
DTSTART;TZID=America/Detroit:20210628T080000
DTEND;TZID=America/Detroit:20210628T230000
SUMMARY:Conference / Symposium:Become a UROP Symposium Presentation Judge
DESCRIPTION:Provide your expertise during the 2021 Virtual Summer Research Symposium on August 4th. UROP is looking for graduate students\, postdoctoral fellows\, faculty and staff who are interested in awarding undergraduate researchers with a blue ribbon honors for their UROP presentation during symposium.\n\nBecome a UROP Symposium judge at: https://myumi.ch/1p1eY
UID:84344-21623383@events.umich.edu
URL:https://events.umich.edu/event/84344
CLASS:PUBLIC
STATUS:CONFIRMED
CATEGORIES:AEM Featured,Energy,Engineering,Faculty,Fellowship,first-generation,Free,Graduate and Professional Students,Graduate Students,Interdisciplinary,LGBT,Public Health,Research,Staff,symposium,Urop,Virtual,Women's Studies
LOCATION:Off Campus Location
CONTACT:
END:VEVENT
BEGIN:VEVENT
DTSTAMP:20210430T095709
DTSTART;TZID=America/Detroit:20210628T080000
DTEND;TZID=America/Detroit:20210628T230000
SUMMARY:Careers / Jobs:Changing Gears Application Open
DESCRIPTION:Learn more about the Changing Gears Program and apply at: myumi.ch/uropcg\n\nChanging Gears (CG) is a UROP program designed primarily for community college transfer students who will be attending the University of Michigan\, but also serves students transferring from 4 year institutions. Students in the CG Program become a part of an ongoing faculty-driven research\, scholarly or creative project in their field of interest. Students learn valuable academic skills\, applying these skills to their research project\, academics\, and future career opportunities\, while receiving academic credit or compensation for their efforts in research work.\n\nIf you are a U-M Transfer Student and not graduating until winter 2022 and/or after\, you are eligible to apply to the 2021-2022 UROP Changing Gears Program.
UID:83922-21616955@events.umich.edu
URL:https://events.umich.edu/event/83922
CLASS:PUBLIC
STATUS:CONFIRMED
CATEGORIES:AEM Featured,first-generation,Free,Interdisciplinary,Networking,Office Hours,Research,Transfer Students,Undergraduate,Undergraduate Students,Urop
LOCATION:Off Campus Location
CONTACT:
END:VEVENT
BEGIN:VEVENT
DTSTAMP:20220502T122639
DTSTART;TZID=America/Detroit:20210628T080000
DTEND;TZID=America/Detroit:20210628T230000
SUMMARY:Careers / Jobs:UROP First-Year Application Open
DESCRIPTION:Our \"Traditional UROP Program\" has been our flagship program running over 30 years. This Academic Year program\, in which students participate for both Fall and Winter Terms\, is designed for University of Michigan first and second year undergraduate students enrolled on the Ann Arbor campus who are seeking a first time research experience. Student research assistants work alongside a faculty member\, research scientist or professional practitioner on an ongoing or new research project.\n\nLearn more and apply at: myumi.ch/uropyearone\n\nApplications being accepted on a rolling basis.
UID:83923-21617074@events.umich.edu
URL:https://events.umich.edu/event/83923
CLASS:PUBLIC
STATUS:CONFIRMED
CATEGORIES:AEM Featured,Applications,first-generation,Free,Interdisciplinary,Networking,Research,Undergraduate,Undergraduate Students,Urop
LOCATION:Undergraduate Science Building
CONTACT:
END:VEVENT
BEGIN:VEVENT
DTSTAMP:20210804T182828
DTSTART;TZID=America/Detroit:20210628T080000
DTEND;TZID=America/Detroit:20210628T230000
SUMMARY:Careers / Jobs:UROP Research Scholars Application now open
DESCRIPTION:The UROP Research Scholars Program is designed for students who want to expand on their first year UROP experience and participate in UROP for a second year at an advanced level. In this program\, students build upon the knowledge gained in a first undergraduate research experience to further explore the connections between research\, a liberal arts education\, and communicating skills to advance their future professional goals. Students are expected to explore various written and oral possibilities for communicating their research process\, identifying the limits set by the discipline and the opportunities that lie beyond.\n\nApply at: https://myumi.ch/uroprs
UID:82067-21014973@events.umich.edu
URL:https://events.umich.edu/event/82067
CLASS:PUBLIC
STATUS:CONFIRMED
CATEGORIES:AEM Featured,Applications,Free,Interdisciplinary,Research,Undergraduate,Undergraduate Students,Urop
LOCATION:Off Campus Location
CONTACT:
END:VEVENT
BEGIN:VEVENT
DTSTAMP:20210714T155619
DTSTART;TZID=America/Detroit:20210628T080000
DTEND;TZID=America/Detroit:20210628T230000
SUMMARY:Careers / Jobs:UROP Rising Sophomore Applications Open
DESCRIPTION:The Undergraduate Research Opportunity Program is now accepting applications for students who will be rising sophomores during the 2021-2022 academic year. \n\nLearn more and apply today at http://myumi.ch/uropsophomore\n\nRising Sophomore Applications are being accepted on a rolling basis.
UID:80546-21203440@events.umich.edu
URL:https://events.umich.edu/event/80546
CLASS:PUBLIC
STATUS:CONFIRMED
CATEGORIES:AEM Featured,Applications,first-generation,Free,Research,Sophomore,Undergraduate,Undergraduate Students,Urop
LOCATION:Off Campus Location
CONTACT:
END:VEVENT
BEGIN:VEVENT
DTSTAMP:20210622T114821
DTSTART;TZID=America/Detroit:20210628T100000
DTEND;TZID=America/Detroit:20210628T110000
SUMMARY:Presentation:BME Master's Defense: Spencer Morris
DESCRIPTION:Acquiring accurate measurements for blood flow is a clinically relevant problem of interest. Three-dimensional color flow with partial volume correction (PVC) is a relatively new method for measuring blood flow that accounts for beams located partially outside of the blood vessel. Recent work has shown that the relationship between color flow power and partially perfused voxels is nonlinear. This work investigates the statistics of color power measurements in simulated plug flow to help explain this nonlinear behavior. Data was acquired using Field II simulations in which a 3.75 MHz mechanically swept linear array obtained RF data of blood moving through a vessel. Blood in the vessel exhibited plug flow\, and tissue backscatter was set to 40 dB below blood. The statistics of color power at each point in the processing chain were analyzed using histograms\, established results in ultrasound statistics\, and derived probability density functions (pdfs). For locations completely inside the beam\, power before additional processing showed exponential behavior\, whereas the square root of power\, i.e.\, amplitude\, was Rician distributed. After implementing the Kasai algorithm\, the power values could be estimated with a gamma distribution with a shape parameter of 2.21. Kasai powers corresponding to tissue could also be fitted with a gamma distribution\, albeit with a shape parameter close to 1\, indicating close to exponential behavior. Kasai powers for partial volume data were intermediate between the tissue and blood data. A method for estimating partial volume weight from the skewness and kurtosis of samples taken from the same location is also discussed.\n\nDate: Monday\, June 28\, 2021\nTime: 10:00 AM\nZoom: https://umich.zoom.us/j/97162930417\nChair: Dr. Oliver Kripfgans
UID:84342-21623372@events.umich.edu
URL:https://events.umich.edu/event/84342
CLASS:PUBLIC
STATUS:CONFIRMED
CATEGORIES:Biology,biomedical,biomedical engineering,bme,engineering,Medicine,Michigan Engineering,Science
LOCATION:Off Campus Location
CONTACT:
END:VEVENT
BEGIN:VEVENT
DTSTAMP:20210506T120651
DTSTART;TZID=America/Detroit:20210628T133000
DTEND;TZID=America/Detroit:20210628T150000
SUMMARY:Meeting:CoderSpaces (Mondays)
DESCRIPTION:Are you grappling with a piece of code\, trying to compute on a cluster\, or just getting started with a new method such as machine learning? Then we might have just the right space for you.\n\nAll members of the U-M community are invited to join our weekly virtual CoderSpaces\, Mondays – Thursdays\, during the Summer 2021 term to get research support and connect with others.\n\nThe virtual sessions are designed to assist faculty\, staff\, and students with research methodology\, statistics\, data science applications\, and computational programming for research.\n\nOur hosts have a wide set of methodological and technological expertise. They come to you from a variety of departments and disciplines and are looking forward to serving the U-M community in their research endeavors.\n\nCoderSpaces provide a casual\, productive\, and inclusive environment. Everyone is welcome regardless of skill level.\n\nMondays 1:30-3 p.m.\n\nJoin via Zoom* (https://umich.zoom.us/j/97155787515)\n*Users will have to sign in with their UMICH (Level-1) credentials.\n\nwith Andrew Hlynka (CSCAR)\, Charles Antonelli (LSA Tech)\, Jonathan Golob (Michigan Medicine)\n\nExpertise: 3D graphical applications\, C\, C++\, C#\, CMake/GNU Make\, Fortran\, Git\, high performance computing\, Java\, JavaScript\, Julia\, Matlab\, mobile app development\, MPI\, OpenMP\, parallelization\, performance analysis\, PBS\, Python\, R\, reproducible workflows (nextflow)\, shell\, Slurm\, SQL\, statistical modeling
UID:83925-21619093@events.umich.edu
URL:https://events.umich.edu/event/83925
CLASS:PUBLIC
STATUS:CONFIRMED
CATEGORIES:Arc,Data Science,Information And Technology,Office Hours
LOCATION:Off Campus Location
CONTACT:
END:VEVENT
BEGIN:VEVENT
DTSTAMP:20211209T160155
DTSTART;TZID=America/Detroit:20210628T140000
DTEND;TZID=America/Detroit:20210628T150000
SUMMARY:Other:LSA Technology Services Research Support Office Hours
DESCRIPTION:The Research Team within LSA Technology Services is excited to announce virtual office hours for research computing support. These are regularly scheduled times when we will have subject matter experts in geographic information systems\, high performance computing\, digital scholarship\, and computer programming available for drop-in support. Faculty\, staff\, and students with research-related questions pertaining to any of these areas can stop by to ask questions\, get help working through a problem\, or inquire about a new project—no appointment necessary!\n\nNot sure what we can do to help? Read on for more details about the services provided by each of these teams.\n\n*Digital Scholarship*\nOur digital scholarship team specializes in humanities\, social sciences\, and interdisciplinary digital project methods and can provide assistance with:\n* Conceptualizing\, planning\, and finding resources for a digital project\n* How to version\, archive\, and preserve a project\n* Sustainability\, preservation\, accessibility\, privacy\, consent\, or grant requirements\nNew to digital projects? We can also talk about how to demonstrate the scholarly rigor of your digital project\, accurately credit the labor required of the project at every stage\, and how to provide evidence and metrics for promotion and job dossiers.\n\n*Geographic Information Systems (GIS)*\n\nOur GIS specialists can help with your geographic data needs\, including the following:\n* Making maps for use in a class\, grant proposal\, or publication\n* Geospatial analysis: identifying spatial patterns and trends in your data\n* Georeferencing: assigning geographic coordinates to a historic paper map or a hand-drawn sketch for digital use as a basemap or combined display with other data\n* Geocoding: convert a spreadsheet with addresses into latitude-longitude so you can plot your data on a map\n* StoryMaps: harness the power of maps to tell your story\n* Integrating smartphones or tablets and GIS in your field courses or researchSetting up workshops for a class or group interested in learning to use GIS in the context of your discipline\n* Assistance with ESRI's ArcGIS platform\, including ArcGIS Pro and ArcGIS Online\, or other geospatial software\n* Developing your own custom GIS web application or mobile application\n\n*High Performance Computing (HPC)*\n\nOur HPC team can help with:\n* Accessing U-M’s new Great Lakes HPC (High Performance Computing) cluster\n* Moving your computational work from your laptop or workstation to the cluster\, freeing up your machines for other tasks\n* Compiling\, installing\, or configuring a wide range of computational software\n* Setting up automated workflows to save time\n* Debugging your programs to see why they are crashing\n* Evaluating the benefits of parallel computing\, more memory or system resources for your code\nWe regularly support Python\, R\, MATLAB\, C/C++\, Java\, Julia\, Go\, and many other applications.\n\n*Research Support Programming*\n\nOur computer programming team can help with any of the following:\n\n* Debugging\, repair\, and improvements or upgrades to your existing code\n* References to training and coding resources to assist in your project\n* Design and development of custom software to support your research\n* Incorporation of lab-specific hardware into custom software applications.\n* Writing funding for any of the above into your grant proposals\nWe're experienced in MATLAB\, Python\, R\, LabVIEW\, JavaScript\, MedPC\, iOS development\, and more.\n\nWho can join the office hours?\nLSA Faculty\, staff\, and students with research-related questions on geographic information systems\, high performance computing\, digital scholarship\, and computer programming\n\nWhen and where is it?\nOur virtual office hours use Zoom:\nMondays\, 2:00–3:00 P.M.\nTuesdays\, 10:00–11:00 A.M.\nThursdays\, 3:00–4:00 P.M.
UID:77718-20270711@events.umich.edu
URL:https://events.umich.edu/event/77718
CLASS:PUBLIC
STATUS:CONFIRMED
CATEGORIES:Digital Humanities,Digital Projects,Digital Scholarship,Faculty,Gis,Graduate Students,Humanities,Lsa,Office Hours,Postdoctoral Research Fellows,Qualitative Social Sciences,research,Science,Virtual
LOCATION:Off Campus Location
CONTACT:
END:VEVENT
BEGIN:VEVENT
DTSTAMP:20210602T164857
DTSTART;TZID=America/Detroit:20210628T163000
DTEND;TZID=America/Detroit:20210628T173000
SUMMARY:Social / Informal Gathering:Community Meet Up: Getting to Know Ann Arbor
DESCRIPTION:Are you an incoming undergraduate student or a rising second year student who doesn't feel familiar with the Ann Arbor area?! Join our Getting to Know Ann Arbor Meet Up to meet other students and to learn about all of the fun must see and do places and activities Ann Arbor has to offer once you come to campus! \n\nPlease note the time listed is in EST.\n\n***This event is part of the First Year Experience (FYE) Summer Series! Register for the Zoom link and find the full list of events here: https://myumi.ch/BoYMg***
UID:84195-21620749@events.umich.edu
URL:https://events.umich.edu/event/84195
CLASS:PUBLIC
STATUS:CONFIRMED
CATEGORIES:Education,First Year Experience,first year students,Free,Health & Wellness,Outdoors,Social,Transfer Students,Undergraduate,Undergraduate Students,Virtual,Welcome to Michigan,Well-being
LOCATION:Off Campus Location
CONTACT:
END:VEVENT
BEGIN:VEVENT
DTSTAMP:20210616T181503
DTSTART;TZID=America/Detroit:20210628T190000
SUMMARY:Performance:Summer Carillon Concert: Dr. Linda Dzuris
DESCRIPTION:Dr. Linda Dzuris (BM '92\, MM '93\, DMA '98)\,  performs the first of our \"7 at 7\" Monday night carillon concerts at Burton Memorial Tower. Her program ranges from Argentine tango to Gershwin to pop hits from multiple decades.\n\nThe annual series takes place at 7 PM on Mondays from June 21 to August 9\, featuring performers from Michigan and around the U.S. playing either Burton or Lurie Tower. The carillon is an outdoor instrument\, and attendees are requested to maintain social distance in the outdoor listening areas surrounding the towers. Attendees are required to follow the University of Michigan\, Washtenaw County\, Michigan state\, and federal guidelines for large outdoor gatherings.\n\nPlease fill out our convenient pre-registration form: https://myumi.ch/ZQWvq. This information will be kept for 21 days after the concert\, and will only be used for contact tracing if confirmed COVID-19 cases become associated with the gathering.\n\nBIOGRAPHY: Dr. Linda Dzuris became Clemson’s first University Carillonneur in 1999 and is a Professor of Music in the Department of Performing Arts. Additionally\, Dzuris is a performance instructor of the North American Carillon School\, which was established in 2013 as affiliate and American representative of the Royal Carillon School ‘Jef Denyn’ in Mechelen\, Belgium. She received her B.M.\, M.M.\, and D.M.A. degrees in organ performance and church music from the University of Michigan. Carillon study was also done in Ann Arbor\, MI\, with additional study at The Netherlands Carillon School in Amersfoort\, NL.  Dzuris is a former board member\, a current adjudicator on the Associate Carillonneur Evaluation Committee\, and a juror on the Carillonneur Exam Committee for the GCNA.  She has been a featured guest artist in carillon concert series throughout the United States\, The Netherlands\, France\, and Switzerland. In 2017\, Dzuris performed concerts on behalf of the GCNA at the 19th World Carillon Federation Congress held in Barcelona\, Spain. American Carillon Music Editions and the Yale Guild of Carillonneurs publish her original carillon compositions.
UID:84267-21620832@events.umich.edu
URL:https://events.umich.edu/event/84267
CLASS:PUBLIC
STATUS:CONFIRMED
CATEGORIES:Concert,Family,Free,Music,Outdoors
LOCATION:Burton Memorial Tower
CONTACT:
END:VEVENT
END:VCALENDAR