BEGIN:VCALENDAR
VERSION:2.0
PRODID:-//UM//UM*Events//EN
CALSCALE:GREGORIAN
BEGIN:VTIMEZONE
TZID:America/Detroit
TZURL:http://tzurl.org/zoneinfo/America/Detroit
X-LIC-LOCATION:America/Detroit
BEGIN:DAYLIGHT
TZOFFSETFROM:-0500
TZOFFSETTO:-0400
TZNAME:EDT
DTSTART:20070311T020000
RRULE:FREQ=YEARLY;BYMONTH=3;BYDAY=2SU
END:DAYLIGHT
BEGIN:STANDARD
TZOFFSETFROM:-0400
TZOFFSETTO:-0500
TZNAME:EST
DTSTART:20071104T020000
RRULE:FREQ=YEARLY;BYMONTH=11;BYDAY=1SU
END:STANDARD
END:VTIMEZONE
BEGIN:VEVENT
DTSTAMP:20210511T124519
DTSTART;TZID=America/Detroit:20210701T080000
DTEND;TZID=America/Detroit:20210701T230000
SUMMARY:Other:Become a UROP Research Mentor
DESCRIPTION:Submit a Research Project for the 2021-2022 Academic Year: https://lsa.umich.edu/urop/research-mentors.html\n\nUROP Research Mentors are faculty and post-doc researchers from across all U-M's 19 Schools and Colleges who provide undergraduate student researchers an opportunity to engage in research activities that help them learn about the pursuit of knowledge within an academic discipline. This early exposure to research fosters a valuable academic experience for students. Through this collaboration\, students gain research skills and mentorship that lead to academic retention\, a more positive undergraduate experience and paths to graduate school.
UID:83879-21619453@events.umich.edu
URL:https://events.umich.edu/event/83879
CLASS:PUBLIC
STATUS:CONFIRMED
CATEGORIES:AEM Featured,Education,Faculty,Free,Graduate and Professional Students,Graduate Students,Interdisciplinary,Mentorship,Research,research data,Staff,Urop
LOCATION:Off Campus Location
CONTACT:
END:VEVENT
BEGIN:VEVENT
DTSTAMP:20210622T125149
DTSTART;TZID=America/Detroit:20210701T080000
DTEND;TZID=America/Detroit:20210701T230000
SUMMARY:Conference / Symposium:Become a UROP Symposium Presentation Judge
DESCRIPTION:Provide your expertise during the 2021 Virtual Summer Research Symposium on August 4th. UROP is looking for graduate students\, postdoctoral fellows\, faculty and staff who are interested in awarding undergraduate researchers with a blue ribbon honors for their UROP presentation during symposium.\n\nBecome a UROP Symposium judge at: https://myumi.ch/1p1eY
UID:84344-21623386@events.umich.edu
URL:https://events.umich.edu/event/84344
CLASS:PUBLIC
STATUS:CONFIRMED
CATEGORIES:AEM Featured,Energy,Engineering,Faculty,Fellowship,first-generation,Free,Graduate and Professional Students,Graduate Students,Interdisciplinary,LGBT,Public Health,Research,Staff,symposium,Urop,Virtual,Women's Studies
LOCATION:Off Campus Location
CONTACT:
END:VEVENT
BEGIN:VEVENT
DTSTAMP:20210430T095709
DTSTART;TZID=America/Detroit:20210701T080000
DTEND;TZID=America/Detroit:20210701T230000
SUMMARY:Careers / Jobs:Changing Gears Application Open
DESCRIPTION:Learn more about the Changing Gears Program and apply at: myumi.ch/uropcg\n\nChanging Gears (CG) is a UROP program designed primarily for community college transfer students who will be attending the University of Michigan\, but also serves students transferring from 4 year institutions. Students in the CG Program become a part of an ongoing faculty-driven research\, scholarly or creative project in their field of interest. Students learn valuable academic skills\, applying these skills to their research project\, academics\, and future career opportunities\, while receiving academic credit or compensation for their efforts in research work.\n\nIf you are a U-M Transfer Student and not graduating until winter 2022 and/or after\, you are eligible to apply to the 2021-2022 UROP Changing Gears Program.
UID:83922-21616958@events.umich.edu
URL:https://events.umich.edu/event/83922
CLASS:PUBLIC
STATUS:CONFIRMED
CATEGORIES:AEM Featured,first-generation,Free,Interdisciplinary,Networking,Office Hours,Research,Transfer Students,Undergraduate,Undergraduate Students,Urop
LOCATION:Off Campus Location
CONTACT:
END:VEVENT
BEGIN:VEVENT
DTSTAMP:20220502T122639
DTSTART;TZID=America/Detroit:20210701T080000
DTEND;TZID=America/Detroit:20210701T230000
SUMMARY:Careers / Jobs:UROP First-Year Application Open
DESCRIPTION:Our \"Traditional UROP Program\" has been our flagship program running over 30 years. This Academic Year program\, in which students participate for both Fall and Winter Terms\, is designed for University of Michigan first and second year undergraduate students enrolled on the Ann Arbor campus who are seeking a first time research experience. Student research assistants work alongside a faculty member\, research scientist or professional practitioner on an ongoing or new research project.\n\nLearn more and apply at: myumi.ch/uropyearone\n\nApplications being accepted on a rolling basis.
UID:83923-21617077@events.umich.edu
URL:https://events.umich.edu/event/83923
CLASS:PUBLIC
STATUS:CONFIRMED
CATEGORIES:AEM Featured,Applications,first-generation,Free,Interdisciplinary,Networking,Research,Undergraduate,Undergraduate Students,Urop
LOCATION:Undergraduate Science Building
CONTACT:
END:VEVENT
BEGIN:VEVENT
DTSTAMP:20210804T182828
DTSTART;TZID=America/Detroit:20210701T080000
DTEND;TZID=America/Detroit:20210701T230000
SUMMARY:Careers / Jobs:UROP Research Scholars Application now open
DESCRIPTION:The UROP Research Scholars Program is designed for students who want to expand on their first year UROP experience and participate in UROP for a second year at an advanced level. In this program\, students build upon the knowledge gained in a first undergraduate research experience to further explore the connections between research\, a liberal arts education\, and communicating skills to advance their future professional goals. Students are expected to explore various written and oral possibilities for communicating their research process\, identifying the limits set by the discipline and the opportunities that lie beyond.\n\nApply at: https://myumi.ch/uroprs
UID:82067-21014976@events.umich.edu
URL:https://events.umich.edu/event/82067
CLASS:PUBLIC
STATUS:CONFIRMED
CATEGORIES:AEM Featured,Applications,Free,Interdisciplinary,Research,Undergraduate,Undergraduate Students,Urop
LOCATION:Off Campus Location
CONTACT:
END:VEVENT
BEGIN:VEVENT
DTSTAMP:20210714T155619
DTSTART;TZID=America/Detroit:20210701T080000
DTEND;TZID=America/Detroit:20210701T230000
SUMMARY:Careers / Jobs:UROP Rising Sophomore Applications Open
DESCRIPTION:The Undergraduate Research Opportunity Program is now accepting applications for students who will be rising sophomores during the 2021-2022 academic year. \n\nLearn more and apply today at http://myumi.ch/uropsophomore\n\nRising Sophomore Applications are being accepted on a rolling basis.
UID:80546-21203443@events.umich.edu
URL:https://events.umich.edu/event/80546
CLASS:PUBLIC
STATUS:CONFIRMED
CATEGORIES:AEM Featured,Applications,first-generation,Free,Research,Sophomore,Undergraduate,Undergraduate Students,Urop
LOCATION:Off Campus Location
CONTACT:
END:VEVENT
BEGIN:VEVENT
DTSTAMP:20210701T145834
DTSTART;TZID=America/Detroit:20210701T100000
DTEND;TZID=America/Detroit:20210701T160000
SUMMARY:Exhibition:A Garden of Earthy Delights: Ceramic Sculptures by Ann Arbor Potters Guild at Matthaei Botanical Gardens
DESCRIPTION:Inspired by the synergy between nature’s beauty and complexity\, and in partnership with the University of Michigan Matthaei Botanical Gardens\, artists from the Ann Arbor Potters Guild created work centered around Michigan’s natural landscapes and specifically for the Great Lakes Garden at Matthaei. Potters Guild artists created eight free-standing sculptures using the full range of traditional ceramic methods and tools\, the potter’s wheel\, press molds\, coil building\, slab construction\, and sculpting. Depictions range from naturalistic and representational\, to abstract\, as well as a whimsical nod or two to the timeless role of fantasy and myth in humankind’s communion with nature. Exhibit is free but scheduled reservations are required to visit the botanical gardens. Use this link to book your visit: https://www.signupgenius.com/go/8050f4aadad22a2fd0-matthaei1
UID:84388-21623668@events.umich.edu
URL:https://events.umich.edu/event/84388
CLASS:PUBLIC
STATUS:CONFIRMED
CATEGORIES:Art,Outdoors
LOCATION:Matthaei Botanical Gardens
CONTACT:
END:VEVENT
BEGIN:VEVENT
DTSTAMP:20210716T063022
DTSTART;TZID=America/Detroit:20210701T100000
DTEND;TZID=America/Detroit:20210701T130000
SUMMARY:Careers / Jobs:Corpus Christi Medical Center VIRTUAL Hiring Event: July 1st
DESCRIPTION:Are you a New Grad RN\, Experienced RN\, or Healthcare Professional? We want to speak with you!\n\nPlease review the available slots below and click on the button to sign up. You will receive an email with further instruction after you sign up for your interview slot. \n\nWe look forward to seeing you!\n\nThank you!\n\nYour HCA Healthcare Recruitment Team
UID:84515-21624110@events.umich.edu
URL:https://events.umich.edu/event/84515
CLASS:PUBLIC
STATUS:CONFIRMED
CATEGORIES:
LOCATION:
CONTACT:
END:VEVENT
BEGIN:VEVENT
DTSTAMP:20210527T181513
DTSTART;TZID=America/Detroit:20210701T100000
DTEND;TZID=America/Detroit:20210701T113000
SUMMARY:Livestream / Virtual:Inclusive Leadership Roundtable
DESCRIPTION:The theory behind inclusive leadership is vast. It has connections with emotional intelligence\, communication\, understanding team dynamics\, mentoring\, and more. The other nine workshops in this series focused on the theory and application. For this round table\, we gathered a panel of faculty and staff who have experience using inclusive leadership in their fields. Join us for a round table where you will learn to go beyond the theory and hear real life experience about using inclusive leadership in practice.\nPanelists\nNeeraja Aravamudan\, Ph.D.\, Interim Co-Director\, Ginsberg Center\nAs Interim Co-Director of the Ginsberg Center\, Neeraja Aravamudan contributes to the strategic leadership of Ginsberg and supports the center’s strategic partnerships with academic units across the university. Aravamudan has focused her professional career in higher education on helping students and faculty to make their teaching and learning more student-centered\, inclusive\, and equitable. Her commitment to social justice education is rooted in her personal experiences as an immigrant from India and her work in anti-bias education. Community-engaged learning brings together her interests in social justice\, teaching and learning\, and values-centered practices.\nKarishma Collette\, Ph.D.\, Assistant Director\, Center for Research on Learning and Teaching\nKarishma Collette earned her B.Sc. in life sciences at the University of Mumbai (India) in 2001. In 2003\, she completed her M.Sc. in industrial biotechnology at Newcastle University (United Kingdom)\, and a Ph.D. in molecular\, cellular and developmental biology at the University of Michigan in 2011. Collette’s dissertation focused on the characterization of a novel Condensin protein complex (Condensin I) in C.elegans mitosis and meiosis. During her Ph.D.\, Collette enjoyed teaching introductory biology and genetics\, and continued her pedagogical training as a postdoc at the Center for Research on Learning and Teaching (CRLT) from August 2012 to April 2014. After her training at CRLT\, she advised U-M undergraduate students interested in careers in the health professions at the Newnan LSA Academic Advising Center\, and managed the peer tutoring and peer mentorship programs at the Science Learning Center. In her current role at CRLT\, Collette consults with and facilitates workshops for faculty\, GSIs\, and undergraduates in instructional roles\, on a variety of topics in teaching and learning. She also directs the winter GSI teaching orientation\, and is the CRLT lead for the CRLT-ELI 994 program. Collette is currently an active member of CRLT’s GSI team and DE&I team.\nKrishna Han\, Ph.D.\, Associate Director\, Multi-Ethnic Student Affairs\nKrishna Han’s (he/him/his) professional student affairs journey in the United States took him from Oberlin College to Bowling Green State University (BGSU) prior to joining the University of Michigan. Originally from Cambodia\, Han graduated from the Royal University of Phnom Penh with a dual degree in biology and education. After completing a master’s degree in community forestry at Shinshu University in Japan he pursued and earned a Ph.D. in regional environmental resources management at Hokkaido University in Japan. Han studied the impacts of economic development policy introduced by the World Bank to Cambodia in 1993 on the livelihood of Indigenous people in the northeastern part of Cambodia and traditional farming system. He worked with various international organizations such as World Vision International and United Nations Environmental Program before moving to the United States. While in the United States\, he pursued and earned another graduate degree in 2003 in college student personnel at BGSU\, where he served as assistant director in the Office of Multicultural Affairs from 2012 to 2018. Han is passionate about and an advocate for global and multicultural education\, cross-cultural understanding\, and social justice. He has a wide range of hobbies and is an avid world traveler. Besides his native Khmer\, he speaks fluently English\, Japanese\, Thai\, and some French.\nDar Mayweather\, Lecturer\, University of North Carolina Wilmington\nDar Mayweather (he\, him\, and his) is a full-time lecturer in the leadership studies minor in the Department of Educational Leadership at the University of North Carolina Wilmington. Mayweather is a first-generation college student\, with a bachelor’s in criminal justice and a master’s in education with a focus on college student affairs leadership both from Grand Valley State University\, while currently pursuing a doctorate in educational leadership at Eastern Michigan University. Mayweather’s work focuses on Black student protest\, meaning-making in the leadership process\, and inclusion in higher education. Mayweather has over 10 years of professional experience developing co-curricular classrooms and diversity trainings in higher education. He credits a lot of his professional growth to the Social Justice Training Institute and the Intergroup Relations Department at the University of Michigan. He received the King Chavez Parks Future Faculty Fellow Award from the State of Michigan\, the Student Engagement and Success Award from Eastern Michigan University\, the American College Personnel Association Pan African Network Sawubona Award\, multiple Residence Life Hall Council Advisor awards\, and many other nominations. A father and husband\, you’ll often find him watching superhero shows with his son and reality TV with his wife.\nRegistration is required at https://myumi.ch/WwXY7.\nWe want to ensure full and equitable participation in our events. If an accommodation would promote your full participation in this event\, please follow the registration link to indicate your accommodation requirements. Please let us know as soon as possible in order to have adequate time\, preferably one week\, to arrange for your requested accommodations or an effective alternative.
UID:84076-21619823@events.umich.edu
URL:https://events.umich.edu/event/84076
CLASS:PUBLIC
STATUS:CONFIRMED
CATEGORIES:Diversity,Graduate Students
LOCATION:Off Campus Location
CONTACT:
END:VEVENT
BEGIN:VEVENT
DTSTAMP:20210716T123019
DTSTART;TZID=America/Detroit:20210701T100000
DTEND;TZID=America/Detroit:20210701T104000
SUMMARY:Careers / Jobs:Wellness & Work: Maintaining Balance
DESCRIPTION:With spending around 1/3 of your life at work\, ensuring that you take care of yourself is just as important as enjoying the work you do. At PetSmart\, we work to help every associate Be Well\, Get Better\, andFeel Prepared. Join us in this interactive session as we explore ways of increasing our personal wellness toolkit to keep you happy and healthy\, at work and in life.
UID:84468-21624063@events.umich.edu
URL:https://events.umich.edu/event/84468
CLASS:PUBLIC
STATUS:CONFIRMED
CATEGORIES:
LOCATION:
CONTACT:
END:VEVENT
BEGIN:VEVENT
DTSTAMP:20210629T141439
DTSTART;TZID=America/Detroit:20210701T113000
DTEND;TZID=America/Detroit:20210701T123000
SUMMARY:Livestream / Virtual:Virtual Michigan Medicine Community Conversation
DESCRIPTION:Community Conversations is an opportunity for faculty\, staff and student to come together weekly to engage on meaningful ways to increase belonging at Michigan Medicine. We feel that it is important to carve out space for dialogue\, provide support for one another\, promote self-care\, and share valuable resources. The sessions are designed for space to hear your voice and all are welcome!\n\nWe will explore what this last year has taught each of us and what lessons we want to carry out of the pandemic.\n\nhttps://ohei.med.umich.edu/events
UID:84374-21623622@events.umich.edu
URL:https://events.umich.edu/event/84374
CLASS:PUBLIC
STATUS:CONFIRMED
CATEGORIES:Michigan Medicine Diversity
LOCATION:Off Campus Location
CONTACT:
END:VEVENT
BEGIN:VEVENT
DTSTAMP:20210602T135602
DTSTART;TZID=America/Detroit:20210701T130000
DTEND;TZID=America/Detroit:20210701T140000
SUMMARY:Livestream / Virtual:UROP Summer Virtual Office Hours
DESCRIPTION:UROP Staff will be available during the summer via Zoom office hours to answer questions from those who drop in. No appointment necessary.\n\nWednesdays (1-2pm ET)\nThursdays (1-2pm ET)\nFriday (11:30am - 12:30pm ET)\nhttps://myumi.ch/1p1d3\n\nThe Undergraduate Research Opportunity Program (UROP) offers several different programs throughout the academic year for University of Michigan-Ann Arbor undergraduate students to discover the world of research through collaborations with U-M researchers. Students participating in the program are called research assistants and work alongside a faculty member\, research scientist or professional practitioner on an ongoing or new research project.
UID:84176-21620726@events.umich.edu
URL:https://events.umich.edu/event/84176
CLASS:PUBLIC
STATUS:CONFIRMED
CATEGORIES:Admissions,AEM Featured,Applications,first-generation,Free,Interdisciplinary,Office Hours,Research,Undergraduate,Undergraduate Students,Urop,Virtual
LOCATION:Off Campus Location
CONTACT:
END:VEVENT
BEGIN:VEVENT
DTSTAMP:20210506T120852
DTSTART;TZID=America/Detroit:20210701T140000
DTEND;TZID=America/Detroit:20210701T153000
SUMMARY:Meeting:CoderSpaces (Thursdays)
DESCRIPTION:Are you grappling with a piece of code\, trying to compute on a cluster\, or just getting started with a new method such as machine learning? Then we might have just the right space for you.\n\nAll members of the U-M community are invited to join our weekly virtual CoderSpaces\, Mondays – Thursdays\, during the Summer 2021 term to get research support and connect with others.\n\nThe virtual sessions are designed to assist faculty\, staff\, and students with research methodology\, statistics\, data science applications\, and computational programming for research.\n\nOur hosts have a wide set of methodological and technological expertise. They come to you from a variety of departments and disciplines and are looking forward to serving the U-M community in their research endeavors.\n\nCoderSpaces provide a casual\, productive\, and inclusive environment. Everyone is welcome regardless of skill level.\n\nThursdays 2-3:30 p.m.\nJoin via Zoom* (https://umich.zoom.us/j/99436245948)\n*Users will have to sign in with their UMICH (Level-1) credentials.\n\nwith Bennet Fauber (ARC)\, Bridget Hegarty (CEE)\, Erin Ware (SRC/ISR)\, Kelly Sovacool (DCMB)\n\nExpertise: automation of tasks and workflows\, Bash\, batch scripting\, data management\, Git\, GitHub\, high performance computing\, installing software on University clusters\, Linux\, math for data science\, Python\, R\, R Markdown\, R tidyverse\, SAS\, Slurm\, Snakemake\, statistical modeling
UID:83931-21619154@events.umich.edu
URL:https://events.umich.edu/event/83931
CLASS:PUBLIC
STATUS:CONFIRMED
CATEGORIES:Data Science,Information And Technology,Office Hours
LOCATION:Off Campus Location
CONTACT:
END:VEVENT
BEGIN:VEVENT
DTSTAMP:20211209T160155
DTSTART;TZID=America/Detroit:20210701T150000
DTEND;TZID=America/Detroit:20210701T160000
SUMMARY:Other:LSA Technology Services Research Support Office Hours
DESCRIPTION:The Research Team within LSA Technology Services is excited to announce virtual office hours for research computing support. These are regularly scheduled times when we will have subject matter experts in geographic information systems\, high performance computing\, digital scholarship\, and computer programming available for drop-in support. Faculty\, staff\, and students with research-related questions pertaining to any of these areas can stop by to ask questions\, get help working through a problem\, or inquire about a new project—no appointment necessary!\n\nNot sure what we can do to help? Read on for more details about the services provided by each of these teams.\n\n*Digital Scholarship*\nOur digital scholarship team specializes in humanities\, social sciences\, and interdisciplinary digital project methods and can provide assistance with:\n* Conceptualizing\, planning\, and finding resources for a digital project\n* How to version\, archive\, and preserve a project\n* Sustainability\, preservation\, accessibility\, privacy\, consent\, or grant requirements\nNew to digital projects? We can also talk about how to demonstrate the scholarly rigor of your digital project\, accurately credit the labor required of the project at every stage\, and how to provide evidence and metrics for promotion and job dossiers.\n\n*Geographic Information Systems (GIS)*\n\nOur GIS specialists can help with your geographic data needs\, including the following:\n* Making maps for use in a class\, grant proposal\, or publication\n* Geospatial analysis: identifying spatial patterns and trends in your data\n* Georeferencing: assigning geographic coordinates to a historic paper map or a hand-drawn sketch for digital use as a basemap or combined display with other data\n* Geocoding: convert a spreadsheet with addresses into latitude-longitude so you can plot your data on a map\n* StoryMaps: harness the power of maps to tell your story\n* Integrating smartphones or tablets and GIS in your field courses or researchSetting up workshops for a class or group interested in learning to use GIS in the context of your discipline\n* Assistance with ESRI's ArcGIS platform\, including ArcGIS Pro and ArcGIS Online\, or other geospatial software\n* Developing your own custom GIS web application or mobile application\n\n*High Performance Computing (HPC)*\n\nOur HPC team can help with:\n* Accessing U-M’s new Great Lakes HPC (High Performance Computing) cluster\n* Moving your computational work from your laptop or workstation to the cluster\, freeing up your machines for other tasks\n* Compiling\, installing\, or configuring a wide range of computational software\n* Setting up automated workflows to save time\n* Debugging your programs to see why they are crashing\n* Evaluating the benefits of parallel computing\, more memory or system resources for your code\nWe regularly support Python\, R\, MATLAB\, C/C++\, Java\, Julia\, Go\, and many other applications.\n\n*Research Support Programming*\n\nOur computer programming team can help with any of the following:\n\n* Debugging\, repair\, and improvements or upgrades to your existing code\n* References to training and coding resources to assist in your project\n* Design and development of custom software to support your research\n* Incorporation of lab-specific hardware into custom software applications.\n* Writing funding for any of the above into your grant proposals\nWe're experienced in MATLAB\, Python\, R\, LabVIEW\, JavaScript\, MedPC\, iOS development\, and more.\n\nWho can join the office hours?\nLSA Faculty\, staff\, and students with research-related questions on geographic information systems\, high performance computing\, digital scholarship\, and computer programming\n\nWhen and where is it?\nOur virtual office hours use Zoom:\nMondays\, 2:00–3:00 P.M.\nTuesdays\, 10:00–11:00 A.M.\nThursdays\, 3:00–4:00 P.M.
UID:77718-20270805@events.umich.edu
URL:https://events.umich.edu/event/77718
CLASS:PUBLIC
STATUS:CONFIRMED
CATEGORIES:Digital Humanities,Digital Projects,Digital Scholarship,Faculty,Gis,Graduate Students,Humanities,Lsa,Office Hours,Postdoctoral Research Fellows,Qualitative Social Sciences,research,Science,Virtual
LOCATION:Off Campus Location
CONTACT:
END:VEVENT
BEGIN:VEVENT
DTSTAMP:20210716T123021
DTSTART;TZID=America/Detroit:20210701T150000
DTEND;TZID=America/Detroit:20210701T160000
SUMMARY:Careers / Jobs:PPD Summer Series: Company Overview with David Johnston
DESCRIPTION:Welcome to the PPD Summer Series! This summer\, we will be hosting 5 virtual events covering laboratory best practices\, diversity and inclusion\, career paths\, and professional skills. Join us for our first event\, a Company Overview with Executive Vice President\, David Johnston. \n\nPPD is a leading global contract research organization providing comprehensive\, integrated drug development\, laboratory and lifecycle management services. Our clients and partners include pharmaceutical\, biotechnology\, medical device\, academic and government organizations. With offices in 47 countries and approximately 27\,000 professionals worldwide\, PPD applies innovative technologies\, therapeutic expertise and a firm commitment to quality to help clients and partners bend the cost and time curve of drug development to deliver life-changing therapies that improve health.\n\nJoin the company that is driving the future of pharmaceutical development. Explore PPD Opportunities and follow us on Facebook\, LinkedIn\, Instagram and Twitter by clicking the icons on our site.\n\nwww.ppd.com/careers
UID:84492-21624087@events.umich.edu
URL:https://events.umich.edu/event/84492
CLASS:PUBLIC
STATUS:CONFIRMED
CATEGORIES:
LOCATION:
CONTACT:
END:VEVENT
BEGIN:VEVENT
DTSTAMP:20210723T121140
DTSTART;TZID=America/Detroit:20210701T160000
DTEND;TZID=America/Detroit:20210701T163000
SUMMARY:Livestream / Virtual:Enjoy the Planetarium from Home!
DESCRIPTION:A thirty-minute\, lighthearted review of the current night sky\, including constellations\, visible planets\, and other current astronomical events. Short Q&A session follows.\n\nGroups of 7 or more should consider booking a private show for the best experience.
UID:82986-21623583@events.umich.edu
URL:https://events.umich.edu/event/82986
CLASS:PUBLIC
STATUS:CONFIRMED
CATEGORIES:Children,Family,natural history museum,UMMA,Virtual
LOCATION:Off Campus Location
CONTACT:
END:VEVENT
BEGIN:VEVENT
DTSTAMP:20210630T161245
DTSTART;TZID=America/Detroit:20210701T160000
DTEND;TZID=America/Detroit:20210701T170000
SUMMARY:Workshop / Seminar:Pre-Law Office Hours for LSAT Retake
DESCRIPTION:Didn't do as well as you had hoped on the LSAT? Considering retaking? Drop in for a short presentation followed by a Q&A on assessing whether retaking is the right decision for you.\n\nhttps://umich.zoom/us/j/94169091915
UID:84378-21623642@events.umich.edu
URL:https://events.umich.edu/event/84378
CLASS:PUBLIC
STATUS:CONFIRMED
CATEGORIES:Alumni,Law,Pre-Law,Undergraduate Students
LOCATION:Off Campus Location
CONTACT:
END:VEVENT
BEGIN:VEVENT
DTSTAMP:20210716T123024
DTSTART;TZID=America/Detroit:20210701T200000
DTEND;TZID=America/Detroit:20210701T210000
SUMMARY:Careers / Jobs:Evolve 2021: Hybrid Internship Fundamentals: Live with Students On-site
DESCRIPTION:78% of our on-site Summer 2021 students are undertaking a hybrid internship\, meaning that they go to the office at least once per week and work the rest of the week remotely. We invite you to join an AssistantDirector for a Programs Abroad Office on how a hybrid internship program was approved and promoted as well as three of our current students who will expand on their hybrid experience interning with marketing\, fashion andhuman resources companies in Barcelona and London.\n\nSpeakers:\nMr. Michael Sáenz\, Interim Assistant Director\, Programs Abroad Office\, The University of Tennessee\, Knoxville\, United States\n\nMr. Thomas Wahl\, a Double degree student in Marketing and Public Relations with a collateral inInternational Business\, University of Tennessee\, Knoxville\, Digital Marketing Intern at Barrio Digital\, Barcelona\, Spain\n\nMs. Jordan Kreindler\, Film & Television student\, Boston University\, Fashion Intern at Talia Collins\, London\, UK\n\nMs. Almas Ali\, International MBA graduate\, Birmingham City University\, Marketing Intern at City Job Offers\, Barcelona\, Spain
UID:84513-21624108@events.umich.edu
URL:https://events.umich.edu/event/84513
CLASS:PUBLIC
STATUS:CONFIRMED
CATEGORIES:
LOCATION:
CONTACT:
END:VEVENT
END:VCALENDAR