BEGIN:VCALENDAR
VERSION:2.0
PRODID:-//UM//UM*Events//EN
CALSCALE:GREGORIAN
BEGIN:VTIMEZONE
TZID:America/Detroit
TZURL:http://tzurl.org/zoneinfo/America/Detroit
X-LIC-LOCATION:America/Detroit
BEGIN:DAYLIGHT
TZOFFSETFROM:-0500
TZOFFSETTO:-0400
TZNAME:EDT
DTSTART:20070311T020000
RRULE:FREQ=YEARLY;BYMONTH=3;BYDAY=2SU
END:DAYLIGHT
BEGIN:STANDARD
TZOFFSETFROM:-0400
TZOFFSETTO:-0500
TZNAME:EST
DTSTART:20071104T020000
RRULE:FREQ=YEARLY;BYMONTH=11;BYDAY=1SU
END:STANDARD
END:VTIMEZONE
BEGIN:VEVENT
DTSTAMP:20210511T124519
DTSTART;TZID=America/Detroit:20210707T080000
DTEND;TZID=America/Detroit:20210707T230000
SUMMARY:Other:Become a UROP Research Mentor
DESCRIPTION:Submit a Research Project for the 2021-2022 Academic Year: https://lsa.umich.edu/urop/research-mentors.html\n\nUROP Research Mentors are faculty and post-doc researchers from across all U-M's 19 Schools and Colleges who provide undergraduate student researchers an opportunity to engage in research activities that help them learn about the pursuit of knowledge within an academic discipline. This early exposure to research fosters a valuable academic experience for students. Through this collaboration\, students gain research skills and mentorship that lead to academic retention\, a more positive undergraduate experience and paths to graduate school.
UID:83879-21619459@events.umich.edu
URL:https://events.umich.edu/event/83879
CLASS:PUBLIC
STATUS:CONFIRMED
CATEGORIES:AEM Featured,Education,Faculty,Free,Graduate and Professional Students,Graduate Students,Interdisciplinary,Mentorship,Research,research data,Staff,Urop
LOCATION:Off Campus Location
CONTACT:
END:VEVENT
BEGIN:VEVENT
DTSTAMP:20210622T125149
DTSTART;TZID=America/Detroit:20210707T080000
DTEND;TZID=America/Detroit:20210707T230000
SUMMARY:Conference / Symposium:Become a UROP Symposium Presentation Judge
DESCRIPTION:Provide your expertise during the 2021 Virtual Summer Research Symposium on August 4th. UROP is looking for graduate students\, postdoctoral fellows\, faculty and staff who are interested in awarding undergraduate researchers with a blue ribbon honors for their UROP presentation during symposium.\n\nBecome a UROP Symposium judge at: https://myumi.ch/1p1eY
UID:84344-21623392@events.umich.edu
URL:https://events.umich.edu/event/84344
CLASS:PUBLIC
STATUS:CONFIRMED
CATEGORIES:AEM Featured,Energy,Engineering,Faculty,Fellowship,first-generation,Free,Graduate and Professional Students,Graduate Students,Interdisciplinary,LGBT,Public Health,Research,Staff,symposium,Urop,Virtual,Women's Studies
LOCATION:Off Campus Location
CONTACT:
END:VEVENT
BEGIN:VEVENT
DTSTAMP:20210430T095709
DTSTART;TZID=America/Detroit:20210707T080000
DTEND;TZID=America/Detroit:20210707T230000
SUMMARY:Careers / Jobs:Changing Gears Application Open
DESCRIPTION:Learn more about the Changing Gears Program and apply at: myumi.ch/uropcg\n\nChanging Gears (CG) is a UROP program designed primarily for community college transfer students who will be attending the University of Michigan\, but also serves students transferring from 4 year institutions. Students in the CG Program become a part of an ongoing faculty-driven research\, scholarly or creative project in their field of interest. Students learn valuable academic skills\, applying these skills to their research project\, academics\, and future career opportunities\, while receiving academic credit or compensation for their efforts in research work.\n\nIf you are a U-M Transfer Student and not graduating until winter 2022 and/or after\, you are eligible to apply to the 2021-2022 UROP Changing Gears Program.
UID:83922-21616964@events.umich.edu
URL:https://events.umich.edu/event/83922
CLASS:PUBLIC
STATUS:CONFIRMED
CATEGORIES:AEM Featured,first-generation,Free,Interdisciplinary,Networking,Office Hours,Research,Transfer Students,Undergraduate,Undergraduate Students,Urop
LOCATION:Off Campus Location
CONTACT:
END:VEVENT
BEGIN:VEVENT
DTSTAMP:20220502T122639
DTSTART;TZID=America/Detroit:20210707T080000
DTEND;TZID=America/Detroit:20210707T230000
SUMMARY:Careers / Jobs:UROP First-Year Application Open
DESCRIPTION:Our \"Traditional UROP Program\" has been our flagship program running over 30 years. This Academic Year program\, in which students participate for both Fall and Winter Terms\, is designed for University of Michigan first and second year undergraduate students enrolled on the Ann Arbor campus who are seeking a first time research experience. Student research assistants work alongside a faculty member\, research scientist or professional practitioner on an ongoing or new research project.\n\nLearn more and apply at: myumi.ch/uropyearone\n\nApplications being accepted on a rolling basis.
UID:83923-21617083@events.umich.edu
URL:https://events.umich.edu/event/83923
CLASS:PUBLIC
STATUS:CONFIRMED
CATEGORIES:AEM Featured,Applications,first-generation,Free,Interdisciplinary,Networking,Research,Undergraduate,Undergraduate Students,Urop
LOCATION:Undergraduate Science Building
CONTACT:
END:VEVENT
BEGIN:VEVENT
DTSTAMP:20210804T182828
DTSTART;TZID=America/Detroit:20210707T080000
DTEND;TZID=America/Detroit:20210707T230000
SUMMARY:Careers / Jobs:UROP Research Scholars Application now open
DESCRIPTION:The UROP Research Scholars Program is designed for students who want to expand on their first year UROP experience and participate in UROP for a second year at an advanced level. In this program\, students build upon the knowledge gained in a first undergraduate research experience to further explore the connections between research\, a liberal arts education\, and communicating skills to advance their future professional goals. Students are expected to explore various written and oral possibilities for communicating their research process\, identifying the limits set by the discipline and the opportunities that lie beyond.\n\nApply at: https://myumi.ch/uroprs
UID:82067-21014982@events.umich.edu
URL:https://events.umich.edu/event/82067
CLASS:PUBLIC
STATUS:CONFIRMED
CATEGORIES:AEM Featured,Applications,Free,Interdisciplinary,Research,Undergraduate,Undergraduate Students,Urop
LOCATION:Off Campus Location
CONTACT:
END:VEVENT
BEGIN:VEVENT
DTSTAMP:20210714T155619
DTSTART;TZID=America/Detroit:20210707T080000
DTEND;TZID=America/Detroit:20210707T230000
SUMMARY:Careers / Jobs:UROP Rising Sophomore Applications Open
DESCRIPTION:The Undergraduate Research Opportunity Program is now accepting applications for students who will be rising sophomores during the 2021-2022 academic year. \n\nLearn more and apply today at http://myumi.ch/uropsophomore\n\nRising Sophomore Applications are being accepted on a rolling basis.
UID:80546-21203449@events.umich.edu
URL:https://events.umich.edu/event/80546
CLASS:PUBLIC
STATUS:CONFIRMED
CATEGORIES:AEM Featured,Applications,first-generation,Free,Research,Sophomore,Undergraduate,Undergraduate Students,Urop
LOCATION:Off Campus Location
CONTACT:
END:VEVENT
BEGIN:VEVENT
DTSTAMP:20210701T145834
DTSTART;TZID=America/Detroit:20210707T100000
DTEND;TZID=America/Detroit:20210707T160000
SUMMARY:Exhibition:A Garden of Earthy Delights: Ceramic Sculptures by Ann Arbor Potters Guild at Matthaei Botanical Gardens
DESCRIPTION:Inspired by the synergy between nature’s beauty and complexity\, and in partnership with the University of Michigan Matthaei Botanical Gardens\, artists from the Ann Arbor Potters Guild created work centered around Michigan’s natural landscapes and specifically for the Great Lakes Garden at Matthaei. Potters Guild artists created eight free-standing sculptures using the full range of traditional ceramic methods and tools\, the potter’s wheel\, press molds\, coil building\, slab construction\, and sculpting. Depictions range from naturalistic and representational\, to abstract\, as well as a whimsical nod or two to the timeless role of fantasy and myth in humankind’s communion with nature. Exhibit is free but scheduled reservations are required to visit the botanical gardens. Use this link to book your visit: https://www.signupgenius.com/go/8050f4aadad22a2fd0-matthaei1
UID:84388-21623674@events.umich.edu
URL:https://events.umich.edu/event/84388
CLASS:PUBLIC
STATUS:CONFIRMED
CATEGORIES:Art,Outdoors
LOCATION:Matthaei Botanical Gardens
CONTACT:
END:VEVENT
BEGIN:VEVENT
DTSTAMP:20240116T141648
DTSTART;TZID=America/Detroit:20210707T120000
DTEND;TZID=America/Detroit:20210707T123000
SUMMARY:Well-being:North Campus Mindfulness Meditation Drop-In (Online)
DESCRIPTION:Take a moment to create some space to breathe and invite a sense of calm into your day. This is a guided mindfulness meditation drop-in session. No experience necessary. Free and open to all. \n\nEmail dmitryb@umich.edu to sign up for the mailing list. You will receive a weekly reminder with the zoom link. Also\, you can add the sessions to your Google Calendar: https://tinyurl.com/y3kbkwd6
UID:40967-21619239@events.umich.edu
URL:https://events.umich.edu/event/40967
CLASS:PUBLIC
STATUS:CONFIRMED
CATEGORIES:Health & Wellness,Meditation,Mindfulness,Mindfulness\, Meditation,North campus,Stress Reduction,Virtual,Well-being
LOCATION:Off Campus Location
CONTACT:
END:VEVENT
BEGIN:VEVENT
DTSTAMP:20210722T123042
DTSTART;TZID=America/Detroit:20210707T130000
SUMMARY:Careers / Jobs:2021 Summer Web Series: MBA/Master’s Opportunities
DESCRIPTION:Amazon Student Programs is excited to kick-off our 2021 SummerWeb Series between June 30 - August 25\, 2021. Summer Web Series is a program of virtual events designed to expand your knowledge of opportunities available for MBA and Master’s students at Amazon. \n\nThe goal of the Summer Web Series is to connect with students to: \n- Build awareness of the unique employment opportunities available at Amazon\; \n- Create a community for connectivity\; and\, \n- Share examples of life at Amazon\, navigating a virtual workplace\, career progression\, and resources for professional development.\n\nWe look forward to having you join us.
UID:84539-21624134@events.umich.edu
URL:https://events.umich.edu/event/84539
CLASS:PUBLIC
STATUS:CONFIRMED
CATEGORIES:
LOCATION:
CONTACT:
END:VEVENT
BEGIN:VEVENT
DTSTAMP:20210602T135602
DTSTART;TZID=America/Detroit:20210707T130000
DTEND;TZID=America/Detroit:20210707T140000
SUMMARY:Livestream / Virtual:UROP Summer Virtual Office Hours
DESCRIPTION:UROP Staff will be available during the summer via Zoom office hours to answer questions from those who drop in. No appointment necessary.\n\nWednesdays (1-2pm ET)\nThursdays (1-2pm ET)\nFriday (11:30am - 12:30pm ET)\nhttps://myumi.ch/1p1d3\n\nThe Undergraduate Research Opportunity Program (UROP) offers several different programs throughout the academic year for University of Michigan-Ann Arbor undergraduate students to discover the world of research through collaborations with U-M researchers. Students participating in the program are called research assistants and work alongside a faculty member\, research scientist or professional practitioner on an ongoing or new research project.
UID:84176-21620717@events.umich.edu
URL:https://events.umich.edu/event/84176
CLASS:PUBLIC
STATUS:CONFIRMED
CATEGORIES:Admissions,AEM Featured,Applications,first-generation,Free,Interdisciplinary,Office Hours,Research,Undergraduate,Undergraduate Students,Urop,Virtual
LOCATION:Off Campus Location
CONTACT:
END:VEVENT
BEGIN:VEVENT
DTSTAMP:20210506T120820
DTSTART;TZID=America/Detroit:20210707T140000
DTEND;TZID=America/Detroit:20210707T153000
SUMMARY:Meeting:CoderSpaces (Wednesdays)
DESCRIPTION:Are you grappling with a piece of code\, trying to compute on a cluster\, or just getting started with a new method such as machine learning? Then we might have just the right space for you.\n\nAll members of the U-M community are invited to join our weekly virtual CoderSpaces\, Mondays – Thursdays\, during the Summer 2021 term to get research support and connect with others.\n\nThe virtual sessions are designed to assist faculty\, staff\, and students with research methodology\, statistics\, data science applications\, and computational programming for research.\n\nOur hosts have a wide set of methodological and technological expertise. They come to you from a variety of departments and disciplines and are looking forward to serving the U-M community in their research endeavors.\n\nCoderSpaces provide a casual\, productive\, and inclusive environment. Everyone is welcome regardless of skill level.\n\nWednesdays 2-2:30 p.m.\nJoin via Zoom* (https://umich.zoom.us/j/96392817699)\n*Users will have to sign in with their UMICH (Level-1) credentials.\n\nwith Armand Burks (ARC/UMSI)\, Jule Krüger (ISR/ARC)\, Meghan Richey (ARC)\, Shelly Johnson (ARC)\n\nExpertise: automation of tasks and workflows\, Bash\, C++\, cloud analytics\, data analysis\, management and visualization\, Git\, GNU Make\, high performance computing\, installing software on University clusters\, Java\, LaTeX\, machine learning (Tensorflow\, Keras\, convolutional neural networks)\, natural language processing\, Python\, R\, R Markdown\, web scraping (Selenium)
UID:83926-21619133@events.umich.edu
URL:https://events.umich.edu/event/83926
CLASS:PUBLIC
STATUS:CONFIRMED
CATEGORIES:Arc,Data Science,Information And Technology,Office Hours,Virtual
LOCATION:Off Campus Location
CONTACT:
END:VEVENT
BEGIN:VEVENT
DTSTAMP:20210722T123044
DTSTART;TZID=America/Detroit:20210707T144500
DTEND;TZID=America/Detroit:20210707T153000
SUMMARY:Careers / Jobs:Info Call to become a Campus Manager with Fresh Prints
DESCRIPTION:Fresh Prints is a custom apparel company. We find incredible students and give them the working capital\, training\, and support to start and run custom apparel businesses on their campuses. We already have a rapidly growing (too rapidly) army of 300+ Campus Managers and 100+ full-time team members who’d love to have you join the fam!
UID:84552-21624147@events.umich.edu
URL:https://events.umich.edu/event/84552
CLASS:PUBLIC
STATUS:CONFIRMED
CATEGORIES:
LOCATION:
CONTACT:
END:VEVENT
BEGIN:VEVENT
DTSTAMP:20210722T123031
DTSTART;TZID=America/Detroit:20210707T150000
DTEND;TZID=America/Detroit:20210707T154000
SUMMARY:Careers / Jobs:Being A Team Player
DESCRIPTION:Having a team player mindset is imperative today. Individuals must learn personal responsibility for the team’s success\, understand the why's of cooperation\, and how that plays into professional success. Attend this information-packed session to learn what a high-performing team player is\, tips for collaborating with team members at all levels\, and ways to leverage this information moving forward.
UID:84470-21624065@events.umich.edu
URL:https://events.umich.edu/event/84470
CLASS:PUBLIC
STATUS:CONFIRMED
CATEGORIES:
LOCATION:
CONTACT:
END:VEVENT
BEGIN:VEVENT
DTSTAMP:20210722T123038
DTSTART;TZID=America/Detroit:20210707T150000
DTEND;TZID=America/Detroit:20210707T160000
SUMMARY:Careers / Jobs:U.S. Secret Service Law Enforcement Careers
DESCRIPTION:You've imagined finding a great job. But have you ever considered finding it with the U.S. Secret Service? We'll let you in on a secret:We're currently hiring for Special Agents (Criminal Investigators) and Uniformed Division Officers (Federal Police Officers) and we are looking forcandidates like you.\n\nEvent date: Wednesday\, July 7\, 2021\nEvent time: 3:00 PM EST – 4:00 PM EST\nEvent platform: Microsoft Teams\n\nSecret Service recruiters will be discussing our agency’s mission\, the roles ofthese law enforcement career opportunities\, qualifications and the application process.\n\nAt the Secret Service\, there's no such thing as \"just another day at the office.\" Consider the possibilities. Then consider this: The secret to having a long and successful career may be closer than youthink. Leave Your Ordinary Life At The Door. Join The U.S. Secret Service.\n\nWe look forward to speaking with you!\n\nIsisnachelly Rosario\nOfficer Technician\nU.S. Secret Service Recruiting Team
UID:84512-21624107@events.umich.edu
URL:https://events.umich.edu/event/84512
CLASS:PUBLIC
STATUS:CONFIRMED
CATEGORIES:
LOCATION:
CONTACT:
END:VEVENT
BEGIN:VEVENT
DTSTAMP:20210630T145512
DTSTART;TZID=America/Detroit:20210707T220000
DTEND;TZID=America/Detroit:20210707T235900
SUMMARY:Lecture / Discussion:CSEAS Cosponsored Event. MINDANAO REGIONAL FORUM: “Plantations for Peace in Mindanao Conflict Areas: Pitfalls\, Promise\, Prognosis”
DESCRIPTION:July 6\, Tuesday\, 10 PM Eastern Time \n*July 7\, Wednesday\, 10 AM Philippines Time*\n\nPlease register at https://bit.ly/PESmindanaoforum2021.\n\nWe welcome all interested scholars to the following multi-stakeholder roundtable on the place of industrial agriculture in the past and future imaginaries of the Philippine South. \n\nEconomic stagnation\, poverty\, and armed conflict are locked in a vicious cycle with tremendous impacts on lives and livelihood.  One attempt to break the cycle was the pioneering investments in banana plantations in former conflict areas that initially solved multidimensional problems involving property protection\, harmonization of local cultural norms with international business practices\, and complementary investments.  However\, this model has recently been beset by external and internal challenges that threaten business viability—and also the peace it provides.  This forum aims to extract the issues surrounding this development paradigm and highlight the pitfalls and the promise of such a model.\n\nSpeakers and panelists:\n\nCielito Habito\, Ateneo de Manila University\nSenen Bacani\, Department of Agriculture\, Philippines\nAlyssa Paredes\, University of Michigan\nCharlotte Conde\, Land Bank of the Philippines\nBai Mariam S. Mangudadatu\, Province of Maguindanao\nDatu Abubakar P. Paglas\, Datu Paglas Maguindanao\n\nThis event is co-sponsored by the Philippine Economic Society\, the University of the Philippines\, Ateneo de Manila University\, the University of Hawaii at Manoa\, the University of Michigan in Ann Arbor\, and Northern Bukidnon State College. \n\nFor inquiries\, please email pes.eaea@gmail.com
UID:84377-21623641@events.umich.edu
URL:https://events.umich.edu/event/84377
CLASS:PUBLIC
STATUS:CONFIRMED
CATEGORIES:Area Studies,center for southeast asian studies,Emerging Democracies,Philippines,Social Impact,Social Sciences,Southeast Asia
LOCATION:Off Campus Location
CONTACT:
END:VEVENT
END:VCALENDAR