BEGIN:VCALENDAR
VERSION:2.0
PRODID:-//UM//UM*Events//EN
CALSCALE:GREGORIAN
BEGIN:VTIMEZONE
TZID:America/Detroit
TZURL:http://tzurl.org/zoneinfo/America/Detroit
X-LIC-LOCATION:America/Detroit
BEGIN:DAYLIGHT
TZOFFSETFROM:-0500
TZOFFSETTO:-0400
TZNAME:EDT
DTSTART:20070311T020000
RRULE:FREQ=YEARLY;BYMONTH=3;BYDAY=2SU
END:DAYLIGHT
BEGIN:STANDARD
TZOFFSETFROM:-0400
TZOFFSETTO:-0500
TZNAME:EST
DTSTART:20071104T020000
RRULE:FREQ=YEARLY;BYMONTH=11;BYDAY=1SU
END:STANDARD
END:VTIMEZONE
BEGIN:VEVENT
DTSTAMP:20210511T124519
DTSTART;TZID=America/Detroit:20210708T080000
DTEND;TZID=America/Detroit:20210708T230000
SUMMARY:Other:Become a UROP Research Mentor
DESCRIPTION:Submit a Research Project for the 2021-2022 Academic Year: https://lsa.umich.edu/urop/research-mentors.html\n\nUROP Research Mentors are faculty and post-doc researchers from across all U-M's 19 Schools and Colleges who provide undergraduate student researchers an opportunity to engage in research activities that help them learn about the pursuit of knowledge within an academic discipline. This early exposure to research fosters a valuable academic experience for students. Through this collaboration\, students gain research skills and mentorship that lead to academic retention\, a more positive undergraduate experience and paths to graduate school.
UID:83879-21619460@events.umich.edu
URL:https://events.umich.edu/event/83879
CLASS:PUBLIC
STATUS:CONFIRMED
CATEGORIES:AEM Featured,Education,Faculty,Free,Graduate and Professional Students,Graduate Students,Interdisciplinary,Mentorship,Research,research data,Staff,Urop
LOCATION:Off Campus Location
CONTACT:
END:VEVENT
BEGIN:VEVENT
DTSTAMP:20210622T125149
DTSTART;TZID=America/Detroit:20210708T080000
DTEND;TZID=America/Detroit:20210708T230000
SUMMARY:Conference / Symposium:Become a UROP Symposium Presentation Judge
DESCRIPTION:Provide your expertise during the 2021 Virtual Summer Research Symposium on August 4th. UROP is looking for graduate students\, postdoctoral fellows\, faculty and staff who are interested in awarding undergraduate researchers with a blue ribbon honors for their UROP presentation during symposium.\n\nBecome a UROP Symposium judge at: https://myumi.ch/1p1eY
UID:84344-21623393@events.umich.edu
URL:https://events.umich.edu/event/84344
CLASS:PUBLIC
STATUS:CONFIRMED
CATEGORIES:AEM Featured,Energy,Engineering,Faculty,Fellowship,first-generation,Free,Graduate and Professional Students,Graduate Students,Interdisciplinary,LGBT,Public Health,Research,Staff,symposium,Urop,Virtual,Women's Studies
LOCATION:Off Campus Location
CONTACT:
END:VEVENT
BEGIN:VEVENT
DTSTAMP:20210430T095709
DTSTART;TZID=America/Detroit:20210708T080000
DTEND;TZID=America/Detroit:20210708T230000
SUMMARY:Careers / Jobs:Changing Gears Application Open
DESCRIPTION:Learn more about the Changing Gears Program and apply at: myumi.ch/uropcg\n\nChanging Gears (CG) is a UROP program designed primarily for community college transfer students who will be attending the University of Michigan\, but also serves students transferring from 4 year institutions. Students in the CG Program become a part of an ongoing faculty-driven research\, scholarly or creative project in their field of interest. Students learn valuable academic skills\, applying these skills to their research project\, academics\, and future career opportunities\, while receiving academic credit or compensation for their efforts in research work.\n\nIf you are a U-M Transfer Student and not graduating until winter 2022 and/or after\, you are eligible to apply to the 2021-2022 UROP Changing Gears Program.
UID:83922-21616965@events.umich.edu
URL:https://events.umich.edu/event/83922
CLASS:PUBLIC
STATUS:CONFIRMED
CATEGORIES:AEM Featured,first-generation,Free,Interdisciplinary,Networking,Office Hours,Research,Transfer Students,Undergraduate,Undergraduate Students,Urop
LOCATION:Off Campus Location
CONTACT:
END:VEVENT
BEGIN:VEVENT
DTSTAMP:20220502T122639
DTSTART;TZID=America/Detroit:20210708T080000
DTEND;TZID=America/Detroit:20210708T230000
SUMMARY:Careers / Jobs:UROP First-Year Application Open
DESCRIPTION:Our \"Traditional UROP Program\" has been our flagship program running over 30 years. This Academic Year program\, in which students participate for both Fall and Winter Terms\, is designed for University of Michigan first and second year undergraduate students enrolled on the Ann Arbor campus who are seeking a first time research experience. Student research assistants work alongside a faculty member\, research scientist or professional practitioner on an ongoing or new research project.\n\nLearn more and apply at: myumi.ch/uropyearone\n\nApplications being accepted on a rolling basis.
UID:83923-21617084@events.umich.edu
URL:https://events.umich.edu/event/83923
CLASS:PUBLIC
STATUS:CONFIRMED
CATEGORIES:AEM Featured,Applications,first-generation,Free,Interdisciplinary,Networking,Research,Undergraduate,Undergraduate Students,Urop
LOCATION:Undergraduate Science Building
CONTACT:
END:VEVENT
BEGIN:VEVENT
DTSTAMP:20210804T182828
DTSTART;TZID=America/Detroit:20210708T080000
DTEND;TZID=America/Detroit:20210708T230000
SUMMARY:Careers / Jobs:UROP Research Scholars Application now open
DESCRIPTION:The UROP Research Scholars Program is designed for students who want to expand on their first year UROP experience and participate in UROP for a second year at an advanced level. In this program\, students build upon the knowledge gained in a first undergraduate research experience to further explore the connections between research\, a liberal arts education\, and communicating skills to advance their future professional goals. Students are expected to explore various written and oral possibilities for communicating their research process\, identifying the limits set by the discipline and the opportunities that lie beyond.\n\nApply at: https://myumi.ch/uroprs
UID:82067-21014983@events.umich.edu
URL:https://events.umich.edu/event/82067
CLASS:PUBLIC
STATUS:CONFIRMED
CATEGORIES:AEM Featured,Applications,Free,Interdisciplinary,Research,Undergraduate,Undergraduate Students,Urop
LOCATION:Off Campus Location
CONTACT:
END:VEVENT
BEGIN:VEVENT
DTSTAMP:20210714T155619
DTSTART;TZID=America/Detroit:20210708T080000
DTEND;TZID=America/Detroit:20210708T230000
SUMMARY:Careers / Jobs:UROP Rising Sophomore Applications Open
DESCRIPTION:The Undergraduate Research Opportunity Program is now accepting applications for students who will be rising sophomores during the 2021-2022 academic year. \n\nLearn more and apply today at http://myumi.ch/uropsophomore\n\nRising Sophomore Applications are being accepted on a rolling basis.
UID:80546-21203450@events.umich.edu
URL:https://events.umich.edu/event/80546
CLASS:PUBLIC
STATUS:CONFIRMED
CATEGORIES:AEM Featured,Applications,first-generation,Free,Research,Sophomore,Undergraduate,Undergraduate Students,Urop
LOCATION:Off Campus Location
CONTACT:
END:VEVENT
BEGIN:VEVENT
DTSTAMP:20210701T145834
DTSTART;TZID=America/Detroit:20210708T100000
DTEND;TZID=America/Detroit:20210708T160000
SUMMARY:Exhibition:A Garden of Earthy Delights: Ceramic Sculptures by Ann Arbor Potters Guild at Matthaei Botanical Gardens
DESCRIPTION:Inspired by the synergy between nature’s beauty and complexity\, and in partnership with the University of Michigan Matthaei Botanical Gardens\, artists from the Ann Arbor Potters Guild created work centered around Michigan’s natural landscapes and specifically for the Great Lakes Garden at Matthaei. Potters Guild artists created eight free-standing sculptures using the full range of traditional ceramic methods and tools\, the potter’s wheel\, press molds\, coil building\, slab construction\, and sculpting. Depictions range from naturalistic and representational\, to abstract\, as well as a whimsical nod or two to the timeless role of fantasy and myth in humankind’s communion with nature. Exhibit is free but scheduled reservations are required to visit the botanical gardens. Use this link to book your visit: https://www.signupgenius.com/go/8050f4aadad22a2fd0-matthaei1
UID:84388-21623675@events.umich.edu
URL:https://events.umich.edu/event/84388
CLASS:PUBLIC
STATUS:CONFIRMED
CATEGORIES:Art,Outdoors
LOCATION:Matthaei Botanical Gardens
CONTACT:
END:VEVENT
BEGIN:VEVENT
DTSTAMP:20210701T003209
DTSTART;TZID=America/Detroit:20210708T113000
DTEND;TZID=America/Detroit:20210708T123000
SUMMARY:Livestream / Virtual:Virtual Michigan Medicine Community Conversation
DESCRIPTION:Community Conversations is an opportunity for faculty\, staff and student to come together weekly to engage on meaningful ways to increase belonging at Michigan Medicine. We feel that it is important to carve out space for dialogue\, provide support for one another\, promote self-care\, and share valuable resources. The sessions are designed for space to hear your voice and all are welcome!\n\nhttps://ohei.med.umich.edu/events
UID:84380-21623653@events.umich.edu
URL:https://events.umich.edu/event/84380
CLASS:PUBLIC
STATUS:CONFIRMED
CATEGORIES:Diversity,Michigan Medicine Diversity
LOCATION:Off Campus Location
CONTACT:
END:VEVENT
BEGIN:VEVENT
DTSTAMP:20210723T063041
DTSTART;TZID=America/Detroit:20210708T120000
DTEND;TZID=America/Detroit:20210708T133000
SUMMARY:Careers / Jobs:Virtual Information Session for Contact Representative positions
DESCRIPTION:We are hosting a virtual information session on our Contact Representative positions with the IRS' Small Business and Self-Employed Division\n\nDuring this virtual information session\, you will hear from Contact Representatives in customer service and collections\, who will give youa better understanding of the work they do day-to-day. We will also have HR Representatives attending the session to discuss the application process and some of the requirements for the positions. \n\nRSVP today! This session begins at 12:00 pm EST.\n\nFor additional information on our open positions send an email to SBSE.Recruitment@irs.gov with your name and inquiry and we will answer your questions.
UID:84559-21624154@events.umich.edu
URL:https://events.umich.edu/event/84559
CLASS:PUBLIC
STATUS:CONFIRMED
CATEGORIES:
LOCATION:
CONTACT:
END:VEVENT
BEGIN:VEVENT
DTSTAMP:20210602T135602
DTSTART;TZID=America/Detroit:20210708T130000
DTEND;TZID=America/Detroit:20210708T140000
SUMMARY:Livestream / Virtual:UROP Summer Virtual Office Hours
DESCRIPTION:UROP Staff will be available during the summer via Zoom office hours to answer questions from those who drop in. No appointment necessary.\n\nWednesdays (1-2pm ET)\nThursdays (1-2pm ET)\nFriday (11:30am - 12:30pm ET)\nhttps://myumi.ch/1p1d3\n\nThe Undergraduate Research Opportunity Program (UROP) offers several different programs throughout the academic year for University of Michigan-Ann Arbor undergraduate students to discover the world of research through collaborations with U-M researchers. Students participating in the program are called research assistants and work alongside a faculty member\, research scientist or professional practitioner on an ongoing or new research project.
UID:84176-21620727@events.umich.edu
URL:https://events.umich.edu/event/84176
CLASS:PUBLIC
STATUS:CONFIRMED
CATEGORIES:Admissions,AEM Featured,Applications,first-generation,Free,Interdisciplinary,Office Hours,Research,Undergraduate,Undergraduate Students,Urop,Virtual
LOCATION:Off Campus Location
CONTACT:
END:VEVENT
BEGIN:VEVENT
DTSTAMP:20210506T120852
DTSTART;TZID=America/Detroit:20210708T140000
DTEND;TZID=America/Detroit:20210708T153000
SUMMARY:Meeting:CoderSpaces (Thursdays)
DESCRIPTION:Are you grappling with a piece of code\, trying to compute on a cluster\, or just getting started with a new method such as machine learning? Then we might have just the right space for you.\n\nAll members of the U-M community are invited to join our weekly virtual CoderSpaces\, Mondays – Thursdays\, during the Summer 2021 term to get research support and connect with others.\n\nThe virtual sessions are designed to assist faculty\, staff\, and students with research methodology\, statistics\, data science applications\, and computational programming for research.\n\nOur hosts have a wide set of methodological and technological expertise. They come to you from a variety of departments and disciplines and are looking forward to serving the U-M community in their research endeavors.\n\nCoderSpaces provide a casual\, productive\, and inclusive environment. Everyone is welcome regardless of skill level.\n\nThursdays 2-3:30 p.m.\nJoin via Zoom* (https://umich.zoom.us/j/99436245948)\n*Users will have to sign in with their UMICH (Level-1) credentials.\n\nwith Bennet Fauber (ARC)\, Bridget Hegarty (CEE)\, Erin Ware (SRC/ISR)\, Kelly Sovacool (DCMB)\n\nExpertise: automation of tasks and workflows\, Bash\, batch scripting\, data management\, Git\, GitHub\, high performance computing\, installing software on University clusters\, Linux\, math for data science\, Python\, R\, R Markdown\, R tidyverse\, SAS\, Slurm\, Snakemake\, statistical modeling
UID:83931-21619155@events.umich.edu
URL:https://events.umich.edu/event/83931
CLASS:PUBLIC
STATUS:CONFIRMED
CATEGORIES:Data Science,Information And Technology,Office Hours
LOCATION:Off Campus Location
CONTACT:
END:VEVENT
BEGIN:VEVENT
DTSTAMP:20210617T181514
DTSTART;TZID=America/Detroit:20210708T140000
DTEND;TZID=America/Detroit:20210708T144500
SUMMARY:Livestream / Virtual:Coffee Chats for Graduate Students: Creating a Compelling Resume
DESCRIPTION:We are offering weekly coffee chats for the graduate student community\, hosted by Rackham’s embedded University Career Center career counselor. Are you having a hard time synthesizing your academic experiences to apply for opportunities beyond the professoriate? Whether you are looking to improve your current resume or build one from scratch\, this session will provide you with strategies to help you craft a compelling resume that showcases your experiences\, talents\, and skills. If you have a draft resume\, please have it on hand so you can refer to it during the workshop\nRegistration is required at https://myumi.ch/AxjA5.\nWe want to ensure full and equitable participation in our events. If an accommodation would promote your full participation in this event\, please follow the registration link to indicate your accommodation requirements. Please let us know as soon as possible in order to have adequate time\, preferably one week\, to arrange for your requested accommodations or an effective alternative.
UID:84314-21623273@events.umich.edu
URL:https://events.umich.edu/event/84314
CLASS:PUBLIC
STATUS:CONFIRMED
CATEGORIES:Graduate Students
LOCATION:Off Campus Location
CONTACT:
END:VEVENT
BEGIN:VEVENT
DTSTAMP:20210617T180745
DTSTART;TZID=America/Detroit:20210708T140000
DTEND;TZID=America/Detroit:20210708T150000
SUMMARY:Presentation:Examining the Risk of Potentially Preventable Hospitalization in Adults with Congenital and Acquired Disabilities
DESCRIPTION:Link to registration: https://umich.zoom.us/webinar/register/WN_0EcJEoE7QP-KtRCtxJnRqw\n\nAdults with pediatric-onset (cerebral palsy/spina bifida (CP/SB)) or acquired disabilities (spinal cord injury (SCI) or multiple sclerosis (MS)) are more likely than those without disability to develop medical complications. Little is known about potentially preventable hospitalizations (PPH) among adults with disabilities. PPHs are preventable if a patient had timely access to care. The objective of this study was to examine potential risk and protective factors for PPH\, comparing adults with aforementioned disabilities to people without. Our results indicate that adults with disabilities were at greater odds for PPH compared to people without disabilities. Use of preventative services such as annual wellness visit had substantial protective association against PPH. Attendees will learn: (1) how to work with administrative claims data and medical codes to identify appropriate case and control groups\; (2) how to define covariates and outcome measures in claims data\; (3) how to use various modeling techniques to test a hypothesis\; (4) how to interpret the results and develop policy implications.\n\nThis webinar is free and open to the public. Communication Access Realtime Translation services will be available to provide live closed captions for the event.\n\nThe content of this webinar has been developed under a grant from the National Institute on Disability\, Independent Living\, and Rehabilitation Research (NIDILRR #90RTHF0001). NIDILRR is a Center within the Administration for Community Living (ACL)\, Department of Health and Human Services (HHS). The contents of this webinar do not necessarily represent the policy of NIDILRR\, ACL\, or HHS and you should not assume endorsement by the Federal Government.
UID:84312-21623271@events.umich.edu
URL:https://events.umich.edu/event/84312
CLASS:PUBLIC
STATUS:CONFIRMED
CATEGORIES:Disability,Health & Wellness,Medicine,Public Health,Virtual,Webinar
LOCATION:Off Campus Location
CONTACT:
END:VEVENT
BEGIN:VEVENT
DTSTAMP:20211209T160155
DTSTART;TZID=America/Detroit:20210708T150000
DTEND;TZID=America/Detroit:20210708T160000
SUMMARY:Other:LSA Technology Services Research Support Office Hours
DESCRIPTION:The Research Team within LSA Technology Services is excited to announce virtual office hours for research computing support. These are regularly scheduled times when we will have subject matter experts in geographic information systems\, high performance computing\, digital scholarship\, and computer programming available for drop-in support. Faculty\, staff\, and students with research-related questions pertaining to any of these areas can stop by to ask questions\, get help working through a problem\, or inquire about a new project—no appointment necessary!\n\nNot sure what we can do to help? Read on for more details about the services provided by each of these teams.\n\n*Digital Scholarship*\nOur digital scholarship team specializes in humanities\, social sciences\, and interdisciplinary digital project methods and can provide assistance with:\n* Conceptualizing\, planning\, and finding resources for a digital project\n* How to version\, archive\, and preserve a project\n* Sustainability\, preservation\, accessibility\, privacy\, consent\, or grant requirements\nNew to digital projects? We can also talk about how to demonstrate the scholarly rigor of your digital project\, accurately credit the labor required of the project at every stage\, and how to provide evidence and metrics for promotion and job dossiers.\n\n*Geographic Information Systems (GIS)*\n\nOur GIS specialists can help with your geographic data needs\, including the following:\n* Making maps for use in a class\, grant proposal\, or publication\n* Geospatial analysis: identifying spatial patterns and trends in your data\n* Georeferencing: assigning geographic coordinates to a historic paper map or a hand-drawn sketch for digital use as a basemap or combined display with other data\n* Geocoding: convert a spreadsheet with addresses into latitude-longitude so you can plot your data on a map\n* StoryMaps: harness the power of maps to tell your story\n* Integrating smartphones or tablets and GIS in your field courses or researchSetting up workshops for a class or group interested in learning to use GIS in the context of your discipline\n* Assistance with ESRI's ArcGIS platform\, including ArcGIS Pro and ArcGIS Online\, or other geospatial software\n* Developing your own custom GIS web application or mobile application\n\n*High Performance Computing (HPC)*\n\nOur HPC team can help with:\n* Accessing U-M’s new Great Lakes HPC (High Performance Computing) cluster\n* Moving your computational work from your laptop or workstation to the cluster\, freeing up your machines for other tasks\n* Compiling\, installing\, or configuring a wide range of computational software\n* Setting up automated workflows to save time\n* Debugging your programs to see why they are crashing\n* Evaluating the benefits of parallel computing\, more memory or system resources for your code\nWe regularly support Python\, R\, MATLAB\, C/C++\, Java\, Julia\, Go\, and many other applications.\n\n*Research Support Programming*\n\nOur computer programming team can help with any of the following:\n\n* Debugging\, repair\, and improvements or upgrades to your existing code\n* References to training and coding resources to assist in your project\n* Design and development of custom software to support your research\n* Incorporation of lab-specific hardware into custom software applications.\n* Writing funding for any of the above into your grant proposals\nWe're experienced in MATLAB\, Python\, R\, LabVIEW\, JavaScript\, MedPC\, iOS development\, and more.\n\nWho can join the office hours?\nLSA Faculty\, staff\, and students with research-related questions on geographic information systems\, high performance computing\, digital scholarship\, and computer programming\n\nWhen and where is it?\nOur virtual office hours use Zoom:\nMondays\, 2:00–3:00 P.M.\nTuesdays\, 10:00–11:00 A.M.\nThursdays\, 3:00–4:00 P.M.
UID:77718-20270806@events.umich.edu
URL:https://events.umich.edu/event/77718
CLASS:PUBLIC
STATUS:CONFIRMED
CATEGORIES:Digital Humanities,Digital Projects,Digital Scholarship,Faculty,Gis,Graduate Students,Humanities,Lsa,Office Hours,Postdoctoral Research Fellows,Qualitative Social Sciences,research,Science,Virtual
LOCATION:Off Campus Location
CONTACT:
END:VEVENT
BEGIN:VEVENT
DTSTAMP:20210723T123033
DTSTART;TZID=America/Detroit:20210708T150000
DTEND;TZID=America/Detroit:20210708T160000
SUMMARY:Careers / Jobs:Resume Lab
DESCRIPTION:*RSVP for this program. Click \"Join Event\" here: https://umich.joinhandshake.com/events/775706\n\nJust getting started building a resume? Have a draft but not sure how to make it better? Want to learn about resources available to revise your resume? Wherever you’re at Resume Lab isa great next step for you.\n\nTime is spent learning the basics\, having your resume reviewed\, and answering your questions.\n\nIf you're a Graduate Student\, please make a 1:1 appointment instead of attending the Lab sowe can cater because this event is designed for undergraduates.\n\nNote: This event's information is shown in Handshake as well as on the Happening@ Michigan calendar so that it will be seen by a larger number of U-M Students. If you'd like to indicate that you'll be attending this event then please go to: https://umich.joinhandshake.com/events/775706\n\nRecent Grads: If you are an alumnus\, you will not be able to access the link due theUniversity’s policy of discontinuing alumni Zoom accounts 30 days aftergraduation. Please contact careercenter@umich.edu with the subject line“Recent Grad Help” to receive either a recording of the session or tobe set up with a 1:1. Include the name of the workshop/event in your email.
UID:84495-21624090@events.umich.edu
URL:https://events.umich.edu/event/84495
CLASS:PUBLIC
STATUS:CONFIRMED
CATEGORIES:
LOCATION:https://umich.zoom.us/j/2745640240
CONTACT:
END:VEVENT
BEGIN:VEVENT
DTSTAMP:20210723T121234
DTSTART;TZID=America/Detroit:20210708T160000
DTEND;TZID=America/Detroit:20210708T163000
SUMMARY:Livestream / Virtual:Enjoy the Planetarium from Home!
DESCRIPTION:A short look at our solar system with planets\, moons\, orbits\, and a little about their formation. We'll also take a brief look at how planets appear in our current night sky. Short Q&A session follows.\n\nGroups of 7 or more should consider booking a private show for the best experience.
UID:82984-21623588@events.umich.edu
URL:https://events.umich.edu/event/82984
CLASS:PUBLIC
STATUS:CONFIRMED
CATEGORIES:Children,Family,natural history museum,UMMA,Virtual
LOCATION:Off Campus Location
CONTACT:
END:VEVENT
BEGIN:VEVENT
DTSTAMP:20210723T003033
DTSTART;TZID=America/Detroit:20210708T170000
DTEND;TZID=America/Detroit:20210708T180000
SUMMARY:Careers / Jobs:2021 Morgan Stanley Asia Webinar Series : ISG \"Day in the life of Industrial Placement\"
DESCRIPTION:We would like to invite university students (graduating between October 2022 to July 2023) from any degree discipline\, who are interested in a career in the banking industry\, to join us for this webinar.\n\nEvent details\nDate: July 8\, 2021  (Thursday)\nTime: 5 – 6pm (Hong Kong time)\nMode: Virtual\n\nJoin us for this webinar where you will hear about:\n•Introduction to Morgan Stanley\, Institutional Securities Group Asiaand the work we do\n•Discuss the advantages and unique career opportunities the banking industry in the Asia region presents\n•Gain insight into the day-to-day life of our Industrial Placement Intern in Investment Banking\, Global Capital Markets and Sales & Trading Division\n•Overview ofinternship opportunities and the skills we look for\n•Live Q&A with ourbusiness representatives and campus recruiters\n•Learn about our upcoming virtual events\n\nTo apply:\nVisit our event registration page: https://morganstanley.tal.net/vx/mobile-0/brand-2/candidate/so/pm/1/pl/2/opp/11714-2021-Morgan-Stanley-Asia-Webinar-Series-ISG-Day-in-the-life-of-Industrial-Placement/en-GB \nto complete an online application with your resume by July 4\, 2021 (23:55 Hong Kong Time).\n\n\nDue to limited seats\, this event is by invitation only and successful applicants will be notified with event details via the email address indicated on your application.\n\nFor enquiries\, please email us at asia.recruit@morganstanley.com\n
UID:84493-21624088@events.umich.edu
URL:https://events.umich.edu/event/84493
CLASS:PUBLIC
STATUS:CONFIRMED
CATEGORIES:
LOCATION:
CONTACT:
END:VEVENT
BEGIN:VEVENT
DTSTAMP:20210525T144724
DTSTART;TZID=America/Detroit:20210708T180000
DTEND;TZID=America/Detroit:20210708T190000
SUMMARY:Presentation:Transfer to LSA Information Session
DESCRIPTION:Join the LSA Student Recruitment Team for our weekly virtual sessions where we will discuss LSA requirements\, transfer credit\, pre-transfer academic advising\, LSA opportunities and other transfer tidbits. Each session includes a Q & A featuring the Transfer Student Ambassadors. For any questions about this session\, please email us at LSATransferCenter@umich.edu.\n\nTo register\, please visit: https://umich.zoom.us/meeting/register/tJYqce2qqTkiEtDmqKVT13QvT7X7dNiNXv02
UID:84128-21620328@events.umich.edu
URL:https://events.umich.edu/event/84128
CLASS:PUBLIC
STATUS:CONFIRMED
CATEGORIES:Transfer Students
LOCATION:Off Campus Location
CONTACT:
END:VEVENT
END:VCALENDAR