BEGIN:VCALENDAR
VERSION:2.0
PRODID:-//UM//UM*Events//EN
CALSCALE:GREGORIAN
BEGIN:VTIMEZONE
TZID:America/Detroit
TZURL:http://tzurl.org/zoneinfo/America/Detroit
X-LIC-LOCATION:America/Detroit
BEGIN:DAYLIGHT
TZOFFSETFROM:-0500
TZOFFSETTO:-0400
TZNAME:EDT
DTSTART:20070311T020000
RRULE:FREQ=YEARLY;BYMONTH=3;BYDAY=2SU
END:DAYLIGHT
BEGIN:STANDARD
TZOFFSETFROM:-0400
TZOFFSETTO:-0500
TZNAME:EST
DTSTART:20071104T020000
RRULE:FREQ=YEARLY;BYMONTH=11;BYDAY=1SU
END:STANDARD
END:VTIMEZONE
BEGIN:VEVENT
DTSTAMP:20210727T063023
DTSTART;TZID=America/Detroit:20210712T080000
DTEND;TZID=America/Detroit:20210712T200000
SUMMARY:Careers / Jobs:2021 AT&T Summer Learning Academy
DESCRIPTION:Welcome to the 2021 AT&T Summer Learning Academy\, a free online externship learning program open to all high school and college students. \n\nRegistration is available now and we get started on July 12th! Onceregistered\, look for a confirmation email.\n\nOur program has both shortinformative self-paced classes and exciting live events featuring well-known dynamic speakers focusing on four key areas: \n-Personal Development\n-Business\n-Technology\n-Insights on life at AT&T direct from our leadership and experts in their field\n\nWhen you complete the program\, we will send you a unique digital badge from Credly.\n\nFor a sneak peek at our course syllabus\, visit our site: https://inside.att.jobs/externship#/subpage/cgc6w\n\nRead our FAQs here: https://inside.att.jobs/externship#/subpage/zc63d
UID:84484-21624079@events.umich.edu
URL:https://events.umich.edu/event/84484
CLASS:PUBLIC
STATUS:CONFIRMED
CATEGORIES:
LOCATION:
CONTACT:
END:VEVENT
BEGIN:VEVENT
DTSTAMP:20210511T124519
DTSTART;TZID=America/Detroit:20210712T080000
DTEND;TZID=America/Detroit:20210712T230000
SUMMARY:Other:Become a UROP Research Mentor
DESCRIPTION:Submit a Research Project for the 2021-2022 Academic Year: https://lsa.umich.edu/urop/research-mentors.html\n\nUROP Research Mentors are faculty and post-doc researchers from across all U-M's 19 Schools and Colleges who provide undergraduate student researchers an opportunity to engage in research activities that help them learn about the pursuit of knowledge within an academic discipline. This early exposure to research fosters a valuable academic experience for students. Through this collaboration\, students gain research skills and mentorship that lead to academic retention\, a more positive undergraduate experience and paths to graduate school.
UID:83879-21619464@events.umich.edu
URL:https://events.umich.edu/event/83879
CLASS:PUBLIC
STATUS:CONFIRMED
CATEGORIES:AEM Featured,Education,Faculty,Free,Graduate and Professional Students,Graduate Students,Interdisciplinary,Mentorship,Research,research data,Staff,Urop
LOCATION:Off Campus Location
CONTACT:
END:VEVENT
BEGIN:VEVENT
DTSTAMP:20210622T125149
DTSTART;TZID=America/Detroit:20210712T080000
DTEND;TZID=America/Detroit:20210712T230000
SUMMARY:Conference / Symposium:Become a UROP Symposium Presentation Judge
DESCRIPTION:Provide your expertise during the 2021 Virtual Summer Research Symposium on August 4th. UROP is looking for graduate students\, postdoctoral fellows\, faculty and staff who are interested in awarding undergraduate researchers with a blue ribbon honors for their UROP presentation during symposium.\n\nBecome a UROP Symposium judge at: https://myumi.ch/1p1eY
UID:84344-21623397@events.umich.edu
URL:https://events.umich.edu/event/84344
CLASS:PUBLIC
STATUS:CONFIRMED
CATEGORIES:AEM Featured,Energy,Engineering,Faculty,Fellowship,first-generation,Free,Graduate and Professional Students,Graduate Students,Interdisciplinary,LGBT,Public Health,Research,Staff,symposium,Urop,Virtual,Women's Studies
LOCATION:Off Campus Location
CONTACT:
END:VEVENT
BEGIN:VEVENT
DTSTAMP:20210430T095709
DTSTART;TZID=America/Detroit:20210712T080000
DTEND;TZID=America/Detroit:20210712T230000
SUMMARY:Careers / Jobs:Changing Gears Application Open
DESCRIPTION:Learn more about the Changing Gears Program and apply at: myumi.ch/uropcg\n\nChanging Gears (CG) is a UROP program designed primarily for community college transfer students who will be attending the University of Michigan\, but also serves students transferring from 4 year institutions. Students in the CG Program become a part of an ongoing faculty-driven research\, scholarly or creative project in their field of interest. Students learn valuable academic skills\, applying these skills to their research project\, academics\, and future career opportunities\, while receiving academic credit or compensation for their efforts in research work.\n\nIf you are a U-M Transfer Student and not graduating until winter 2022 and/or after\, you are eligible to apply to the 2021-2022 UROP Changing Gears Program.
UID:83922-21616969@events.umich.edu
URL:https://events.umich.edu/event/83922
CLASS:PUBLIC
STATUS:CONFIRMED
CATEGORIES:AEM Featured,first-generation,Free,Interdisciplinary,Networking,Office Hours,Research,Transfer Students,Undergraduate,Undergraduate Students,Urop
LOCATION:Off Campus Location
CONTACT:
END:VEVENT
BEGIN:VEVENT
DTSTAMP:20220502T122639
DTSTART;TZID=America/Detroit:20210712T080000
DTEND;TZID=America/Detroit:20210712T230000
SUMMARY:Careers / Jobs:UROP First-Year Application Open
DESCRIPTION:Our \"Traditional UROP Program\" has been our flagship program running over 30 years. This Academic Year program\, in which students participate for both Fall and Winter Terms\, is designed for University of Michigan first and second year undergraduate students enrolled on the Ann Arbor campus who are seeking a first time research experience. Student research assistants work alongside a faculty member\, research scientist or professional practitioner on an ongoing or new research project.\n\nLearn more and apply at: myumi.ch/uropyearone\n\nApplications being accepted on a rolling basis.
UID:83923-21617088@events.umich.edu
URL:https://events.umich.edu/event/83923
CLASS:PUBLIC
STATUS:CONFIRMED
CATEGORIES:AEM Featured,Applications,first-generation,Free,Interdisciplinary,Networking,Research,Undergraduate,Undergraduate Students,Urop
LOCATION:Undergraduate Science Building
CONTACT:
END:VEVENT
BEGIN:VEVENT
DTSTAMP:20210804T182828
DTSTART;TZID=America/Detroit:20210712T080000
DTEND;TZID=America/Detroit:20210712T230000
SUMMARY:Careers / Jobs:UROP Research Scholars Application now open
DESCRIPTION:The UROP Research Scholars Program is designed for students who want to expand on their first year UROP experience and participate in UROP for a second year at an advanced level. In this program\, students build upon the knowledge gained in a first undergraduate research experience to further explore the connections between research\, a liberal arts education\, and communicating skills to advance their future professional goals. Students are expected to explore various written and oral possibilities for communicating their research process\, identifying the limits set by the discipline and the opportunities that lie beyond.\n\nApply at: https://myumi.ch/uroprs
UID:82067-21014987@events.umich.edu
URL:https://events.umich.edu/event/82067
CLASS:PUBLIC
STATUS:CONFIRMED
CATEGORIES:AEM Featured,Applications,Free,Interdisciplinary,Research,Undergraduate,Undergraduate Students,Urop
LOCATION:Off Campus Location
CONTACT:
END:VEVENT
BEGIN:VEVENT
DTSTAMP:20210727T063024
DTSTART;TZID=America/Detroit:20210712T120000
DTEND;TZID=America/Detroit:20210712T130000
SUMMARY:Careers / Jobs:Resume Lab
DESCRIPTION:*RSVP for this program. Click \"Join Event\" here: https://umich.joinhandshake.com/events/775710\n\nJust getting started building a resume? Have a draft but not sure how to make it better? Want to learn about resources available to revise your resume? Wherever you’re at Resume Lab isa great next step for you.\n\nGet real-time\, personalized support in a small group setting by checking out the virtual Resume Lab. \n\nWe will discuss and educate you on…\n- Design and format\n- Writing a great bullet point\n- Targeting your resume for specific internships/jobs\n\nIf you're a Graduate Student\, please make a 1:1 appointment instead of attending the Lab so we can cater because this event is designed for undergraduates.\n\nNote: This event's information is shown in Handshake as well as on the Happening @ Michigan calendar so that it will be seen by a larger number ofU-M Students. If you'd like to indicate that you'll be attending this event then please go to: https://umich.joinhandshake.com/events/775710\n\nRecent Grads: If you are an alumnus\, you will not be able to access the linkdue the University’s policy of discontinuing alumni Zoom accounts 30 days after graduation. Please contact careercenter@umich.edu with the subject line “Recent Grad Help” to receive either a recording of the sessionor to be set up with a 1:1. Include the name of the workshop/event in your email.
UID:84497-21624092@events.umich.edu
URL:https://events.umich.edu/event/84497
CLASS:PUBLIC
STATUS:CONFIRMED
CATEGORIES:
LOCATION:https://umich.zoom.us/j/2745640240
CONTACT:
END:VEVENT
BEGIN:VEVENT
DTSTAMP:20210712T115110
DTSTART;TZID=America/Detroit:20210712T130000
DTEND;TZID=America/Detroit:20210712T140000
SUMMARY:Livestream / Virtual:Getting to Know more about Trotter Multicultural Center
DESCRIPTION:Started by student activism\, Trotter Multicultural Center works to enhance multicultural awareness across campus through our facilities\, programs\, and partnership. Trotter is a place where students can build community\, enhance their learning\, and find support. This session will teach you more about the history of Trotter\, our programs\, and more ways to get involved in the Michigan community. \n\nAudience: incoming first-year students\, rising second year students\, and graduate students
UID:84436-21623982@events.umich.edu
URL:https://events.umich.edu/event/84436
CLASS:PUBLIC
STATUS:CONFIRMED
CATEGORIES:Free,Virtual
LOCATION:Off Campus Location
CONTACT:
END:VEVENT
BEGIN:VEVENT
DTSTAMP:20210506T120651
DTSTART;TZID=America/Detroit:20210712T133000
DTEND;TZID=America/Detroit:20210712T150000
SUMMARY:Meeting:CoderSpaces (Mondays)
DESCRIPTION:Are you grappling with a piece of code\, trying to compute on a cluster\, or just getting started with a new method such as machine learning? Then we might have just the right space for you.\n\nAll members of the U-M community are invited to join our weekly virtual CoderSpaces\, Mondays – Thursdays\, during the Summer 2021 term to get research support and connect with others.\n\nThe virtual sessions are designed to assist faculty\, staff\, and students with research methodology\, statistics\, data science applications\, and computational programming for research.\n\nOur hosts have a wide set of methodological and technological expertise. They come to you from a variety of departments and disciplines and are looking forward to serving the U-M community in their research endeavors.\n\nCoderSpaces provide a casual\, productive\, and inclusive environment. Everyone is welcome regardless of skill level.\n\nMondays 1:30-3 p.m.\n\nJoin via Zoom* (https://umich.zoom.us/j/97155787515)\n*Users will have to sign in with their UMICH (Level-1) credentials.\n\nwith Andrew Hlynka (CSCAR)\, Charles Antonelli (LSA Tech)\, Jonathan Golob (Michigan Medicine)\n\nExpertise: 3D graphical applications\, C\, C++\, C#\, CMake/GNU Make\, Fortran\, Git\, high performance computing\, Java\, JavaScript\, Julia\, Matlab\, mobile app development\, MPI\, OpenMP\, parallelization\, performance analysis\, PBS\, Python\, R\, reproducible workflows (nextflow)\, shell\, Slurm\, SQL\, statistical modeling
UID:83925-21619095@events.umich.edu
URL:https://events.umich.edu/event/83925
CLASS:PUBLIC
STATUS:CONFIRMED
CATEGORIES:Arc,Data Science,Information And Technology,Office Hours
LOCATION:Off Campus Location
CONTACT:
END:VEVENT
BEGIN:VEVENT
DTSTAMP:20211209T160155
DTSTART;TZID=America/Detroit:20210712T140000
DTEND;TZID=America/Detroit:20210712T150000
SUMMARY:Other:LSA Technology Services Research Support Office Hours
DESCRIPTION:The Research Team within LSA Technology Services is excited to announce virtual office hours for research computing support. These are regularly scheduled times when we will have subject matter experts in geographic information systems\, high performance computing\, digital scholarship\, and computer programming available for drop-in support. Faculty\, staff\, and students with research-related questions pertaining to any of these areas can stop by to ask questions\, get help working through a problem\, or inquire about a new project—no appointment necessary!\n\nNot sure what we can do to help? Read on for more details about the services provided by each of these teams.\n\n*Digital Scholarship*\nOur digital scholarship team specializes in humanities\, social sciences\, and interdisciplinary digital project methods and can provide assistance with:\n* Conceptualizing\, planning\, and finding resources for a digital project\n* How to version\, archive\, and preserve a project\n* Sustainability\, preservation\, accessibility\, privacy\, consent\, or grant requirements\nNew to digital projects? We can also talk about how to demonstrate the scholarly rigor of your digital project\, accurately credit the labor required of the project at every stage\, and how to provide evidence and metrics for promotion and job dossiers.\n\n*Geographic Information Systems (GIS)*\n\nOur GIS specialists can help with your geographic data needs\, including the following:\n* Making maps for use in a class\, grant proposal\, or publication\n* Geospatial analysis: identifying spatial patterns and trends in your data\n* Georeferencing: assigning geographic coordinates to a historic paper map or a hand-drawn sketch for digital use as a basemap or combined display with other data\n* Geocoding: convert a spreadsheet with addresses into latitude-longitude so you can plot your data on a map\n* StoryMaps: harness the power of maps to tell your story\n* Integrating smartphones or tablets and GIS in your field courses or researchSetting up workshops for a class or group interested in learning to use GIS in the context of your discipline\n* Assistance with ESRI's ArcGIS platform\, including ArcGIS Pro and ArcGIS Online\, or other geospatial software\n* Developing your own custom GIS web application or mobile application\n\n*High Performance Computing (HPC)*\n\nOur HPC team can help with:\n* Accessing U-M’s new Great Lakes HPC (High Performance Computing) cluster\n* Moving your computational work from your laptop or workstation to the cluster\, freeing up your machines for other tasks\n* Compiling\, installing\, or configuring a wide range of computational software\n* Setting up automated workflows to save time\n* Debugging your programs to see why they are crashing\n* Evaluating the benefits of parallel computing\, more memory or system resources for your code\nWe regularly support Python\, R\, MATLAB\, C/C++\, Java\, Julia\, Go\, and many other applications.\n\n*Research Support Programming*\n\nOur computer programming team can help with any of the following:\n\n* Debugging\, repair\, and improvements or upgrades to your existing code\n* References to training and coding resources to assist in your project\n* Design and development of custom software to support your research\n* Incorporation of lab-specific hardware into custom software applications.\n* Writing funding for any of the above into your grant proposals\nWe're experienced in MATLAB\, Python\, R\, LabVIEW\, JavaScript\, MedPC\, iOS development\, and more.\n\nWho can join the office hours?\nLSA Faculty\, staff\, and students with research-related questions on geographic information systems\, high performance computing\, digital scholarship\, and computer programming\n\nWhen and where is it?\nOur virtual office hours use Zoom:\nMondays\, 2:00–3:00 P.M.\nTuesdays\, 10:00–11:00 A.M.\nThursdays\, 3:00–4:00 P.M.
UID:77718-20270713@events.umich.edu
URL:https://events.umich.edu/event/77718
CLASS:PUBLIC
STATUS:CONFIRMED
CATEGORIES:Digital Humanities,Digital Projects,Digital Scholarship,Faculty,Gis,Graduate Students,Humanities,Lsa,Office Hours,Postdoctoral Research Fellows,Qualitative Social Sciences,research,Science,Virtual
LOCATION:Off Campus Location
CONTACT:
END:VEVENT
BEGIN:VEVENT
DTSTAMP:20210525T144857
DTSTART;TZID=America/Detroit:20210712T140000
DTEND;TZID=America/Detroit:20210712T150000
SUMMARY:Presentation:Transfer to LSA Information Session
DESCRIPTION:Join the LSA Student Recruitment Team for our weekly virtual sessions where we will discuss LSA requirements\, transfer credit\, pre-transfer academic advising\, LSA opportunities and other transfer tidbits. Each session includes a Q & A featuring the Transfer Student Ambassadors. For any questions about this session\, please email us at LSATransferCenter@umich.edu.\n\nTo register\, please visit: https://umich.zoom.us/meeting/register/tJMkdumtrDsoHdxV-o0pRlIny0ws86yQef-i
UID:84129-21620329@events.umich.edu
URL:https://events.umich.edu/event/84129
CLASS:PUBLIC
STATUS:CONFIRMED
CATEGORIES:Transfer Students
LOCATION:Off Campus Location
CONTACT:
END:VEVENT
BEGIN:VEVENT
DTSTAMP:20210712T181503
DTSTART;TZID=America/Detroit:20210712T190000
SUMMARY:Performance:Summer Carillon Concert: Eva Albalghiti
DESCRIPTION:Eva Albalghiti performs the third of our \"7 at 7\" Monday night carillon concerts at Lurie Tower on the Eda U. Gerstacker Grove on North Campus. Bring a picnic!\n\nThe annual series takes place at 7 PM on Mondays from June 21 to August 9\, featuring performers from Michigan and around the U.S. playing either Burton or Lurie Tower. Concerts are free and family-friendly. The carillon is an outdoor instrument\, and attendees are requested to maintain social distance in the outdoor listening areas surrounding the towers. Attendees are required to follow the University of Michigan\, Washtenaw County\, Michigan state\, and federal guidelines for large outdoor gatherings.\n\nPlease fill out our convenient pre-registration form: https://myumi.ch/ZQWvq. This information will be kept for 21 days after the concert\, and will only be used for contact tracing if confirmed COVID-19 cases become associated with the gathering.\n\nBIOGRAPHY: Eva Albalghiti is originally from Silver Spring\, MD. She began playing carillon at Yale University\, where she took lessons with Ellen Dickinson and was a member of the Yale Guild of Carillonneurs for three years. In 2018\, she became a Carillonneur Member of the Guild of Carillonneurs of North America. After taking a two-year break from carillon to pursue a research opportunity in Beijing\, China\, she came to the University of Michigan in 2020 to pursue her PhD in Environmental Engineering.
UID:84269-21620834@events.umich.edu
URL:https://events.umich.edu/event/84269
CLASS:PUBLIC
STATUS:CONFIRMED
CATEGORIES:Concert,Culture,Family,Free,Music,North campus,Outdoors
LOCATION:Off Campus Location
CONTACT:
END:VEVENT
BEGIN:VEVENT
DTSTAMP:20210727T183025
DTSTART;TZID=America/Detroit:20210712T200000
DTEND;TZID=America/Detroit:20210712T210000
SUMMARY:Careers / Jobs:McKinsey + Michigan BA Resume Workshop
DESCRIPTION:Join recent Michigan alums at McKinsey for a resume building workshop!  Learn more about what skills McKinsey looks for\, find out tips on building your resume\, and ask any questions you might have about the upcoming application process!  \n\nLogistics:\nJuly 12\, 2021\n8:00 pm - 9:00 pm EST\nPlease Register Here: https://jobs.mckinsey.com/events/Rsvp?folderId=51131&emailCampaignId=1943
UID:84489-21624084@events.umich.edu
URL:https://events.umich.edu/event/84489
CLASS:PUBLIC
STATUS:CONFIRMED
CATEGORIES:
LOCATION:
CONTACT:
END:VEVENT
END:VCALENDAR