BEGIN:VCALENDAR
VERSION:2.0
PRODID:-//UM//UM*Events//EN
CALSCALE:GREGORIAN
BEGIN:VTIMEZONE
TZID:America/Detroit
TZURL:http://tzurl.org/zoneinfo/America/Detroit
X-LIC-LOCATION:America/Detroit
BEGIN:DAYLIGHT
TZOFFSETFROM:-0500
TZOFFSETTO:-0400
TZNAME:EDT
DTSTART:20070311T020000
RRULE:FREQ=YEARLY;BYMONTH=3;BYDAY=2SU
END:DAYLIGHT
BEGIN:STANDARD
TZOFFSETFROM:-0400
TZOFFSETTO:-0500
TZNAME:EST
DTSTART:20071104T020000
RRULE:FREQ=YEARLY;BYMONTH=11;BYDAY=1SU
END:STANDARD
END:VTIMEZONE
BEGIN:VEVENT
DTSTAMP:20210511T124519
DTSTART;TZID=America/Detroit:20210718T080000
DTEND;TZID=America/Detroit:20210718T230000
SUMMARY:Other:Become a UROP Research Mentor
DESCRIPTION:Submit a Research Project for the 2021-2022 Academic Year: https://lsa.umich.edu/urop/research-mentors.html\n\nUROP Research Mentors are faculty and post-doc researchers from across all U-M's 19 Schools and Colleges who provide undergraduate student researchers an opportunity to engage in research activities that help them learn about the pursuit of knowledge within an academic discipline. This early exposure to research fosters a valuable academic experience for students. Through this collaboration\, students gain research skills and mentorship that lead to academic retention\, a more positive undergraduate experience and paths to graduate school.
UID:83879-21619470@events.umich.edu
URL:https://events.umich.edu/event/83879
CLASS:PUBLIC
STATUS:CONFIRMED
CATEGORIES:AEM Featured,Education,Faculty,Free,Graduate and Professional Students,Graduate Students,Interdisciplinary,Mentorship,Research,research data,Staff,Urop
LOCATION:Off Campus Location
CONTACT:
END:VEVENT
BEGIN:VEVENT
DTSTAMP:20210622T125149
DTSTART;TZID=America/Detroit:20210718T080000
DTEND;TZID=America/Detroit:20210718T230000
SUMMARY:Conference / Symposium:Become a UROP Symposium Presentation Judge
DESCRIPTION:Provide your expertise during the 2021 Virtual Summer Research Symposium on August 4th. UROP is looking for graduate students\, postdoctoral fellows\, faculty and staff who are interested in awarding undergraduate researchers with a blue ribbon honors for their UROP presentation during symposium.\n\nBecome a UROP Symposium judge at: https://myumi.ch/1p1eY
UID:84344-21623403@events.umich.edu
URL:https://events.umich.edu/event/84344
CLASS:PUBLIC
STATUS:CONFIRMED
CATEGORIES:AEM Featured,Energy,Engineering,Faculty,Fellowship,first-generation,Free,Graduate and Professional Students,Graduate Students,Interdisciplinary,LGBT,Public Health,Research,Staff,symposium,Urop,Virtual,Women's Studies
LOCATION:Off Campus Location
CONTACT:
END:VEVENT
BEGIN:VEVENT
DTSTAMP:20210430T095709
DTSTART;TZID=America/Detroit:20210718T080000
DTEND;TZID=America/Detroit:20210718T230000
SUMMARY:Careers / Jobs:Changing Gears Application Open
DESCRIPTION:Learn more about the Changing Gears Program and apply at: myumi.ch/uropcg\n\nChanging Gears (CG) is a UROP program designed primarily for community college transfer students who will be attending the University of Michigan\, but also serves students transferring from 4 year institutions. Students in the CG Program become a part of an ongoing faculty-driven research\, scholarly or creative project in their field of interest. Students learn valuable academic skills\, applying these skills to their research project\, academics\, and future career opportunities\, while receiving academic credit or compensation for their efforts in research work.\n\nIf you are a U-M Transfer Student and not graduating until winter 2022 and/or after\, you are eligible to apply to the 2021-2022 UROP Changing Gears Program.
UID:83922-21616975@events.umich.edu
URL:https://events.umich.edu/event/83922
CLASS:PUBLIC
STATUS:CONFIRMED
CATEGORIES:AEM Featured,first-generation,Free,Interdisciplinary,Networking,Office Hours,Research,Transfer Students,Undergraduate,Undergraduate Students,Urop
LOCATION:Off Campus Location
CONTACT:
END:VEVENT
BEGIN:VEVENT
DTSTAMP:20220502T122639
DTSTART;TZID=America/Detroit:20210718T080000
DTEND;TZID=America/Detroit:20210718T230000
SUMMARY:Careers / Jobs:UROP First-Year Application Open
DESCRIPTION:Our \"Traditional UROP Program\" has been our flagship program running over 30 years. This Academic Year program\, in which students participate for both Fall and Winter Terms\, is designed for University of Michigan first and second year undergraduate students enrolled on the Ann Arbor campus who are seeking a first time research experience. Student research assistants work alongside a faculty member\, research scientist or professional practitioner on an ongoing or new research project.\n\nLearn more and apply at: myumi.ch/uropyearone\n\nApplications being accepted on a rolling basis.
UID:83923-21617094@events.umich.edu
URL:https://events.umich.edu/event/83923
CLASS:PUBLIC
STATUS:CONFIRMED
CATEGORIES:AEM Featured,Applications,first-generation,Free,Interdisciplinary,Networking,Research,Undergraduate,Undergraduate Students,Urop
LOCATION:Undergraduate Science Building
CONTACT:
END:VEVENT
BEGIN:VEVENT
DTSTAMP:20210804T182828
DTSTART;TZID=America/Detroit:20210718T080000
DTEND;TZID=America/Detroit:20210718T230000
SUMMARY:Careers / Jobs:UROP Research Scholars Application now open
DESCRIPTION:The UROP Research Scholars Program is designed for students who want to expand on their first year UROP experience and participate in UROP for a second year at an advanced level. In this program\, students build upon the knowledge gained in a first undergraduate research experience to further explore the connections between research\, a liberal arts education\, and communicating skills to advance their future professional goals. Students are expected to explore various written and oral possibilities for communicating their research process\, identifying the limits set by the discipline and the opportunities that lie beyond.\n\nApply at: https://myumi.ch/uroprs
UID:82067-21014993@events.umich.edu
URL:https://events.umich.edu/event/82067
CLASS:PUBLIC
STATUS:CONFIRMED
CATEGORIES:AEM Featured,Applications,Free,Interdisciplinary,Research,Undergraduate,Undergraduate Students,Urop
LOCATION:Off Campus Location
CONTACT:
END:VEVENT
BEGIN:VEVENT
DTSTAMP:20210718T181525
DTSTART;TZID=America/Detroit:20210718T090000
DTEND;TZID=America/Detroit:20210718T170000
SUMMARY:Exhibition:Mary Sibande
DESCRIPTION:Sophie/Elsie is part of a series in which South African artist Mary Sibande (b. 1982) explores her family’s history. Three generations of Sibande women were employed as domestic workers in Apartheid South Africa\, which Sibande references through Sophie’s blue and white uniform—a dress synonymous with the profession there. Though not quite part of the born-free generation (the name given to children born after the start of Nelson Mandela’s presidency in 1994)\, Sibande was able to dream of life choices that were inaccessible to her ancestors. These dreams are acted out by her alter-ego Sophie\, a life-size fiberglass figure cast in the artist’s own likeness. Sibande created Sophie/Elsie in 2009 in honor of her great-grandmother\, who was given the Western name Elsie because her masters couldn’t be bothered to learn her African name. While closing her eyes\, Sophie imagines herself as an orchestra conductor\, as a superhero\, as a businesswoman. Here\, her maid’s uniform transforms into the dress of a Victorian queen\, complete with billowing cape and dramatic train. \n \nAt a time when indoor visits are limited\, UMMA is proud to be able to share Sophie/Elsie with our community. Eventually\, she will take center stage in a reinstallation of the permanent African galleries\, opening in fall 2021. The reinstallation will feature UMMA’s historical collection of African art\, as well as recent acquisitions of contemporary artworks from artists based in Africa and in the diaspora. \n \nThis museum purchase was made possible by Joseph and Annette Allen. \n\n
UID:84306-21623059@events.umich.edu
URL:https://events.umich.edu/event/84306
CLASS:PUBLIC
STATUS:CONFIRMED
CATEGORIES:Africa,Art,Children,Exhibition,Family,Free,History,Museum,UMMA
LOCATION:Museum of Art - Irving Stenn, Jr. Family Gallery
CONTACT:
END:VEVENT
BEGIN:VEVENT
DTSTAMP:20210701T145834
DTSTART;TZID=America/Detroit:20210718T100000
DTEND;TZID=America/Detroit:20210718T160000
SUMMARY:Exhibition:A Garden of Earthy Delights: Ceramic Sculptures by Ann Arbor Potters Guild at Matthaei Botanical Gardens
DESCRIPTION:Inspired by the synergy between nature’s beauty and complexity\, and in partnership with the University of Michigan Matthaei Botanical Gardens\, artists from the Ann Arbor Potters Guild created work centered around Michigan’s natural landscapes and specifically for the Great Lakes Garden at Matthaei. Potters Guild artists created eight free-standing sculptures using the full range of traditional ceramic methods and tools\, the potter’s wheel\, press molds\, coil building\, slab construction\, and sculpting. Depictions range from naturalistic and representational\, to abstract\, as well as a whimsical nod or two to the timeless role of fantasy and myth in humankind’s communion with nature. Exhibit is free but scheduled reservations are required to visit the botanical gardens. Use this link to book your visit: https://www.signupgenius.com/go/8050f4aadad22a2fd0-matthaei1
UID:84388-21623685@events.umich.edu
URL:https://events.umich.edu/event/84388
CLASS:PUBLIC
STATUS:CONFIRMED
CATEGORIES:Art,Outdoors
LOCATION:Matthaei Botanical Gardens
CONTACT:
END:VEVENT
BEGIN:VEVENT
DTSTAMP:20210718T181520
DTSTART;TZID=America/Detroit:20210718T143000
DTEND;TZID=America/Detroit:20210718T153000
SUMMARY:Performance:A THOUSAND WAYS (PART ONE): A PHONE CALL by 600 HIGHWAYMEN
DESCRIPTION:Click here to register: https://a2sf.ticketleap.com/a-thousand-ways/.\n \nThis summer\, the Ann Arbor Summer Festival and UMMA present 600 Highwaymen’s A THOUSAND WAYS\, a new\, multi-part work that offers enthralling social interactions that deliver us from isolation and toward togetherness.\n \nA Thousand Ways is a three-part performance in which you are the actor and you are the audience. Your words\, actions\, gestures\, silence\, thoughts\, and willingness are the tools. You need no training. You are the expert. \n \nObie Award-winning theater makers\, 600 HIGHWAYMEN\, known for exhilarating performances that challenge the very definition of theater\, have created a quietly radical response to this new world with A Thousand Ways. It is a chance at being heard\, a brave moment to show up. \n \nThis is an invitation. Will you attend?\n \nPart One: A Phone Call – On a simple phone call\, you and another audience member – nameless strangers to one another – follow a carefully crafted set of directives. Over the course of the journey\, a portrait of each other emerges through fleeting moments of exposure and the simple sound of an unseen voice.\n \nLearn more by reading the Frequently Asked Questions below.\n \nCREDITS A Thousand Ways by 600 HIGHWAYMEN written & created by Abigail Browde & Michael Silverstone\n \nExecutive Producer: Thomas O. Kriegsmann / ArKtype Line Producer: Cynthia J. Tong Dramaturg & Project Design: Andrew Kircher Part One: A Phone Call Sound Design: Stanley Mathabane\n \nThis production was commissioned by The Arts Center at NYU Abu Dhabi\, Stanford Live at Stanford University\, Festival Theaterformen\, and The Public Theater\, and was originally commissioned and co-conceived by Temple Contemporary at Temple University. Part One: A Phone Call was developed in partnership with On the Boards production and technical teams. Original support for the production was provided by The Pew Center for Arts & Heritage\, Philadelphia.\n \nFAQs Due to the unique nature of this performance\, please read all the important information below before purchasing tickets.\n \nThis experience cannot take place without you. This is an experience for two people – just you and another ticket holder. The other person is counting on your attendance. If you do not attend\, the experience cannot take place.\n \nHow does it work? 24 hours before\, we will send you a phone number to call at your scheduled performance time. Please call this number at your scheduled performance time.\n \nCan I attend the experience with another member of my household? This ticket is for one person only. Members of the same household must have their own ticket and separate devices to join the event.\n \nWhere should I call from? Your place of current residence\, in a quiet indoor space with a strong telephone signal\, and by yourself.\n \nWhat kind of phone do I need? Any phone will work. All that matters is that it’s charged\, cordless\, and gets good reception.\n \nCan I use headphones or speakerphone? Corded headphones are fine. Bluetooth/wireless headphones are not recommended. Please do not use speakerphones.\n \nI’m calling from another country\, what should I do? Please reach out to the box office at boxoffice@a2sf.org\, and we’ll give you a local phone number.\n \nWhat else do I need to know? Due to the intimate nature of this experience\, we cannot accommodate late arrivals.\n \n $10 / $5 for students with the code STUDENTATW For ages 16+  \n\nA Thousand Ways (Part One): A Phone Call is co-presented with the Ann Arbor Summer Festival.\n\nMichigan Radio is the Exclusive Media Partner of \"A Thousand Ways: Part 1 (A Phone Call)\"
UID:84153-21620458@events.umich.edu
URL:https://events.umich.edu/event/84153
CLASS:PUBLIC
STATUS:CONFIRMED
CATEGORIES:Art,Festival,Museum,nature,Reception,Social,Theater,UMMA
LOCATION:Museum of Art - University of Michigan Museum of Art 
CONTACT:
END:VEVENT
BEGIN:VEVENT
DTSTAMP:20210718T181520
DTSTART;TZID=America/Detroit:20210718T160000
DTEND;TZID=America/Detroit:20210718T170000
SUMMARY:Performance:A THOUSAND WAYS (PART ONE): A PHONE CALL by 600 HIGHWAYMEN
DESCRIPTION:Click here to register: https://a2sf.ticketleap.com/a-thousand-ways/.\n \nThis summer\, the Ann Arbor Summer Festival and UMMA present 600 Highwaymen’s A THOUSAND WAYS\, a new\, multi-part work that offers enthralling social interactions that deliver us from isolation and toward togetherness.\n \nA Thousand Ways is a three-part performance in which you are the actor and you are the audience. Your words\, actions\, gestures\, silence\, thoughts\, and willingness are the tools. You need no training. You are the expert. \n \nObie Award-winning theater makers\, 600 HIGHWAYMEN\, known for exhilarating performances that challenge the very definition of theater\, have created a quietly radical response to this new world with A Thousand Ways. It is a chance at being heard\, a brave moment to show up. \n \nThis is an invitation. Will you attend?\n \nPart One: A Phone Call – On a simple phone call\, you and another audience member – nameless strangers to one another – follow a carefully crafted set of directives. Over the course of the journey\, a portrait of each other emerges through fleeting moments of exposure and the simple sound of an unseen voice.\n \nLearn more by reading the Frequently Asked Questions below.\n \nCREDITS A Thousand Ways by 600 HIGHWAYMEN written & created by Abigail Browde & Michael Silverstone\n \nExecutive Producer: Thomas O. Kriegsmann / ArKtype Line Producer: Cynthia J. Tong Dramaturg & Project Design: Andrew Kircher Part One: A Phone Call Sound Design: Stanley Mathabane\n \nThis production was commissioned by The Arts Center at NYU Abu Dhabi\, Stanford Live at Stanford University\, Festival Theaterformen\, and The Public Theater\, and was originally commissioned and co-conceived by Temple Contemporary at Temple University. Part One: A Phone Call was developed in partnership with On the Boards production and technical teams. Original support for the production was provided by The Pew Center for Arts & Heritage\, Philadelphia.\n \nFAQs Due to the unique nature of this performance\, please read all the important information below before purchasing tickets.\n \nThis experience cannot take place without you. This is an experience for two people – just you and another ticket holder. The other person is counting on your attendance. If you do not attend\, the experience cannot take place.\n \nHow does it work? 24 hours before\, we will send you a phone number to call at your scheduled performance time. Please call this number at your scheduled performance time.\n \nCan I attend the experience with another member of my household? This ticket is for one person only. Members of the same household must have their own ticket and separate devices to join the event.\n \nWhere should I call from? Your place of current residence\, in a quiet indoor space with a strong telephone signal\, and by yourself.\n \nWhat kind of phone do I need? Any phone will work. All that matters is that it’s charged\, cordless\, and gets good reception.\n \nCan I use headphones or speakerphone? Corded headphones are fine. Bluetooth/wireless headphones are not recommended. Please do not use speakerphones.\n \nI’m calling from another country\, what should I do? Please reach out to the box office at boxoffice@a2sf.org\, and we’ll give you a local phone number.\n \nWhat else do I need to know? Due to the intimate nature of this experience\, we cannot accommodate late arrivals.\n \n $10 / $5 for students with the code STUDENTATW For ages 16+  \n\nA Thousand Ways (Part One): A Phone Call is co-presented with the Ann Arbor Summer Festival.\n\nMichigan Radio is the Exclusive Media Partner of \"A Thousand Ways: Part 1 (A Phone Call)\"
UID:84154-21620459@events.umich.edu
URL:https://events.umich.edu/event/84154
CLASS:PUBLIC
STATUS:CONFIRMED
CATEGORIES:Art,Festival,Museum,nature,Reception,Social,Theater,UMMA
LOCATION:Museum of Art - University of Michigan Museum of Art 
CONTACT:
END:VEVENT
BEGIN:VEVENT
DTSTAMP:20210718T181520
DTSTART;TZID=America/Detroit:20210718T173000
DTEND;TZID=America/Detroit:20210718T183000
SUMMARY:Performance:A THOUSAND WAYS (PART ONE): A PHONE CALL by 600 HIGHWAYMEN
DESCRIPTION:Click here to register: https://a2sf.ticketleap.com/a-thousand-ways/.\n \nThis summer\, the Ann Arbor Summer Festival and UMMA present 600 Highwaymen’s A THOUSAND WAYS\, a new\, multi-part work that offers enthralling social interactions that deliver us from isolation and toward togetherness.\n \nA Thousand Ways is a three-part performance in which you are the actor and you are the audience. Your words\, actions\, gestures\, silence\, thoughts\, and willingness are the tools. You need no training. You are the expert. \n \nObie Award-winning theater makers\, 600 HIGHWAYMEN\, known for exhilarating performances that challenge the very definition of theater\, have created a quietly radical response to this new world with A Thousand Ways. It is a chance at being heard\, a brave moment to show up. \n \nThis is an invitation. Will you attend?\n \nPart One: A Phone Call – On a simple phone call\, you and another audience member – nameless strangers to one another – follow a carefully crafted set of directives. Over the course of the journey\, a portrait of each other emerges through fleeting moments of exposure and the simple sound of an unseen voice.\n \nLearn more by reading the Frequently Asked Questions below.\n \nCREDITS A Thousand Ways by 600 HIGHWAYMEN written & created by Abigail Browde & Michael Silverstone\n \nExecutive Producer: Thomas O. Kriegsmann / ArKtype Line Producer: Cynthia J. Tong Dramaturg & Project Design: Andrew Kircher Part One: A Phone Call Sound Design: Stanley Mathabane\n \nThis production was commissioned by The Arts Center at NYU Abu Dhabi\, Stanford Live at Stanford University\, Festival Theaterformen\, and The Public Theater\, and was originally commissioned and co-conceived by Temple Contemporary at Temple University. Part One: A Phone Call was developed in partnership with On the Boards production and technical teams. Original support for the production was provided by The Pew Center for Arts & Heritage\, Philadelphia.\n \nFAQs Due to the unique nature of this performance\, please read all the important information below before purchasing tickets.\n \nThis experience cannot take place without you. This is an experience for two people – just you and another ticket holder. The other person is counting on your attendance. If you do not attend\, the experience cannot take place.\n \nHow does it work? 24 hours before\, we will send you a phone number to call at your scheduled performance time. Please call this number at your scheduled performance time.\n \nCan I attend the experience with another member of my household? This ticket is for one person only. Members of the same household must have their own ticket and separate devices to join the event.\n \nWhere should I call from? Your place of current residence\, in a quiet indoor space with a strong telephone signal\, and by yourself.\n \nWhat kind of phone do I need? Any phone will work. All that matters is that it’s charged\, cordless\, and gets good reception.\n \nCan I use headphones or speakerphone? Corded headphones are fine. Bluetooth/wireless headphones are not recommended. Please do not use speakerphones.\n \nI’m calling from another country\, what should I do? Please reach out to the box office at boxoffice@a2sf.org\, and we’ll give you a local phone number.\n \nWhat else do I need to know? Due to the intimate nature of this experience\, we cannot accommodate late arrivals.\n \n $10 / $5 for students with the code STUDENTATW For ages 16+  \n\nA Thousand Ways (Part One): A Phone Call is co-presented with the Ann Arbor Summer Festival.\n\nMichigan Radio is the Exclusive Media Partner of \"A Thousand Ways: Part 1 (A Phone Call)\"
UID:84156-21620461@events.umich.edu
URL:https://events.umich.edu/event/84156
CLASS:PUBLIC
STATUS:CONFIRMED
CATEGORIES:Art,Festival,Museum,nature,Reception,Social,Theater,UMMA
LOCATION:Museum of Art - University of Michigan Museum of Art 
CONTACT:
END:VEVENT
BEGIN:VEVENT
DTSTAMP:20210718T181520
DTSTART;TZID=America/Detroit:20210718T190000
DTEND;TZID=America/Detroit:20210718T200000
SUMMARY:Performance:A THOUSAND WAYS (PART ONE): A PHONE CALL by 600 HIGHWAYMEN
DESCRIPTION:Click here to register: https://a2sf.ticketleap.com/a-thousand-ways/.\n \nThis summer\, the Ann Arbor Summer Festival and UMMA present 600 Highwaymen’s A THOUSAND WAYS\, a new\, multi-part work that offers enthralling social interactions that deliver us from isolation and toward togetherness.\n \nA Thousand Ways is a three-part performance in which you are the actor and you are the audience. Your words\, actions\, gestures\, silence\, thoughts\, and willingness are the tools. You need no training. You are the expert. \n \nObie Award-winning theater makers\, 600 HIGHWAYMEN\, known for exhilarating performances that challenge the very definition of theater\, have created a quietly radical response to this new world with A Thousand Ways. It is a chance at being heard\, a brave moment to show up. \n \nThis is an invitation. Will you attend?\n \nPart One: A Phone Call – On a simple phone call\, you and another audience member – nameless strangers to one another – follow a carefully crafted set of directives. Over the course of the journey\, a portrait of each other emerges through fleeting moments of exposure and the simple sound of an unseen voice.\n \nLearn more by reading the Frequently Asked Questions below.\n \nCREDITS A Thousand Ways by 600 HIGHWAYMEN written & created by Abigail Browde & Michael Silverstone\n \nExecutive Producer: Thomas O. Kriegsmann / ArKtype Line Producer: Cynthia J. Tong Dramaturg & Project Design: Andrew Kircher Part One: A Phone Call Sound Design: Stanley Mathabane\n \nThis production was commissioned by The Arts Center at NYU Abu Dhabi\, Stanford Live at Stanford University\, Festival Theaterformen\, and The Public Theater\, and was originally commissioned and co-conceived by Temple Contemporary at Temple University. Part One: A Phone Call was developed in partnership with On the Boards production and technical teams. Original support for the production was provided by The Pew Center for Arts & Heritage\, Philadelphia.\n \nFAQs Due to the unique nature of this performance\, please read all the important information below before purchasing tickets.\n \nThis experience cannot take place without you. This is an experience for two people – just you and another ticket holder. The other person is counting on your attendance. If you do not attend\, the experience cannot take place.\n \nHow does it work? 24 hours before\, we will send you a phone number to call at your scheduled performance time. Please call this number at your scheduled performance time.\n \nCan I attend the experience with another member of my household? This ticket is for one person only. Members of the same household must have their own ticket and separate devices to join the event.\n \nWhere should I call from? Your place of current residence\, in a quiet indoor space with a strong telephone signal\, and by yourself.\n \nWhat kind of phone do I need? Any phone will work. All that matters is that it’s charged\, cordless\, and gets good reception.\n \nCan I use headphones or speakerphone? Corded headphones are fine. Bluetooth/wireless headphones are not recommended. Please do not use speakerphones.\n \nI’m calling from another country\, what should I do? Please reach out to the box office at boxoffice@a2sf.org\, and we’ll give you a local phone number.\n \nWhat else do I need to know? Due to the intimate nature of this experience\, we cannot accommodate late arrivals.\n \n $10 / $5 for students with the code STUDENTATW For ages 16+  \n\nA Thousand Ways (Part One): A Phone Call is co-presented with the Ann Arbor Summer Festival.\n\nMichigan Radio is the Exclusive Media Partner of \"A Thousand Ways: Part 1 (A Phone Call)\"
UID:84157-21620462@events.umich.edu
URL:https://events.umich.edu/event/84157
CLASS:PUBLIC
STATUS:CONFIRMED
CATEGORIES:Art,Festival,Museum,nature,Reception,Social,Theater,UMMA
LOCATION:Museum of Art - University of Michigan Museum of Art 
CONTACT:
END:VEVENT
BEGIN:VEVENT
DTSTAMP:20210701T142443
DTSTART;TZID=America/Detroit:20210718T193000
DTEND;TZID=America/Detroit:20210718T213000
SUMMARY:Performance:CANCELLED: Junior Brown - Rescheduled from 7/12/2020
DESCRIPTION:If you haven't seen Junior Brown yet\, you need to \"guit with it\"! Junior Brown is a one-man musical hot fusion machine\, and he's coming to town with his guit-steel\, a unique hybrid contraption that's part electric guitar and part country steel guitar. People call him a cross between Jimi Hendrix and Ernest Tubb. But there's a lot more to say about Junior Brown. There's the fact that he's just about the best surf guitarist around\, for example. Or that he's a wonderful composer of traditional country songs\, the kind in which each outrageous pun leads you deeper into an emotional blind alley. Come check out the performer voted #1 House Rocker by the readers of Guitar Player! Come pick up a copy of Junior's recent album \"Deep in the Heart of Me.\"
UID:71689-17862145@events.umich.edu
URL:https://events.umich.edu/event/71689
CLASS:PUBLIC
STATUS:CONFIRMED
CATEGORIES:The Ark
LOCATION:Off Campus Location
CONTACT:
END:VEVENT
END:VCALENDAR