BEGIN:VCALENDAR
VERSION:2.0
PRODID:-//UM//UM*Events//EN
CALSCALE:GREGORIAN
BEGIN:VTIMEZONE
TZID:America/Detroit
TZURL:http://tzurl.org/zoneinfo/America/Detroit
X-LIC-LOCATION:America/Detroit
BEGIN:DAYLIGHT
TZOFFSETFROM:-0500
TZOFFSETTO:-0400
TZNAME:EDT
DTSTART:20070311T020000
RRULE:FREQ=YEARLY;BYMONTH=3;BYDAY=2SU
END:DAYLIGHT
BEGIN:STANDARD
TZOFFSETFROM:-0400
TZOFFSETTO:-0500
TZNAME:EST
DTSTART:20071104T020000
RRULE:FREQ=YEARLY;BYMONTH=11;BYDAY=1SU
END:STANDARD
END:VTIMEZONE
BEGIN:VEVENT
DTSTAMP:20210511T124519
DTSTART;TZID=America/Detroit:20210720T080000
DTEND;TZID=America/Detroit:20210720T230000
SUMMARY:Other:Become a UROP Research Mentor
DESCRIPTION:Submit a Research Project for the 2021-2022 Academic Year: https://lsa.umich.edu/urop/research-mentors.html\n\nUROP Research Mentors are faculty and post-doc researchers from across all U-M's 19 Schools and Colleges who provide undergraduate student researchers an opportunity to engage in research activities that help them learn about the pursuit of knowledge within an academic discipline. This early exposure to research fosters a valuable academic experience for students. Through this collaboration\, students gain research skills and mentorship that lead to academic retention\, a more positive undergraduate experience and paths to graduate school.
UID:83879-21619472@events.umich.edu
URL:https://events.umich.edu/event/83879
CLASS:PUBLIC
STATUS:CONFIRMED
CATEGORIES:AEM Featured,Education,Faculty,Free,Graduate and Professional Students,Graduate Students,Interdisciplinary,Mentorship,Research,research data,Staff,Urop
LOCATION:Off Campus Location
CONTACT:
END:VEVENT
BEGIN:VEVENT
DTSTAMP:20210430T095709
DTSTART;TZID=America/Detroit:20210720T080000
DTEND;TZID=America/Detroit:20210720T230000
SUMMARY:Careers / Jobs:Changing Gears Application Open
DESCRIPTION:Learn more about the Changing Gears Program and apply at: myumi.ch/uropcg\n\nChanging Gears (CG) is a UROP program designed primarily for community college transfer students who will be attending the University of Michigan\, but also serves students transferring from 4 year institutions. Students in the CG Program become a part of an ongoing faculty-driven research\, scholarly or creative project in their field of interest. Students learn valuable academic skills\, applying these skills to their research project\, academics\, and future career opportunities\, while receiving academic credit or compensation for their efforts in research work.\n\nIf you are a U-M Transfer Student and not graduating until winter 2022 and/or after\, you are eligible to apply to the 2021-2022 UROP Changing Gears Program.
UID:83922-21616977@events.umich.edu
URL:https://events.umich.edu/event/83922
CLASS:PUBLIC
STATUS:CONFIRMED
CATEGORIES:AEM Featured,first-generation,Free,Interdisciplinary,Networking,Office Hours,Research,Transfer Students,Undergraduate,Undergraduate Students,Urop
LOCATION:Off Campus Location
CONTACT:
END:VEVENT
BEGIN:VEVENT
DTSTAMP:20220502T122639
DTSTART;TZID=America/Detroit:20210720T080000
DTEND;TZID=America/Detroit:20210720T230000
SUMMARY:Careers / Jobs:UROP First-Year Application Open
DESCRIPTION:Our \"Traditional UROP Program\" has been our flagship program running over 30 years. This Academic Year program\, in which students participate for both Fall and Winter Terms\, is designed for University of Michigan first and second year undergraduate students enrolled on the Ann Arbor campus who are seeking a first time research experience. Student research assistants work alongside a faculty member\, research scientist or professional practitioner on an ongoing or new research project.\n\nLearn more and apply at: myumi.ch/uropyearone\n\nApplications being accepted on a rolling basis.
UID:83923-21617096@events.umich.edu
URL:https://events.umich.edu/event/83923
CLASS:PUBLIC
STATUS:CONFIRMED
CATEGORIES:AEM Featured,Applications,first-generation,Free,Interdisciplinary,Networking,Research,Undergraduate,Undergraduate Students,Urop
LOCATION:Undergraduate Science Building
CONTACT:
END:VEVENT
BEGIN:VEVENT
DTSTAMP:20210804T182828
DTSTART;TZID=America/Detroit:20210720T080000
DTEND;TZID=America/Detroit:20210720T230000
SUMMARY:Careers / Jobs:UROP Research Scholars Application now open
DESCRIPTION:The UROP Research Scholars Program is designed for students who want to expand on their first year UROP experience and participate in UROP for a second year at an advanced level. In this program\, students build upon the knowledge gained in a first undergraduate research experience to further explore the connections between research\, a liberal arts education\, and communicating skills to advance their future professional goals. Students are expected to explore various written and oral possibilities for communicating their research process\, identifying the limits set by the discipline and the opportunities that lie beyond.\n\nApply at: https://myumi.ch/uroprs
UID:82067-21014995@events.umich.edu
URL:https://events.umich.edu/event/82067
CLASS:PUBLIC
STATUS:CONFIRMED
CATEGORIES:AEM Featured,Applications,Free,Interdisciplinary,Research,Undergraduate,Undergraduate Students,Urop
LOCATION:Off Campus Location
CONTACT:
END:VEVENT
BEGIN:VEVENT
DTSTAMP:20210701T145834
DTSTART;TZID=America/Detroit:20210720T100000
DTEND;TZID=America/Detroit:20210720T160000
SUMMARY:Exhibition:A Garden of Earthy Delights: Ceramic Sculptures by Ann Arbor Potters Guild at Matthaei Botanical Gardens
DESCRIPTION:Inspired by the synergy between nature’s beauty and complexity\, and in partnership with the University of Michigan Matthaei Botanical Gardens\, artists from the Ann Arbor Potters Guild created work centered around Michigan’s natural landscapes and specifically for the Great Lakes Garden at Matthaei. Potters Guild artists created eight free-standing sculptures using the full range of traditional ceramic methods and tools\, the potter’s wheel\, press molds\, coil building\, slab construction\, and sculpting. Depictions range from naturalistic and representational\, to abstract\, as well as a whimsical nod or two to the timeless role of fantasy and myth in humankind’s communion with nature. Exhibit is free but scheduled reservations are required to visit the botanical gardens. Use this link to book your visit: https://www.signupgenius.com/go/8050f4aadad22a2fd0-matthaei1
UID:84388-21623687@events.umich.edu
URL:https://events.umich.edu/event/84388
CLASS:PUBLIC
STATUS:CONFIRMED
CATEGORIES:Art,Outdoors
LOCATION:Matthaei Botanical Gardens
CONTACT:
END:VEVENT
BEGIN:VEVENT
DTSTAMP:20211209T160155
DTSTART;TZID=America/Detroit:20210720T100000
DTEND;TZID=America/Detroit:20210720T110000
SUMMARY:Other:LSA Technology Services Research Support Office Hours
DESCRIPTION:The Research Team within LSA Technology Services is excited to announce virtual office hours for research computing support. These are regularly scheduled times when we will have subject matter experts in geographic information systems\, high performance computing\, digital scholarship\, and computer programming available for drop-in support. Faculty\, staff\, and students with research-related questions pertaining to any of these areas can stop by to ask questions\, get help working through a problem\, or inquire about a new project—no appointment necessary!\n\nNot sure what we can do to help? Read on for more details about the services provided by each of these teams.\n\n*Digital Scholarship*\nOur digital scholarship team specializes in humanities\, social sciences\, and interdisciplinary digital project methods and can provide assistance with:\n* Conceptualizing\, planning\, and finding resources for a digital project\n* How to version\, archive\, and preserve a project\n* Sustainability\, preservation\, accessibility\, privacy\, consent\, or grant requirements\nNew to digital projects? We can also talk about how to demonstrate the scholarly rigor of your digital project\, accurately credit the labor required of the project at every stage\, and how to provide evidence and metrics for promotion and job dossiers.\n\n*Geographic Information Systems (GIS)*\n\nOur GIS specialists can help with your geographic data needs\, including the following:\n* Making maps for use in a class\, grant proposal\, or publication\n* Geospatial analysis: identifying spatial patterns and trends in your data\n* Georeferencing: assigning geographic coordinates to a historic paper map or a hand-drawn sketch for digital use as a basemap or combined display with other data\n* Geocoding: convert a spreadsheet with addresses into latitude-longitude so you can plot your data on a map\n* StoryMaps: harness the power of maps to tell your story\n* Integrating smartphones or tablets and GIS in your field courses or researchSetting up workshops for a class or group interested in learning to use GIS in the context of your discipline\n* Assistance with ESRI's ArcGIS platform\, including ArcGIS Pro and ArcGIS Online\, or other geospatial software\n* Developing your own custom GIS web application or mobile application\n\n*High Performance Computing (HPC)*\n\nOur HPC team can help with:\n* Accessing U-M’s new Great Lakes HPC (High Performance Computing) cluster\n* Moving your computational work from your laptop or workstation to the cluster\, freeing up your machines for other tasks\n* Compiling\, installing\, or configuring a wide range of computational software\n* Setting up automated workflows to save time\n* Debugging your programs to see why they are crashing\n* Evaluating the benefits of parallel computing\, more memory or system resources for your code\nWe regularly support Python\, R\, MATLAB\, C/C++\, Java\, Julia\, Go\, and many other applications.\n\n*Research Support Programming*\n\nOur computer programming team can help with any of the following:\n\n* Debugging\, repair\, and improvements or upgrades to your existing code\n* References to training and coding resources to assist in your project\n* Design and development of custom software to support your research\n* Incorporation of lab-specific hardware into custom software applications.\n* Writing funding for any of the above into your grant proposals\nWe're experienced in MATLAB\, Python\, R\, LabVIEW\, JavaScript\, MedPC\, iOS development\, and more.\n\nWho can join the office hours?\nLSA Faculty\, staff\, and students with research-related questions on geographic information systems\, high performance computing\, digital scholarship\, and computer programming\n\nWhen and where is it?\nOur virtual office hours use Zoom:\nMondays\, 2:00–3:00 P.M.\nTuesdays\, 10:00–11:00 A.M.\nThursdays\, 3:00–4:00 P.M.
UID:77718-20270761@events.umich.edu
URL:https://events.umich.edu/event/77718
CLASS:PUBLIC
STATUS:CONFIRMED
CATEGORIES:Digital Humanities,Digital Projects,Digital Scholarship,Faculty,Gis,Graduate Students,Humanities,Lsa,Office Hours,Postdoctoral Research Fellows,Qualitative Social Sciences,research,Science,Virtual
LOCATION:Off Campus Location
CONTACT:
END:VEVENT
BEGIN:VEVENT
DTSTAMP:20210804T123036
DTSTART;TZID=America/Detroit:20210720T100000
DTEND;TZID=America/Detroit:20210720T110000
SUMMARY:Careers / Jobs:The HR Lifecycle: From Hire to Retire
DESCRIPTION:Come talk to our leaders of the pack within Human Resources asthey discuss the associate lifecycle experience from their initial interview\, all the way to retirement. Engage while they share insights into PetSmart’s various HR capacities\, including areas such as recruitment\, onboarding\, development & retention\, total compensation\, payroll\, and more!
UID:84473-21624068@events.umich.edu
URL:https://events.umich.edu/event/84473
CLASS:PUBLIC
STATUS:CONFIRMED
CATEGORIES:
LOCATION:
CONTACT:
END:VEVENT
BEGIN:VEVENT
DTSTAMP:20210601T153404
DTSTART;TZID=America/Detroit:20210720T100000
DTEND;TZID=America/Detroit:20210720T110000
SUMMARY:Livestream / Virtual:UROP Changing Gears Drop In Virtual Office Hours
DESCRIPTION:Changing Gears/Transfer Student Summer Director Drop-In Hours\n(Tuesdays 10am - 11am\, EDT)\nNo appointment necessary \n- join the conversation at: https://umich.zoom.us/j/92736318275\n\nChanging Gears (CG) is a UROP program designed primarily for community college transfer students who will be attending the University of Michigan\, but also serves students transferring from 4 year institutions. Students in the CG Program become a part of an ongoing faculty-driven research\, scholarly or creative project in their field of interest. Students learn valuable academic skills\, applying these skills to their research project\, academics\, and future career opportunities\, while receiving academic credit or compensation for their efforts in research work.\n\nIf you are a U-M Transfer Student and not graduating until winter 2022 and/or after\, you are eligible to apply to the 2021-2022 UROP Changing Gears Program. The 2021-2022 application will be available starting May 1\, 2021
UID:84175-21620657@events.umich.edu
URL:https://events.umich.edu/event/84175
CLASS:PUBLIC
STATUS:CONFIRMED
CATEGORIES:AEM Featured,Applications,first-generation,Free,Interdisciplinary,Office Hours,Research,Transfer Students,Undergraduate,Undergraduate Students,Urop,Virtual
LOCATION:Off Campus Location
CONTACT:
END:VEVENT
BEGIN:VEVENT
DTSTAMP:20210804T123048
DTSTART;TZID=America/Detroit:20210720T130000
DTEND;TZID=America/Detroit:20210720T140000
SUMMARY:Careers / Jobs:Mosaic@L.E.K. Virtual Info Session for Undergraduate Students
DESCRIPTION:L.E.K. Consulting invites you to a series of virtual information sessions to learn more about who we are as a firm and what we do. In each session\, there will be a short presentation that will enable you to learn more about L.E.K.\, the Associate role\, and the career trajectory at our firm. Immediately following the presentation\, there will be time to speak with representatives from our firm\, which will be a great opportunity to ask questions you have about the upcoming recruiting season and how to better prepare and navigate through the recruiting cycle. We are offering 6 sessions that you can opt-in to get to know us better.\n\nPlease register using the links below. \n\n\nMosaic@LEK seeks to attract\, recruit\, develop\, and retain individuals who identify as members of racial and ethnic minority groups.  We aim to create a welcoming and supportive communitythrough formal and informal activities across the L.E.K. offices to foster awareness\, career development\, community engagement\, and personal interests and goals.
UID:84587-21624182@events.umich.edu
URL:https://events.umich.edu/event/84587
CLASS:PUBLIC
STATUS:CONFIRMED
CATEGORIES:
LOCATION:
CONTACT:
END:VEVENT
BEGIN:VEVENT
DTSTAMP:20210714T141205
DTSTART;TZID=America/Detroit:20210720T140000
DTEND;TZID=America/Detroit:20210720T153000
SUMMARY:Meeting:CoderSpaces (Tuesdays)
DESCRIPTION:Are you grappling with a piece of code\, trying to compute on a cluster\, or just getting started with a new method such as machine learning? Then we might have just the right space for you.\n\nAll members of the U-M community are invited to join our weekly virtual CoderSpaces\, Mondays – Thursdays\, during the Summer 2021 term to get research support and connect with others.\n\nThe virtual sessions are designed to assist faculty\, staff\, and students with research methodology\, statistics\, data science applications\, and computational programming for research.\n\nOur hosts have a wide set of methodological and technological expertise. They come to you from a variety of departments and disciplines and are looking forward to serving the U-M community in their research endeavors.\n\nCoderSpaces provide a casual\, productive\, and inclusive environment. Everyone is welcome regardless of skill level.\n\nTuesdays 2-3:30 p.m.\nJoin via Zoom* (https://umich.zoom.us/j/99832397131)\n*Users will have to sign in with their UMICH (Level-1) credentials.\n\nwith Alexander Gaenko (CSCAR)\, Chen Chen (PDHP/ISR)\, Liz Hanley (PDHP/ISR)\, Paul Schulz (PDHP/ISR)\n\nExpertise: C/C++\, CMake/GNU Make\, data management\, data visualization\, Fortran\, Git\, high performance computing\, Julia\, Mplus\, natural language processing\, parallelization\, performance analysis\, Perl\, Python\, R\, SAS\, secure computing enclaves\, shell\, SQL\, Stata\, statistical computing\, survey methods (hypothesis testing\, imputation\, modeling\, statistics\, sampling\, questionnaire design\, weighting)\, text analysis\, web applications (front-end HTML/CSS/JavaScript stack)\, web scraping
UID:83963-21619220@events.umich.edu
URL:https://events.umich.edu/event/83963
CLASS:PUBLIC
STATUS:CONFIRMED
CATEGORIES:Data Science,Information And Technology,Office Hours,Virtual
LOCATION:Off Campus Location
CONTACT:
END:VEVENT
BEGIN:VEVENT
DTSTAMP:20210804T123051
DTSTART;TZID=America/Detroit:20210720T140000
DTEND;TZID=America/Detroit:20210720T144500
SUMMARY:Careers / Jobs:Recruitment Virtual Office Tour - Discover LHi Group Austin\, TX
DESCRIPTION:Throw your ideas of what a sales floor or a recruitment culture look like out the window (especially if your mind goes to the likes of Wolf of Wall Street)! \nAs a final event to our 3-part Recruitment series from LHi Group\, we would like to welcome everyone to a virtual tour of ouroffices and get the true inside look at the day-to-day office life withina recruitment office.\n\nDiscover how we are different\, adventurous in our journey and gain direct insight to our LHi Family.\n\nThis opportunity offers you a chance to speak with consultants from our offices and ask them questions while they guide you around and show you all the the hot spotsthat make our LHi offices one of a kind!\n\nIf you missed Part 1 & 2 of our event series\, get in touch: recruitment@wearelhi.com\n\n*Please be aware that this event will be recorded for our training and quality assurancepurposes
UID:84611-21624218@events.umich.edu
URL:https://events.umich.edu/event/84611
CLASS:PUBLIC
STATUS:CONFIRMED
CATEGORIES:
LOCATION:
CONTACT:
END:VEVENT
BEGIN:VEVENT
DTSTAMP:20210716T123035
DTSTART;TZID=America/Detroit:20210720T150000
DTEND;TZID=America/Detroit:20210720T160000
SUMMARY:Careers / Jobs:Recruitment Virtual Office Tour - Discover LHi Group Austin\, TX
DESCRIPTION:Throw your ideas of what a sales floor or a recruitment culture look like out the window (especially if your mind goes to the likes of Wolf of Wall Street)! As a final event to our 3-part Recruitment series from LHi Group\, we would like to welcome everyone to a virtual tour of our offices and get the true inside look at the day-to-day office life within arecruitment office.\n\nDiscover how we are different\, adventurous in ourjourney and gain direct insight to our LHi Family.\n\nThis opportunity offers you a chance to speak with consultants from our offices and ask them questions while they guide you around and show you all the the hot spots that make our LHi offices one of a kind!\n\nIf you missed Part 1 & 2 of ourevent series\, get in touch: recruitment@wearelhi.com\n\n*Please be awarethat this event will be recorded for our training and quality assurance purposes
UID:84625-21624286@events.umich.edu
URL:https://events.umich.edu/event/84625
CLASS:PUBLIC
STATUS:CONFIRMED
CATEGORIES:
LOCATION:
CONTACT:
END:VEVENT
BEGIN:VEVENT
DTSTAMP:20210712T113958
DTSTART;TZID=America/Detroit:20210720T160000
DTEND;TZID=America/Detroit:20210720T170000
SUMMARY:Lecture / Discussion:Trans policy issues: Why are we talking about sports?
DESCRIPTION:Visit https://fordschool.umich.edu/event/2021/trans-policy-issues-why-are-we-talking-about-sports for bios and viewing information.\n\nTransgender people’s ability to participate in sports\, access medical care\, and be protected from discrimination in housing and at school are currently being debated at all levels of government. This event will discuss issues and policies related to trans rights and what is happening on the ground now. The panelists will also talk about why sports have been a key issue—why the freedom to compete is about much more than sports.  Join us for a discussion with Katie Barnes\, feature writer at ESPN\; Chris Mosier\, Olympic athlete and founder of TransAthlete.com\; and Naomi Goldberg (MPP '08)\, deputy director and LGBTQ program director at the Movement Advancement Project. \n\nThis event is co-sponsored by the Midwest Institute for Sexuality and Gender Diversity.
UID:84435-21623981@events.umich.edu
URL:https://events.umich.edu/event/84435
CLASS:PUBLIC
STATUS:CONFIRMED
CATEGORIES:ford school of public policy,gerald r. ford school of public policy,Inclusion,LGBT,public policy
LOCATION:Off Campus Location
CONTACT:
END:VEVENT
BEGIN:VEVENT
DTSTAMP:20210804T123045
DTSTART;TZID=America/Detroit:20210720T160000
DTEND;TZID=America/Detroit:20210720T173000
SUMMARY:Careers / Jobs:Virtual Information Session about Revenue Officers
DESCRIPTION:We are hosting a virtual information session on our Revenue Officers positions with the IRS' Small Business and Self-Employed Division.\n\nSpeak to Revenue Officer’s that are working in these positions and gain a better understanding of the work\, the day-to-day\, and what brought them to the IRS. We will also have HR Representatives on the sessions to discuss the application process and some of the requirements.\n\nRSVP today! This session begins at 4:00 pm EST.\n\nFor additional information on ouropen positions send an email to SBSE.Recruitment@irs.gov with your name and inquiry and we will answer your questions.\n
UID:84557-21624152@events.umich.edu
URL:https://events.umich.edu/event/84557
CLASS:PUBLIC
STATUS:CONFIRMED
CATEGORIES:
LOCATION:
CONTACT:
END:VEVENT
BEGIN:VEVENT
DTSTAMP:20210804T123039
DTSTART;TZID=America/Detroit:20210720T173000
DTEND;TZID=America/Detroit:20210720T183000
SUMMARY:Careers / Jobs:Fireside Chat: Data and Analytics internships at Discover Financial
DESCRIPTION:Have you ever wondered what it’s really like to work in the world of analytics? \n\nFind out by attending our “Fireside Chat: Analytics Internships at Discover Financial!”. During this 60-minute webinar Discover leaders will guide you behind the scenes of Data and Analytics at Discover and how Technology and how big of a part it plays! \n\nYou will get to hear from current and former internship program participants and getthe opportunity to ask them questions. Lastly\, you'll get early access and information about our Internship and Full time opportunities and get the BEST tips on how to prepare for the hiring process.  Please note: In order to receive the zoom link for the meeting\, you must RSVP at the link below!\n\nRSVP at the link here:  https://tinyurl.com/yfrcn6qf   \n\nPlease Note: if you’re interested in Analytics\, AI\, Machine Learning and DataModeling then this session is for you!
UID:84506-21624101@events.umich.edu
URL:https://events.umich.edu/event/84506
CLASS:PUBLIC
STATUS:CONFIRMED
CATEGORIES:
LOCATION:
CONTACT:
END:VEVENT
BEGIN:VEVENT
DTSTAMP:20210804T123051
DTSTART;TZID=America/Detroit:20210720T180000
DTEND;TZID=America/Detroit:20210720T190000
SUMMARY:Careers / Jobs:Student Athlete Networking Event: How to Leverage Athletic Experience at AlphaSights!
DESCRIPTION:What are you looking for in your next role?\n\nWork in a high-growth\, commercial role at AlphaSights!\n\nAlphaSights connects leading professionals to industry experts with the knowledge they need to make the best decisions in today’s competitive markets. We’re a global team with unrivaled career progression\, extensive professional development\, and a fast-paced\, collaborative environment.  We are looking for ambitious\, commercially driven students who are interested in a client facing role.  We currently have many former college athletes who are thriving in their roles at AlphaSights and would love to grow the team!\n\nIn this session\, we will discuss how student athletes can leverage their athletic experiences at AlphaSights.  Attendees will also have the opportunity to network with former Division I athletes that are currently thriving in their roles at AlphaSights. \n\nWe will be actively recruiting for our Full-Time Associate Program with a January 2022 start date - application links below!  Please be sure to submit your resume by July 21\, 2021 @11:59 PM EST. \n\nAssociate Program - New York (https://grnh.se/e517f0011us)\nAssociate Program- San Francisco (https://grnh.se/d438cef11us)
UID:84624-21624285@events.umich.edu
URL:https://events.umich.edu/event/84624
CLASS:PUBLIC
STATUS:CONFIRMED
CATEGORIES:
LOCATION:
CONTACT:
END:VEVENT
BEGIN:VEVENT
DTSTAMP:20210804T183049
DTSTART;TZID=America/Detroit:20210720T190000
DTEND;TZID=America/Detroit:20210720T200000
SUMMARY:Careers / Jobs:Women in Finance Roundtable
DESCRIPTION:Hear from Roark's female investment professionals on their experience working for one of the nation's top private equity firms! Our panelists will share their journey to private equity\, why they love working at Roark\, and answer questions from the audience. We hope to see you there!
UID:84608-21624211@events.umich.edu
URL:https://events.umich.edu/event/84608
CLASS:PUBLIC
STATUS:CONFIRMED
CATEGORIES:
LOCATION:
CONTACT:
END:VEVENT
BEGIN:VEVENT
DTSTAMP:20210415T102913
DTSTART;TZID=America/Detroit:20210720T200000
DTEND;TZID=America/Detroit:20210720T220000
SUMMARY:Performance:Postponed - Electric Hot Tuna: 50 Years - Rescheduled from 7/22 and 7/23/20
DESCRIPTION:Hot Tuna\, the duo of Jorma Kaukonen and Jack Casady\, perform with a well-honed and solid power—always in the groove from their years of experience and mutual inspiration. Started as a side project during Jefferson Airplane days\, the constant\, the very definition of Hot Tuna\, has always been Jorma Kaukonen and Jack Casady. The two boyhood pals have never wavered in one of the most enduring friendships in rock history. From their days playing together as teenagers in the Washington\, DC\, area\, through years in San Francisco (they're 1996 Rock and Roll Hall of Fame inductees)\, to their current acoustic and electric blues sound\, no one has more consistently led American music for the last 50 years. At the 2016 Grammys\, Jorma Kaukonen and Jack Casady were honored with Lifetime Achievement Awards\, and they're still coming up with new ideas. Hot Tuna performs an electric show tonight in observance of the band's 50th anniversary\, with drummer Justin Guip.
UID:74054-18500000@events.umich.edu
URL:https://events.umich.edu/event/74054
CLASS:PUBLIC
STATUS:CONFIRMED
CATEGORIES:The Ark
LOCATION:Off Campus Location
CONTACT:
END:VEVENT
END:VCALENDAR