BEGIN:VCALENDAR
VERSION:2.0
PRODID:-//UM//UM*Events//EN
CALSCALE:GREGORIAN
BEGIN:VTIMEZONE
TZID:America/Detroit
TZURL:http://tzurl.org/zoneinfo/America/Detroit
X-LIC-LOCATION:America/Detroit
BEGIN:DAYLIGHT
TZOFFSETFROM:-0500
TZOFFSETTO:-0400
TZNAME:EDT
DTSTART:20070311T020000
RRULE:FREQ=YEARLY;BYMONTH=3;BYDAY=2SU
END:DAYLIGHT
BEGIN:STANDARD
TZOFFSETFROM:-0400
TZOFFSETTO:-0500
TZNAME:EST
DTSTART:20071104T020000
RRULE:FREQ=YEARLY;BYMONTH=11;BYDAY=1SU
END:STANDARD
END:VTIMEZONE
BEGIN:VEVENT
DTSTAMP:20210511T124519
DTSTART;TZID=America/Detroit:20210724T080000
DTEND;TZID=America/Detroit:20210724T230000
SUMMARY:Other:Become a UROP Research Mentor
DESCRIPTION:Submit a Research Project for the 2021-2022 Academic Year: https://lsa.umich.edu/urop/research-mentors.html\n\nUROP Research Mentors are faculty and post-doc researchers from across all U-M's 19 Schools and Colleges who provide undergraduate student researchers an opportunity to engage in research activities that help them learn about the pursuit of knowledge within an academic discipline. This early exposure to research fosters a valuable academic experience for students. Through this collaboration\, students gain research skills and mentorship that lead to academic retention\, a more positive undergraduate experience and paths to graduate school.
UID:83879-21619476@events.umich.edu
URL:https://events.umich.edu/event/83879
CLASS:PUBLIC
STATUS:CONFIRMED
CATEGORIES:Interdisciplinary,Faculty,Free,Graduate and Professional Students,Graduate Students,Mentorship,Research,research data,Staff,Education,AEM Featured,Urop
LOCATION:Off Campus Location
CONTACT:
END:VEVENT
BEGIN:VEVENT
DTSTAMP:20210430T095709
DTSTART;TZID=America/Detroit:20210724T080000
DTEND;TZID=America/Detroit:20210724T230000
SUMMARY:Careers / Jobs:Changing Gears Application Open
DESCRIPTION:Learn more about the Changing Gears Program and apply at: myumi.ch/uropcg\n\nChanging Gears (CG) is a UROP program designed primarily for community college transfer students who will be attending the University of Michigan\, but also serves students transferring from 4 year institutions. Students in the CG Program become a part of an ongoing faculty-driven research\, scholarly or creative project in their field of interest. Students learn valuable academic skills\, applying these skills to their research project\, academics\, and future career opportunities\, while receiving academic credit or compensation for their efforts in research work.\n\nIf you are a U-M Transfer Student and not graduating until winter 2022 and/or after\, you are eligible to apply to the 2021-2022 UROP Changing Gears Program.
UID:83922-21616981@events.umich.edu
URL:https://events.umich.edu/event/83922
CLASS:PUBLIC
STATUS:CONFIRMED
CATEGORIES:Office Hours,AEM Featured,first-generation,Free,Interdisciplinary,Networking,Research,Transfer Students,Undergraduate,Undergraduate Students,Urop
LOCATION:Off Campus Location
CONTACT:
END:VEVENT
BEGIN:VEVENT
DTSTAMP:20210723T154528
DTSTART;TZID=America/Detroit:20210724T080000
DTEND;TZID=America/Detroit:20210724T235900
SUMMARY:Exhibition:That Greece Might Still Be Free
DESCRIPTION:Learn about the Greek War of Independence\, 19th century European international politics\, and the origins of nationalism and the modern nation-state. This exhibit commemorates the 200th anniversary of the Greek War of Independence\, which began with General Alexandros Ypsilantis’ (Greek: Αλέξανδρος Υψηλάντης) uprising against the Ottoman rulers in the Danubian Principality of Moldavia during the spring of 1821. https://myumi.ch/wlYoq\n\nThe exhibit was curated by students in the Michigan Library Scholars program\, William McClelland and Quinn Byington\, with Zachary Quint as their librarian mentor.
UID:84737-21624709@events.umich.edu
URL:https://events.umich.edu/event/84737
CLASS:PUBLIC
STATUS:CONFIRMED
CATEGORIES:Library,Exhibition,History
LOCATION:Off Campus Location
CONTACT:
END:VEVENT
BEGIN:VEVENT
DTSTAMP:20210804T182828
DTSTART;TZID=America/Detroit:20210724T080000
DTEND;TZID=America/Detroit:20210724T230000
SUMMARY:Careers / Jobs:UROP Research Scholars Application now open
DESCRIPTION:The UROP Research Scholars Program is designed for students who want to expand on their first year UROP experience and participate in UROP for a second year at an advanced level. In this program\, students build upon the knowledge gained in a first undergraduate research experience to further explore the connections between research\, a liberal arts education\, and communicating skills to advance their future professional goals. Students are expected to explore various written and oral possibilities for communicating their research process\, identifying the limits set by the discipline and the opportunities that lie beyond.\n\nApply at: https://myumi.ch/uroprs
UID:82067-21014999@events.umich.edu
URL:https://events.umich.edu/event/82067
CLASS:PUBLIC
STATUS:CONFIRMED
CATEGORIES:Undergraduate Students,AEM Featured,Applications,Free,Urop,Interdisciplinary,Research,Undergraduate
LOCATION:Off Campus Location
CONTACT:
END:VEVENT
BEGIN:VEVENT
DTSTAMP:20210808T063034
DTSTART;TZID=America/Detroit:20210724T100000
DTEND;TZID=America/Detroit:20210724T150000
SUMMARY:Careers / Jobs:Thermo Fisher Scientific - Asheville NC - On-site Manufacturing Career Fair
DESCRIPTION:On-site Entry Level Manufacturing Career Fair\nSaturday\, July24th\, 10am - 3pm\nPre-register today via the following link:\nhttps://jobs.thermofisher.com/global/en/event/60dcb80346e0fb000b999ecf/Asheville-NC-Manufacturing-Career-Fair-July-24th
UID:84643-21624307@events.umich.edu
URL:https://events.umich.edu/event/84643
CLASS:PUBLIC
STATUS:CONFIRMED
CATEGORIES:
LOCATION:275 Aiken Road, Weaverville, North Carolina 28787, United States
CONTACT:
END:VEVENT
BEGIN:VEVENT
DTSTAMP:20210724T121523
DTSTART;TZID=America/Detroit:20210724T110000
DTEND;TZID=America/Detroit:20210724T130000
SUMMARY:Other:Virtual Family Art Studio: Blind Contour: From the Studio to Cafe Sketches
DESCRIPTION:Click here to register: http://events.constantcontact.com/register/event?llr=uhlrs88ab&oeidk=a07ei7q0ilw8ef8ed5b.\n \nAt its core\, drawing is hand-eye coordination. From Pablo Picasso to Georgia O'Keeffe\, artists of all stripes practice quick figure drawings to warm up and keep their eyes sharp. Blind-contour\, continuous line figure drawing is a warm-up technique that\, once learned\, is a versatile addition to any artist's repertoire. Blind-contour\, figure drawing stresses paying close attention to one's surroundings while also remaining free and loose. Get a beginner's introduction to figure drawing with Literature\, Science\, and the Arts junior Elizabeth Yoon.\n \nMaterials:\n  4-6 sheets of 24\" x 48\" paper (or newspaper or 4 pieces of printer paper taped together) Regular Markers or Sharpies (or if using newspaper\, metallic markers) A large sketching board\, easel\, flat table\, or other flat surface\n\nFamily Art Studio is generously supported by the University of Michigan Credit Union Arts Adventures Program\, UMMA's Lead Sponsor for Student and Family Engagement. 
UID:84392-21623782@events.umich.edu
URL:https://events.umich.edu/event/84392
CLASS:PUBLIC
STATUS:CONFIRMED
CATEGORIES:UMMA,Science,Museum,Literature,Art,Family,Free
LOCATION:Museum of Art - Zoom Event / Virtual Event 
CONTACT:
END:VEVENT
BEGIN:VEVENT
DTSTAMP:20210628T113357
DTSTART;TZID=America/Detroit:20210724T140000
DTEND;TZID=America/Detroit:20210724T150000
SUMMARY:Livestream / Virtual:Virtual Saturday Sampler Tour | Excavating Karanis\, Part 1
DESCRIPTION:Saturday Sampler tours are back! We've missed you and are thrilled to be offering our Saturday Sampler tours virtually. Join us over Zoom to explore the Kelsey Museum from the comfort of your home.\n\nThe theme of this week's tour is \"Excavating Karanis\, Part 1.\" \nThe Kelsey Museum's excavations at Karanis\, Egypt\, in the 1920s and '30s yielded a premier collection of objects of daily life as well as being an early example of meticulous documentation and record-keeping. Using photos from the excavations and items in the Kelsey's collection\, Part 1 of this Zoom tour focuses on the houses uncovered in the excavations as well as their contents. Part 2\, on August 7\, focuses on the temples and granaries.\n\nZoom link:\nhttps://umich.zoom.us/j/98615763784
UID:84361-21623576@events.umich.edu
URL:https://events.umich.edu/event/84361
CLASS:PUBLIC
STATUS:CONFIRMED
CATEGORIES:Free,Archaeology
LOCATION:Off Campus Location
CONTACT:
END:VEVENT
END:VCALENDAR