BEGIN:VCALENDAR
VERSION:2.0
PRODID:-//UM//UM*Events//EN
CALSCALE:GREGORIAN
BEGIN:VTIMEZONE
TZID:America/Detroit
TZURL:http://tzurl.org/zoneinfo/America/Detroit
X-LIC-LOCATION:America/Detroit
BEGIN:DAYLIGHT
TZOFFSETFROM:-0500
TZOFFSETTO:-0400
TZNAME:EDT
DTSTART:20070311T020000
RRULE:FREQ=YEARLY;BYMONTH=3;BYDAY=2SU
END:DAYLIGHT
BEGIN:STANDARD
TZOFFSETFROM:-0400
TZOFFSETTO:-0500
TZNAME:EST
DTSTART:20071104T020000
RRULE:FREQ=YEARLY;BYMONTH=11;BYDAY=1SU
END:STANDARD
END:VTIMEZONE
BEGIN:VEVENT
DTSTAMP:20210511T124519
DTSTART;TZID=America/Detroit:20210726T080000
DTEND;TZID=America/Detroit:20210726T230000
SUMMARY:Other:Become a UROP Research Mentor
DESCRIPTION:Submit a Research Project for the 2021-2022 Academic Year: https://lsa.umich.edu/urop/research-mentors.html\n\nUROP Research Mentors are faculty and post-doc researchers from across all U-M's 19 Schools and Colleges who provide undergraduate student researchers an opportunity to engage in research activities that help them learn about the pursuit of knowledge within an academic discipline. This early exposure to research fosters a valuable academic experience for students. Through this collaboration\, students gain research skills and mentorship that lead to academic retention\, a more positive undergraduate experience and paths to graduate school.
UID:83879-21619478@events.umich.edu
URL:https://events.umich.edu/event/83879
CLASS:PUBLIC
STATUS:CONFIRMED
CATEGORIES:AEM Featured,Education,Faculty,Free,Graduate and Professional Students,Graduate Students,Interdisciplinary,Mentorship,Research,research data,Staff,Urop
LOCATION:Off Campus Location
CONTACT:
END:VEVENT
BEGIN:VEVENT
DTSTAMP:20210430T095709
DTSTART;TZID=America/Detroit:20210726T080000
DTEND;TZID=America/Detroit:20210726T230000
SUMMARY:Careers / Jobs:Changing Gears Application Open
DESCRIPTION:Learn more about the Changing Gears Program and apply at: myumi.ch/uropcg\n\nChanging Gears (CG) is a UROP program designed primarily for community college transfer students who will be attending the University of Michigan\, but also serves students transferring from 4 year institutions. Students in the CG Program become a part of an ongoing faculty-driven research\, scholarly or creative project in their field of interest. Students learn valuable academic skills\, applying these skills to their research project\, academics\, and future career opportunities\, while receiving academic credit or compensation for their efforts in research work.\n\nIf you are a U-M Transfer Student and not graduating until winter 2022 and/or after\, you are eligible to apply to the 2021-2022 UROP Changing Gears Program.
UID:83922-21616983@events.umich.edu
URL:https://events.umich.edu/event/83922
CLASS:PUBLIC
STATUS:CONFIRMED
CATEGORIES:AEM Featured,first-generation,Free,Interdisciplinary,Networking,Office Hours,Research,Transfer Students,Undergraduate,Undergraduate Students,Urop
LOCATION:Off Campus Location
CONTACT:
END:VEVENT
BEGIN:VEVENT
DTSTAMP:20210723T154528
DTSTART;TZID=America/Detroit:20210726T080000
DTEND;TZID=America/Detroit:20210726T235900
SUMMARY:Exhibition:That Greece Might Still Be Free
DESCRIPTION:Learn about the Greek War of Independence\, 19th century European international politics\, and the origins of nationalism and the modern nation-state. This exhibit commemorates the 200th anniversary of the Greek War of Independence\, which began with General Alexandros Ypsilantis’ (Greek: Αλέξανδρος Υψηλάντης) uprising against the Ottoman rulers in the Danubian Principality of Moldavia during the spring of 1821. https://myumi.ch/wlYoq\n\nThe exhibit was curated by students in the Michigan Library Scholars program\, William McClelland and Quinn Byington\, with Zachary Quint as their librarian mentor.
UID:84737-21624711@events.umich.edu
URL:https://events.umich.edu/event/84737
CLASS:PUBLIC
STATUS:CONFIRMED
CATEGORIES:Exhibition,History,Library
LOCATION:Off Campus Location
CONTACT:
END:VEVENT
BEGIN:VEVENT
DTSTAMP:20210804T182828
DTSTART;TZID=America/Detroit:20210726T080000
DTEND;TZID=America/Detroit:20210726T230000
SUMMARY:Careers / Jobs:UROP Research Scholars Application now open
DESCRIPTION:The UROP Research Scholars Program is designed for students who want to expand on their first year UROP experience and participate in UROP for a second year at an advanced level. In this program\, students build upon the knowledge gained in a first undergraduate research experience to further explore the connections between research\, a liberal arts education\, and communicating skills to advance their future professional goals. Students are expected to explore various written and oral possibilities for communicating their research process\, identifying the limits set by the discipline and the opportunities that lie beyond.\n\nApply at: https://myumi.ch/uroprs
UID:82067-21015001@events.umich.edu
URL:https://events.umich.edu/event/82067
CLASS:PUBLIC
STATUS:CONFIRMED
CATEGORIES:AEM Featured,Applications,Free,Interdisciplinary,Research,Undergraduate,Undergraduate Students,Urop
LOCATION:Off Campus Location
CONTACT:
END:VEVENT
BEGIN:VEVENT
DTSTAMP:20210726T063036
DTSTART;TZID=America/Detroit:20210726T090000
DTEND;TZID=America/Detroit:20210726T120000
SUMMARY:Careers / Jobs:Mthree Summer Week- Experiential Learning Opportunity!
DESCRIPTION:The Inaugural mthree Summer Week!\n  \nGet an insider’s perspective of what it is like to work in technology\, while also earning module credits for use post-graduation when you apply to mthree!\n \nWhen: Monday July 26th through Thursday July 29th\, 2021\n \nThe Summer Week Fellowship will include sessions from industry experts in the field of technology\, as well as skills-based session working on team building\, leadership and confidence skills. \n \n***Please note that our Summer Week Fellowshipwill be done virtually. ***\n \n \nWhat you need \n·  Studying Computer Science or STEM related field.\n·  Expected graduation date 2022 \n·  Excellent analytical and numeracy skills \n·  Strong written and verbal communication skills \n· Eagerness to learn and develop new skills \n·  Knowledge/experience with at least one programming language \n \nWhat you’ll receive:\nInteractive training with a diverse group of like-minded graduates\, delivered by experts with working knowledge of the field.\nInsightsinto the various mthree training pathways.\nCompletion credits for modules included in the mthree training pathways\, giving you fast tracked priority into the mthree post-graduation.\nJoin the mthree network and be kept up to date on future opportunities. \nInvaluable industry experience and the opportunity to learn more about a career in a desirable and competitiveindustry.\nLunch provided all week\n \nWhat you’ll do: \n \nThe aim of the Summer Fellowship is to not only educate\, but also upskill and provide participates with an insight into the working world. Some examples of the activities you will do are below: \n \n Develop your ability in programming. \n Group exercises \nLearn how Technology fits within an Investment Bank \nHackathon – with a prizes at the end! \n Interview techniques \nHelp to understand your career options or career pathways \nAnd many many more! \n \n \nHow to Apply \n \nYou will need to send us your resume and submit answers to the following questions: \n \nHow did you first become interested in technology?\nWhat do you do in your spare time to encourage yourpassion for technology\n﻿Why would you want to attend mthree’s SummerFellowship Week?\n \nPlease submit either in a Word document or PDF with CV and answers in ONE DOCUMENT. \nAbout Mthree\nFortune 500 Emerging Talent hiring and training partner\n\nmthree is a global IT Services firm\,  who provide Fortune 500 companies with emerging talent workforce solutions. We achieve this by strategically and collaboratively identifying long termhiring strategies and pre on-boarding client bespoke training directly with hiring managers. \n\nmthree in turn also partners with Universities across the United States by providing students with a strong academic background a platform to kick-start their career within corporate technology teams. Prospective candidates are then given the opportunity to work with Fortune 500 companies globally\, on specifically allocated projects and deliverable's. \n\nBy joining mthree\, recent graduates gain\; priceless experience on a market leading salary and bespoke training with a structured support system.
UID:84528-21624123@events.umich.edu
URL:https://events.umich.edu/event/84528
CLASS:PUBLIC
STATUS:CONFIRMED
CATEGORIES:
LOCATION:
CONTACT:
END:VEVENT
BEGIN:VEVENT
DTSTAMP:20210810T123028
DTSTART;TZID=America/Detroit:20210726T100000
DTEND;TZID=America/Detroit:20210726T110000
SUMMARY:Careers / Jobs:PetSmart Charities: Who We Are and How We Work with PetSmart
DESCRIPTION:Did you know that PetSmart Charities is its own\, independent 501(c)(3) organization committed to strengthening communities by supporting pets in need and those who love them? Come learn how PetSmart Charities and PetSmart partner to elevate and support PetSmart Charities' mission through PIN pad donations at checkout registers\, our in-store adoption program\, retail promotions\, and much more!
UID:84478-21624073@events.umich.edu
URL:https://events.umich.edu/event/84478
CLASS:PUBLIC
STATUS:CONFIRMED
CATEGORIES:
LOCATION:
CONTACT:
END:VEVENT
BEGIN:VEVENT
DTSTAMP:20210326T154043
DTSTART;TZID=America/Detroit:20210726T120000
DTEND;TZID=America/Detroit:20210726T133000
SUMMARY:Workshop / Seminar:Anti-Racist Community Engagement (Students Only)
DESCRIPTION:This interactive virtual workshop will interrogate the role white supremacy often plays in university community engagement experiences and will explore anti-racist approaches to our work in and with communities. The workshop is designed for students with prior knowledge or experience with community engagement who are interested in learning more about how to practice anti-racism in their engaged course\, service\, project\, or research.\n\nWorkshop content will build on basic concepts of race\, racism\, social identity\, power\, and privilege. If you're newer to those concepts and how they connect to community engagement\, we encourage you to complete modules 1 and 2 of the Community Engagement: Collaborating for Change MOOC and/or attend our Entering\, Engaging\, and Exiting Communities workshop (see upcoming sessions on our homepage) before signing up for this offering. You may also want to read Tania Mitchell's (2008) “Traditional vs. Critical Service-Learning” before attending.
UID:83352-21346231@events.umich.edu
URL:https://events.umich.edu/event/83352
CLASS:PUBLIC
STATUS:CONFIRMED
CATEGORIES:Free
LOCATION:Off Campus Location
CONTACT:
END:VEVENT
BEGIN:VEVENT
DTSTAMP:20210810T063027
DTSTART;TZID=America/Detroit:20210726T120000
DTEND;TZID=America/Detroit:20210726T130000
SUMMARY:Careers / Jobs:Resume Lab
DESCRIPTION:*RSVP for this program. Click \"Join Event\" here: https://umich.joinhandshake.com/events/775714\n\nJust getting started building a resume? Have a draft but not sure how to make it better? Want to learn about resources available to revise your resume? Wherever you’re at Resume Lab isa great next step for you.\n\nGet real-time\, personalized support in a small group setting by checking out the virtual Resume Lab. \n\nWe will discuss and educate you on…\n- Design and format\n- Writing a great bullet point\n- Targeting your resume for specific internships/jobs\n\nIf you're a Graduate Student\, please make a 1:1 appointment instead of attending the Lab so we can cater because this event is designed for undergraduates.\n\nNote: This event's information is shown in Handshake as well as on the Happening @ Michigan calendar so that it will be seen by a larger number ofU-M Students. If you'd like to indicate that you'll be attending this event then please go to: https://umich.joinhandshake.com/events/775714\n\nRecent Grads: If you are an alumnus\, you will not be able to access the linkdue the University’s policy of discontinuing alumni Zoom accounts 30 days after graduation. Please contact careercenter@umich.edu with the subject line “Recent Grad Help” to receive either a recording of the sessionor to be set up with a 1:1. Include the name of the workshop/event in your email.
UID:84498-21624093@events.umich.edu
URL:https://events.umich.edu/event/84498
CLASS:PUBLIC
STATUS:CONFIRMED
CATEGORIES:
LOCATION:https://umich.zoom.us/j/2745640240
CONTACT:
END:VEVENT
BEGIN:VEVENT
DTSTAMP:20210506T120651
DTSTART;TZID=America/Detroit:20210726T133000
DTEND;TZID=America/Detroit:20210726T150000
SUMMARY:Meeting:CoderSpaces (Mondays)
DESCRIPTION:Are you grappling with a piece of code\, trying to compute on a cluster\, or just getting started with a new method such as machine learning? Then we might have just the right space for you.\n\nAll members of the U-M community are invited to join our weekly virtual CoderSpaces\, Mondays – Thursdays\, during the Summer 2021 term to get research support and connect with others.\n\nThe virtual sessions are designed to assist faculty\, staff\, and students with research methodology\, statistics\, data science applications\, and computational programming for research.\n\nOur hosts have a wide set of methodological and technological expertise. They come to you from a variety of departments and disciplines and are looking forward to serving the U-M community in their research endeavors.\n\nCoderSpaces provide a casual\, productive\, and inclusive environment. Everyone is welcome regardless of skill level.\n\nMondays 1:30-3 p.m.\n\nJoin via Zoom* (https://umich.zoom.us/j/97155787515)\n*Users will have to sign in with their UMICH (Level-1) credentials.\n\nwith Andrew Hlynka (CSCAR)\, Charles Antonelli (LSA Tech)\, Jonathan Golob (Michigan Medicine)\n\nExpertise: 3D graphical applications\, C\, C++\, C#\, CMake/GNU Make\, Fortran\, Git\, high performance computing\, Java\, JavaScript\, Julia\, Matlab\, mobile app development\, MPI\, OpenMP\, parallelization\, performance analysis\, PBS\, Python\, R\, reproducible workflows (nextflow)\, shell\, Slurm\, SQL\, statistical modeling
UID:83925-21619097@events.umich.edu
URL:https://events.umich.edu/event/83925
CLASS:PUBLIC
STATUS:CONFIRMED
CATEGORIES:Arc,Data Science,Information And Technology,Office Hours
LOCATION:Off Campus Location
CONTACT:
END:VEVENT
BEGIN:VEVENT
DTSTAMP:20211209T160155
DTSTART;TZID=America/Detroit:20210726T140000
DTEND;TZID=America/Detroit:20210726T150000
SUMMARY:Other:LSA Technology Services Research Support Office Hours
DESCRIPTION:The Research Team within LSA Technology Services is excited to announce virtual office hours for research computing support. These are regularly scheduled times when we will have subject matter experts in geographic information systems\, high performance computing\, digital scholarship\, and computer programming available for drop-in support. Faculty\, staff\, and students with research-related questions pertaining to any of these areas can stop by to ask questions\, get help working through a problem\, or inquire about a new project—no appointment necessary!\n\nNot sure what we can do to help? Read on for more details about the services provided by each of these teams.\n\n*Digital Scholarship*\nOur digital scholarship team specializes in humanities\, social sciences\, and interdisciplinary digital project methods and can provide assistance with:\n* Conceptualizing\, planning\, and finding resources for a digital project\n* How to version\, archive\, and preserve a project\n* Sustainability\, preservation\, accessibility\, privacy\, consent\, or grant requirements\nNew to digital projects? We can also talk about how to demonstrate the scholarly rigor of your digital project\, accurately credit the labor required of the project at every stage\, and how to provide evidence and metrics for promotion and job dossiers.\n\n*Geographic Information Systems (GIS)*\n\nOur GIS specialists can help with your geographic data needs\, including the following:\n* Making maps for use in a class\, grant proposal\, or publication\n* Geospatial analysis: identifying spatial patterns and trends in your data\n* Georeferencing: assigning geographic coordinates to a historic paper map or a hand-drawn sketch for digital use as a basemap or combined display with other data\n* Geocoding: convert a spreadsheet with addresses into latitude-longitude so you can plot your data on a map\n* StoryMaps: harness the power of maps to tell your story\n* Integrating smartphones or tablets and GIS in your field courses or researchSetting up workshops for a class or group interested in learning to use GIS in the context of your discipline\n* Assistance with ESRI's ArcGIS platform\, including ArcGIS Pro and ArcGIS Online\, or other geospatial software\n* Developing your own custom GIS web application or mobile application\n\n*High Performance Computing (HPC)*\n\nOur HPC team can help with:\n* Accessing U-M’s new Great Lakes HPC (High Performance Computing) cluster\n* Moving your computational work from your laptop or workstation to the cluster\, freeing up your machines for other tasks\n* Compiling\, installing\, or configuring a wide range of computational software\n* Setting up automated workflows to save time\n* Debugging your programs to see why they are crashing\n* Evaluating the benefits of parallel computing\, more memory or system resources for your code\nWe regularly support Python\, R\, MATLAB\, C/C++\, Java\, Julia\, Go\, and many other applications.\n\n*Research Support Programming*\n\nOur computer programming team can help with any of the following:\n\n* Debugging\, repair\, and improvements or upgrades to your existing code\n* References to training and coding resources to assist in your project\n* Design and development of custom software to support your research\n* Incorporation of lab-specific hardware into custom software applications.\n* Writing funding for any of the above into your grant proposals\nWe're experienced in MATLAB\, Python\, R\, LabVIEW\, JavaScript\, MedPC\, iOS development\, and more.\n\nWho can join the office hours?\nLSA Faculty\, staff\, and students with research-related questions on geographic information systems\, high performance computing\, digital scholarship\, and computer programming\n\nWhen and where is it?\nOur virtual office hours use Zoom:\nMondays\, 2:00–3:00 P.M.\nTuesdays\, 10:00–11:00 A.M.\nThursdays\, 3:00–4:00 P.M.
UID:77718-20270715@events.umich.edu
URL:https://events.umich.edu/event/77718
CLASS:PUBLIC
STATUS:CONFIRMED
CATEGORIES:Digital Humanities,Digital Projects,Digital Scholarship,Faculty,Gis,Graduate Students,Humanities,Lsa,Office Hours,Postdoctoral Research Fellows,Qualitative Social Sciences,research,Science,Virtual
LOCATION:Off Campus Location
CONTACT:
END:VEVENT
BEGIN:VEVENT
DTSTAMP:20210713T162257
DTSTART;TZID=America/Detroit:20210726T150000
DTEND;TZID=America/Detroit:20210726T160000
SUMMARY:Livestream / Virtual:Connecting to Community: Ginsberg Center’s Pathways to Engagement
DESCRIPTION:As you make the University of Michigan your new home\, there are many opportunities for you to connect to the Ann Arbor and Washtenaw County communities. Whether you’ve always had a passion for community service\, or are looking for other ways to engage with the local community\, join the Ginsberg Center as we provide an introduction to Washtenaw County and discuss the various ways you can connect meaningfully as a UM student.
UID:84453-21624018@events.umich.edu
URL:https://events.umich.edu/event/84453
CLASS:PUBLIC
STATUS:CONFIRMED
CATEGORIES:Free,Virtual
LOCATION:Off Campus Location
CONTACT:
END:VEVENT
BEGIN:VEVENT
DTSTAMP:20210730T180002
DTSTART;TZID=America/Detroit:20210726T160000
DTEND;TZID=America/Detroit:20210726T235959
SUMMARY:Fair / Festival:Summer Orientation Virtual Org Fair 2021 | TABLES ARE LIVE ON 7/30 FROM 4-6PM!
DESCRIPTION:This Summer Orientation virtual fair is an opportunity for incoming students to be connected with student organizations and university departments before coming to campus this fall. Virtual tables will be live on Friday\, July 30th from 4-6pm\, but you can explore the fair and participating orgs/departments anytime before that!For more information for participants\, please visit:https://campusinvolvement.umich.edu/attending-summer-orientation-fairs
UID:84327-21625125@events.umich.edu
URL:https://events.umich.edu/event/84327
CLASS:PUBLIC
STATUS:CONFIRMED
CATEGORIES:
LOCATION:Online
CONTACT:
END:VEVENT
BEGIN:VEVENT
DTSTAMP:20210701T144421
DTSTART;TZID=America/Detroit:20210726T170000
DTEND;TZID=America/Detroit:20210726T183000
SUMMARY:Lecture / Discussion:PPIA Junior Summer Institute 40th anniversary celebration
DESCRIPTION:The University of Michigan’s Gerald R. Ford School of Public Policy has proudly supported the PPIA fellowship (formerly known as the Sloan or Woodrow Wilson fellowship) since its inception in 1981 and has been one of just a handful of policy schools to host the 7-week educational initiative for undergraduates students every summer. Read more about the PPIA program: https://fordschool.umich.edu/ppia\n\nTo celebrate this milestone\, we bring together a panel of distinguished leaders\, each of whom attended the University of Michigan Junior Summer Institute and went on to forge careers of tremendous impact and service.\n\nJoin us to hear their reflections on how their time in the PPIA program impacted their careers\, what advice they have for young professionals interested in public service\, and lessons learned about the role that universities can play in building more inclusive and equitable public institutions. Ford School Dean Michael S. Barr will moderate the conversation. \n\nRegister on the event website: https://fordschool.umich.edu/event/2021/ppia-junior-summer-institute-40th-anniversary-celebration
UID:84389-21623667@events.umich.edu
URL:https://events.umich.edu/event/84389
CLASS:PUBLIC
STATUS:CONFIRMED
CATEGORIES:Alumni,Diversity Equity And Inclusion,ford school of public policy,gerald r. ford school of public policy,Public Policy
LOCATION:Off Campus Location
CONTACT:
END:VEVENT
BEGIN:VEVENT
DTSTAMP:20210720T181503
DTSTART;TZID=America/Detroit:20210726T190000
SUMMARY:Performance:Summer Carillon Concert: John Widmann
DESCRIPTION:Date change from July 17\n\nJohn Widmann\, City Carillonneur of the City of Frederick\, MD\, performs the fourth of our \"7 at 7\" Monday night carillon concerts at Burton Memorial Tower. His program ranges from original compositions for carillon to classical transcriptions to movie themes.\n\nThe annual series takes place at 7 PM on Mondays from June 21 to August 9\, featuring performers from Michigan and around the U.S. playing either Burton or Lurie Tower. Concerts are free and family-friendly. The carillon is an outdoor instrument\, and attendees are requested to maintain social distance in the outdoor listening areas surrounding the towers. Attendees are required to follow the University of Michigan\, Washtenaw County\, Michigan state\, and federal guidelines for large outdoor gatherings.\n\nPlease fill out our convenient pre-registration form: https://myumi.ch/ZQWvq. This information will be kept for 21 days after the concert\, and will only be used for contact tracing if confirmed COVID-19 cases become associated with the gathering.\n\nBIOGRAPHY: John Widmann is the City Carillonneur for the City of Frederick\, Maryland\, where he plays recitals every Sunday at 12:30\, year-round\, on the Joseph Dill Baker Carillon in Baker Park. He has now held that position for twenty-nine years. Mr. Widmann graduated from Indiana University of Pennsylvania\, and completed in his Master of Music degree from Towson University in 2011. In addition to his Sunday recitals\, he recently retired from Frederick County Public Schools where he was a General/Vocal Music teacher. He is also a freelance organist and conductor. Mr. Widmann became a Carillonneur Member of the Guild of Carillonneurs in North America in 1996\, and is a past member of the national board of that organization. He maintains an active concert schedule\, and has played frequently in the U.S.\, along with recitals in Belgium\, France\, Switzerland\, Spain\, Portugal\, the Netherlands\, England\, Canada\, and the Netherlands Antilles. He lives in Frederick with his wife and sometimes their two grown children.
UID:84270-21620835@events.umich.edu
URL:https://events.umich.edu/event/84270
CLASS:PUBLIC
STATUS:CONFIRMED
CATEGORIES:Concert,Culture,Family,Free,Music,Outdoors
LOCATION:Burton Memorial Tower
CONTACT:
END:VEVENT
END:VCALENDAR