BEGIN:VCALENDAR
VERSION:2.0
PRODID:-//UM//UM*Events//EN
CALSCALE:GREGORIAN
BEGIN:VTIMEZONE
TZID:America/Detroit
TZURL:http://tzurl.org/zoneinfo/America/Detroit
X-LIC-LOCATION:America/Detroit
BEGIN:DAYLIGHT
TZOFFSETFROM:-0500
TZOFFSETTO:-0400
TZNAME:EDT
DTSTART:20070311T020000
RRULE:FREQ=YEARLY;BYMONTH=3;BYDAY=2SU
END:DAYLIGHT
BEGIN:STANDARD
TZOFFSETFROM:-0400
TZOFFSETTO:-0500
TZNAME:EST
DTSTART:20071104T020000
RRULE:FREQ=YEARLY;BYMONTH=11;BYDAY=1SU
END:STANDARD
END:VTIMEZONE
BEGIN:VEVENT
DTSTAMP:20210511T124519
DTSTART;TZID=America/Detroit:20210801T080000
DTEND;TZID=America/Detroit:20210801T230000
SUMMARY:Other:Become a UROP Research Mentor
DESCRIPTION:Submit a Research Project for the 2021-2022 Academic Year: https://lsa.umich.edu/urop/research-mentors.html\n\nUROP Research Mentors are faculty and post-doc researchers from across all U-M's 19 Schools and Colleges who provide undergraduate student researchers an opportunity to engage in research activities that help them learn about the pursuit of knowledge within an academic discipline. This early exposure to research fosters a valuable academic experience for students. Through this collaboration\, students gain research skills and mentorship that lead to academic retention\, a more positive undergraduate experience and paths to graduate school.
UID:83879-21619484@events.umich.edu
URL:https://events.umich.edu/event/83879
CLASS:PUBLIC
STATUS:CONFIRMED
CATEGORIES:Interdisciplinary,Faculty,Free,Graduate and Professional Students,Graduate Students,Mentorship,Research,research data,Staff,Education,AEM Featured,Urop
LOCATION:Off Campus Location
CONTACT:
END:VEVENT
BEGIN:VEVENT
DTSTAMP:20210430T095709
DTSTART;TZID=America/Detroit:20210801T080000
DTEND;TZID=America/Detroit:20210801T230000
SUMMARY:Careers / Jobs:Changing Gears Application Open
DESCRIPTION:Learn more about the Changing Gears Program and apply at: myumi.ch/uropcg\n\nChanging Gears (CG) is a UROP program designed primarily for community college transfer students who will be attending the University of Michigan\, but also serves students transferring from 4 year institutions. Students in the CG Program become a part of an ongoing faculty-driven research\, scholarly or creative project in their field of interest. Students learn valuable academic skills\, applying these skills to their research project\, academics\, and future career opportunities\, while receiving academic credit or compensation for their efforts in research work.\n\nIf you are a U-M Transfer Student and not graduating until winter 2022 and/or after\, you are eligible to apply to the 2021-2022 UROP Changing Gears Program.
UID:83922-21616989@events.umich.edu
URL:https://events.umich.edu/event/83922
CLASS:PUBLIC
STATUS:CONFIRMED
CATEGORIES:Office Hours,AEM Featured,first-generation,Free,Interdisciplinary,Networking,Research,Transfer Students,Undergraduate,Undergraduate Students,Urop
LOCATION:Off Campus Location
CONTACT:
END:VEVENT
BEGIN:VEVENT
DTSTAMP:20210723T154528
DTSTART;TZID=America/Detroit:20210801T080000
DTEND;TZID=America/Detroit:20210801T235900
SUMMARY:Exhibition:That Greece Might Still Be Free
DESCRIPTION:Learn about the Greek War of Independence\, 19th century European international politics\, and the origins of nationalism and the modern nation-state. This exhibit commemorates the 200th anniversary of the Greek War of Independence\, which began with General Alexandros Ypsilantis’ (Greek: Αλέξανδρος Υψηλάντης) uprising against the Ottoman rulers in the Danubian Principality of Moldavia during the spring of 1821. https://myumi.ch/wlYoq\n\nThe exhibit was curated by students in the Michigan Library Scholars program\, William McClelland and Quinn Byington\, with Zachary Quint as their librarian mentor.
UID:84737-21624717@events.umich.edu
URL:https://events.umich.edu/event/84737
CLASS:PUBLIC
STATUS:CONFIRMED
CATEGORIES:Library,Exhibition,History
LOCATION:Off Campus Location
CONTACT:
END:VEVENT
BEGIN:VEVENT
DTSTAMP:20210804T182828
DTSTART;TZID=America/Detroit:20210801T080000
DTEND;TZID=America/Detroit:20210801T230000
SUMMARY:Careers / Jobs:UROP Research Scholars Application now open
DESCRIPTION:The UROP Research Scholars Program is designed for students who want to expand on their first year UROP experience and participate in UROP for a second year at an advanced level. In this program\, students build upon the knowledge gained in a first undergraduate research experience to further explore the connections between research\, a liberal arts education\, and communicating skills to advance their future professional goals. Students are expected to explore various written and oral possibilities for communicating their research process\, identifying the limits set by the discipline and the opportunities that lie beyond.\n\nApply at: https://myumi.ch/uroprs
UID:82067-21015007@events.umich.edu
URL:https://events.umich.edu/event/82067
CLASS:PUBLIC
STATUS:CONFIRMED
CATEGORIES:Urop,Undergraduate Students,Undergraduate,Research,Interdisciplinary,Free,Applications,AEM Featured
LOCATION:Off Campus Location
CONTACT:
END:VEVENT
BEGIN:VEVENT
DTSTAMP:20210701T145834
DTSTART;TZID=America/Detroit:20210801T100000
DTEND;TZID=America/Detroit:20210801T160000
SUMMARY:Exhibition:A Garden of Earthy Delights: Ceramic Sculptures by Ann Arbor Potters Guild at Matthaei Botanical Gardens
DESCRIPTION:Inspired by the synergy between nature’s beauty and complexity\, and in partnership with the University of Michigan Matthaei Botanical Gardens\, artists from the Ann Arbor Potters Guild created work centered around Michigan’s natural landscapes and specifically for the Great Lakes Garden at Matthaei. Potters Guild artists created eight free-standing sculptures using the full range of traditional ceramic methods and tools\, the potter’s wheel\, press molds\, coil building\, slab construction\, and sculpting. Depictions range from naturalistic and representational\, to abstract\, as well as a whimsical nod or two to the timeless role of fantasy and myth in humankind’s communion with nature. Exhibit is free but scheduled reservations are required to visit the botanical gardens. Use this link to book your visit: https://www.signupgenius.com/go/8050f4aadad22a2fd0-matthaei1
UID:84388-21623699@events.umich.edu
URL:https://events.umich.edu/event/84388
CLASS:PUBLIC
STATUS:CONFIRMED
CATEGORIES:Art,Outdoors
LOCATION:Matthaei Botanical Gardens
CONTACT:
END:VEVENT
BEGIN:VEVENT
DTSTAMP:20210723T130320
DTSTART;TZID=America/Detroit:20210801T193000
DTEND;TZID=America/Detroit:20210801T210000
SUMMARY:Performance:The Steel Wheels
DESCRIPTION:*By purchasing a ticket you agree that you and your guests will comply with all laws\, orders\, ordinances\, regulations and health and safety guidance adopted by the State of Michigan\, the County of Washtenaw and The Ark\, including any guidelines in place at the time of the show. Attendees who do not comply will be asked to leave. Policies will be updated as circumstances and requirements change in our community. Please review The Ark’s current COVID-related information before attending a show.*\n\nSimultaneously familiar and fresh\, the Steel Wheels bring a singular energy to every note they play and sparkling craft to each song. This potent combination\, paired with a robust tour calendar\, have made the veteran band hands-down favorites of fans and peers alike. From their base in Virginia’s Blue Ridge Mountains\, TSW have played the most prestigious festivals\, listening rooms\, and clubs in the world\, cementing a reputation as one of the top independent bands on the scene today.\n\nWith their 2020 release\, Everyone A Song\, Vol. 1\, The Steel Wheels demonstrate the humanizing power of honest storytelling\, setting the personal experiences of their supporters to song. \n\nWhat started as a ruined touring season turned into a time of great creativity\, as the band devised a new model of writing and recording. With the 5 members isolated from each other and their listeners\, they quickly shifted from veteran touring outfit to home recording gurus. Songwriter and lead singer Trent Wagler conceived of a project entitled Distance Together\, an avenue for fans of the band to commission works and send musical greetings to their loved ones. The initiative sparked a surprisingly impactful and intimate songwriting process\, with Wagler setting the personal stories of fans to song and verse. Songs were written for individuals\, friends\, and families\, many specific to a time and place. Some have been commissioned for weddings and anniversaries\, or to commemorate a lost loved one or the completion of a life's work. \n\nIn \"My Name is Sharon\"\, Wagler was tasked with memorializing a young woman and friend of the band\, lost at the age of 35. The resulting song remembers details of Sharon's life\, in all it's profundity and mundanity\, and demonstrates the power of remembrance held in saying someone's name. \n\nAlbum ender “Family is Power” follows the matriarch of a large family\, as she looks back on her long life and the family she loves\, now spread across the country. “She’s gonna see the truth in me\, in the golden hour. Come to the table one and all\, Family is Power.” In “The Healer\,” buoyant banjo and fiddle lines drive the story of a magnetic personality who\, after a lifetime of work and service is denied the opportunity to say goodbye to colleagues in the midst of the pandemic. “Water and Sky”\, a tribute to John Prine in its simplicity and depth\, paints pictures of a dreamy Kansas landscape\, and the strong personalities who hold witness to the ebb and flow of life. \n\nThe Steel Wheels have always been fiercely independent\, releasing albums under their own label\, with recording locations varying from a Virginia cabin\, to a rural Maine studio to various home studios. Now spread across 3 states with many miles between\, The Steel Wheels have invented an entirely new way of collaborating. Fortunately two of the members\, multi-instrumentalist Jay Lapp and percussionist Kevin Garcia were already skilled audio engineers with home studios at the ready. Others\, such as fiddle player Eric Brubaker\, who had to scrounge together a few mics from the touring van and an old laptop\, learning the ropes of digital audio recording on the fly. \n\nAccording to Brubaker\, \"Process has a great deal to do with the outcome of a creative undertaking. Some of the pressure is off when you are just at home\, instead of at an expensive studio\, so you might take some risks that you wouldn’t usually. Also\, we were working at a pretty fast pace\, so you just had to trust your first instinct and not overthink it.” \n\nDuring the first few months of the pandemic and cessation of all touring\, The Steel Wheels recorded over 60 songs in their isolated studios. Some covers\, some new editions of their own songs\, and some newly penned\, the creations generally started with Wagler recording a single instrument and vocals. The tracks were emailed to Garcia\, who layered in a backbone of percussion. Next in line was usually Brian Dickel who rounded out the rhythm section with upright and electric bass parts. \n\nPart by part\, the songs were arranged and recorded\, often with little discussion as to who was providing which part\, or even what instruments should be included. The band relied on their years of musical camaraderie and intuition to imagine the whole\, adding their voices while being careful to leave room for the next in line. The process yielded some exciting new sounds\, from the neo soul vocals and punchy bass lines of “Florida Girl” to the second line swagger of Garcia’s drums on “The Man Who Holds Up the World.\" \n\nThe Steel Wheels have been a band marked by their road tested friendship and desire to build community. 2020 would have marked their 8th year as hosts and curators of their Red Wing Roots Music Festival. Always a high-water mark of the year\, the 3 day festival brings together thousands of fans and friends every July to sing and sweat together in the Virginia sun. \n\nEveryone A Song\, Vol. 1 was born out of a desire to close the distance created in the midst of the Covid-19 shutdown. “Maybe I was dreaming of being an essential worker\,” says Wagler. “It made me ask the question: what’s essential about music? It’s the connection. The understanding. The beauty and magic of melodies that transcend us with the words that say\, ‘You there\, I see you\, and you see me\, and doesn’t it feel good to not be alone in the world?’ That’s what art has to offer. Especially right now. And planting real stories right in the middle of it kind of pushed aside any other pretense or distraction about being cool or whatever.” \n\nThis project has been further documented in an accompanying podcast\, We Made You a Song. Each episode dives into the creation of a single song on the album\, serving as an in-depth audio liner note. Wagler interviews the band as well as the actual subjects of each song to give a rare glimpse into the creative process\, and what it means for someone to have their experience distilled into melody and rhyme.
UID:84213-21620767@events.umich.edu
URL:https://events.umich.edu/event/84213
CLASS:PUBLIC
STATUS:CONFIRMED
CATEGORIES:
LOCATION:Off Campus Location
CONTACT:
END:VEVENT
END:VCALENDAR