BEGIN:VCALENDAR
VERSION:2.0
PRODID:-//UM//UM*Events//EN
CALSCALE:GREGORIAN
BEGIN:VTIMEZONE
TZID:America/Detroit
TZURL:http://tzurl.org/zoneinfo/America/Detroit
X-LIC-LOCATION:America/Detroit
BEGIN:DAYLIGHT
TZOFFSETFROM:-0500
TZOFFSETTO:-0400
TZNAME:EDT
DTSTART:20070311T020000
RRULE:FREQ=YEARLY;BYMONTH=3;BYDAY=2SU
END:DAYLIGHT
BEGIN:STANDARD
TZOFFSETFROM:-0400
TZOFFSETTO:-0500
TZNAME:EST
DTSTART:20071104T020000
RRULE:FREQ=YEARLY;BYMONTH=11;BYDAY=1SU
END:STANDARD
END:VTIMEZONE
BEGIN:VEVENT
DTSTAMP:20210511T124519
DTSTART;TZID=America/Detroit:20210808T080000
DTEND;TZID=America/Detroit:20210808T230000
SUMMARY:Other:Become a UROP Research Mentor
DESCRIPTION:Submit a Research Project for the 2021-2022 Academic Year: https://lsa.umich.edu/urop/research-mentors.html\n\nUROP Research Mentors are faculty and post-doc researchers from across all U-M's 19 Schools and Colleges who provide undergraduate student researchers an opportunity to engage in research activities that help them learn about the pursuit of knowledge within an academic discipline. This early exposure to research fosters a valuable academic experience for students. Through this collaboration\, students gain research skills and mentorship that lead to academic retention\, a more positive undergraduate experience and paths to graduate school.
UID:83879-21619491@events.umich.edu
URL:https://events.umich.edu/event/83879
CLASS:PUBLIC
STATUS:CONFIRMED
CATEGORIES:Interdisciplinary,Free,Graduate and Professional Students,Graduate Students,Mentorship,Research,research data,Urop,Staff,AEM Featured,Education,Faculty
LOCATION:Off Campus Location
CONTACT:
END:VEVENT
BEGIN:VEVENT
DTSTAMP:20210723T154528
DTSTART;TZID=America/Detroit:20210808T080000
DTEND;TZID=America/Detroit:20210808T235900
SUMMARY:Exhibition:That Greece Might Still Be Free
DESCRIPTION:Learn about the Greek War of Independence\, 19th century European international politics\, and the origins of nationalism and the modern nation-state. This exhibit commemorates the 200th anniversary of the Greek War of Independence\, which began with General Alexandros Ypsilantis’ (Greek: Αλέξανδρος Υψηλάντης) uprising against the Ottoman rulers in the Danubian Principality of Moldavia during the spring of 1821. https://myumi.ch/wlYoq\n\nThe exhibit was curated by students in the Michigan Library Scholars program\, William McClelland and Quinn Byington\, with Zachary Quint as their librarian mentor.
UID:84737-21624724@events.umich.edu
URL:https://events.umich.edu/event/84737
CLASS:PUBLIC
STATUS:CONFIRMED
CATEGORIES:Library,Exhibition,History
LOCATION:Off Campus Location
CONTACT:
END:VEVENT
BEGIN:VEVENT
DTSTAMP:20210804T182828
DTSTART;TZID=America/Detroit:20210808T080000
DTEND;TZID=America/Detroit:20210808T230000
SUMMARY:Careers / Jobs:UROP Research Scholars Application now open
DESCRIPTION:The UROP Research Scholars Program is designed for students who want to expand on their first year UROP experience and participate in UROP for a second year at an advanced level. In this program\, students build upon the knowledge gained in a first undergraduate research experience to further explore the connections between research\, a liberal arts education\, and communicating skills to advance their future professional goals. Students are expected to explore various written and oral possibilities for communicating their research process\, identifying the limits set by the discipline and the opportunities that lie beyond.\n\nApply at: https://myumi.ch/uroprs
UID:82067-21015014@events.umich.edu
URL:https://events.umich.edu/event/82067
CLASS:PUBLIC
STATUS:CONFIRMED
CATEGORIES:Urop,Undergraduate Students,Undergraduate,Research,Interdisciplinary,Free,Applications,AEM Featured
LOCATION:Off Campus Location
CONTACT:
END:VEVENT
BEGIN:VEVENT
DTSTAMP:20210701T145834
DTSTART;TZID=America/Detroit:20210808T100000
DTEND;TZID=America/Detroit:20210808T160000
SUMMARY:Exhibition:A Garden of Earthy Delights: Ceramic Sculptures by Ann Arbor Potters Guild at Matthaei Botanical Gardens
DESCRIPTION:Inspired by the synergy between nature’s beauty and complexity\, and in partnership with the University of Michigan Matthaei Botanical Gardens\, artists from the Ann Arbor Potters Guild created work centered around Michigan’s natural landscapes and specifically for the Great Lakes Garden at Matthaei. Potters Guild artists created eight free-standing sculptures using the full range of traditional ceramic methods and tools\, the potter’s wheel\, press molds\, coil building\, slab construction\, and sculpting. Depictions range from naturalistic and representational\, to abstract\, as well as a whimsical nod or two to the timeless role of fantasy and myth in humankind’s communion with nature. Exhibit is free but scheduled reservations are required to visit the botanical gardens. Use this link to book your visit: https://www.signupgenius.com/go/8050f4aadad22a2fd0-matthaei1
UID:84388-21623706@events.umich.edu
URL:https://events.umich.edu/event/84388
CLASS:PUBLIC
STATUS:CONFIRMED
CATEGORIES:Art,Outdoors
LOCATION:Matthaei Botanical Gardens
CONTACT:
END:VEVENT
BEGIN:VEVENT
DTSTAMP:20210723T130823
DTSTART;TZID=America/Detroit:20210808T190000
DTEND;TZID=America/Detroit:20210808T210000
SUMMARY:Performance:CANCELLED: Trout Fishing in America - Rescheduled from August 14\, 2020
DESCRIPTION:Trout Fishing in America is Keith Grimwood (electric bass/upright bass and vocals) and Ezra Idlet (guitar/bouzouki/banjo and vocals).  For over 40 years\, they have entertained and engaged audiences of all ages with their clever lyrics\, genre-defying musical style\, and inimitable stage presence. Trout Fishing in America was in the first wave of artist-owned labels (Trout Records) to successfully record and market their music. Drawing inspiration from childhoods spent listening to top-40 AM radio\, the two songwriters season their music with stylings from rock and roll\, blues\, folk\, country\, bluegrass\, funk\, Latin\, and reggae.whatever sound best brings out the flavor of their lyrics.  Their recordings have garnered three National Indie Awards\, multiple Parents Choice and NAPPA Gold awards\, the American Library Award\, as well as four Grammy nominations.  In April 2019\, they released their 26th album\, \"Live At The Epic Theater\". It is not unusual for three or four generations of a family to show up at a Trout performance and this is a point of pride for both Keith and Ezra. It may be impossible to categorize what kind of music they play\, but after attending a Trout show\, you'll know exactly what you've witnessed:  two guys who still love what they do and are excited to share it with you.\n\nYou can find them online at troutmusic.com\, on their of-FISH-ial Facebook page\, and on their MusicByTroutFishing YouTube channel.
UID:73573-18261087@events.umich.edu
URL:https://events.umich.edu/event/73573
CLASS:PUBLIC
STATUS:CONFIRMED
CATEGORIES:The Ark
LOCATION:Off Campus Location
CONTACT:
END:VEVENT
END:VCALENDAR