BEGIN:VCALENDAR
VERSION:2.0
PRODID:-//UM//UM*Events//EN
CALSCALE:GREGORIAN
BEGIN:VTIMEZONE
TZID:America/Detroit
TZURL:http://tzurl.org/zoneinfo/America/Detroit
X-LIC-LOCATION:America/Detroit
BEGIN:DAYLIGHT
TZOFFSETFROM:-0500
TZOFFSETTO:-0400
TZNAME:EDT
DTSTART:20070311T020000
RRULE:FREQ=YEARLY;BYMONTH=3;BYDAY=2SU
END:DAYLIGHT
BEGIN:STANDARD
TZOFFSETFROM:-0400
TZOFFSETTO:-0500
TZNAME:EST
DTSTART:20071104T020000
RRULE:FREQ=YEARLY;BYMONTH=11;BYDAY=1SU
END:STANDARD
END:VTIMEZONE
BEGIN:VEVENT
DTSTAMP:20210511T124519
DTSTART;TZID=America/Detroit:20210816T080000
DTEND;TZID=America/Detroit:20210816T230000
SUMMARY:Other:Become a UROP Research Mentor
DESCRIPTION:Submit a Research Project for the 2021-2022 Academic Year: https://lsa.umich.edu/urop/research-mentors.html\n\nUROP Research Mentors are faculty and post-doc researchers from across all U-M's 19 Schools and Colleges who provide undergraduate student researchers an opportunity to engage in research activities that help them learn about the pursuit of knowledge within an academic discipline. This early exposure to research fosters a valuable academic experience for students. Through this collaboration\, students gain research skills and mentorship that lead to academic retention\, a more positive undergraduate experience and paths to graduate school.
UID:83879-21619499@events.umich.edu
URL:https://events.umich.edu/event/83879
CLASS:PUBLIC
STATUS:CONFIRMED
CATEGORIES:AEM Featured,Education,Faculty,Free,Graduate and Professional Students,Graduate Students,Interdisciplinary,Mentorship,Research,research data,Staff,Urop
LOCATION:Off Campus Location
CONTACT:
END:VEVENT
BEGIN:VEVENT
DTSTAMP:20210723T154528
DTSTART;TZID=America/Detroit:20210816T080000
DTEND;TZID=America/Detroit:20210816T235900
SUMMARY:Exhibition:That Greece Might Still Be Free
DESCRIPTION:Learn about the Greek War of Independence\, 19th century European international politics\, and the origins of nationalism and the modern nation-state. This exhibit commemorates the 200th anniversary of the Greek War of Independence\, which began with General Alexandros Ypsilantis’ (Greek: Αλέξανδρος Υψηλάντης) uprising against the Ottoman rulers in the Danubian Principality of Moldavia during the spring of 1821. https://myumi.ch/wlYoq\n\nThe exhibit was curated by students in the Michigan Library Scholars program\, William McClelland and Quinn Byington\, with Zachary Quint as their librarian mentor.
UID:84737-21624732@events.umich.edu
URL:https://events.umich.edu/event/84737
CLASS:PUBLIC
STATUS:CONFIRMED
CATEGORIES:Exhibition,History,Library
LOCATION:Off Campus Location
CONTACT:
END:VEVENT
BEGIN:VEVENT
DTSTAMP:20210701T145834
DTSTART;TZID=America/Detroit:20210816T100000
DTEND;TZID=America/Detroit:20210816T160000
SUMMARY:Exhibition:A Garden of Earthy Delights: Ceramic Sculptures by Ann Arbor Potters Guild at Matthaei Botanical Gardens
DESCRIPTION:Inspired by the synergy between nature’s beauty and complexity\, and in partnership with the University of Michigan Matthaei Botanical Gardens\, artists from the Ann Arbor Potters Guild created work centered around Michigan’s natural landscapes and specifically for the Great Lakes Garden at Matthaei. Potters Guild artists created eight free-standing sculptures using the full range of traditional ceramic methods and tools\, the potter’s wheel\, press molds\, coil building\, slab construction\, and sculpting. Depictions range from naturalistic and representational\, to abstract\, as well as a whimsical nod or two to the timeless role of fantasy and myth in humankind’s communion with nature. Exhibit is free but scheduled reservations are required to visit the botanical gardens. Use this link to book your visit: https://www.signupgenius.com/go/8050f4aadad22a2fd0-matthaei1
UID:84388-21623714@events.umich.edu
URL:https://events.umich.edu/event/84388
CLASS:PUBLIC
STATUS:CONFIRMED
CATEGORIES:Art,Outdoors
LOCATION:Matthaei Botanical Gardens
CONTACT:
END:VEVENT
BEGIN:VEVENT
DTSTAMP:20210729T121519
DTSTART;TZID=America/Detroit:20210816T100000
DTEND;TZID=America/Detroit:20210816T110000
SUMMARY:Livestream / Virtual:Financial Aid and Scholarship Info Session
DESCRIPTION:Learn what types of financial aid and scholarships are available from Rackham and how these resources may impact your financial aid during graduate school.\nRegistration is required at https://myumi.ch/dOlk5.\nWe want to ensure full and equitable participation in our events. If an accommodation would promote your full participation in this event\, please follow the registration link to indicate your accommodation requirements. Please let us know as soon as possible in order to have adequate time\, preferably one week\, to arrange for your requested accommodations or an effective alternative.
UID:84785-21624952@events.umich.edu
URL:https://events.umich.edu/event/84785
CLASS:PUBLIC
STATUS:CONFIRMED
CATEGORIES:Graduate Students
LOCATION:Off Campus Location
CONTACT:
END:VEVENT
BEGIN:VEVENT
DTSTAMP:20210831T063111
DTSTART;TZID=America/Detroit:20210816T120000
DTEND;TZID=America/Detroit:20210816T130000
SUMMARY:Careers / Jobs:Resume Lab
DESCRIPTION:*RSVP for this program. Click \"Join Event\" here: https://umich.joinhandshake.com/events/789239\n\nJust getting started building a resume? Have a draft but not sure how to make it better? Want to learn about resources available to revise your resume? Wherever you’re at Resume Lab isa great next step for you.\n\nGet real-time\, personalized support in a small group setting by checking out the virtual Resume Lab. \n\nWe will discuss and educate you on…\n- Design and format\n- Writing a great bullet point\n- Targeting your resume for specific internships/jobs\n\nIf you're a Graduate Student\, please make a 1:1 appointment instead of attending the Lab so we can cater because this event is designed for undergraduates.\n\nNote: This event's information is shown in Handshake as well as on the Happening @ Michigan calendar so that it will be seen by a larger number ofU-M Students. If you'd like to indicate that you'll be attending this event then please go to: https://umich.joinhandshake.com/events/789239\n\nRecent Grads: If you are an alumnus\, you will not be able to access the linkdue the University’s policy of discontinuing alumni Zoom accounts 30 days after graduation. Please contact careercenter@umich.edu with the subject line “Recent Grad Help” to receive either a recording of the sessionor to be set up with a 1:1. Include the name of the workshop/event in your email.
UID:84730-21624501@events.umich.edu
URL:https://events.umich.edu/event/84730
CLASS:PUBLIC
STATUS:CONFIRMED
CATEGORIES:
LOCATION:https://umich.zoom.us/j/2745640240
CONTACT:
END:VEVENT
BEGIN:VEVENT
DTSTAMP:20210728T154011
DTSTART;TZID=America/Detroit:20210816T130000
DTEND;TZID=America/Detroit:20210816T140000
SUMMARY:Careers / Jobs:ECRC Job Search Bootcamp: Session 1 Resume Writing
DESCRIPTION:To help you jumpstart your job search\, the ECRC is hosting a Job Search Bootcamp August 16th-19th to get you ready for the upcoming fall recruitment season before classes begin on August 30th. Our first session is a resume writing workshop where we'll discuss best practices for resume formatting and content and provide you with examples to help you create or edit your resume. We'll also have time at the end of the workshop for you to ask questions. \n\nTo attend this workshop\, please use the following Zoom link: https://umich.zoom.us/j/91095417642
UID:84779-21624936@events.umich.edu
URL:https://events.umich.edu/event/84779
CLASS:PUBLIC
STATUS:CONFIRMED
CATEGORIES:Career,Graduate Students,Michigan Engineering,Undergraduate Students
LOCATION:Off Campus Location
CONTACT:
END:VEVENT
BEGIN:VEVENT
DTSTAMP:20210506T120651
DTSTART;TZID=America/Detroit:20210816T133000
DTEND;TZID=America/Detroit:20210816T150000
SUMMARY:Meeting:CoderSpaces (Mondays)
DESCRIPTION:Are you grappling with a piece of code\, trying to compute on a cluster\, or just getting started with a new method such as machine learning? Then we might have just the right space for you.\n\nAll members of the U-M community are invited to join our weekly virtual CoderSpaces\, Mondays – Thursdays\, during the Summer 2021 term to get research support and connect with others.\n\nThe virtual sessions are designed to assist faculty\, staff\, and students with research methodology\, statistics\, data science applications\, and computational programming for research.\n\nOur hosts have a wide set of methodological and technological expertise. They come to you from a variety of departments and disciplines and are looking forward to serving the U-M community in their research endeavors.\n\nCoderSpaces provide a casual\, productive\, and inclusive environment. Everyone is welcome regardless of skill level.\n\nMondays 1:30-3 p.m.\n\nJoin via Zoom* (https://umich.zoom.us/j/97155787515)\n*Users will have to sign in with their UMICH (Level-1) credentials.\n\nwith Andrew Hlynka (CSCAR)\, Charles Antonelli (LSA Tech)\, Jonathan Golob (Michigan Medicine)\n\nExpertise: 3D graphical applications\, C\, C++\, C#\, CMake/GNU Make\, Fortran\, Git\, high performance computing\, Java\, JavaScript\, Julia\, Matlab\, mobile app development\, MPI\, OpenMP\, parallelization\, performance analysis\, PBS\, Python\, R\, reproducible workflows (nextflow)\, shell\, Slurm\, SQL\, statistical modeling
UID:83925-21619100@events.umich.edu
URL:https://events.umich.edu/event/83925
CLASS:PUBLIC
STATUS:CONFIRMED
CATEGORIES:Arc,Data Science,Information And Technology,Office Hours
LOCATION:Off Campus Location
CONTACT:
END:VEVENT
BEGIN:VEVENT
DTSTAMP:20211209T160155
DTSTART;TZID=America/Detroit:20210816T140000
DTEND;TZID=America/Detroit:20210816T150000
SUMMARY:Other:LSA Technology Services Research Support Office Hours
DESCRIPTION:The Research Team within LSA Technology Services is excited to announce virtual office hours for research computing support. These are regularly scheduled times when we will have subject matter experts in geographic information systems\, high performance computing\, digital scholarship\, and computer programming available for drop-in support. Faculty\, staff\, and students with research-related questions pertaining to any of these areas can stop by to ask questions\, get help working through a problem\, or inquire about a new project—no appointment necessary!\n\nNot sure what we can do to help? Read on for more details about the services provided by each of these teams.\n\n*Digital Scholarship*\nOur digital scholarship team specializes in humanities\, social sciences\, and interdisciplinary digital project methods and can provide assistance with:\n* Conceptualizing\, planning\, and finding resources for a digital project\n* How to version\, archive\, and preserve a project\n* Sustainability\, preservation\, accessibility\, privacy\, consent\, or grant requirements\nNew to digital projects? We can also talk about how to demonstrate the scholarly rigor of your digital project\, accurately credit the labor required of the project at every stage\, and how to provide evidence and metrics for promotion and job dossiers.\n\n*Geographic Information Systems (GIS)*\n\nOur GIS specialists can help with your geographic data needs\, including the following:\n* Making maps for use in a class\, grant proposal\, or publication\n* Geospatial analysis: identifying spatial patterns and trends in your data\n* Georeferencing: assigning geographic coordinates to a historic paper map or a hand-drawn sketch for digital use as a basemap or combined display with other data\n* Geocoding: convert a spreadsheet with addresses into latitude-longitude so you can plot your data on a map\n* StoryMaps: harness the power of maps to tell your story\n* Integrating smartphones or tablets and GIS in your field courses or researchSetting up workshops for a class or group interested in learning to use GIS in the context of your discipline\n* Assistance with ESRI's ArcGIS platform\, including ArcGIS Pro and ArcGIS Online\, or other geospatial software\n* Developing your own custom GIS web application or mobile application\n\n*High Performance Computing (HPC)*\n\nOur HPC team can help with:\n* Accessing U-M’s new Great Lakes HPC (High Performance Computing) cluster\n* Moving your computational work from your laptop or workstation to the cluster\, freeing up your machines for other tasks\n* Compiling\, installing\, or configuring a wide range of computational software\n* Setting up automated workflows to save time\n* Debugging your programs to see why they are crashing\n* Evaluating the benefits of parallel computing\, more memory or system resources for your code\nWe regularly support Python\, R\, MATLAB\, C/C++\, Java\, Julia\, Go\, and many other applications.\n\n*Research Support Programming*\n\nOur computer programming team can help with any of the following:\n\n* Debugging\, repair\, and improvements or upgrades to your existing code\n* References to training and coding resources to assist in your project\n* Design and development of custom software to support your research\n* Incorporation of lab-specific hardware into custom software applications.\n* Writing funding for any of the above into your grant proposals\nWe're experienced in MATLAB\, Python\, R\, LabVIEW\, JavaScript\, MedPC\, iOS development\, and more.\n\nWho can join the office hours?\nLSA Faculty\, staff\, and students with research-related questions on geographic information systems\, high performance computing\, digital scholarship\, and computer programming\n\nWhen and where is it?\nOur virtual office hours use Zoom:\nMondays\, 2:00–3:00 P.M.\nTuesdays\, 10:00–11:00 A.M.\nThursdays\, 3:00–4:00 P.M.
UID:77718-20270718@events.umich.edu
URL:https://events.umich.edu/event/77718
CLASS:PUBLIC
STATUS:CONFIRMED
CATEGORIES:Digital Humanities,Digital Projects,Digital Scholarship,Faculty,Gis,Graduate Students,Humanities,Lsa,Office Hours,Postdoctoral Research Fellows,Qualitative Social Sciences,research,Science,Virtual
LOCATION:Off Campus Location
CONTACT:
END:VEVENT
BEGIN:VEVENT
DTSTAMP:20210720T181503
DTSTART;TZID=America/Detroit:20210816T190000
SUMMARY:Performance:Summer Carillon Concert: HyoJin Jenna Moon
DESCRIPTION:date change from July 26\n\nHyoJin (Jenna) Moon (DMA '21) performs the fifth of our \"7 at 7\" Monday night carillon concerts. Her program \"Classic and New Voices\" foregrounds music by women composers from Florence Price to Hyo Won Woo to her own Korean-inspired compositions. Moon is the author of U-M's Korean-language carillon FAQ: https://wp.me/p7VjVq-bj\n\nThe annual series takes place at 7 PM on Mondays from June 21 to August 9\, featuring performers from Michigan and around the U.S. playing either Burton or Lurie Tower. The carillon is an outdoor instrument\, and attendees are requested to maintain social distance in the outdoor listening areas surrounding the towers. Attendees are required to follow the University of Michigan\, Washtenaw County\, Michigan state\, and federal guidelines for large outdoor gatherings.\n\nPlease fill out our convenient pre-registration form: https://myumi.ch/ZQWvq. This information will be kept for 21 days after the concert\, and will only be used for contact tracing if confirmed COVID-19 cases become associated with the gathering.\n\nBIOGRAPHY: Hyojin (Jenna) Moon is a doctoral candidate in Sacred Music at the University of Michigan where she studies with Dr. James Kibbie (organ)\, Dr. Tiffany Ng (carillon)\, and Dr. Kola Owolabi (sacred music). Moon received her master’s degree from U-M with the Michele Johns Scholarship\, and her bachelor’s degree from Trinity Christian College (organ and music education).\n\nMoon has performed over 100 weekday carillon recitals at U-M. An avid carillon ambassador for diversity\, she programmed her dissertation recital with an inclusive repertoire to celebrate carillon music by people of color and women. Moon organized a student carillon concert series\, including “New Perspective & Inclusivity on Digital Carillon Concert\,” collaborating with the Multi-Ethnic Student Affairs (Excellence in Entrepreneurship\, Career Empowerment & Leadership Enterprise Fund)\, and a new Augmented Reality carillon performance with Architecture students (supported by a Sonic Scenographies Research Grant). She published her carillon works\, 'Sae-Ta-Ryung (Birdsong)' and 'Parang-Sae (Bluebird)\,' in \"Global Rings\" (CHI Press\, 2020). She was Vice President of the University of Michigan Carillon Guild.\n\nMoon has extensive experience playing organ at churches throughout North America\, the U-M Annual Organ Conferences\, the AGO Lenten Recital Series\, and the Brown Bag Recital Series on the Letourneau organ at the U-M. In 2019\, Moon received a Rackham Predoctoral Fellowship to participate in the Netherlands and Germany U-M organ tour to perform in masterclasses at thirteen historic organs in Europe\, including Amsterdam\, Norden\, Cappel\, Hamburg\, Leipzig\, Rötha\, Dresden\, and Waltershausen.\n\nMoon’s awards include the 2021 Dr. Martin Luther King Jr. Spirit Award\, Rackham Dissertation Fellowship\, Rackham Doctoral Fellowship\, a Sonic Scenographies research grant\, and the Excellence in Entrepreneurship\, Career Empowerment & Leadership Enterprise Fund. Moon has worked as U-M summer carillon concert series manager\, social media specialist\, and cataloguing assistant under Dr. Ng's direction.
UID:84271-21620836@events.umich.edu
URL:https://events.umich.edu/event/84271
CLASS:PUBLIC
STATUS:CONFIRMED
CATEGORIES:Concert,Culture,Family,Free,Music,Outdoors
LOCATION:Burton Memorial Tower
CONTACT:
END:VEVENT
END:VCALENDAR