BEGIN:VCALENDAR
VERSION:2.0
PRODID:-//UM//UM*Events//EN
CALSCALE:GREGORIAN
BEGIN:VTIMEZONE
TZID:America/Detroit
TZURL:http://tzurl.org/zoneinfo/America/Detroit
X-LIC-LOCATION:America/Detroit
BEGIN:DAYLIGHT
TZOFFSETFROM:-0500
TZOFFSETTO:-0400
TZNAME:EDT
DTSTART:20070311T020000
RRULE:FREQ=YEARLY;BYMONTH=3;BYDAY=2SU
END:DAYLIGHT
BEGIN:STANDARD
TZOFFSETFROM:-0400
TZOFFSETTO:-0500
TZNAME:EST
DTSTART:20071104T020000
RRULE:FREQ=YEARLY;BYMONTH=11;BYDAY=1SU
END:STANDARD
END:VTIMEZONE
BEGIN:VEVENT
DTSTAMP:20210511T124519
DTSTART;TZID=America/Detroit:20210817T080000
DTEND;TZID=America/Detroit:20210817T230000
SUMMARY:Other:Become a UROP Research Mentor
DESCRIPTION:Submit a Research Project for the 2021-2022 Academic Year: https://lsa.umich.edu/urop/research-mentors.html\n\nUROP Research Mentors are faculty and post-doc researchers from across all U-M's 19 Schools and Colleges who provide undergraduate student researchers an opportunity to engage in research activities that help them learn about the pursuit of knowledge within an academic discipline. This early exposure to research fosters a valuable academic experience for students. Through this collaboration\, students gain research skills and mentorship that lead to academic retention\, a more positive undergraduate experience and paths to graduate school.
UID:83879-21619500@events.umich.edu
URL:https://events.umich.edu/event/83879
CLASS:PUBLIC
STATUS:CONFIRMED
CATEGORIES:AEM Featured,Education,Faculty,Free,Graduate and Professional Students,Graduate Students,Interdisciplinary,Mentorship,Research,research data,Staff,Urop
LOCATION:Off Campus Location
CONTACT:
END:VEVENT
BEGIN:VEVENT
DTSTAMP:20210723T154528
DTSTART;TZID=America/Detroit:20210817T080000
DTEND;TZID=America/Detroit:20210817T235900
SUMMARY:Exhibition:That Greece Might Still Be Free
DESCRIPTION:Learn about the Greek War of Independence\, 19th century European international politics\, and the origins of nationalism and the modern nation-state. This exhibit commemorates the 200th anniversary of the Greek War of Independence\, which began with General Alexandros Ypsilantis’ (Greek: Αλέξανδρος Υψηλάντης) uprising against the Ottoman rulers in the Danubian Principality of Moldavia during the spring of 1821. https://myumi.ch/wlYoq\n\nThe exhibit was curated by students in the Michigan Library Scholars program\, William McClelland and Quinn Byington\, with Zachary Quint as their librarian mentor.
UID:84737-21624733@events.umich.edu
URL:https://events.umich.edu/event/84737
CLASS:PUBLIC
STATUS:CONFIRMED
CATEGORIES:Exhibition,History,Library
LOCATION:Off Campus Location
CONTACT:
END:VEVENT
BEGIN:VEVENT
DTSTAMP:20210901T063053
DTSTART;TZID=America/Detroit:20210817T093000
DTEND;TZID=America/Detroit:20210817T100000
SUMMARY:Careers / Jobs:Yelping From Home: The Tech Talk Series
DESCRIPTION:Talk: Modern Python Async Programming\n\nAsynchronous programming can help scale web services to thousands of simultaneous users while avoiding much of the complexity of multi-threaded code. Async code brings its own challenges\, but a number of developments in the Python language and open-source ecosystem mean that building async web services and clients is now easier than ever.\n\nIn this talk\, we'll look at how the Python ecosystem around asynchronous programming has evolved over time\, some of the latest tools\, and where development may be headed in the future.\n\nSpeaker:\nJamie Hewland\, London\n\nBio: Jamie is a software engineer on the Streaming Platform team where he helps build and run the streaming data infrastructure that powers many Yelp features. Before Yelp\, Jamie worked asan SRE and backend engineer for around five years in his home country of South Africa. He has given talks at PyConZA\, ScaleConf\, and KubeCon. Having moved to London earlier this year\, you’ll often find him running orcycling along Regent’s Canal or tending to his growing collection of house plants.
UID:84877-21625227@events.umich.edu
URL:https://events.umich.edu/event/84877
CLASS:PUBLIC
STATUS:CONFIRMED
CATEGORIES:
LOCATION:
CONTACT:
END:VEVENT
BEGIN:VEVENT
DTSTAMP:20210701T145834
DTSTART;TZID=America/Detroit:20210817T100000
DTEND;TZID=America/Detroit:20210817T160000
SUMMARY:Exhibition:A Garden of Earthy Delights: Ceramic Sculptures by Ann Arbor Potters Guild at Matthaei Botanical Gardens
DESCRIPTION:Inspired by the synergy between nature’s beauty and complexity\, and in partnership with the University of Michigan Matthaei Botanical Gardens\, artists from the Ann Arbor Potters Guild created work centered around Michigan’s natural landscapes and specifically for the Great Lakes Garden at Matthaei. Potters Guild artists created eight free-standing sculptures using the full range of traditional ceramic methods and tools\, the potter’s wheel\, press molds\, coil building\, slab construction\, and sculpting. Depictions range from naturalistic and representational\, to abstract\, as well as a whimsical nod or two to the timeless role of fantasy and myth in humankind’s communion with nature. Exhibit is free but scheduled reservations are required to visit the botanical gardens. Use this link to book your visit: https://www.signupgenius.com/go/8050f4aadad22a2fd0-matthaei1
UID:84388-21623715@events.umich.edu
URL:https://events.umich.edu/event/84388
CLASS:PUBLIC
STATUS:CONFIRMED
CATEGORIES:Art,Outdoors
LOCATION:Matthaei Botanical Gardens
CONTACT:
END:VEVENT
BEGIN:VEVENT
DTSTAMP:20210901T123051
DTSTART;TZID=America/Detroit:20210817T100000
DTEND;TZID=America/Detroit:20210817T110000
SUMMARY:Careers / Jobs:FinTech Panel
DESCRIPTION:Calling all software engineering students interested in fintech: university recruiters from Robinhood and a few other fintech companies (Brex\, Two Sigma\, and Plaid) are coming together to answer all your burning questions! We’ll be chatting about culture\, opportunities\, the interview process and everything in between!
UID:84517-21624112@events.umich.edu
URL:https://events.umich.edu/event/84517
CLASS:PUBLIC
STATUS:CONFIRMED
CATEGORIES:
LOCATION:
CONTACT:
END:VEVENT
BEGIN:VEVENT
DTSTAMP:20210901T123057
DTSTART;TZID=America/Detroit:20210817T100000
DTEND;TZID=America/Detroit:20210817T110000
SUMMARY:Careers / Jobs:Hall Capital Partners Analyst Info Session_2
DESCRIPTION:Hall Capital Partners is a portfolio management firm and financial advisor with offices in NYC and San Francisco. Beginning in August 2021\, we are seeking to hire 12-16 rising college seniors for our Analyst programs that starts in July 2022.\n\nThis will be the second of two virtual information sessions that will include a presentation from several members of our team. Please sign up for the session that best aligns with your schedule.\n\nWe will discuss:\n- Who is Hall Capital and what do we do?\n-What is the Analyst role\n- Our commitment to DEI efforts\n- Opportunities for training and development\, mentorship\, and our culture (this is what really set us apart!)\n- Recruiting process
UID:84880-21625230@events.umich.edu
URL:https://events.umich.edu/event/84880
CLASS:PUBLIC
STATUS:CONFIRMED
CATEGORIES:
LOCATION:
CONTACT:
END:VEVENT
BEGIN:VEVENT
DTSTAMP:20211209T160155
DTSTART;TZID=America/Detroit:20210817T100000
DTEND;TZID=America/Detroit:20210817T110000
SUMMARY:Other:LSA Technology Services Research Support Office Hours
DESCRIPTION:The Research Team within LSA Technology Services is excited to announce virtual office hours for research computing support. These are regularly scheduled times when we will have subject matter experts in geographic information systems\, high performance computing\, digital scholarship\, and computer programming available for drop-in support. Faculty\, staff\, and students with research-related questions pertaining to any of these areas can stop by to ask questions\, get help working through a problem\, or inquire about a new project—no appointment necessary!\n\nNot sure what we can do to help? Read on for more details about the services provided by each of these teams.\n\n*Digital Scholarship*\nOur digital scholarship team specializes in humanities\, social sciences\, and interdisciplinary digital project methods and can provide assistance with:\n* Conceptualizing\, planning\, and finding resources for a digital project\n* How to version\, archive\, and preserve a project\n* Sustainability\, preservation\, accessibility\, privacy\, consent\, or grant requirements\nNew to digital projects? We can also talk about how to demonstrate the scholarly rigor of your digital project\, accurately credit the labor required of the project at every stage\, and how to provide evidence and metrics for promotion and job dossiers.\n\n*Geographic Information Systems (GIS)*\n\nOur GIS specialists can help with your geographic data needs\, including the following:\n* Making maps for use in a class\, grant proposal\, or publication\n* Geospatial analysis: identifying spatial patterns and trends in your data\n* Georeferencing: assigning geographic coordinates to a historic paper map or a hand-drawn sketch for digital use as a basemap or combined display with other data\n* Geocoding: convert a spreadsheet with addresses into latitude-longitude so you can plot your data on a map\n* StoryMaps: harness the power of maps to tell your story\n* Integrating smartphones or tablets and GIS in your field courses or researchSetting up workshops for a class or group interested in learning to use GIS in the context of your discipline\n* Assistance with ESRI's ArcGIS platform\, including ArcGIS Pro and ArcGIS Online\, or other geospatial software\n* Developing your own custom GIS web application or mobile application\n\n*High Performance Computing (HPC)*\n\nOur HPC team can help with:\n* Accessing U-M’s new Great Lakes HPC (High Performance Computing) cluster\n* Moving your computational work from your laptop or workstation to the cluster\, freeing up your machines for other tasks\n* Compiling\, installing\, or configuring a wide range of computational software\n* Setting up automated workflows to save time\n* Debugging your programs to see why they are crashing\n* Evaluating the benefits of parallel computing\, more memory or system resources for your code\nWe regularly support Python\, R\, MATLAB\, C/C++\, Java\, Julia\, Go\, and many other applications.\n\n*Research Support Programming*\n\nOur computer programming team can help with any of the following:\n\n* Debugging\, repair\, and improvements or upgrades to your existing code\n* References to training and coding resources to assist in your project\n* Design and development of custom software to support your research\n* Incorporation of lab-specific hardware into custom software applications.\n* Writing funding for any of the above into your grant proposals\nWe're experienced in MATLAB\, Python\, R\, LabVIEW\, JavaScript\, MedPC\, iOS development\, and more.\n\nWho can join the office hours?\nLSA Faculty\, staff\, and students with research-related questions on geographic information systems\, high performance computing\, digital scholarship\, and computer programming\n\nWhen and where is it?\nOur virtual office hours use Zoom:\nMondays\, 2:00–3:00 P.M.\nTuesdays\, 10:00–11:00 A.M.\nThursdays\, 3:00–4:00 P.M.
UID:77718-20270765@events.umich.edu
URL:https://events.umich.edu/event/77718
CLASS:PUBLIC
STATUS:CONFIRMED
CATEGORIES:Digital Humanities,Digital Projects,Digital Scholarship,Faculty,Gis,Graduate Students,Humanities,Lsa,Office Hours,Postdoctoral Research Fellows,Qualitative Social Sciences,research,Science,Virtual
LOCATION:Off Campus Location
CONTACT:
END:VEVENT
BEGIN:VEVENT
DTSTAMP:20210901T063115
DTSTART;TZID=America/Detroit:20210817T110000
DTEND;TZID=America/Detroit:20210817T170000
SUMMARY:Careers / Jobs:Virtual Coffee Chats with Plante Moran UM Alumni!
DESCRIPTION:Hello from Plante Moran! If you're interested in learning moreabout our opportunities in audit\, tax\, or wealth management\, please consider signing up for a virtual 20 minute coffee chat with one of our staff members. If you're a first or second year student\, we would love to share more information with you about our summer leadership events. \n\nIf you have any questions\, please reach out to Kathleen.Boeve@plantemoran.com!
UID:85405-21626367@events.umich.edu
URL:https://events.umich.edu/event/85405
CLASS:PUBLIC
STATUS:CONFIRMED
CATEGORIES:
LOCATION:
CONTACT:
END:VEVENT
BEGIN:VEVENT
DTSTAMP:20210801T220200
DTSTART;TZID=America/Detroit:20210817T120000
DTEND;TZID=America/Detroit:20210817T133000
SUMMARY:Workshop / Seminar:Recent Graduate Panel - International Students
DESCRIPTION:Have you been wondering what's next and feel a little overwhelmed? Do you wish there was someone you could ask for advice on how they choose their career path or found a job? Well\, GradSWE is hosting two panels to address just that! This panel will comprise senior international graduate students and recent graduates who will share their experiences with choosing a career path\, navigating the job market\, and preparing for life post-graduation.\n\nThis international student panel will be on Tuesday\, August 17th from 12-1:30 pm EST on Zoom.\n\nThe first 25 RSVP’s that attend will get a $10 gift card for Amazon!\n\nRSVP is required.\n\nPLEASE CONTACT Sarah Jane Bork at sjbork@umich.edu with questions.
UID:84742-21624849@events.umich.edu
URL:https://events.umich.edu/event/84742
CLASS:PUBLIC
STATUS:CONFIRMED
CATEGORIES:Graduate Students
LOCATION:Off Campus Location
CONTACT:
END:VEVENT
BEGIN:VEVENT
DTSTAMP:20210901T063100
DTSTART;TZID=America/Detroit:20210817T120000
DTEND;TZID=America/Detroit:20210817T133000
SUMMARY:Careers / Jobs:Virtual Information Session about Tax Examiner positions
DESCRIPTION:We are hosting a virtual information session on our Tax Examiner positions with the IRS' Small Business and Self-Employed Division.\n\nSpeak to Tax Examiner’s that are working in these positions and gain a better understanding of the work\, the day-to-day\, and what brought them tothe IRS. We will also have HR Representatives on the sessions to discuss the application process and some of the requirements.\n\nRSVP today! This session begins at 12:00 pm EST.\n\nFor additional information on our open positions send an email to SBSE.Recruitment@irs.gov with your name and inquiry and we will answer your questions.
UID:85038-21625496@events.umich.edu
URL:https://events.umich.edu/event/85038
CLASS:PUBLIC
STATUS:CONFIRMED
CATEGORIES:
LOCATION:
CONTACT:
END:VEVENT
BEGIN:VEVENT
DTSTAMP:20210728T154202
DTSTART;TZID=America/Detroit:20210817T130000
DTEND;TZID=America/Detroit:20210817T140000
SUMMARY:Careers / Jobs:ECRC Job Search Bootcamp: Session 2 Job Search Strategies
DESCRIPTION:To help you jumpstart your job search\, the ECRC is hosting a Job Search Bootcamp August 16th-19th to get you ready for the upcoming fall recruitment season before classes begin on August 30th. Our second session is a job search strategies workshop where we'll discuss best practices for identifying employers\, preparing application materials\, and networking. We'll also have time at the end of the workshop for you to ask questions. \n\nTo attend this workshop\, please use the following Zoom link: https://umich.zoom.us/j/96414339715
UID:84780-21624947@events.umich.edu
URL:https://events.umich.edu/event/84780
CLASS:PUBLIC
STATUS:CONFIRMED
CATEGORIES:Career,Graduate Students,Michigan Engineering,Undergraduate Students
LOCATION:Off Campus Location
CONTACT:
END:VEVENT
BEGIN:VEVENT
DTSTAMP:20210901T123055
DTSTART;TZID=America/Detroit:20210817T130000
DTEND;TZID=America/Detroit:20210817T133000
SUMMARY:Careers / Jobs:Summer Virtual Event Series - Portfolio Management and Trade Support
DESCRIPTION:Summer Virtual Event Series (VES): Interested in learning moreabout Portfolio Management and Trade Support at PIMCO? We invite you to join PIMCO and department leaders as they give an overview of the business and talk about career opportunities\, strategic priorities\, and what theylook for in a candidate. Come prepared to ask questions! \n\nPIMCO’s Summer Virtual Event Series will provide you with overviews of our businesses\, the internship programs\, and helpful tips on how to be successful during the application and interview process. Join us for the Series kickoff on July 20th\, and many more sessions scheduled throughout the summer!\n\nOnce registered\, WebEx details will be sent to you the day of the event.
UID:84670-21624410@events.umich.edu
URL:https://events.umich.edu/event/84670
CLASS:PUBLIC
STATUS:CONFIRMED
CATEGORIES:
LOCATION:
CONTACT:
END:VEVENT
BEGIN:VEVENT
DTSTAMP:20210714T141205
DTSTART;TZID=America/Detroit:20210817T140000
DTEND;TZID=America/Detroit:20210817T153000
SUMMARY:Meeting:CoderSpaces (Tuesdays)
DESCRIPTION:Are you grappling with a piece of code\, trying to compute on a cluster\, or just getting started with a new method such as machine learning? Then we might have just the right space for you.\n\nAll members of the U-M community are invited to join our weekly virtual CoderSpaces\, Mondays – Thursdays\, during the Summer 2021 term to get research support and connect with others.\n\nThe virtual sessions are designed to assist faculty\, staff\, and students with research methodology\, statistics\, data science applications\, and computational programming for research.\n\nOur hosts have a wide set of methodological and technological expertise. They come to you from a variety of departments and disciplines and are looking forward to serving the U-M community in their research endeavors.\n\nCoderSpaces provide a casual\, productive\, and inclusive environment. Everyone is welcome regardless of skill level.\n\nTuesdays 2-3:30 p.m.\nJoin via Zoom* (https://umich.zoom.us/j/99832397131)\n*Users will have to sign in with their UMICH (Level-1) credentials.\n\nwith Alexander Gaenko (CSCAR)\, Chen Chen (PDHP/ISR)\, Liz Hanley (PDHP/ISR)\, Paul Schulz (PDHP/ISR)\n\nExpertise: C/C++\, CMake/GNU Make\, data management\, data visualization\, Fortran\, Git\, high performance computing\, Julia\, Mplus\, natural language processing\, parallelization\, performance analysis\, Perl\, Python\, R\, SAS\, secure computing enclaves\, shell\, SQL\, Stata\, statistical computing\, survey methods (hypothesis testing\, imputation\, modeling\, statistics\, sampling\, questionnaire design\, weighting)\, text analysis\, web applications (front-end HTML/CSS/JavaScript stack)\, web scraping
UID:83963-21619224@events.umich.edu
URL:https://events.umich.edu/event/83963
CLASS:PUBLIC
STATUS:CONFIRMED
CATEGORIES:Data Science,Information And Technology,Office Hours,Virtual
LOCATION:Off Campus Location
CONTACT:
END:VEVENT
BEGIN:VEVENT
DTSTAMP:20210901T123101
DTSTART;TZID=America/Detroit:20210817T143000
DTEND;TZID=America/Detroit:20210817T151500
SUMMARY:Careers / Jobs:Aronson Virtual Event: Recharge Your Accounting Resume
DESCRIPTION:Join Aronson LLC for our Aronson Virtual Event Series - Recharge Your Accounting Resume!\n\nEvent Details\nWho: Accounting students looking to pursue a career as a CPA\nWhat: Resume workshop followed by 1 on 1 personalized resume review sessions\nWhen: Tuesday\, August 17th from 2:30-3:15 pm (resume workshop) and 3:20-5:00 pm (20 minute 1 on 1 sessions)\nWhere: Please join this Zoom meeting at the start of the event and for your1 on 1 session:\nhttps://us06web.zoom.us/j/81512783933?pwd=SDFaZUJxYlZVWUFmQWltaFFNZFFzdz09\n\n1 on 1 Session Registration\nFollowing the Recharge Your Accounting Resume Workshop\, you will have the opportunity to meet 1 on 1 with a member of Aronson's Talent Acquisition Team to review and improve your accounting resume. You must pre-register for all 1 on 1 sessions and registration will take place on a first-come first-served basis. Spotswill fill up quickly so be sure to register early. Registration for the 1on 1 sessions can be done using this link: https://calendly.com/aronsoncareers/aronson-virtual-event-recharge-your-resume\n\nContact Information\nIf you have any questions about this event\, please do not hesitate to reach out to Jessica Ruday\, Aronson's Campus Recruiter at jruday@aronsonllc.com.  \n\nAbout Aronson \nAronson LLC provides a comprehensive platform of assurance\, tax\, and consulting solutions to today's most active industrysectors and successful individuals. For more than 55 years\, we have purposefully expanded our service offerings and deepened our industry specialties to better serve the needs of our clients\, people\, and community. From startup to exit\, we help our clients maximize opportunity\, minimize risk\, and unlock their full potential.\n
UID:84944-21625322@events.umich.edu
URL:https://events.umich.edu/event/84944
CLASS:PUBLIC
STATUS:CONFIRMED
CATEGORIES:
LOCATION:
CONTACT:
END:VEVENT
BEGIN:VEVENT
DTSTAMP:20210817T120003
DTSTART;TZID=America/Detroit:20210817T160000
DTEND;TZID=America/Detroit:20210817T170000
SUMMARY:Meeting:Introductory Meeting
DESCRIPTION:We will be meeting virtually on Tuesday\, August 17th at 4pm over Google Meet (meet.google.com/vdo-fwgz-urk). We will be discussing leadership opportunities\, event and recruiting ideas\, and a recent article published in The Conversation. Come join us! 
UID:85028-21625458@events.umich.edu
URL:https://events.umich.edu/event/85028
CLASS:PUBLIC
STATUS:CONFIRMED
CATEGORIES:
LOCATION:Online
CONTACT:
END:VEVENT
BEGIN:VEVENT
DTSTAMP:20210901T123108
DTSTART;TZID=America/Detroit:20210817T160000
DTEND;TZID=America/Detroit:20210817T164500
SUMMARY:Careers / Jobs:Make Your Mark: Building Your Personal Brand
DESCRIPTION:An authentic personal brand and resume coupled with a strong virtual presence are key to landing your dream job. \n\nDuring this session\, we’ll share tips and best practices on how to enhance your personal brand\, build a quality resume and how to stand out in a virtual environment.\n\nAs the world evolves\, so do we. Let’s build your skills and put them to work in new and unexpected ways. Be a part of The New Equation.
UID:85163-21625674@events.umich.edu
URL:https://events.umich.edu/event/85163
CLASS:PUBLIC
STATUS:CONFIRMED
CATEGORIES:
LOCATION:
CONTACT:
END:VEVENT
BEGIN:VEVENT
DTSTAMP:20210901T123107
DTSTART;TZID=America/Detroit:20210817T160000
SUMMARY:Careers / Jobs:PwC Fall Series Virtual Sessions
DESCRIPTION:Meet a firm that has the opportunities\, mentorship and technology to take your career to the next level. Join us for our upcoming PwC Fall Series 2021 to learn more about the firm directly from our people\, brush up on your interview and digital presence skills\, and discover available intern and full-time opportunities! We look forward to connecting withyou virtually at one or more of our upcoming events! Register today!\n\n**Note: Some events have two sessions\, please register for the event that best fits your schedule as the second session is not a continuation of thefirst session.**\n
UID:85146-21625623@events.umich.edu
URL:https://events.umich.edu/event/85146
CLASS:PUBLIC
STATUS:CONFIRMED
CATEGORIES:
LOCATION:
CONTACT:
END:VEVENT
BEGIN:VEVENT
DTSTAMP:20210901T123112
DTSTART;TZID=America/Detroit:20210817T170000
DTEND;TZID=America/Detroit:20210817T183000
SUMMARY:Careers / Jobs:Advising Clients and Banking Boldly\, a women's panel hosted by Houlihan Lokey
DESCRIPTION:Come learn about how Houlihan Lokey has empowered women to launch careers in investment banking and financial valuation and advisory services and how you can join our team!\n\nHoulihan Lokey strongly believes in embracing workplace diversity and creating a culture of inclusion. We invite women exploring a career in investment banking or financial valuationand advisory services to join us for a panel discussion where our leaderswill share how they launched into their careers and what excites them about them about the future. \n
UID:85254-21626078@events.umich.edu
URL:https://events.umich.edu/event/85254
CLASS:PUBLIC
STATUS:CONFIRMED
CATEGORIES:
LOCATION:
CONTACT:
END:VEVENT
BEGIN:VEVENT
DTSTAMP:20210901T123056
DTSTART;TZID=America/Detroit:20210817T170000
DTEND;TZID=America/Detroit:20210817T180000
SUMMARY:Careers / Jobs:Vanguard's Technology Leadership Program Panel Event
DESCRIPTION:Vanguard is excited to announce we are hosting a Technology Leadership Program (TLP) information session! Please join us on Tuesday\, August 17th from 5pm-6pm to learn more about the Technology Leadership Program and what it’s like to work at one of the leading FinTech companies. There will be a panel of current TLP participants who will answer all of your questions from day-to-day work at Vanguard to post-grad employment opportunities.\n\nWe hope to see you there!
UID:84707-21624462@events.umich.edu
URL:https://events.umich.edu/event/84707
CLASS:PUBLIC
STATUS:CONFIRMED
CATEGORIES:
LOCATION:
CONTACT:
END:VEVENT
END:VCALENDAR