BEGIN:VCALENDAR
VERSION:2.0
PRODID:-//UM//UM*Events//EN
CALSCALE:GREGORIAN
BEGIN:VTIMEZONE
TZID:America/Detroit
TZURL:http://tzurl.org/zoneinfo/America/Detroit
X-LIC-LOCATION:America/Detroit
BEGIN:DAYLIGHT
TZOFFSETFROM:-0500
TZOFFSETTO:-0400
TZNAME:EDT
DTSTART:20070311T020000
RRULE:FREQ=YEARLY;BYMONTH=3;BYDAY=2SU
END:DAYLIGHT
BEGIN:STANDARD
TZOFFSETFROM:-0400
TZOFFSETTO:-0500
TZNAME:EST
DTSTART:20071104T020000
RRULE:FREQ=YEARLY;BYMONTH=11;BYDAY=1SU
END:STANDARD
END:VTIMEZONE
BEGIN:VEVENT
DTSTAMP:20210511T124519
DTSTART;TZID=America/Detroit:20210820T080000
DTEND;TZID=America/Detroit:20210820T230000
SUMMARY:Other:Become a UROP Research Mentor
DESCRIPTION:Submit a Research Project for the 2021-2022 Academic Year: https://lsa.umich.edu/urop/research-mentors.html\n\nUROP Research Mentors are faculty and post-doc researchers from across all U-M's 19 Schools and Colleges who provide undergraduate student researchers an opportunity to engage in research activities that help them learn about the pursuit of knowledge within an academic discipline. This early exposure to research fosters a valuable academic experience for students. Through this collaboration\, students gain research skills and mentorship that lead to academic retention\, a more positive undergraduate experience and paths to graduate school.
UID:83879-21619503@events.umich.edu
URL:https://events.umich.edu/event/83879
CLASS:PUBLIC
STATUS:CONFIRMED
CATEGORIES:research data,Interdisciplinary,Mentorship,Research,AEM Featured,Staff,Urop,Free,Education,Faculty,Graduate and Professional Students,Graduate Students
LOCATION:Off Campus Location
CONTACT:
END:VEVENT
BEGIN:VEVENT
DTSTAMP:20210723T154528
DTSTART;TZID=America/Detroit:20210820T080000
DTEND;TZID=America/Detroit:20210820T235900
SUMMARY:Exhibition:That Greece Might Still Be Free
DESCRIPTION:Learn about the Greek War of Independence\, 19th century European international politics\, and the origins of nationalism and the modern nation-state. This exhibit commemorates the 200th anniversary of the Greek War of Independence\, which began with General Alexandros Ypsilantis’ (Greek: Αλέξανδρος Υψηλάντης) uprising against the Ottoman rulers in the Danubian Principality of Moldavia during the spring of 1821. https://myumi.ch/wlYoq\n\nThe exhibit was curated by students in the Michigan Library Scholars program\, William McClelland and Quinn Byington\, with Zachary Quint as their librarian mentor.
UID:84737-21624736@events.umich.edu
URL:https://events.umich.edu/event/84737
CLASS:PUBLIC
STATUS:CONFIRMED
CATEGORIES:Exhibition,Library,History
LOCATION:Off Campus Location
CONTACT:
END:VEVENT
BEGIN:VEVENT
DTSTAMP:20210701T145834
DTSTART;TZID=America/Detroit:20210820T100000
DTEND;TZID=America/Detroit:20210820T160000
SUMMARY:Exhibition:A Garden of Earthy Delights: Ceramic Sculptures by Ann Arbor Potters Guild at Matthaei Botanical Gardens
DESCRIPTION:Inspired by the synergy between nature’s beauty and complexity\, and in partnership with the University of Michigan Matthaei Botanical Gardens\, artists from the Ann Arbor Potters Guild created work centered around Michigan’s natural landscapes and specifically for the Great Lakes Garden at Matthaei. Potters Guild artists created eight free-standing sculptures using the full range of traditional ceramic methods and tools\, the potter’s wheel\, press molds\, coil building\, slab construction\, and sculpting. Depictions range from naturalistic and representational\, to abstract\, as well as a whimsical nod or two to the timeless role of fantasy and myth in humankind’s communion with nature. Exhibit is free but scheduled reservations are required to visit the botanical gardens. Use this link to book your visit: https://www.signupgenius.com/go/8050f4aadad22a2fd0-matthaei1
UID:84388-21623718@events.umich.edu
URL:https://events.umich.edu/event/84388
CLASS:PUBLIC
STATUS:CONFIRMED
CATEGORIES:Outdoors,Art
LOCATION:Matthaei Botanical Gardens
CONTACT:
END:VEVENT
BEGIN:VEVENT
DTSTAMP:20210524T102214
DTSTART;TZID=America/Detroit:20210820T100000
DTEND;TZID=America/Detroit:20210820T110000
SUMMARY:Livestream / Virtual:The Clements Bookworm: Michilimackinac\, \"Where archaeology and history meet\"
DESCRIPTION:Fort Michilimackinac\, established by the French in 1715\, acquired by the British in 1761 and demolished by them in 1781\, was home to a multi-cultural community of soldiers\, missionaries\, fur traders and their families. It has been the site of continuous historical and archaeological research since 1959. The results of this ongoing project have been shared with the public through a reconstruction which houses living history programs\, period settings and museum exhibits. Lynn Evans\, Curator of Archaeology for Mackinac State Historic Parks\, will discuss the history of the project highlighting how archaeology and history are used together to gain a more complete picture of life on the eighteenth-century fur trade frontier.\n\nRegister at myumi.ch/gjgzR\n\n*The Clements Bookworm is a webinar series in which panelists and featured guests discuss history topics. Recommended books\, articles\, and other resources are provided in each session. Inspired by the traditional Clements Library researcher tea time\, we invite you to pull up a chair at our [virtual] table. Live attendees are encouraged to post comments and questions\, respond to polls\, and add to our conversation and camaraderie.*
UID:84099-21620233@events.umich.edu
URL:https://events.umich.edu/event/84099
CLASS:PUBLIC
STATUS:CONFIRMED
CATEGORIES:multicultural,Museum,museums,Native American,native american history,Talk,Anthropology,Virtual,Library,american culture,american history,american indian,archaeological sites,archaeology,Humanities,History,Free
LOCATION:Off Campus Location
CONTACT:
END:VEVENT
BEGIN:VEVENT
DTSTAMP:20210805T092628
DTSTART;TZID=America/Detroit:20210820T110000
DTEND;TZID=America/Detroit:20210820T120000
SUMMARY:Workshop / Seminar:Medical Illustration: Finding my niche in science with Dr. Jeff Day
DESCRIPTION:What is medical illustration and what does it have to do with you? Come learn about this tiny specialty that employs only a couple thousand people across our entire continent with Johns Hopkins medical illustrator Jeff Day. He will overview the field\, share his personal career path\, his professional interests and what he is looking to explore next. Along the way\, Jeff will sprinkle his thoughts on searching for and finding his niche in science\, and share communication lessons from medical illustration that can help with any field.\n\nPlease RSVP here: https://forms.gle/bSTCEADEv2LuvxYB6
UID:84938-21625387@events.umich.edu
URL:https://events.umich.edu/event/84938
CLASS:PUBLIC
STATUS:CONFIRMED
CATEGORIES:Graduate Students,Medicine,Michigan Engineering
LOCATION:Off Campus Location
CONTACT:
END:VEVENT
BEGIN:VEVENT
DTSTAMP:20210830T091804
DTSTART;TZID=America/Detroit:20210820T120000
DTEND;TZID=America/Detroit:20210820T133000
SUMMARY:Workshop / Seminar:Online Discussion Tools
DESCRIPTION:Canvas Workshop  |  Level: Intermediate\n \nWORKSHOP TOPICS\nDiscover and compare the tools available to host your asynchronous course discussions:\n- Canvas Discussion Redesign Features\n- Backchannel tools\n- FlipGrid \n- Google Docs \n- Piazza \n- Hypothes.is\n- Perusall\n- Padlet \n- Trello \n- YellowDig (LSA\, Ross)\n\nThe ITS Teaching Online Technique Training Workshops are available to help you prepare for teaching online\, in person\, hybrid\, or HyFlex this fall. Classes are available now through September 3. \n\nFind detailed training information on this and additional workshops\, including on-demand recordings\, on the ITS Training website: https://its.umich.edu/training/canvas\n\nZoom join URL for all workshops: https://umich.zoom.us/j/99699601181
UID:85215-21626388@events.umich.edu
URL:https://events.umich.edu/event/85215
CLASS:PUBLIC
STATUS:CONFIRMED
CATEGORIES:Workshop,Virtual,Training,Teaching And Learning,Information And Technology,Free,Faculty
LOCATION:Off Campus Location
CONTACT:
END:VEVENT
BEGIN:VEVENT
DTSTAMP:20210904T123101
DTSTART;TZID=America/Detroit:20210820T150000
DTEND;TZID=America/Detroit:20210820T160000
SUMMARY:Careers / Jobs:Northeast Student Data Corps - Data Science Career Panel - August 20\, 2021 at 3-4pm ET
DESCRIPTION:Join us for the Northeast Student Data Corps (NSDC) Data Science Career Panel taking place virtually on Friday\, ​August 20th at 3:00 to 4:00pm ET. This event is for students and educators interested in learning more about exciting new data science careers\, internships\, and education opportunities from industry professionals\, students and educators.  You don't need to be in data science to join! \n\nOur panelists on ​August 20th will be​:​ \n- Juan M. Lavista Ferres\, Chief Scientist and Lab Director of the Microsoft AI For Good Research Lab​\;​ ​\n​- Benjamin Harvey\, ​Director of Data Science at ​Maxar Technologies and ​Research Faculty at ​Johns Hopkins University​\; \n- Marie desJardins​\, ​Dean of the College of Organizational\, Computational\, and Information Sciences at Simmons University​\;\n- Kuldip Singh\, Postdoctoralresearcher at the University of Central Florida (UCF).\n\nOur panel moderators are Haleigh Stewart\, a Senior at Columbia University\, and ​ScottBlender\, a Sophomore at Temple University and President of the NortheastStudent Data Corps Philadelphia Chapter. \n\nWe welcome learners of all ages from around the world to join us\, including undergraduate\, graduate\, high school and middle school students and educators. Beyond the great insights about data science education and careers and how it applies to nearly every science and business area\, you will learn about free online data science education materials and career development resources available through the Northeast Student Data Corps\, and how to start your own NSDC Chapter! Please join us\, and share this invitation with others who might be interested. The event is free.\n\nView the panelist bio's ​and register ​at https://nebigdatahub.org/nsdc . \n\nJoin the NSDC slack channel tofind other data science learners\, enthusiasts and mentors!  https://bit.ly/nsdcJuly2021\n\nHope to see you virtually on ​August 20th! Any questions please email nsdc@nebigdatahub.org .\n\nBest\, Florence\n\nFlorence D.Hudson\nExecutive Director\nNortheast Big Data Innovation Hub\nColumbia University\nfh2417@columbia.edu
UID:84885-21625235@events.umich.edu
URL:https://events.umich.edu/event/84885
CLASS:PUBLIC
STATUS:CONFIRMED
CATEGORIES:
LOCATION:
CONTACT:
END:VEVENT
BEGIN:VEVENT
DTSTAMP:20210514T090947
DTSTART;TZID=America/Detroit:20210820T160000
DTEND;TZID=America/Detroit:20210820T170000
SUMMARY:Livestream / Virtual:Nursing Graduate Application Information Session
DESCRIPTION:Join the Recruiting & Admissions team from the U-M School of Nursing to learn more about how to apply to the graduate nursing programs! Register at https://umforms.tfaforms.net/218020
UID:84048-21619703@events.umich.edu
URL:https://events.umich.edu/event/84048
CLASS:PUBLIC
STATUS:CONFIRMED
CATEGORIES:Nursing,Virtual
LOCATION:Off Campus Location
CONTACT:
END:VEVENT
END:VCALENDAR