BEGIN:VCALENDAR
VERSION:2.0
PRODID:-//UM//UM*Events//EN
CALSCALE:GREGORIAN
BEGIN:VTIMEZONE
TZID:America/Detroit
TZURL:http://tzurl.org/zoneinfo/America/Detroit
X-LIC-LOCATION:America/Detroit
BEGIN:DAYLIGHT
TZOFFSETFROM:-0500
TZOFFSETTO:-0400
TZNAME:EDT
DTSTART:20070311T020000
RRULE:FREQ=YEARLY;BYMONTH=3;BYDAY=2SU
END:DAYLIGHT
BEGIN:STANDARD
TZOFFSETFROM:-0400
TZOFFSETTO:-0500
TZNAME:EST
DTSTART:20071104T020000
RRULE:FREQ=YEARLY;BYMONTH=11;BYDAY=1SU
END:STANDARD
END:VTIMEZONE
BEGIN:VEVENT
DTSTAMP:20210511T124519
DTSTART;TZID=America/Detroit:20210823T080000
DTEND;TZID=America/Detroit:20210823T230000
SUMMARY:Other:Become a UROP Research Mentor
DESCRIPTION:Submit a Research Project for the 2021-2022 Academic Year: https://lsa.umich.edu/urop/research-mentors.html\n\nUROP Research Mentors are faculty and post-doc researchers from across all U-M's 19 Schools and Colleges who provide undergraduate student researchers an opportunity to engage in research activities that help them learn about the pursuit of knowledge within an academic discipline. This early exposure to research fosters a valuable academic experience for students. Through this collaboration\, students gain research skills and mentorship that lead to academic retention\, a more positive undergraduate experience and paths to graduate school.
UID:83879-21619506@events.umich.edu
URL:https://events.umich.edu/event/83879
CLASS:PUBLIC
STATUS:CONFIRMED
CATEGORIES:AEM Featured,Education,Faculty,Free,Graduate and Professional Students,Graduate Students,Interdisciplinary,Mentorship,Research,research data,Staff,Urop
LOCATION:Off Campus Location
CONTACT:
END:VEVENT
BEGIN:VEVENT
DTSTAMP:20210723T154528
DTSTART;TZID=America/Detroit:20210823T080000
DTEND;TZID=America/Detroit:20210823T235900
SUMMARY:Exhibition:That Greece Might Still Be Free
DESCRIPTION:Learn about the Greek War of Independence\, 19th century European international politics\, and the origins of nationalism and the modern nation-state. This exhibit commemorates the 200th anniversary of the Greek War of Independence\, which began with General Alexandros Ypsilantis’ (Greek: Αλέξανδρος Υψηλάντης) uprising against the Ottoman rulers in the Danubian Principality of Moldavia during the spring of 1821. https://myumi.ch/wlYoq\n\nThe exhibit was curated by students in the Michigan Library Scholars program\, William McClelland and Quinn Byington\, with Zachary Quint as their librarian mentor.
UID:84737-21624739@events.umich.edu
URL:https://events.umich.edu/event/84737
CLASS:PUBLIC
STATUS:CONFIRMED
CATEGORIES:Exhibition,History,Library
LOCATION:Off Campus Location
CONTACT:
END:VEVENT
BEGIN:VEVENT
DTSTAMP:20210701T145834
DTSTART;TZID=America/Detroit:20210823T100000
DTEND;TZID=America/Detroit:20210823T160000
SUMMARY:Exhibition:A Garden of Earthy Delights: Ceramic Sculptures by Ann Arbor Potters Guild at Matthaei Botanical Gardens
DESCRIPTION:Inspired by the synergy between nature’s beauty and complexity\, and in partnership with the University of Michigan Matthaei Botanical Gardens\, artists from the Ann Arbor Potters Guild created work centered around Michigan’s natural landscapes and specifically for the Great Lakes Garden at Matthaei. Potters Guild artists created eight free-standing sculptures using the full range of traditional ceramic methods and tools\, the potter’s wheel\, press molds\, coil building\, slab construction\, and sculpting. Depictions range from naturalistic and representational\, to abstract\, as well as a whimsical nod or two to the timeless role of fantasy and myth in humankind’s communion with nature. Exhibit is free but scheduled reservations are required to visit the botanical gardens. Use this link to book your visit: https://www.signupgenius.com/go/8050f4aadad22a2fd0-matthaei1
UID:84388-21623721@events.umich.edu
URL:https://events.umich.edu/event/84388
CLASS:PUBLIC
STATUS:CONFIRMED
CATEGORIES:Art,Outdoors
LOCATION:Matthaei Botanical Gardens
CONTACT:
END:VEVENT
BEGIN:VEVENT
DTSTAMP:20210608T161436
DTSTART;TZID=America/Detroit:20210823T110000
DTEND;TZID=America/Detroit:20210823T120000
SUMMARY:Livestream / Virtual:The MIRS Advantage - Masters in International And Regional Studies
DESCRIPTION:Join MIRS advisor Charlie Polinko for an informational webinar for the Masters in International and Regional Studies Program. Charlie will present on topics related to the program structure\, admissions requirements\, funding and financial aid\, specialization tracks\, and dual-degree opportunities for students interested in applying for the Fall 2022 term. Registration is required at https://myumi.ch/v2jDR\n   \n   The Masters in International and Regional Studies combines an interdisciplinary curriculum\, deep regional/thematic expertise\, rigorous methodological training\, and international experiences to enable students to situate global issues and challenges in their cultural\, historical\, geographical\, political\, and socioeconomic contexts and to approach them in diverse ways. MIRS is designed to prepare students for global career opportunities\, whether in academia\, private\, or public sectors.\n   \n   MIRS builds on the strengths of the International Institute’s interdisciplinary centers and programs. Our centers and programs rank among the nation’s finest in their respective fields of study\; five have been designated as U.S. Department of Education National Resource Centers. Students have the unique option of pursuing either a regional or thematic track with multiple specializations anchored in one of our centers or programs.\n   \n   Specializations include:\n   African Studies\n   Islamic Studies\n   Chinese Studies\n   Japanese Studies\n   Middle Eastern and North African Studies\n   Russian\, East European\, and Eurasian Studies\n   South Asian Studies\n   Southeast Asian Studies\n   \n   For additional information\, contact MIRS-Info@umich.edu.
UID:84243-21620802@events.umich.edu
URL:https://events.umich.edu/event/84243
CLASS:PUBLIC
STATUS:CONFIRMED
CATEGORIES:Global,Graduate And Professional Students,International
LOCATION:Off Campus Location
CONTACT:
END:VEVENT
BEGIN:VEVENT
DTSTAMP:20210907T063058
DTSTART;TZID=America/Detroit:20210823T120000
DTEND;TZID=America/Detroit:20210823T130000
SUMMARY:Careers / Jobs:Resume Lab
DESCRIPTION:*RSVP for this program. Click \"Join Event\" here: https://umich.joinhandshake.com/events/789241\n\nJust getting started building a resume? Have a draft but not sure how to make it better? Want to learn about resources available to revise your resume? Wherever you’re at Resume Lab isa great next step for you.\n\nGet real-time\, personalized support in a small group setting by checking out the virtual Resume Lab. \n\nWe will discuss and educate you on…\n- Design and format\n- Writing a great bullet point\n- Targeting your resume for specific internships/jobs\n\nIf you're a Graduate Student\, please make a 1:1 appointment instead of attending the Lab so we can cater because this event is designed for undergraduates.\n\nNote: This event's information is shown in Handshake as well as on the Happening @ Michigan calendar so that it will be seen by a larger number ofU-M Students. If you'd like to indicate that you'll be attending this event then please go to: https://umich.joinhandshake.com/events/789241\n\nRecent Grads: If you are an alumnus\, you will not be able to access the linkdue the University’s policy of discontinuing alumni Zoom accounts 30 days after graduation. Please contact careercenter@umich.edu with the subject line “Recent Grad Help” to receive either a recording of the sessionor to be set up with a 1:1. Include the name of the workshop/event in your email.
UID:84731-21624502@events.umich.edu
URL:https://events.umich.edu/event/84731
CLASS:PUBLIC
STATUS:CONFIRMED
CATEGORIES:
LOCATION:https://umich.zoom.us/j/2745640240
CONTACT:
END:VEVENT
BEGIN:VEVENT
DTSTAMP:20210907T063114
DTSTART;TZID=America/Detroit:20210823T123000
DTEND;TZID=America/Detroit:20210823T131500
SUMMARY:Careers / Jobs:Exploring a Career in Sales at Vanguard
DESCRIPTION:Join us for a special event\, Exploring a Career in Sales at Vanguard\, hosted by a panel of tenured Vanguard sales professionals and managers.  The panel discussion will consist of an overview of Vanguard’s philosophy and mission\, our unique approach to sales\, career pathing andprofessional growth\, and a focus on Diversity\, Equity and Inclusion at Vanguard.  The event will also incorporate a live Q&A with our panelists.
UID:85298-21626192@events.umich.edu
URL:https://events.umich.edu/event/85298
CLASS:PUBLIC
STATUS:CONFIRMED
CATEGORIES:
LOCATION:
CONTACT:
END:VEVENT
BEGIN:VEVENT
DTSTAMP:20210506T120651
DTSTART;TZID=America/Detroit:20210823T133000
DTEND;TZID=America/Detroit:20210823T150000
SUMMARY:Meeting:CoderSpaces (Mondays)
DESCRIPTION:Are you grappling with a piece of code\, trying to compute on a cluster\, or just getting started with a new method such as machine learning? Then we might have just the right space for you.\n\nAll members of the U-M community are invited to join our weekly virtual CoderSpaces\, Mondays – Thursdays\, during the Summer 2021 term to get research support and connect with others.\n\nThe virtual sessions are designed to assist faculty\, staff\, and students with research methodology\, statistics\, data science applications\, and computational programming for research.\n\nOur hosts have a wide set of methodological and technological expertise. They come to you from a variety of departments and disciplines and are looking forward to serving the U-M community in their research endeavors.\n\nCoderSpaces provide a casual\, productive\, and inclusive environment. Everyone is welcome regardless of skill level.\n\nMondays 1:30-3 p.m.\n\nJoin via Zoom* (https://umich.zoom.us/j/97155787515)\n*Users will have to sign in with their UMICH (Level-1) credentials.\n\nwith Andrew Hlynka (CSCAR)\, Charles Antonelli (LSA Tech)\, Jonathan Golob (Michigan Medicine)\n\nExpertise: 3D graphical applications\, C\, C++\, C#\, CMake/GNU Make\, Fortran\, Git\, high performance computing\, Java\, JavaScript\, Julia\, Matlab\, mobile app development\, MPI\, OpenMP\, parallelization\, performance analysis\, PBS\, Python\, R\, reproducible workflows (nextflow)\, shell\, Slurm\, SQL\, statistical modeling
UID:83925-21619101@events.umich.edu
URL:https://events.umich.edu/event/83925
CLASS:PUBLIC
STATUS:CONFIRMED
CATEGORIES:Arc,Data Science,Information And Technology,Office Hours
LOCATION:Off Campus Location
CONTACT:
END:VEVENT
BEGIN:VEVENT
DTSTAMP:20211209T160155
DTSTART;TZID=America/Detroit:20210823T140000
DTEND;TZID=America/Detroit:20210823T150000
SUMMARY:Other:LSA Technology Services Research Support Office Hours
DESCRIPTION:The Research Team within LSA Technology Services is excited to announce virtual office hours for research computing support. These are regularly scheduled times when we will have subject matter experts in geographic information systems\, high performance computing\, digital scholarship\, and computer programming available for drop-in support. Faculty\, staff\, and students with research-related questions pertaining to any of these areas can stop by to ask questions\, get help working through a problem\, or inquire about a new project—no appointment necessary!\n\nNot sure what we can do to help? Read on for more details about the services provided by each of these teams.\n\n*Digital Scholarship*\nOur digital scholarship team specializes in humanities\, social sciences\, and interdisciplinary digital project methods and can provide assistance with:\n* Conceptualizing\, planning\, and finding resources for a digital project\n* How to version\, archive\, and preserve a project\n* Sustainability\, preservation\, accessibility\, privacy\, consent\, or grant requirements\nNew to digital projects? We can also talk about how to demonstrate the scholarly rigor of your digital project\, accurately credit the labor required of the project at every stage\, and how to provide evidence and metrics for promotion and job dossiers.\n\n*Geographic Information Systems (GIS)*\n\nOur GIS specialists can help with your geographic data needs\, including the following:\n* Making maps for use in a class\, grant proposal\, or publication\n* Geospatial analysis: identifying spatial patterns and trends in your data\n* Georeferencing: assigning geographic coordinates to a historic paper map or a hand-drawn sketch for digital use as a basemap or combined display with other data\n* Geocoding: convert a spreadsheet with addresses into latitude-longitude so you can plot your data on a map\n* StoryMaps: harness the power of maps to tell your story\n* Integrating smartphones or tablets and GIS in your field courses or researchSetting up workshops for a class or group interested in learning to use GIS in the context of your discipline\n* Assistance with ESRI's ArcGIS platform\, including ArcGIS Pro and ArcGIS Online\, or other geospatial software\n* Developing your own custom GIS web application or mobile application\n\n*High Performance Computing (HPC)*\n\nOur HPC team can help with:\n* Accessing U-M’s new Great Lakes HPC (High Performance Computing) cluster\n* Moving your computational work from your laptop or workstation to the cluster\, freeing up your machines for other tasks\n* Compiling\, installing\, or configuring a wide range of computational software\n* Setting up automated workflows to save time\n* Debugging your programs to see why they are crashing\n* Evaluating the benefits of parallel computing\, more memory or system resources for your code\nWe regularly support Python\, R\, MATLAB\, C/C++\, Java\, Julia\, Go\, and many other applications.\n\n*Research Support Programming*\n\nOur computer programming team can help with any of the following:\n\n* Debugging\, repair\, and improvements or upgrades to your existing code\n* References to training and coding resources to assist in your project\n* Design and development of custom software to support your research\n* Incorporation of lab-specific hardware into custom software applications.\n* Writing funding for any of the above into your grant proposals\nWe're experienced in MATLAB\, Python\, R\, LabVIEW\, JavaScript\, MedPC\, iOS development\, and more.\n\nWho can join the office hours?\nLSA Faculty\, staff\, and students with research-related questions on geographic information systems\, high performance computing\, digital scholarship\, and computer programming\n\nWhen and where is it?\nOur virtual office hours use Zoom:\nMondays\, 2:00–3:00 P.M.\nTuesdays\, 10:00–11:00 A.M.\nThursdays\, 3:00–4:00 P.M.
UID:77718-20270719@events.umich.edu
URL:https://events.umich.edu/event/77718
CLASS:PUBLIC
STATUS:CONFIRMED
CATEGORIES:Digital Humanities,Digital Projects,Digital Scholarship,Faculty,Gis,Graduate Students,Humanities,Lsa,Office Hours,Postdoctoral Research Fellows,Qualitative Social Sciences,research,Science,Virtual
LOCATION:Off Campus Location
CONTACT:
END:VEVENT
BEGIN:VEVENT
DTSTAMP:20210818T213603
DTSTART;TZID=America/Detroit:20210823T150000
DTEND;TZID=America/Detroit:20210823T163000
SUMMARY:Workshop / Seminar:Using Video in Canvas
DESCRIPTION:Canvas Workshop  |  Level: Beginner\n \nWORKSHOP TOPICS\n- New Zoom to MiVideo Upload Tool\n- Video sources\n- MiVideo: My Media & Media Gallery\n- Adding a video to Canvas: Demo\n- Captions\n- Create your own video (Kaltura Capture)\n- YouTube passthrough\n- Analytics\n\nThe ITS Teaching Online Technique Training Workshops are available to help you prepare for teaching online\, in person\, hybrid\, or HyFlex this fall. Classes are available now through September 3. \n\nFind detailed training information on this and additional workshops\, including on-demand recordings\, on the ITS Training website: https://its.umich.edu/training/canvas\n\nZoom join URL for all workshops: https://umich.zoom.us/j/99699601181
UID:85197-21625709@events.umich.edu
URL:https://events.umich.edu/event/85197
CLASS:PUBLIC
STATUS:CONFIRMED
CATEGORIES:Faculty,Free,Information And Technology,Training,Virtual,Workshop
LOCATION:Off Campus Location
CONTACT:
END:VEVENT
BEGIN:VEVENT
DTSTAMP:20210907T123108
DTSTART;TZID=America/Detroit:20210823T160000
DTEND;TZID=America/Detroit:20210823T164500
SUMMARY:Careers / Jobs:Get to Know Tax at PwC
DESCRIPTION:Join us for an interactive session where we bring PwC Tax Professionals to you to share the many career opportunities within our Tax Practice. Plus\, how our new structure will support collaboration in expandedareas\, help you build your professional network and expand your skill sets. \n\nWe’re inspiring and empowering our people to change the world. Here\, you’ll learn with purpose\, and put your skills to work to make a meaningful difference in the world. Be a part of The New Equation.
UID:85165-21625676@events.umich.edu
URL:https://events.umich.edu/event/85165
CLASS:PUBLIC
STATUS:CONFIRMED
CATEGORIES:
LOCATION:
CONTACT:
END:VEVENT
BEGIN:VEVENT
DTSTAMP:20210907T123105
DTSTART;TZID=America/Detroit:20210823T170000
DTEND;TZID=America/Detroit:20210823T180000
SUMMARY:Careers / Jobs:2021 Deutsche Bank's Essentials of Banking Session 1
DESCRIPTION:Essentials of Banking is a virtual event that introduces prospective candidates to our industry\, our bank\, our culture\, and the application process to potential interns and graduates. This offers a great opportunity to network\, hear from our employees and learn about the values that drive Deutsche Bank's success. In addition\, we will provide you with insight and advice into the application and interview process.
UID:85043-21625501@events.umich.edu
URL:https://events.umich.edu/event/85043
CLASS:PUBLIC
STATUS:CONFIRMED
CATEGORIES:
LOCATION:
CONTACT:
END:VEVENT
BEGIN:VEVENT
DTSTAMP:20210823T144417
DTSTART;TZID=America/Detroit:20210823T200000
DTEND;TZID=America/Detroit:20210823T220000
SUMMARY:Performance:Crys Matthews and Heather Mae
DESCRIPTION:VACCINATION PROOF AND MASKS REQUIRED.\n*By purchasing a ticket you agree that you and your guests will comply with all laws\, orders\, ordinances\, regulations and health and safety guidance adopted by the State of Michigan\, the County of Washtenaw and The Ark\, including any guidelines in place at the time of the show. Attendees who do not comply will be asked to leave. Policies will be updated as circumstances and requirements change in our community. Please review The Ark’s current COVID-related information before attending a show.*\n\nCrys and Heather have been doing their show “in the round”\, so they are on stage together and do their own songs as well as songs together.\n\nHEATHER MAE\n\n“Plus-size pop-singer\, Mae\, has no use for old-fashioned stereotypes about what a protest singer should look like.” -- NPR-All Things Considered\n\nUnfazed by what a typical pop artist today is “supposed” to look or sound like\, Heather Mae\, an award-winning songwriter whose evocative vocals and rhythmic piano style call to mind artists like Stevie Nicks and Sara Bareilles\, creates intoxicating music that tackles complex topics surrounding mental health\, LGBTQ+ issues\, self-love\, racial injustice\, social inequality\, and women’s rights. Inspired by her own personal experiences and identities - a queer\, plus size woman living with Bipolar Disorder - Mae is an on-fire musical and emotional experience. In her most sonically adventurous project yet\, GLIMMER (Sept 2019) - her second produced record and first full length album - breaks the stigma surrounding mental health\, reminding us all that we are not alone.\n\nCRYS MATTHEWS\n\n“By wrapping honest emotions around her socially conscious messages and dynamically delivering them with a warm heart and a strong voice\, she lifted our spirits just when we need it most in these troubled times.”--Erik Philbrook\, ASCAP VP/Creative Director\n\nA prolific lyricist and composer\, Matthews has found inspiration in her surroundings\; from driving through the Blue Ridge Mountains to the compelling and heart-breaking love story of Richard and Mildred Loving. Thoughtful\, realistic and emotional\, Matthews’ songs speak to the voice of our generation and remind us why music indeed soothes the soul.
UID:84294-21621068@events.umich.edu
URL:https://events.umich.edu/event/84294
CLASS:PUBLIC
STATUS:CONFIRMED
CATEGORIES:
LOCATION:Off Campus Location
CONTACT:
END:VEVENT
BEGIN:VEVENT
DTSTAMP:20210907T183102
DTSTART;TZID=America/Detroit:20210823T200000
DTEND;TZID=America/Detroit:20210823T204500
SUMMARY:Careers / Jobs:NYU Teacher Residency Info Session
DESCRIPTION:Our Master of Arts in Teaching (MAT) Residency program combines a one-year residency with a master's program in teaching.\n\nThis is a general information session that will be conducted virtually on our GotoWebinar platform (without having to download any software) and hosted by our national recruitment team with support from one of our Enrollment Specialists.\n\nAt this virtual event\, you'll learn more about:\n- Mentorship\, coaching\, and the support system created by content mentors\, residency directors\, peers\, and expert NYU Steinhardt faculty\n- Course work that aligns with what happens in a real classroom environment\n- Classroom responsibilities that are gradually assumed – as you practice and master teaching techniques\, you build your responsibilities in the classroom\n\nTherewill be time at the end of the session for you to ask questions.
UID:84988-21625370@events.umich.edu
URL:https://events.umich.edu/event/84988
CLASS:PUBLIC
STATUS:CONFIRMED
CATEGORIES:
LOCATION:
CONTACT:
END:VEVENT
END:VCALENDAR