BEGIN:VCALENDAR
VERSION:2.0
PRODID:-//UM//UM*Events//EN
CALSCALE:GREGORIAN
BEGIN:VTIMEZONE
TZID:America/Detroit
TZURL:http://tzurl.org/zoneinfo/America/Detroit
X-LIC-LOCATION:America/Detroit
BEGIN:DAYLIGHT
TZOFFSETFROM:-0500
TZOFFSETTO:-0400
TZNAME:EDT
DTSTART:20070311T020000
RRULE:FREQ=YEARLY;BYMONTH=3;BYDAY=2SU
END:DAYLIGHT
BEGIN:STANDARD
TZOFFSETFROM:-0400
TZOFFSETTO:-0500
TZNAME:EST
DTSTART:20071104T020000
RRULE:FREQ=YEARLY;BYMONTH=11;BYDAY=1SU
END:STANDARD
END:VTIMEZONE
BEGIN:VEVENT
DTSTAMP:20210511T124519
DTSTART;TZID=America/Detroit:20210827T080000
DTEND;TZID=America/Detroit:20210827T230000
SUMMARY:Other:Become a UROP Research Mentor
DESCRIPTION:Submit a Research Project for the 2021-2022 Academic Year: https://lsa.umich.edu/urop/research-mentors.html\n\nUROP Research Mentors are faculty and post-doc researchers from across all U-M's 19 Schools and Colleges who provide undergraduate student researchers an opportunity to engage in research activities that help them learn about the pursuit of knowledge within an academic discipline. This early exposure to research fosters a valuable academic experience for students. Through this collaboration\, students gain research skills and mentorship that lead to academic retention\, a more positive undergraduate experience and paths to graduate school.
UID:83879-21619510@events.umich.edu
URL:https://events.umich.edu/event/83879
CLASS:PUBLIC
STATUS:CONFIRMED
CATEGORIES:AEM Featured,Education,Faculty,Free,Graduate and Professional Students,Graduate Students,Interdisciplinary,Mentorship,Research,research data,Staff,Urop
LOCATION:Off Campus Location
CONTACT:
END:VEVENT
BEGIN:VEVENT
DTSTAMP:20210723T154528
DTSTART;TZID=America/Detroit:20210827T080000
DTEND;TZID=America/Detroit:20210827T235900
SUMMARY:Exhibition:That Greece Might Still Be Free
DESCRIPTION:Learn about the Greek War of Independence\, 19th century European international politics\, and the origins of nationalism and the modern nation-state. This exhibit commemorates the 200th anniversary of the Greek War of Independence\, which began with General Alexandros Ypsilantis’ (Greek: Αλέξανδρος Υψηλάντης) uprising against the Ottoman rulers in the Danubian Principality of Moldavia during the spring of 1821. https://myumi.ch/wlYoq\n\nThe exhibit was curated by students in the Michigan Library Scholars program\, William McClelland and Quinn Byington\, with Zachary Quint as their librarian mentor.
UID:84737-21624743@events.umich.edu
URL:https://events.umich.edu/event/84737
CLASS:PUBLIC
STATUS:CONFIRMED
CATEGORIES:Exhibition,History,Library
LOCATION:Off Campus Location
CONTACT:
END:VEVENT
BEGIN:VEVENT
DTSTAMP:20210622T142327
DTSTART;TZID=America/Detroit:20210827T083000
DTEND;TZID=America/Detroit:20210827T110000
SUMMARY:Lecture / Discussion:Climate & Space Graduate Student Orientation
DESCRIPTION:Join Grad Chair Prof. Jeremy Bassis\; Director of the Master of Engineering degree program Prof. Nilton Renno\; and Climate & Space Student Services staff for 2021-2022 Graduate Student orientation.
UID:84241-21620798@events.umich.edu
URL:https://events.umich.edu/event/84241
CLASS:PUBLIC
STATUS:CONFIRMED
CATEGORIES:Climate and Space Sciences and Engineering,Graduate,Graduate School
LOCATION:Off Campus Location - CLASP Auditorium, CSRB 2246
CONTACT:
END:VEVENT
BEGIN:VEVENT
DTSTAMP:20210701T145834
DTSTART;TZID=America/Detroit:20210827T100000
DTEND;TZID=America/Detroit:20210827T160000
SUMMARY:Exhibition:A Garden of Earthy Delights: Ceramic Sculptures by Ann Arbor Potters Guild at Matthaei Botanical Gardens
DESCRIPTION:Inspired by the synergy between nature’s beauty and complexity\, and in partnership with the University of Michigan Matthaei Botanical Gardens\, artists from the Ann Arbor Potters Guild created work centered around Michigan’s natural landscapes and specifically for the Great Lakes Garden at Matthaei. Potters Guild artists created eight free-standing sculptures using the full range of traditional ceramic methods and tools\, the potter’s wheel\, press molds\, coil building\, slab construction\, and sculpting. Depictions range from naturalistic and representational\, to abstract\, as well as a whimsical nod or two to the timeless role of fantasy and myth in humankind’s communion with nature. Exhibit is free but scheduled reservations are required to visit the botanical gardens. Use this link to book your visit: https://www.signupgenius.com/go/8050f4aadad22a2fd0-matthaei1
UID:84388-21623725@events.umich.edu
URL:https://events.umich.edu/event/84388
CLASS:PUBLIC
STATUS:CONFIRMED
CATEGORIES:Art,Outdoors
LOCATION:Matthaei Botanical Gardens
CONTACT:
END:VEVENT
BEGIN:VEVENT
DTSTAMP:20210825T134311
DTSTART;TZID=America/Detroit:20210827T100000
DTEND;TZID=America/Detroit:20210827T160000
SUMMARY:Other:Student Tours and Traditions
DESCRIPTION:Student Traditions and Tours are small group tours of Central Campus for current Michigan students only.  Please note\, these tours are not intended for parents and family members or prospective students.  \n\nStudent Traditions and Tours are intended to introduce you to our campus traditions and history\, help you get acclimated to campus spaces\, and get to know other students along the way.  Tours depart between 10:00am - 3:00pm\, and will be approximately 60-75 minutes in length.  To help ensure that groups stay small enough to get to know one another\, participants are asked to register in advance at the link to the right.
UID:85758-21628699@events.umich.edu
URL:https://events.umich.edu/event/85758
CLASS:PUBLIC
STATUS:CONFIRMED
CATEGORIES:Welcome to Michigan
LOCATION:Angell Hall - Lawn
CONTACT:
END:VEVENT
BEGIN:VEVENT
DTSTAMP:20211021T121520
DTSTART;TZID=America/Detroit:20210827T110000
DTEND;TZID=America/Detroit:20210827T170000
SUMMARY:Exhibition:Stephanie Dinkins: On Love & Data
DESCRIPTION:Stamps Gallery is proud to present the first survey of renowned transmedia artist Stephanie Dinkins\, who creates platforms for dialogue about artificial intelligence as it intersects race\, gender\, aging\, and our future histories. \nThrough her work\, Dinkins has become a central figure nationally and internationally recognized for exposing bias and inequity within artificial intelligence systems. Weaving together art production and exhibition\, community-based workshops and public speaking all with the intention of encouraging action towards making artificial intelligence systems more inclusive\, accessible and transparent. \n In this exhibition\, Dinkins will debut new and interactive installations and workshops that build on her concept of Afro-now-ism. In this poetic manifesto-like text\, Dinkins asks her audience\, particularly from communities of color\, to not only confront the litany of violences that humans have wielded upon one another based on the institutional and social constructions of race\, caste\, class\, and gender to maintain status quo and the current systems of power - but rise above it by taking action to start building the world that they desire. \nShe writes: “Instead of waiting to reach the proverbial promised land\, also known as a time in the future that may or may not manifest in your lifetime\, Afro-now-ism is taking the leap and the risks to imagine and define oneself beyond systemic oppression... For black people in particular\, it means conceiving yourself in the space of free and expansive thought and acting from a critically integrated space\, allowing for more community-sustaining work.” \n Through her installations and workshops Stephanie Dinkins: On Love &amp\; Data develops a dialogue with the audience on the hierarchies embedded within machine learning and AI architecture and one&#039\;s individual agency in transforming the algorithms within it. The audience will explore and participate in creating a more inclusive data-based narrative of what governance of the people\, by the people and for the people can look like in an AI mediated world where care is encoded within our digital civic system.
UID:84616-21624231@events.umich.edu
URL:https://events.umich.edu/event/84616
CLASS:PUBLIC
STATUS:CONFIRMED
CATEGORIES:Art
LOCATION:Off Campus Location
CONTACT:
END:VEVENT
BEGIN:VEVENT
DTSTAMP:20210911T123115
DTSTART;TZID=America/Detroit:20210827T120000
DTEND;TZID=America/Detroit:20210827T124500
SUMMARY:Careers / Jobs:Huron Consulting Group: Find Your Fit
DESCRIPTION:You belong at Huron. Join us for our \"Find Your Fit\" webinar to learn about future opportunities.\n\nDuring this event you will learn more about Huron’s collaborative and inclusive culture and get a glimpse into a day in the life of our analysts. We will provide a high-level overview of our hiring practices and present client project examples to help youimagine your future at Huron.\n\nStart your journey with us and register today.\n\nhttps://hcg.zoom.us/webinar/register/WN_JnHRCmbqTzGpphdlvYBwZg
UID:85150-21625627@events.umich.edu
URL:https://events.umich.edu/event/85150
CLASS:PUBLIC
STATUS:CONFIRMED
CATEGORIES:
LOCATION:
CONTACT:
END:VEVENT
BEGIN:VEVENT
DTSTAMP:20210818T212634
DTSTART;TZID=America/Detroit:20210827T120000
DTEND;TZID=America/Detroit:20210827T140000
SUMMARY:Workshop / Seminar:Online Assessments
DESCRIPTION:Canvas Workshop  |  Level: Beginner\n \nWORKSHOP TOPICS\n- Types: Google and Annotation\n- Assignments deeper dive\n- Quizzes overview\n- Discussions (best practices)\n- Group Pages/ Group Assignments\n- Peer Review\n- Interactive Video Quizzes\n\nThe ITS Teaching Online Technique Training Workshops are available to help you prepare for teaching online\, in person\, hybrid\, or HyFlex this fall. Classes are available now through September 3. \n\nFind detailed training information on this and additional workshops\, including on-demand recordings\, on the ITS Training website: https://its.umich.edu/training/canvas\n\nZoom join URL for all workshops: https://umich.zoom.us/j/99699601181
UID:85210-21625734@events.umich.edu
URL:https://events.umich.edu/event/85210
CLASS:PUBLIC
STATUS:CONFIRMED
CATEGORIES:Faculty,Free,Information And Technology,Training,Virtual,Workshop
LOCATION:Off Campus Location
CONTACT:
END:VEVENT
BEGIN:VEVENT
DTSTAMP:20210820T112026
DTSTART;TZID=America/Detroit:20210827T130000
DTEND;TZID=America/Detroit:20210827T150000
SUMMARY:Social / Informal Gathering:DPE Open House
DESCRIPTION:You’re invited to a Welcome to Michigan Housing Open House! Transitioning into a new community can be a big step\, and we in Michigan Housing are here to help! \n\nCome meet your community’s Diversity Peer Educator and other university Student Life staff that are here to support your on-campus experience. This is a great opportunity to start meeting other students or ask questions about life at Michigan to learn about the many resources available.\n\nThe open house event will be held on Friday\, August 27th from 1:00 p.m. - 3:00 p.m. in the Multicultural Lounge in your residence hall. Location information for the multicultural lounge will be shared at move-in or staff at the community center can also point you in the right direction.
UID:85494-21626703@events.umich.edu
URL:https://events.umich.edu/event/85494
CLASS:PUBLIC
STATUS:CONFIRMED
CATEGORIES:Diversity Equity and Inclusion,free,housing,Inclusion,multicultural,student housing,Welcome To Michigan
LOCATION:
CONTACT:
END:VEVENT
BEGIN:VEVENT
DTSTAMP:20210827T121549
DTSTART;TZID=America/Detroit:20210827T130000
DTEND;TZID=America/Detroit:20210827T140000
SUMMARY:Auditions:Rackham Fall Welcome
DESCRIPTION:Update: This event is now virtual only.\nJoin us virtually to hear from Dean Michael Solomon\, student leaders\, and the Michigan Fanfare Band\, as they welcome new Rackham graduate students to campus.\nRegistration is required at https://myumi.ch/r81yP.\nWe want to ensure full and equitable participation in our events. If an accommodation would promote your full participation in this event\, please follow the registration link to indicate your accommodation requirements. Please let us know as soon as possible in order to have adequate time\, preferably one week\, to arrange for your requested accommodations or an effective alternative.
UID:84693-21624437@events.umich.edu
URL:https://events.umich.edu/event/84693
CLASS:PUBLIC
STATUS:CONFIRMED
CATEGORIES:Graduate Students
LOCATION:Off Campus Location
CONTACT:
END:VEVENT
BEGIN:VEVENT
DTSTAMP:20210802T154018
DTSTART;TZID=America/Detroit:20210827T130000
DTEND;TZID=America/Detroit:20210827T141500
SUMMARY:Meeting:SLE Orientation
DESCRIPTION:Get the scoop on SLE\, meet the community\, and pick up your SLE swag! \n\nSLE Orientation will be followed by the SLE Kickoff in Oxford Courtyard.
UID:84866-21625210@events.umich.edu
URL:https://events.umich.edu/event/84866
CLASS:PUBLIC
STATUS:CONFIRMED
CATEGORIES:Orientation,Sustainability
LOCATION:Oxford Housing - Noble Lounge
CONTACT:
END:VEVENT
BEGIN:VEVENT
DTSTAMP:20210805T141640
DTSTART;TZID=America/Detroit:20210827T140000
DTEND;TZID=America/Detroit:20210827T160000
SUMMARY:Other:Polish Language Proficiency and Placement Exam
DESCRIPTION:Students of any level of Polish language are invited to take the proficiency/placement exam. This is a written exam and any additional oral exams will be scheduled after completion if the written exam.\n\nThis can be used to place out of the LSA language requirement and or place students into the appropriate level of Polish language courses.\n\nSign up here for a seat in the exam: https://forms.gle/exSgvxcrDmXARsrXA\n\nPlease contact sll.ugrad@umich.edu with any questions about the Polish placement test.
UID:67685-21530360@events.umich.edu
URL:https://events.umich.edu/event/67685
CLASS:PUBLIC
STATUS:CONFIRMED
CATEGORIES:European,Poland,Polish,Scholarship,Scholarships,Slavic,Slavic Featured,Slavic Studies
LOCATION:Modern Languages Building - 3310
CONTACT:
END:VEVENT
BEGIN:VEVENT
DTSTAMP:20210824T091920
DTSTART;TZID=America/Detroit:20210827T140000
DTEND;TZID=America/Detroit:20210827T160000
SUMMARY:Presentation:Transfer Transitions
DESCRIPTION:Join us the Friday before classes begin for Transfer Transitions to discover all the amazing opportunities available for you.  Whether this fall is your first semester at U-M or you started during one of the pandemic semesters\, we want to help you get off to a great start on your return to campus. Our campus partners will be on hand to answer your questions about how you can get the most out of your time at the University of Michigan. Get started early learning about all of the co-curricular opportunities and academic support.\n\nRegister and you will receive a free T-shirt
UID:85671-21628185@events.umich.edu
URL:https://events.umich.edu/event/85671
CLASS:PUBLIC
STATUS:CONFIRMED
CATEGORIES:Transfer Students
LOCATION:East Hall - North Atrium
CONTACT:
END:VEVENT
BEGIN:VEVENT
DTSTAMP:20210802T154717
DTSTART;TZID=America/Detroit:20210827T141500
DTEND;TZID=America/Detroit:20210827T150000
SUMMARY:Social / Informal Gathering:SLE Kickoff
DESCRIPTION:Following SLE Orientation is the SLE Kickoff! All Oxford residents are invited to stop by the courtyard and enjoy seasonal foods from the Campus Farm. There will be a planting station also so that you can have a small plant to keep in your room.
UID:84868-21625213@events.umich.edu
URL:https://events.umich.edu/event/84868
CLASS:PUBLIC
STATUS:CONFIRMED
CATEGORIES:Food,Free,Games,Outdoors,Sustainability
LOCATION:Oxford Housing
CONTACT:
END:VEVENT
BEGIN:VEVENT
DTSTAMP:20210911T123134
DTSTART;TZID=America/Detroit:20210827T150000
DTEND;TZID=America/Detroit:20210827T160000
SUMMARY:Careers / Jobs:Comerica Bank Pre-Recruiting Season Information Session
DESCRIPTION:Join Comerica Bank as we kickoff Fall 2021 with a Pre-Recruiting Season Information Session! Learn more about our Entry level program\, internships\, key dates\, and the culture of our company.
UID:85726-21628403@events.umich.edu
URL:https://events.umich.edu/event/85726
CLASS:PUBLIC
STATUS:CONFIRMED
CATEGORIES:
LOCATION:
CONTACT:
END:VEVENT
BEGIN:VEVENT
DTSTAMP:20210911T123119
DTSTART;TZID=America/Detroit:20210827T150000
DTEND;TZID=America/Detroit:20210827T153000
SUMMARY:Careers / Jobs:Explore Deloitte: Recruiter Welcome & Information Session
DESCRIPTION:Join Deloitte recruiters and client service professionals for our Explore Deloitte series focused on showing you what opportunities are available to you in all areas at the firm. We'll kick start the series with a Recruiter Welcome and information session.\n\nTo register for the event and see a listing of all fall Explore Deloitte events you can view here:https://usrecruiting.deloitte.com/exploredeloitte
UID:85396-21626358@events.umich.edu
URL:https://events.umich.edu/event/85396
CLASS:PUBLIC
STATUS:CONFIRMED
CATEGORIES:
LOCATION:
CONTACT:
END:VEVENT
BEGIN:VEVENT
DTSTAMP:20210802T155744
DTSTART;TZID=America/Detroit:20210827T194500
DTEND;TZID=America/Detroit:20210827T220000
SUMMARY:Film Screening:Outdoor Movie
DESCRIPTION:Meet up with SLE students in Noble Lounge to head over to the central campus outdoor movie screening.
UID:84869-21625214@events.umich.edu
URL:https://events.umich.edu/event/84869
CLASS:PUBLIC
STATUS:CONFIRMED
CATEGORIES:Social,Sustainability
LOCATION:Oxford Housing
CONTACT:
END:VEVENT
BEGIN:VEVENT
DTSTAMP:20210823T131547
DTSTART;TZID=America/Detroit:20210827T200000
DTEND;TZID=America/Detroit:20210827T230000
SUMMARY:Film Screening:\"Cruella\"
DESCRIPTION:Take a break from unpacking and enjoy a film! We'll be showing \"Cruella\" on both North & Central campuses. Plus\, FREE popcorn! The show starts at dark\, so we hope to see you there!\n\nNorth Campus Location: Gerstacker Grove\nCentral Campus Location: Central Campus Diag
UID:85646-21627917@events.umich.edu
URL:https://events.umich.edu/event/85646
CLASS:PUBLIC
STATUS:CONFIRMED
CATEGORIES:Food,Free,Graduate and Professional Students,In Person,North campus,Outdoors,Social,UAC,Undergraduate Students,Welcome to Michigan,Well-being
LOCATION:Diag - Central Campus
CONTACT:
END:VEVENT
BEGIN:VEVENT
DTSTAMP:20210823T131547
DTSTART;TZID=America/Detroit:20210827T200000
DTEND;TZID=America/Detroit:20210827T230000
SUMMARY:Film Screening:\"Cruella\"
DESCRIPTION:Take a break from unpacking and enjoy a film! We'll be showing \"Cruella\" on both North & Central campuses. Plus\, FREE popcorn! The show starts at dark\, so we hope to see you there!\n\nNorth Campus Location: Gerstacker Grove\nCentral Campus Location: Central Campus Diag
UID:85646-21627918@events.umich.edu
URL:https://events.umich.edu/event/85646
CLASS:PUBLIC
STATUS:CONFIRMED
CATEGORIES:Food,Free,Graduate and Professional Students,In Person,North campus,Outdoors,Social,UAC,Undergraduate Students,Welcome to Michigan,Well-being
LOCATION:The Grove
CONTACT:
END:VEVENT
BEGIN:VEVENT
DTSTAMP:20210823T144859
DTSTART;TZID=America/Detroit:20210827T200000
DTEND;TZID=America/Detroit:20210827T220000
SUMMARY:Performance:Lee DeWyze
DESCRIPTION:VACCINATION PROOF AND MASKS REQUIRED.\n*By purchasing a ticket you agree that you and your guests will comply with all laws\, orders\, ordinances\, regulations and health and safety guidance adopted by the State of Michigan\, the County of Washtenaw and The Ark\, including any guidelines in place at the time of the show. Attendees who do not comply will be asked to leave. Policies will be updated as circumstances and requirements change in our community. Please review The Ark’s current COVID-related information before attending a show.*\n\nGhost Stories 2021 TOUR / VIP\nPlease arrive at least 45 min prior to DOORS \n** Early entry into venue \n** 2 song acoustic private soundcheck event\n** 1 specialty merch item (ONLY available to VIP)\n** due to touring restrictions\, it is possible there will be NO MNG\n\nPlease check back regularly to see if restrictions have eased\n\nWith an earnest ability to create a delicate balance of harmony\, melody\, deep emotion and subtlety\, Lee DeWyze’s depth as a songwriter call to mind some of his earliest influences like Simon and Garfunkel\, Yusef Islam (Cat Stevens) and Johnny Cash.\n\nHis last 4 releases Victims Of The Night (April 2020)\, and the EP Castles (Oct 2019)\, have garnered over 1M streams\, while his latest 2 singles\, Weeds (Oct 2020) is currently highlighted on the largest folk playlist Chill Folk\, streaming 3500x per day\, and Horizon (Apr 2021) was featured in the motion picture The Secret: Dare To Dream starring Katie Holmes and Josh Lucas. \n\nOver the last 10 years\, Lee has released five albums\, including his critically lauded Frames (Vanguard Records\, 2013)\, which included the top 40 Billboard Hot AC hit “Fight.” In 2014\, his song “Blackbird Song” (20M streams + ) was placed in the show “The Walking Dead.” After signing with Shanachie Records in 2016\, Lee released the album Oil and Water\, which hit Number One on the iTunes folk and singer/songwriter chart\, followed by Paranoia (2018)\, which hit Number One on the Alternative chart. As the winner of American Idol Season 9 in 2010\, he made his major label debut with Live It Up (RCA).\n\nLee’s songs have appeared in over 70 movies\, TV shows\, and commercials. His latest synch was for his song Castles\, which highlighted the season finale of Station 19 (#1 show on ABC). His video for Castles won 11 awards world-wide (Los Angeles\, NY\, and London) for best animated video with TIFF (The International Film Festival).\n\nLee is embarking on a summer/fall 2021 US tour called Ghost Stories.
UID:75692-19566709@events.umich.edu
URL:https://events.umich.edu/event/75692
CLASS:PUBLIC
STATUS:CONFIRMED
CATEGORIES:The Ark
LOCATION:Off Campus Location
CONTACT:
END:VEVENT
END:VCALENDAR