BEGIN:VCALENDAR
VERSION:2.0
PRODID:-//UM//UM*Events//EN
CALSCALE:GREGORIAN
BEGIN:VTIMEZONE
TZID:America/Detroit
TZURL:http://tzurl.org/zoneinfo/America/Detroit
X-LIC-LOCATION:America/Detroit
BEGIN:DAYLIGHT
TZOFFSETFROM:-0500
TZOFFSETTO:-0400
TZNAME:EDT
DTSTART:20070311T020000
RRULE:FREQ=YEARLY;BYMONTH=3;BYDAY=2SU
END:DAYLIGHT
BEGIN:STANDARD
TZOFFSETFROM:-0400
TZOFFSETTO:-0500
TZNAME:EST
DTSTART:20071104T020000
RRULE:FREQ=YEARLY;BYMONTH=11;BYDAY=1SU
END:STANDARD
END:VTIMEZONE
BEGIN:VEVENT
DTSTAMP:20210511T124519
DTSTART;TZID=America/Detroit:20210828T080000
DTEND;TZID=America/Detroit:20210828T230000
SUMMARY:Other:Become a UROP Research Mentor
DESCRIPTION:Submit a Research Project for the 2021-2022 Academic Year: https://lsa.umich.edu/urop/research-mentors.html\n\nUROP Research Mentors are faculty and post-doc researchers from across all U-M's 19 Schools and Colleges who provide undergraduate student researchers an opportunity to engage in research activities that help them learn about the pursuit of knowledge within an academic discipline. This early exposure to research fosters a valuable academic experience for students. Through this collaboration\, students gain research skills and mentorship that lead to academic retention\, a more positive undergraduate experience and paths to graduate school.
UID:83879-21619511@events.umich.edu
URL:https://events.umich.edu/event/83879
CLASS:PUBLIC
STATUS:CONFIRMED
CATEGORIES:AEM Featured,Education,Faculty,Free,Graduate and Professional Students,Graduate Students,Interdisciplinary,Mentorship,Research,research data,Staff,Urop
LOCATION:Off Campus Location
CONTACT:
END:VEVENT
BEGIN:VEVENT
DTSTAMP:20210723T154528
DTSTART;TZID=America/Detroit:20210828T080000
DTEND;TZID=America/Detroit:20210828T235900
SUMMARY:Exhibition:That Greece Might Still Be Free
DESCRIPTION:Learn about the Greek War of Independence\, 19th century European international politics\, and the origins of nationalism and the modern nation-state. This exhibit commemorates the 200th anniversary of the Greek War of Independence\, which began with General Alexandros Ypsilantis’ (Greek: Αλέξανδρος Υψηλάντης) uprising against the Ottoman rulers in the Danubian Principality of Moldavia during the spring of 1821. https://myumi.ch/wlYoq\n\nThe exhibit was curated by students in the Michigan Library Scholars program\, William McClelland and Quinn Byington\, with Zachary Quint as their librarian mentor.
UID:84737-21624744@events.umich.edu
URL:https://events.umich.edu/event/84737
CLASS:PUBLIC
STATUS:CONFIRMED
CATEGORIES:Exhibition,History,Library
LOCATION:Off Campus Location
CONTACT:
END:VEVENT
BEGIN:VEVENT
DTSTAMP:20210701T145834
DTSTART;TZID=America/Detroit:20210828T100000
DTEND;TZID=America/Detroit:20210828T160000
SUMMARY:Exhibition:A Garden of Earthy Delights: Ceramic Sculptures by Ann Arbor Potters Guild at Matthaei Botanical Gardens
DESCRIPTION:Inspired by the synergy between nature’s beauty and complexity\, and in partnership with the University of Michigan Matthaei Botanical Gardens\, artists from the Ann Arbor Potters Guild created work centered around Michigan’s natural landscapes and specifically for the Great Lakes Garden at Matthaei. Potters Guild artists created eight free-standing sculptures using the full range of traditional ceramic methods and tools\, the potter’s wheel\, press molds\, coil building\, slab construction\, and sculpting. Depictions range from naturalistic and representational\, to abstract\, as well as a whimsical nod or two to the timeless role of fantasy and myth in humankind’s communion with nature. Exhibit is free but scheduled reservations are required to visit the botanical gardens. Use this link to book your visit: https://www.signupgenius.com/go/8050f4aadad22a2fd0-matthaei1
UID:84388-21623726@events.umich.edu
URL:https://events.umich.edu/event/84388
CLASS:PUBLIC
STATUS:CONFIRMED
CATEGORIES:Art,Outdoors
LOCATION:Matthaei Botanical Gardens
CONTACT:
END:VEVENT
BEGIN:VEVENT
DTSTAMP:20210825T134311
DTSTART;TZID=America/Detroit:20210828T100000
DTEND;TZID=America/Detroit:20210828T160000
SUMMARY:Other:Student Tours and Traditions
DESCRIPTION:Student Traditions and Tours are small group tours of Central Campus for current Michigan students only.  Please note\, these tours are not intended for parents and family members or prospective students.  \n\nStudent Traditions and Tours are intended to introduce you to our campus traditions and history\, help you get acclimated to campus spaces\, and get to know other students along the way.  Tours depart between 10:00am - 3:00pm\, and will be approximately 60-75 minutes in length.  To help ensure that groups stay small enough to get to know one another\, participants are asked to register in advance at the link to the right.
UID:85758-21628700@events.umich.edu
URL:https://events.umich.edu/event/85758
CLASS:PUBLIC
STATUS:CONFIRMED
CATEGORIES:Welcome to Michigan
LOCATION:
CONTACT:
END:VEVENT
BEGIN:VEVENT
DTSTAMP:20210806T105310
DTSTART;TZID=America/Detroit:20210828T100000
DTEND;TZID=America/Detroit:20210828T110000
SUMMARY:Exercise / Fitness:Zumba!
DESCRIPTION:Ditch the traditional workout and join the party! This Latin-inspired\, dance-and-fitness class offers an exciting\, exhilarating and effective workout. You’ll develop your stamina and your body tone with easy-to-follow dance moves\, set to the fast and slow rhythms of cumbia\, merengue\, salsa\, reggaeton\, hip-hop\, pop\, mambo\, rumba\, flamenco\, calypso and salsaton. No dance experience required. This free class will be taught by a trained instructor. In the event of inclement weather\, this event will be rescheduled.
UID:85005-21625413@events.umich.edu
URL:https://events.umich.edu/event/85005
CLASS:PUBLIC
STATUS:CONFIRMED
CATEGORIES:Fitness,Free
LOCATION:Northwood IV Apartments - North Campus, Northwood 4 Basketball Court, Near 1733 Beal Ave across from Northwood Parking Lot 32
CONTACT:
END:VEVENT
BEGIN:VEVENT
DTSTAMP:20211021T121520
DTSTART;TZID=America/Detroit:20210828T110000
DTEND;TZID=America/Detroit:20210828T170000
SUMMARY:Exhibition:Stephanie Dinkins: On Love & Data
DESCRIPTION:Stamps Gallery is proud to present the first survey of renowned transmedia artist Stephanie Dinkins\, who creates platforms for dialogue about artificial intelligence as it intersects race\, gender\, aging\, and our future histories. \nThrough her work\, Dinkins has become a central figure nationally and internationally recognized for exposing bias and inequity within artificial intelligence systems. Weaving together art production and exhibition\, community-based workshops and public speaking all with the intention of encouraging action towards making artificial intelligence systems more inclusive\, accessible and transparent. \n In this exhibition\, Dinkins will debut new and interactive installations and workshops that build on her concept of Afro-now-ism. In this poetic manifesto-like text\, Dinkins asks her audience\, particularly from communities of color\, to not only confront the litany of violences that humans have wielded upon one another based on the institutional and social constructions of race\, caste\, class\, and gender to maintain status quo and the current systems of power - but rise above it by taking action to start building the world that they desire. \nShe writes: “Instead of waiting to reach the proverbial promised land\, also known as a time in the future that may or may not manifest in your lifetime\, Afro-now-ism is taking the leap and the risks to imagine and define oneself beyond systemic oppression... For black people in particular\, it means conceiving yourself in the space of free and expansive thought and acting from a critically integrated space\, allowing for more community-sustaining work.” \n Through her installations and workshops Stephanie Dinkins: On Love &amp\; Data develops a dialogue with the audience on the hierarchies embedded within machine learning and AI architecture and one&#039\;s individual agency in transforming the algorithms within it. The audience will explore and participate in creating a more inclusive data-based narrative of what governance of the people\, by the people and for the people can look like in an AI mediated world where care is encoded within our digital civic system.
UID:84616-21624232@events.umich.edu
URL:https://events.umich.edu/event/84616
CLASS:PUBLIC
STATUS:CONFIRMED
CATEGORIES:Art
LOCATION:Off Campus Location
CONTACT:
END:VEVENT
BEGIN:VEVENT
DTSTAMP:20210802T160545
DTSTART;TZID=America/Detroit:20210828T123000
DTEND;TZID=America/Detroit:20210828T151500
SUMMARY:Social / Informal Gathering:SLE River Trip
DESCRIPTION:Have fun as we meet each other\, get to know the Ann Arbor area\, and build the SLE community. Students will have access to two person kayaks for a leisurely paddle on the Huron River from Argo Canoe Livery to Gallop Park.
UID:84870-21625215@events.umich.edu
URL:https://events.umich.edu/event/84870
CLASS:PUBLIC
STATUS:CONFIRMED
CATEGORIES:Outdoors,Social,Wellness
LOCATION:
CONTACT:
END:VEVENT
BEGIN:VEVENT
DTSTAMP:20210826T083322
DTSTART;TZID=America/Detroit:20210828T130000
DTEND;TZID=America/Detroit:20210828T150000
SUMMARY:Reception / Open House:Sophomore Celebration
DESCRIPTION:Come and celebrate the start of the academic year with your fellow sophomores.  Sign the Class of 2024 Banner\, get to know others\, and enjoy some ice cream.  Free t-shirts are also to the first 2500 students who attend!
UID:85772-21628978@events.umich.edu
URL:https://events.umich.edu/event/85772
CLASS:PUBLIC
STATUS:CONFIRMED
CATEGORIES:Welcome to Michigan
LOCATION:Ingalls Mall
CONTACT:
END:VEVENT
BEGIN:VEVENT
DTSTAMP:20210812T121505
DTSTART;TZID=America/Detroit:20210828T140000
DTEND;TZID=America/Detroit:20210828T150000
SUMMARY:Presentation:Curator-led tour of Stephanie Dinkins: On Love & Data
DESCRIPTION:Stamps Gallery Director and curator Srimoyee Mitra will lead an exhibition tour of Stamps Gallery’s fall exhibition featuring works by renowned transmedia artist Stephanie Dinkins. Join us for an intimate look at Dinkins’ first survey exhibition entitled On Love &amp\; Data that develops a powerful dialogue on Artificial Intelligence (AI)\, algorithms and building a just and equitable future. Spaces are Limited. Please reserve your ticket here.Tour participants are requested to wear masks\, maintain social distancing and follow Stamps Gallery’s COVID-19 policies.
UID:85136-21625613@events.umich.edu
URL:https://events.umich.edu/event/85136
CLASS:PUBLIC
STATUS:CONFIRMED
CATEGORIES:Art
LOCATION:Off Campus Location
CONTACT:
END:VEVENT
BEGIN:VEVENT
DTSTAMP:20220621T091758
DTSTART;TZID=America/Detroit:20210828T180000
DTEND;TZID=America/Detroit:20210828T210000
SUMMARY:Reception / Open House:Artscapade!
DESCRIPTION:Arts at Michigan and UMMA celebrate Welcome Week by introducing students to the wide array of possibilities for arts participation on campus at an evening of art-making\, live music\, dance and poetry\, games\, and prizes.\n\nAlso\, we're looking for volunteers for this event-- help us make it happen (and get a free Artscapade t-shirt in the process!): http://artsatmichigan.umich.edu/programs/artscapade/
UID:84654-21624391@events.umich.edu
URL:https://events.umich.edu/event/84654
CLASS:PUBLIC
STATUS:CONFIRMED
CATEGORIES:Architecture,Art,Concert,Culture,Dance,Exhibition,Festival,Film,Free,Literature,Multicultural,Museum,Music,Poetry,Social,Student Org,Theater,Tour,UMMA,UMS,Visual Arts,Volunteer,Welcome to Michigan
LOCATION:Museum of Art
CONTACT:
END:VEVENT
BEGIN:VEVENT
DTSTAMP:20210829T001549
DTSTART;TZID=America/Detroit:20210828T180000
DTEND;TZID=America/Detroit:20210828T210000
SUMMARY:Presentation:Artscapade!
DESCRIPTION:.\n \nUMMA and Arts at Michigan celebrate Welcome Week by introducing new University of Michigan students to the Museum of Art for an evening of  live music\, performances\, dance\, poetry\, film\, games\, prize raffle\, and a variety of art-making activities.  During the event\, students will  have the opportunity to become familiar with the Museum and everything it has to offer\, as well as experience the wide array of possibilities for arts participation across campus. \n \nAll students\, faculty and staff on the Ann Arbor (including Michigan Medicine)\, Dearborn and Flint campuses are required to be vaccinated against COVID-19 and submit their vaccination information by August 30. In addition\, masks will be required in all indoor spaces and social distancing guidelines will be in place.\n \nStudent programming at UMMA is generously supported by the University of Michigan Credit Union Arts Adventures Program\, UMMA's Lead Sponsor for Student and Family Engagement.\n \n \n\n
UID:84810-21625050@events.umich.edu
URL:https://events.umich.edu/event/84810
CLASS:PUBLIC
STATUS:CONFIRMED
CATEGORIES:Art,Dance,Faculty,Family,Film,Flint,Games,Medicine,Museum,Music,Poetry,Social,Staff,UMMA
LOCATION:Museum of Art - Whole Museum 
CONTACT:
END:VEVENT
BEGIN:VEVENT
DTSTAMP:20210823T144936
DTSTART;TZID=America/Detroit:20210828T200000
DTEND;TZID=America/Detroit:20210828T220000
SUMMARY:Performance:George Bedard - Rescheduled from 8/29/20
DESCRIPTION:VACCINATION PROOF AND MASKS REQUIRED\n*By purchasing a ticket you agree that you and your guests will comply with all laws\, orders\, ordinances\, regulations and health and safety guidance adopted by the State of Michigan\, the County of Washtenaw and The Ark\, including any guidelines in place at the time of the show. Attendees who do not comply will be asked to leave. Policies will be updated as circumstances and requirements change in our community. Please review The Ark’s current COVID-related information before attending a show.*\n\nGeorge Bedard presents “Jump Blues – Big Brother to Rock ‘n Roll\,\" the eighth installment of his History of American Music series.  “The small combo jump blues of the ‘40s and early ‘50s was\, along with country\, one of the main tributaries leading to rock ‘n roll”\, says Bedard. “We will thread the show through Big Joe Turner\, whose career spanned the boogie-woogie and Kansas City jazz of the ‘30s to the early rock ‘n roll era\, and whom I had the honor to play with”.\n\nThis show will feature Mark “Mr. B” Braun on piano\, a horn section led by Chris Smith\, and of course Rich Dishman on drums and Pat Prouty on bass.\n\nRescheduled from August 29\, 2020. Online tickets reissued automatically.
UID:74059-18500006@events.umich.edu
URL:https://events.umich.edu/event/74059
CLASS:PUBLIC
STATUS:CONFIRMED
CATEGORIES:The Ark
LOCATION:Off Campus Location
CONTACT:
END:VEVENT
END:VCALENDAR