BEGIN:VCALENDAR
VERSION:2.0
PRODID:-//UM//UM*Events//EN
CALSCALE:GREGORIAN
BEGIN:VTIMEZONE
TZID:America/Detroit
TZURL:http://tzurl.org/zoneinfo/America/Detroit
X-LIC-LOCATION:America/Detroit
BEGIN:DAYLIGHT
TZOFFSETFROM:-0500
TZOFFSETTO:-0400
TZNAME:EDT
DTSTART:20070311T020000
RRULE:FREQ=YEARLY;BYMONTH=3;BYDAY=2SU
END:DAYLIGHT
BEGIN:STANDARD
TZOFFSETFROM:-0400
TZOFFSETTO:-0500
TZNAME:EST
DTSTART:20071104T020000
RRULE:FREQ=YEARLY;BYMONTH=11;BYDAY=1SU
END:STANDARD
END:VTIMEZONE
BEGIN:VEVENT
DTSTAMP:20210511T124519
DTSTART;TZID=America/Detroit:20210829T080000
DTEND;TZID=America/Detroit:20210829T230000
SUMMARY:Other:Become a UROP Research Mentor
DESCRIPTION:Submit a Research Project for the 2021-2022 Academic Year: https://lsa.umich.edu/urop/research-mentors.html\n\nUROP Research Mentors are faculty and post-doc researchers from across all U-M's 19 Schools and Colleges who provide undergraduate student researchers an opportunity to engage in research activities that help them learn about the pursuit of knowledge within an academic discipline. This early exposure to research fosters a valuable academic experience for students. Through this collaboration\, students gain research skills and mentorship that lead to academic retention\, a more positive undergraduate experience and paths to graduate school.
UID:83879-21619512@events.umich.edu
URL:https://events.umich.edu/event/83879
CLASS:PUBLIC
STATUS:CONFIRMED
CATEGORIES:research data,Interdisciplinary,Mentorship,Research,Graduate Students,Staff,Urop,AEM Featured,Education,Faculty,Free,Graduate and Professional Students
LOCATION:Off Campus Location
CONTACT:
END:VEVENT
BEGIN:VEVENT
DTSTAMP:20210723T154528
DTSTART;TZID=America/Detroit:20210829T080000
DTEND;TZID=America/Detroit:20210829T235900
SUMMARY:Exhibition:That Greece Might Still Be Free
DESCRIPTION:Learn about the Greek War of Independence\, 19th century European international politics\, and the origins of nationalism and the modern nation-state. This exhibit commemorates the 200th anniversary of the Greek War of Independence\, which began with General Alexandros Ypsilantis’ (Greek: Αλέξανδρος Υψηλάντης) uprising against the Ottoman rulers in the Danubian Principality of Moldavia during the spring of 1821. https://myumi.ch/wlYoq\n\nThe exhibit was curated by students in the Michigan Library Scholars program\, William McClelland and Quinn Byington\, with Zachary Quint as their librarian mentor.
UID:84737-21624745@events.umich.edu
URL:https://events.umich.edu/event/84737
CLASS:PUBLIC
STATUS:CONFIRMED
CATEGORIES:Library,History,Exhibition
LOCATION:Off Campus Location
CONTACT:
END:VEVENT
BEGIN:VEVENT
DTSTAMP:20210802T161042
DTSTART;TZID=America/Detroit:20210829T095000
DTEND;TZID=America/Detroit:20210829T120000
SUMMARY:Community Service:Adopt-a-Park with GIVE365
DESCRIPTION:Join SLE in adopting South University Park\, just two blocks from Oxford! Wear closed-toed shoes and bring a mask.
UID:84872-21625216@events.umich.edu
URL:https://events.umich.edu/event/84872
CLASS:PUBLIC
STATUS:CONFIRMED
CATEGORIES:Ecology,Community Service,Environment,nature,Outdoors,Sustainability
LOCATION:1027 E. Huron Building
CONTACT:
END:VEVENT
BEGIN:VEVENT
DTSTAMP:20210701T145834
DTSTART;TZID=America/Detroit:20210829T100000
DTEND;TZID=America/Detroit:20210829T160000
SUMMARY:Exhibition:A Garden of Earthy Delights: Ceramic Sculptures by Ann Arbor Potters Guild at Matthaei Botanical Gardens
DESCRIPTION:Inspired by the synergy between nature’s beauty and complexity\, and in partnership with the University of Michigan Matthaei Botanical Gardens\, artists from the Ann Arbor Potters Guild created work centered around Michigan’s natural landscapes and specifically for the Great Lakes Garden at Matthaei. Potters Guild artists created eight free-standing sculptures using the full range of traditional ceramic methods and tools\, the potter’s wheel\, press molds\, coil building\, slab construction\, and sculpting. Depictions range from naturalistic and representational\, to abstract\, as well as a whimsical nod or two to the timeless role of fantasy and myth in humankind’s communion with nature. Exhibit is free but scheduled reservations are required to visit the botanical gardens. Use this link to book your visit: https://www.signupgenius.com/go/8050f4aadad22a2fd0-matthaei1
UID:84388-21623727@events.umich.edu
URL:https://events.umich.edu/event/84388
CLASS:PUBLIC
STATUS:CONFIRMED
CATEGORIES:Outdoors,Art
LOCATION:Matthaei Botanical Gardens
CONTACT:
END:VEVENT
BEGIN:VEVENT
DTSTAMP:20210816T085504
DTSTART;TZID=America/Detroit:20210829T163000
DTEND;TZID=America/Detroit:20210829T173000
SUMMARY:Ceremony / Service:Convocation 2021
DESCRIPTION:Convocation marks the official beginning of a student's college experience.  Join the classes of 2024 and 2025\, student leaders\, faculty\, staff\, Deans\, Executive Officers\, and Regents and this traditional ceremony. \n\nNote:  Buses from North Campus will begin picking up students at Bursley-Baits stop starting at 3:15pm.
UID:85273-21626142@events.umich.edu
URL:https://events.umich.edu/event/85273
CLASS:PUBLIC
STATUS:CONFIRMED
CATEGORIES:Welcome to Michigan
LOCATION:Michigan Stadium
CONTACT:
END:VEVENT
BEGIN:VEVENT
DTSTAMP:20210823T145007
DTSTART;TZID=America/Detroit:20210829T193000
DTEND;TZID=America/Detroit:20210829T220000
SUMMARY:Performance:Paul Thorn - Rescheduled from 3/19/2021
DESCRIPTION:VACCINATION PROOF AND MASKS REQUIRED\n*By purchasing a ticket you agree that you and your guests will comply with all laws\, orders\, ordinances\, regulations and health and safety guidance adopted by the State of Michigan\, the County of Washtenaw and The Ark\, including any guidelines in place at the time of the show. Attendees who do not comply will be asked to leave. Policies will be updated as circumstances and requirements change in our community. Please review The Ark’s current COVID-related information before attending a show.*\n\nRaised in Tupelo\, Mississippi\, among the same spirits (and some of the actual people) who nurtured the young Elvis generations before\, Paul Thorn has rambled down back roads\, battled four-time world champion boxer Roberto Duran on national television\, signed with and been dropped by a major label\, performed on stages with Bonnie Raitt\, Mark Knopfler\, Sting\, and John Prine among many others\, and made some of the most emotionally restless yet relatable music of our time. With 20 years of writing\, touring\, and entertaining under his belt\, he shows no sign of slowing down with his somewhat-gospel recording \"Don't Let the Devil Ride\,\" still breaking genre barriers and topping charts\, putting a new twist on his already entertaining live show. Paul is an Ark favorite who never fails to connect with Michigan audiences.
UID:73572-18261086@events.umich.edu
URL:https://events.umich.edu/event/73572
CLASS:PUBLIC
STATUS:CONFIRMED
CATEGORIES:
LOCATION:Off Campus Location
CONTACT:
END:VEVENT
END:VCALENDAR