BEGIN:VCALENDAR
VERSION:2.0
PRODID:-//UM//UM*Events//EN
CALSCALE:GREGORIAN
BEGIN:VTIMEZONE
TZID:America/Detroit
TZURL:http://tzurl.org/zoneinfo/America/Detroit
X-LIC-LOCATION:America/Detroit
BEGIN:DAYLIGHT
TZOFFSETFROM:-0500
TZOFFSETTO:-0400
TZNAME:EDT
DTSTART:20070311T020000
RRULE:FREQ=YEARLY;BYMONTH=3;BYDAY=2SU
END:DAYLIGHT
BEGIN:STANDARD
TZOFFSETFROM:-0400
TZOFFSETTO:-0500
TZNAME:EST
DTSTART:20071104T020000
RRULE:FREQ=YEARLY;BYMONTH=11;BYDAY=1SU
END:STANDARD
END:VTIMEZONE
BEGIN:VEVENT
DTSTAMP:20210813T092233
DTSTART;TZID=America/Detroit:20210904T000000
DTEND;TZID=America/Detroit:20210904T230000
SUMMARY:Exercise / Fitness:2021 Hail! From Home Virtual 5K
DESCRIPTION:Join the Alumni Association and fellow Wolverines for the second annual Hail! From Home Virtual 5K!\n\nCome together with Wolverines around the world to complete your favorite 5K course during the month of September. By participating\, you are supporting underrepresented minority students through the LEAD Scholars program.\n\nA portion of every registration benefits the LEAD Scholars program\, which supports Black\, Native American\, and Latinx students accepted to U-M through life-changing scholarship and inclusive community support.\n\nAll virtual 5K participants will receive a commemorative Hail! From Home race kit complete with a custom t-shirt\, race bib\, and finisher’s medal.\n\nSign up and get just over 10% off your registration today — wherever you are\, every mile makes a difference.
UID:85236-21626029@events.umich.edu
URL:https://events.umich.edu/event/85236
CLASS:PUBLIC
STATUS:CONFIRMED
CATEGORIES:Alumni,Fitness
LOCATION:Off Campus Location
CONTACT:
END:VEVENT
BEGIN:VEVENT
DTSTAMP:20210822T155857
DTSTART;TZID=America/Detroit:20210904T053000
DTEND;TZID=America/Detroit:20210904T230000
SUMMARY:Reception / Open House:Rec Sports Wellness Week: Facility Open Houses
DESCRIPTION:Are you wondering how you can stay active while on campus? Come check out your options at any of our three rec centers – CCRB\, IMSB\, and NCRB! Just swipe your MCard at the Welcome Center\, or show your member ID by downloading the Rec Sports app on the iPhone App Store or the Google Play Store.\n\nStudents who come for a tour or workout between August 30 – September 5 will be entered into our prize drawing! First\, follow us on Twitter or Instagram @umichrecsports. Then\, scan the QR code at our building entrances or fill out the form below and send us a photo of your visit!\n\nhttps://docs.google.com/forms/d/e/1FAIpQLScD3dtA0mUA7GRDuu6fY3l4lpd2U91aKMdTiqC_oygjN0WV4w/viewform
UID:85604-21627523@events.umich.edu
URL:https://events.umich.edu/event/85604
CLASS:PUBLIC
STATUS:CONFIRMED
CATEGORIES:Fitness,Free,In Person,Rec Sports,Welcome to Michigan,Well-being
LOCATION:
CONTACT:
END:VEVENT
BEGIN:VEVENT
DTSTAMP:20220106T100840
DTSTART;TZID=America/Detroit:20210904T070000
DTEND;TZID=America/Detroit:20210904T210000
SUMMARY:Exercise / Fitness:Group-X Free Week
DESCRIPTION:Looking for a fun\, convenient way to fit movement into your schedule? Check out Group‑X classes! Starting August 30 – September 12 you can try any class\, anytime *for free* during Group‑X Free Week. You’ll find Zumba\, Yoga\, Pilates\, Strength\, HIIT and other great classes to join in-person and virtually.  Download the Rec Sports app or visit our website to see our full schedule and how to register.\n\nSchedule: https://recsports.umich.edu/groupx/schedule/\n\nRegister: https://recsports.umich.edu/groupx/passes/
UID:85605-21627530@events.umich.edu
URL:https://events.umich.edu/event/85605
CLASS:PUBLIC
STATUS:CONFIRMED
CATEGORIES:Fitness,Free,In Person,Rec Sports,Virtual,Welcome to Michigan,Well-being
LOCATION:
CONTACT:
END:VEVENT
BEGIN:VEVENT
DTSTAMP:20210511T124519
DTSTART;TZID=America/Detroit:20210904T080000
DTEND;TZID=America/Detroit:20210904T230000
SUMMARY:Other:Become a UROP Research Mentor
DESCRIPTION:Submit a Research Project for the 2021-2022 Academic Year: https://lsa.umich.edu/urop/research-mentors.html\n\nUROP Research Mentors are faculty and post-doc researchers from across all U-M's 19 Schools and Colleges who provide undergraduate student researchers an opportunity to engage in research activities that help them learn about the pursuit of knowledge within an academic discipline. This early exposure to research fosters a valuable academic experience for students. Through this collaboration\, students gain research skills and mentorship that lead to academic retention\, a more positive undergraduate experience and paths to graduate school.
UID:83879-21619518@events.umich.edu
URL:https://events.umich.edu/event/83879
CLASS:PUBLIC
STATUS:CONFIRMED
CATEGORIES:AEM Featured,Education,Faculty,Free,Graduate and Professional Students,Graduate Students,Interdisciplinary,Mentorship,Research,research data,Staff,Urop
LOCATION:Off Campus Location
CONTACT:
END:VEVENT
BEGIN:VEVENT
DTSTAMP:20210723T154528
DTSTART;TZID=America/Detroit:20210904T080000
DTEND;TZID=America/Detroit:20210904T235900
SUMMARY:Exhibition:That Greece Might Still Be Free
DESCRIPTION:Learn about the Greek War of Independence\, 19th century European international politics\, and the origins of nationalism and the modern nation-state. This exhibit commemorates the 200th anniversary of the Greek War of Independence\, which began with General Alexandros Ypsilantis’ (Greek: Αλέξανδρος Υψηλάντης) uprising against the Ottoman rulers in the Danubian Principality of Moldavia during the spring of 1821. https://myumi.ch/wlYoq\n\nThe exhibit was curated by students in the Michigan Library Scholars program\, William McClelland and Quinn Byington\, with Zachary Quint as their librarian mentor.
UID:84737-21624751@events.umich.edu
URL:https://events.umich.edu/event/84737
CLASS:PUBLIC
STATUS:CONFIRMED
CATEGORIES:Exhibition,History,Library
LOCATION:Off Campus Location
CONTACT:
END:VEVENT
BEGIN:VEVENT
DTSTAMP:20210901T114359
DTSTART;TZID=America/Detroit:20210904T080000
DTEND;TZID=America/Detroit:20210904T170000
SUMMARY:Community Service:U-M Food Drive for Food Gatherers
DESCRIPTION:In 2020\, members of the U-M and local community donated more than 242\,000 meals' worth of food to Food Gatherers through three food drives. \n\nBut with school restarting\, pandemic unemployment benefits ending and the pandemic resurging\, the need for food\, diapers and toiletries continues to rise. \n\nMichigan Medicine has launched a new food drive through Sept. 26\, with in-person and online giving options. To give in person\, bring food and toiletry donations to Dock 90 of the North Campus Research Complex\, off Huron Parkway south of Plymouth Road. See a full list of most-needed items and other details about what can and can't be accepted: https://www.uofmhealth.org/fallfood \nOr give online at https://foodgatherers.org/um
UID:86116-21631591@events.umich.edu
URL:https://events.umich.edu/event/86116
CLASS:PUBLIC
STATUS:CONFIRMED
CATEGORIES:Community Service,Food,Medicine,Public Health
LOCATION:North Campus Research Complex Building 18 - Loading Dock 90
CONTACT:
END:VEVENT
BEGIN:VEVENT
DTSTAMP:20210701T145834
DTSTART;TZID=America/Detroit:20210904T100000
DTEND;TZID=America/Detroit:20210904T160000
SUMMARY:Exhibition:A Garden of Earthy Delights: Ceramic Sculptures by Ann Arbor Potters Guild at Matthaei Botanical Gardens
DESCRIPTION:Inspired by the synergy between nature’s beauty and complexity\, and in partnership with the University of Michigan Matthaei Botanical Gardens\, artists from the Ann Arbor Potters Guild created work centered around Michigan’s natural landscapes and specifically for the Great Lakes Garden at Matthaei. Potters Guild artists created eight free-standing sculptures using the full range of traditional ceramic methods and tools\, the potter’s wheel\, press molds\, coil building\, slab construction\, and sculpting. Depictions range from naturalistic and representational\, to abstract\, as well as a whimsical nod or two to the timeless role of fantasy and myth in humankind’s communion with nature. Exhibit is free but scheduled reservations are required to visit the botanical gardens. Use this link to book your visit: https://www.signupgenius.com/go/8050f4aadad22a2fd0-matthaei1
UID:84388-21623733@events.umich.edu
URL:https://events.umich.edu/event/84388
CLASS:PUBLIC
STATUS:CONFIRMED
CATEGORIES:Art,Outdoors
LOCATION:Matthaei Botanical Gardens
CONTACT:
END:VEVENT
BEGIN:VEVENT
DTSTAMP:20210820T162126
DTSTART;TZID=America/Detroit:20210904T100000
DTEND;TZID=America/Detroit:20210904T120000
SUMMARY:Social / Informal Gathering:Game Day @ The Union
DESCRIPTION:Ready to get pumped for Game Day? We've got you covered! Stop by the Union front lawn before the Michigan vs. Western Michigan Football game for music\, lawn games\, free food and all the Michigan spirit you need to root the Wolverines on to victory!
UID:85518-21626805@events.umich.edu
URL:https://events.umich.edu/event/85518
CLASS:PUBLIC
STATUS:CONFIRMED
CATEGORIES:Athletics - Football,Food,Free,Game Day,Games,Graduate and Professional Students,In Person,Outdoors,Undergraduate Students,Welcome to Michigan,Well-being
LOCATION:Michigan Union - Front Lawn
CONTACT:
END:VEVENT
BEGIN:VEVENT
DTSTAMP:20211021T121520
DTSTART;TZID=America/Detroit:20210904T110000
DTEND;TZID=America/Detroit:20210904T170000
SUMMARY:Exhibition:Stephanie Dinkins: On Love & Data
DESCRIPTION:Stamps Gallery is proud to present the first survey of renowned transmedia artist Stephanie Dinkins\, who creates platforms for dialogue about artificial intelligence as it intersects race\, gender\, aging\, and our future histories. \nThrough her work\, Dinkins has become a central figure nationally and internationally recognized for exposing bias and inequity within artificial intelligence systems. Weaving together art production and exhibition\, community-based workshops and public speaking all with the intention of encouraging action towards making artificial intelligence systems more inclusive\, accessible and transparent. \n In this exhibition\, Dinkins will debut new and interactive installations and workshops that build on her concept of Afro-now-ism. In this poetic manifesto-like text\, Dinkins asks her audience\, particularly from communities of color\, to not only confront the litany of violences that humans have wielded upon one another based on the institutional and social constructions of race\, caste\, class\, and gender to maintain status quo and the current systems of power - but rise above it by taking action to start building the world that they desire. \nShe writes: “Instead of waiting to reach the proverbial promised land\, also known as a time in the future that may or may not manifest in your lifetime\, Afro-now-ism is taking the leap and the risks to imagine and define oneself beyond systemic oppression... For black people in particular\, it means conceiving yourself in the space of free and expansive thought and acting from a critically integrated space\, allowing for more community-sustaining work.” \n Through her installations and workshops Stephanie Dinkins: On Love &amp\; Data develops a dialogue with the audience on the hierarchies embedded within machine learning and AI architecture and one&#039\;s individual agency in transforming the algorithms within it. The audience will explore and participate in creating a more inclusive data-based narrative of what governance of the people\, by the people and for the people can look like in an AI mediated world where care is encoded within our digital civic system.
UID:84616-21624236@events.umich.edu
URL:https://events.umich.edu/event/84616
CLASS:PUBLIC
STATUS:CONFIRMED
CATEGORIES:Art
LOCATION:Off Campus Location
CONTACT:
END:VEVENT
BEGIN:VEVENT
DTSTAMP:20210816T130706
DTSTART;TZID=America/Detroit:20210904T140000
DTEND;TZID=America/Detroit:20210904T150000
SUMMARY:Livestream / Virtual:[CANCELED] Virtual Saturday Sampler Tour | Highlights of the Kelsey: Objects Large and Small
DESCRIPTION:Please note\, this event has been canceled.\n\nSaturday Sampler tours are back! We've missed you and are thrilled to be offering our Saturday Sampler tours virtually. Join us over Zoom to explore the Kelsey Museum from the comfort of your home.\n\nThe theme of this week's tour is \"Highlights of the Kelsey Museum: Objects Large and Small.\"\nHave you always wanted to learn more about Roman frescoes? Or maybe our cat mummy fascinates you. On this Zoom tour\, you will be introduced to some highlights of the Kelsey's Greek\, Roman\, Egyptian\, and Near Eastern collections.
UID:85068-21625538@events.umich.edu
URL:https://events.umich.edu/event/85068
CLASS:PUBLIC
STATUS:CONFIRMED
CATEGORIES:Archaeology,Free
LOCATION:Off Campus Location
CONTACT:
END:VEVENT
BEGIN:VEVENT
DTSTAMP:20210830T090031
DTSTART;TZID=America/Detroit:20210904T150000
DTEND;TZID=America/Detroit:20210904T160000
SUMMARY:Lecture / Discussion:Distant Relatives? A conversation between curator Su'ad Abdul Khabeer & Prof. Joshua B. Guild on Diaspora\, Black Ethnicity\, and Black Freedom
DESCRIPTION:Join us on 9/4 @ 3pm ET for Distant Relatives? A conversation between curator Su'ad Abdul Khabeer & Prof. Joshua B. Guild on Diaspora\, Black Ethnicity\, and Black Freedom\n\nbit.ly/umisarchive
UID:85914-21630469@events.umich.edu
URL:https://events.umich.edu/event/85914
CLASS:PUBLIC
STATUS:CONFIRMED
CATEGORIES:African American,American Culture,arab american studies,Culture,Discussion,Diversity,Diversity Equity and Inclusion,Multicultural,Virtual
LOCATION:Off Campus Location
CONTACT:
END:VEVENT
BEGIN:VEVENT
DTSTAMP:20210904T180008
DTSTART;TZID=America/Detroit:20210904T200000
DTEND;TZID=America/Detroit:20210904T230000
SUMMARY:Social / Informal Gathering:[CGC] Kickoff gaming event!
DESCRIPTION:The Casual Gaming Club's first in person event of the year! We will have a bunch of board games and video games set up around the room for people to play. Feel free to bring your laptop or your own board games! Come join us on 9/4/21 from 8pm-11pm on the 3rd floor of the Michigan League in the Henderson and Koessler rooms!
UID:86099-21631483@events.umich.edu
URL:https://events.umich.edu/event/86099
CLASS:PUBLIC
STATUS:CONFIRMED
CATEGORIES:
LOCATION:Michigan League
CONTACT:
END:VEVENT
BEGIN:VEVENT
DTSTAMP:20210820T135141
DTSTART;TZID=America/Detroit:20210904T200000
DTEND;TZID=America/Detroit:20210904T235900
SUMMARY:Social / Informal Gathering:Go Blue Mix
DESCRIPTION:GO BLUE! Following the first football game\, where our Wolverines will take on the Western Michigan Broncos\, join us on Ingalls Mall to finish your night with fun\, food\, and play! We'll have a zipline\, mechanical football\, inflatables\, lawn games\, and more. See you after the game!\n\n\nUMix is BACK! Join us for the University of Michigan's premier late-night program! Friends\, fun and food await UM students of all levels\, and it's always FREE!
UID:85511-21626800@events.umich.edu
URL:https://events.umich.edu/event/85511
CLASS:PUBLIC
STATUS:CONFIRMED
CATEGORIES:Athletics - Football,Food,Free,Game Day,Games,Graduate and Professional Students,In Person,Night Game,Outdoors,UAC,Umix,Undergraduate Students,Welcome to Michigan,Well-being
LOCATION:Ingalls Mall
CONTACT:
END:VEVENT
END:VCALENDAR