BEGIN:VCALENDAR
VERSION:2.0
PRODID:-//UM//UM*Events//EN
CALSCALE:GREGORIAN
BEGIN:VTIMEZONE
TZID:America/Detroit
TZURL:http://tzurl.org/zoneinfo/America/Detroit
X-LIC-LOCATION:America/Detroit
BEGIN:DAYLIGHT
TZOFFSETFROM:-0500
TZOFFSETTO:-0400
TZNAME:EDT
DTSTART:20070311T020000
RRULE:FREQ=YEARLY;BYMONTH=3;BYDAY=2SU
END:DAYLIGHT
BEGIN:STANDARD
TZOFFSETFROM:-0400
TZOFFSETTO:-0500
TZNAME:EST
DTSTART:20071104T020000
RRULE:FREQ=YEARLY;BYMONTH=11;BYDAY=1SU
END:STANDARD
END:VTIMEZONE
BEGIN:VEVENT
DTSTAMP:20210813T092233
DTSTART;TZID=America/Detroit:20210905T000000
DTEND;TZID=America/Detroit:20210905T230000
SUMMARY:Exercise / Fitness:2021 Hail! From Home Virtual 5K
DESCRIPTION:Join the Alumni Association and fellow Wolverines for the second annual Hail! From Home Virtual 5K!\n\nCome together with Wolverines around the world to complete your favorite 5K course during the month of September. By participating\, you are supporting underrepresented minority students through the LEAD Scholars program.\n\nA portion of every registration benefits the LEAD Scholars program\, which supports Black\, Native American\, and Latinx students accepted to U-M through life-changing scholarship and inclusive community support.\n\nAll virtual 5K participants will receive a commemorative Hail! From Home race kit complete with a custom t-shirt\, race bib\, and finisher’s medal.\n\nSign up and get just over 10% off your registration today — wherever you are\, every mile makes a difference.
UID:85236-21626030@events.umich.edu
URL:https://events.umich.edu/event/85236
CLASS:PUBLIC
STATUS:CONFIRMED
CATEGORIES:Alumni,Fitness
LOCATION:Off Campus Location
CONTACT:
END:VEVENT
BEGIN:VEVENT
DTSTAMP:20210822T155857
DTSTART;TZID=America/Detroit:20210905T053000
DTEND;TZID=America/Detroit:20210905T230000
SUMMARY:Reception / Open House:Rec Sports Wellness Week: Facility Open Houses
DESCRIPTION:Are you wondering how you can stay active while on campus? Come check out your options at any of our three rec centers – CCRB\, IMSB\, and NCRB! Just swipe your MCard at the Welcome Center\, or show your member ID by downloading the Rec Sports app on the iPhone App Store or the Google Play Store.\n\nStudents who come for a tour or workout between August 30 – September 5 will be entered into our prize drawing! First\, follow us on Twitter or Instagram @umichrecsports. Then\, scan the QR code at our building entrances or fill out the form below and send us a photo of your visit!\n\nhttps://docs.google.com/forms/d/e/1FAIpQLScD3dtA0mUA7GRDuu6fY3l4lpd2U91aKMdTiqC_oygjN0WV4w/viewform
UID:85604-21627524@events.umich.edu
URL:https://events.umich.edu/event/85604
CLASS:PUBLIC
STATUS:CONFIRMED
CATEGORIES:Fitness,Free,In Person,Rec Sports,Welcome to Michigan,Well-being
LOCATION:
CONTACT:
END:VEVENT
BEGIN:VEVENT
DTSTAMP:20220106T100840
DTSTART;TZID=America/Detroit:20210905T070000
DTEND;TZID=America/Detroit:20210905T210000
SUMMARY:Exercise / Fitness:Group-X Free Week
DESCRIPTION:Looking for a fun\, convenient way to fit movement into your schedule? Check out Group‑X classes! Starting August 30 – September 12 you can try any class\, anytime *for free* during Group‑X Free Week. You’ll find Zumba\, Yoga\, Pilates\, Strength\, HIIT and other great classes to join in-person and virtually.  Download the Rec Sports app or visit our website to see our full schedule and how to register.\n\nSchedule: https://recsports.umich.edu/groupx/schedule/\n\nRegister: https://recsports.umich.edu/groupx/passes/
UID:85605-21627531@events.umich.edu
URL:https://events.umich.edu/event/85605
CLASS:PUBLIC
STATUS:CONFIRMED
CATEGORIES:Fitness,Free,In Person,Rec Sports,Virtual,Welcome to Michigan,Well-being
LOCATION:
CONTACT:
END:VEVENT
BEGIN:VEVENT
DTSTAMP:20210511T124519
DTSTART;TZID=America/Detroit:20210905T080000
DTEND;TZID=America/Detroit:20210905T230000
SUMMARY:Other:Become a UROP Research Mentor
DESCRIPTION:Submit a Research Project for the 2021-2022 Academic Year: https://lsa.umich.edu/urop/research-mentors.html\n\nUROP Research Mentors are faculty and post-doc researchers from across all U-M's 19 Schools and Colleges who provide undergraduate student researchers an opportunity to engage in research activities that help them learn about the pursuit of knowledge within an academic discipline. This early exposure to research fosters a valuable academic experience for students. Through this collaboration\, students gain research skills and mentorship that lead to academic retention\, a more positive undergraduate experience and paths to graduate school.
UID:83879-21619519@events.umich.edu
URL:https://events.umich.edu/event/83879
CLASS:PUBLIC
STATUS:CONFIRMED
CATEGORIES:AEM Featured,Education,Faculty,Free,Graduate and Professional Students,Graduate Students,Interdisciplinary,Mentorship,Research,research data,Staff,Urop
LOCATION:Off Campus Location
CONTACT:
END:VEVENT
BEGIN:VEVENT
DTSTAMP:20210723T154528
DTSTART;TZID=America/Detroit:20210905T080000
DTEND;TZID=America/Detroit:20210905T235900
SUMMARY:Exhibition:That Greece Might Still Be Free
DESCRIPTION:Learn about the Greek War of Independence\, 19th century European international politics\, and the origins of nationalism and the modern nation-state. This exhibit commemorates the 200th anniversary of the Greek War of Independence\, which began with General Alexandros Ypsilantis’ (Greek: Αλέξανδρος Υψηλάντης) uprising against the Ottoman rulers in the Danubian Principality of Moldavia during the spring of 1821. https://myumi.ch/wlYoq\n\nThe exhibit was curated by students in the Michigan Library Scholars program\, William McClelland and Quinn Byington\, with Zachary Quint as their librarian mentor.
UID:84737-21624752@events.umich.edu
URL:https://events.umich.edu/event/84737
CLASS:PUBLIC
STATUS:CONFIRMED
CATEGORIES:Exhibition,History,Library
LOCATION:Off Campus Location
CONTACT:
END:VEVENT
BEGIN:VEVENT
DTSTAMP:20210901T114359
DTSTART;TZID=America/Detroit:20210905T080000
DTEND;TZID=America/Detroit:20210905T170000
SUMMARY:Community Service:U-M Food Drive for Food Gatherers
DESCRIPTION:In 2020\, members of the U-M and local community donated more than 242\,000 meals' worth of food to Food Gatherers through three food drives. \n\nBut with school restarting\, pandemic unemployment benefits ending and the pandemic resurging\, the need for food\, diapers and toiletries continues to rise. \n\nMichigan Medicine has launched a new food drive through Sept. 26\, with in-person and online giving options. To give in person\, bring food and toiletry donations to Dock 90 of the North Campus Research Complex\, off Huron Parkway south of Plymouth Road. See a full list of most-needed items and other details about what can and can't be accepted: https://www.uofmhealth.org/fallfood \nOr give online at https://foodgatherers.org/um
UID:86116-21631592@events.umich.edu
URL:https://events.umich.edu/event/86116
CLASS:PUBLIC
STATUS:CONFIRMED
CATEGORIES:Community Service,Food,Medicine,Public Health
LOCATION:North Campus Research Complex Building 18 - Loading Dock 90
CONTACT:
END:VEVENT
BEGIN:VEVENT
DTSTAMP:20210701T145834
DTSTART;TZID=America/Detroit:20210905T100000
DTEND;TZID=America/Detroit:20210905T160000
SUMMARY:Exhibition:A Garden of Earthy Delights: Ceramic Sculptures by Ann Arbor Potters Guild at Matthaei Botanical Gardens
DESCRIPTION:Inspired by the synergy between nature’s beauty and complexity\, and in partnership with the University of Michigan Matthaei Botanical Gardens\, artists from the Ann Arbor Potters Guild created work centered around Michigan’s natural landscapes and specifically for the Great Lakes Garden at Matthaei. Potters Guild artists created eight free-standing sculptures using the full range of traditional ceramic methods and tools\, the potter’s wheel\, press molds\, coil building\, slab construction\, and sculpting. Depictions range from naturalistic and representational\, to abstract\, as well as a whimsical nod or two to the timeless role of fantasy and myth in humankind’s communion with nature. Exhibit is free but scheduled reservations are required to visit the botanical gardens. Use this link to book your visit: https://www.signupgenius.com/go/8050f4aadad22a2fd0-matthaei1
UID:84388-21623734@events.umich.edu
URL:https://events.umich.edu/event/84388
CLASS:PUBLIC
STATUS:CONFIRMED
CATEGORIES:Art,Outdoors
LOCATION:Matthaei Botanical Gardens
CONTACT:
END:VEVENT
BEGIN:VEVENT
DTSTAMP:20210827T165208
DTSTART;TZID=America/Detroit:20210905T100000
DTEND;TZID=America/Detroit:20210905T120000
SUMMARY:Other:Block M Big Photo
DESCRIPTION:Bring your sMile to the Block M Big Photo!  New students are encouraged to wear maize and join their fellow Wolverines Sunday morning to be part of a giant block M photo on Palmer Field.  Make participating in this unique and school spirited photo opportunity part of your Welcome to Michigan experience!\n\nTo accommodate social distancing this year\, we will be taking several versions of the photo. Please make sure to be in line by 11:30 to guarantee your spot in one of the photos.
UID:85260-21626084@events.umich.edu
URL:https://events.umich.edu/event/85260
CLASS:PUBLIC
STATUS:CONFIRMED
CATEGORIES:Free,Welcome To Michigan
LOCATION:Palmer Field
CONTACT:
END:VEVENT
BEGIN:VEVENT
DTSTAMP:20210825T134311
DTSTART;TZID=America/Detroit:20210905T100000
DTEND;TZID=America/Detroit:20210905T160000
SUMMARY:Other:Student Tours and Traditions
DESCRIPTION:Student Traditions and Tours are small group tours of Central Campus for current Michigan students only.  Please note\, these tours are not intended for parents and family members or prospective students.  \n\nStudent Traditions and Tours are intended to introduce you to our campus traditions and history\, help you get acclimated to campus spaces\, and get to know other students along the way.  Tours depart between 10:00am - 3:00pm\, and will be approximately 60-75 minutes in length.  To help ensure that groups stay small enough to get to know one another\, participants are asked to register in advance at the link to the right.
UID:85758-21628701@events.umich.edu
URL:https://events.umich.edu/event/85758
CLASS:PUBLIC
STATUS:CONFIRMED
CATEGORIES:Welcome to Michigan
LOCATION:Angell Hall - Lawn
CONTACT:
END:VEVENT
BEGIN:VEVENT
DTSTAMP:20210905T120004
DTSTART;TZID=America/Detroit:20210905T120000
DTEND;TZID=America/Detroit:20210905T160000
SUMMARY:Other:Friendly Match vs. Adrian College (Away) 
DESCRIPTION:The University of Michigan Women's Rugby Football Club will be traveling to Adrian College on September 5th to play their first 15s match in two years!
UID:85652-21628004@events.umich.edu
URL:https://events.umich.edu/event/85652
CLASS:PUBLIC
STATUS:CONFIRMED
CATEGORIES:
LOCATION:Adrian Football Stadium 
CONTACT:
END:VEVENT
BEGIN:VEVENT
DTSTAMP:20210820T102644
DTSTART;TZID=America/Detroit:20210905T130000
DTEND;TZID=America/Detroit:20210905T150000
SUMMARY:Social / Informal Gathering:Party in the Park
DESCRIPTION:Students living off-campus are invited to join CCI and Beyond the Diag for a fun afternoon of music\, free food\, lawn games (with prizes!)\, connection to campus resources\, and your neighbors! We'll have a DJ and food trucks at Burns Park\, plus an opportunity to learn how to connect with the University as an off-campus student. Parking is limited\, so there will be a free shuttle service to and from this event from North Campus. Come to Party in the Park & we'll connect you to the U!
UID:84776-21624932@events.umich.edu
URL:https://events.umich.edu/event/84776
CLASS:PUBLIC
STATUS:CONFIRMED
CATEGORIES:Food,Free,Games,Graduate and Professional Students,In Person,Meal,Outdoors,Picnic,Undergraduate Students,Welcome to Michigan,Well-being
LOCATION:Off Campus Location
CONTACT:
END:VEVENT
BEGIN:VEVENT
DTSTAMP:20210721T122249
DTSTART;TZID=America/Detroit:20210905T140000
DTEND;TZID=America/Detroit:20210905T163000
SUMMARY:Fair / Festival:Pride Outside 2021
DESCRIPTION:Come one\, come all!\n\nOut in STEM\, Spectrum Center\, Central Student Government\, and the College of Engineering are extremely PROUD to host Pride Outside 2021!\n\nJoin us for music\, free food and \"Michgian Pride\" t-shirts\, a drag show\, lawn games and tons of cool LGBTQ+ and affirming student organizations and local groups!
UID:84645-21624349@events.umich.edu
URL:https://events.umich.edu/event/84645
CLASS:PUBLIC
STATUS:CONFIRMED
CATEGORIES:Activism,Dance,Diversity,Food,Free,Games,Music,Student Org,Welcome To Michigan
LOCATION:Palmer Field
CONTACT:
END:VEVENT
BEGIN:VEVENT
DTSTAMP:20210901T100204
DTSTART;TZID=America/Detroit:20210905T143000
DTEND;TZID=America/Detroit:20210905T160000
SUMMARY:Workshop / Seminar:Shared Summer Reading Extension
DESCRIPTION:Learn more about Nichols Arboretum and the land that the University of Michigan is on. SLE will be joined by two Master's students from the School for Environment and Sustainability who will facilitate outdoor exploration and discussion. Reading the shared summer reading\, Braiding Sweetgrass\, is not required to participate. No sign up required.
UID:86108-21631577@events.umich.edu
URL:https://events.umich.edu/event/86108
CLASS:PUBLIC
STATUS:CONFIRMED
CATEGORIES:Environment,Outdoors,Social Justice,Sustainability,Wellness
LOCATION:Nichols Arboretum
CONTACT:
END:VEVENT
BEGIN:VEVENT
DTSTAMP:20210905T120005
DTSTART;TZID=America/Detroit:20210905T170000
DTEND;TZID=America/Detroit:20210905T180000
SUMMARY:Rally / Mass Meeting:Michigan Neuroprosthetics Mass Meeting
DESCRIPTION:The first of three mass meetings for Michigan Neuroprosthetics!
UID:86370-21633388@events.umich.edu
URL:https://events.umich.edu/event/86370
CLASS:PUBLIC
STATUS:CONFIRMED
CATEGORIES:
LOCATION:3463 Mason Hall
CONTACT:
END:VEVENT
BEGIN:VEVENT
DTSTAMP:20210905T180004
DTSTART;TZID=America/Detroit:20210905T180000
DTEND;TZID=America/Detroit:20210905T190000
SUMMARY:Recreational / Games:Welcome Back Picnic
DESCRIPTION:Join Crossroads for a welcome back picnic to start of the new year. Or for a welcome picnic if this is your first time\, all are welcome.
UID:85499-21626785@events.umich.edu
URL:https://events.umich.edu/event/85499
CLASS:PUBLIC
STATUS:CONFIRMED
CATEGORIES:
LOCATION:Crossroads
CONTACT:
END:VEVENT
END:VCALENDAR