BEGIN:VCALENDAR
VERSION:2.0
PRODID:-//UM//UM*Events//EN
CALSCALE:GREGORIAN
BEGIN:VTIMEZONE
TZID:America/Detroit
TZURL:http://tzurl.org/zoneinfo/America/Detroit
X-LIC-LOCATION:America/Detroit
BEGIN:DAYLIGHT
TZOFFSETFROM:-0500
TZOFFSETTO:-0400
TZNAME:EDT
DTSTART:20070311T020000
RRULE:FREQ=YEARLY;BYMONTH=3;BYDAY=2SU
END:DAYLIGHT
BEGIN:STANDARD
TZOFFSETFROM:-0400
TZOFFSETTO:-0500
TZNAME:EST
DTSTART:20071104T020000
RRULE:FREQ=YEARLY;BYMONTH=11;BYDAY=1SU
END:STANDARD
END:VTIMEZONE
BEGIN:VEVENT
DTSTAMP:20210909T122327
DTSTART;TZID=America/Detroit:20210911T220000
DTEND;TZID=America/Detroit:20210912T010000
SUMMARY:Social / Informal Gathering:Late Nite Bite
DESCRIPTION:We're rooting for a win against Washington! Celebrate the first night game with Late Nite Bite\, featuring some late-night nachos! Join us in the Michigan Union Rogel Ballroom to end your evening with food!
UID:85990-21630652@events.umich.edu
URL:https://events.umich.edu/event/85990
CLASS:PUBLIC
STATUS:CONFIRMED
CATEGORIES:Athletics - Football,Food,Free,Game Day,Graduate Students,In Person,Meal,Night Game,Undergraduate Students,Welcome to Michigan,Well-being
LOCATION:Michigan Union - Rogel Ballroom
CONTACT:
END:VEVENT
BEGIN:VEVENT
DTSTAMP:20210813T092233
DTSTART;TZID=America/Detroit:20210912T000000
DTEND;TZID=America/Detroit:20210912T230000
SUMMARY:Exercise / Fitness:2021 Hail! From Home Virtual 5K
DESCRIPTION:Join the Alumni Association and fellow Wolverines for the second annual Hail! From Home Virtual 5K!\n\nCome together with Wolverines around the world to complete your favorite 5K course during the month of September. By participating\, you are supporting underrepresented minority students through the LEAD Scholars program.\n\nA portion of every registration benefits the LEAD Scholars program\, which supports Black\, Native American\, and Latinx students accepted to U-M through life-changing scholarship and inclusive community support.\n\nAll virtual 5K participants will receive a commemorative Hail! From Home race kit complete with a custom t-shirt\, race bib\, and finisher’s medal.\n\nSign up and get just over 10% off your registration today — wherever you are\, every mile makes a difference.
UID:85236-21626037@events.umich.edu
URL:https://events.umich.edu/event/85236
CLASS:PUBLIC
STATUS:CONFIRMED
CATEGORIES:Alumni,Fitness
LOCATION:Off Campus Location
CONTACT:
END:VEVENT
BEGIN:VEVENT
DTSTAMP:20210912T180004
DTSTART;TZID=America/Detroit:20210912T000000
DTEND;TZID=America/Detroit:20210912T235959
SUMMARY:Sporting Event:Fall Fury 
DESCRIPTION:A tier interconference fleet race regatta. Qualifier for Fall Championship. 
UID:85442-21636617@events.umich.edu
URL:https://events.umich.edu/event/85442
CLASS:PUBLIC
STATUS:CONFIRMED
CATEGORIES:
LOCATION:University of Wisconsin-Madison, Madison, Wisconsin
CONTACT:
END:VEVENT
BEGIN:VEVENT
DTSTAMP:20220106T100840
DTSTART;TZID=America/Detroit:20210912T070000
DTEND;TZID=America/Detroit:20210912T210000
SUMMARY:Exercise / Fitness:Group-X Free Week
DESCRIPTION:Looking for a fun\, convenient way to fit movement into your schedule? Check out Group‑X classes! Starting August 30 – September 12 you can try any class\, anytime *for free* during Group‑X Free Week. You’ll find Zumba\, Yoga\, Pilates\, Strength\, HIIT and other great classes to join in-person and virtually.  Download the Rec Sports app or visit our website to see our full schedule and how to register.\n\nSchedule: https://recsports.umich.edu/groupx/schedule/\n\nRegister: https://recsports.umich.edu/groupx/passes/
UID:85605-21627538@events.umich.edu
URL:https://events.umich.edu/event/85605
CLASS:PUBLIC
STATUS:CONFIRMED
CATEGORIES:Fitness,Free,In Person,Rec Sports,Virtual,Welcome to Michigan,Well-being
LOCATION:
CONTACT:
END:VEVENT
BEGIN:VEVENT
DTSTAMP:20210912T120006
DTSTART;TZID=America/Detroit:20210912T073000
DTEND;TZID=America/Detroit:20210912T130000
SUMMARY:Sporting Event:Zoom RedHawk Triathlon Festival
DESCRIPTION:First Conference Race for Michigan Triathlon during the 2021-2022 School Year.
UID:86456-21634429@events.umich.edu
URL:https://events.umich.edu/event/86456
CLASS:PUBLIC
STATUS:CONFIRMED
CATEGORIES:
LOCATION:Hueston Woods State Park
CONTACT:
END:VEVENT
BEGIN:VEVENT
DTSTAMP:20210511T124519
DTSTART;TZID=America/Detroit:20210912T080000
DTEND;TZID=America/Detroit:20210912T230000
SUMMARY:Other:Become a UROP Research Mentor
DESCRIPTION:Submit a Research Project for the 2021-2022 Academic Year: https://lsa.umich.edu/urop/research-mentors.html\n\nUROP Research Mentors are faculty and post-doc researchers from across all U-M's 19 Schools and Colleges who provide undergraduate student researchers an opportunity to engage in research activities that help them learn about the pursuit of knowledge within an academic discipline. This early exposure to research fosters a valuable academic experience for students. Through this collaboration\, students gain research skills and mentorship that lead to academic retention\, a more positive undergraduate experience and paths to graduate school.
UID:83879-21619526@events.umich.edu
URL:https://events.umich.edu/event/83879
CLASS:PUBLIC
STATUS:CONFIRMED
CATEGORIES:AEM Featured,Education,Faculty,Free,Graduate and Professional Students,Graduate Students,Interdisciplinary,Mentorship,Research,research data,Staff,Urop
LOCATION:Off Campus Location
CONTACT:
END:VEVENT
BEGIN:VEVENT
DTSTAMP:20210723T154528
DTSTART;TZID=America/Detroit:20210912T080000
DTEND;TZID=America/Detroit:20210912T235900
SUMMARY:Exhibition:That Greece Might Still Be Free
DESCRIPTION:Learn about the Greek War of Independence\, 19th century European international politics\, and the origins of nationalism and the modern nation-state. This exhibit commemorates the 200th anniversary of the Greek War of Independence\, which began with General Alexandros Ypsilantis’ (Greek: Αλέξανδρος Υψηλάντης) uprising against the Ottoman rulers in the Danubian Principality of Moldavia during the spring of 1821. https://myumi.ch/wlYoq\n\nThe exhibit was curated by students in the Michigan Library Scholars program\, William McClelland and Quinn Byington\, with Zachary Quint as their librarian mentor.
UID:84737-21624759@events.umich.edu
URL:https://events.umich.edu/event/84737
CLASS:PUBLIC
STATUS:CONFIRMED
CATEGORIES:Exhibition,History,Library
LOCATION:Off Campus Location
CONTACT:
END:VEVENT
BEGIN:VEVENT
DTSTAMP:20210901T114359
DTSTART;TZID=America/Detroit:20210912T080000
DTEND;TZID=America/Detroit:20210912T170000
SUMMARY:Community Service:U-M Food Drive for Food Gatherers
DESCRIPTION:In 2020\, members of the U-M and local community donated more than 242\,000 meals' worth of food to Food Gatherers through three food drives. \n\nBut with school restarting\, pandemic unemployment benefits ending and the pandemic resurging\, the need for food\, diapers and toiletries continues to rise. \n\nMichigan Medicine has launched a new food drive through Sept. 26\, with in-person and online giving options. To give in person\, bring food and toiletry donations to Dock 90 of the North Campus Research Complex\, off Huron Parkway south of Plymouth Road. See a full list of most-needed items and other details about what can and can't be accepted: https://www.uofmhealth.org/fallfood \nOr give online at https://foodgatherers.org/um
UID:86116-21631599@events.umich.edu
URL:https://events.umich.edu/event/86116
CLASS:PUBLIC
STATUS:CONFIRMED
CATEGORIES:Community Service,Food,Medicine,Public Health
LOCATION:North Campus Research Complex Building 18 - Loading Dock 90
CONTACT:
END:VEVENT
BEGIN:VEVENT
DTSTAMP:20211104T150425
DTSTART;TZID=America/Detroit:20210912T090000
DTEND;TZID=America/Detroit:20210912T170000
SUMMARY:Exhibition:Buying Home\, Selling America: the House Catalog\, 1906-1966
DESCRIPTION:Buying Home\, Selling America: the House Catalog\, 1906-1966 brings to light the collection of house catalogs in the Art\, Architecture & Engineering Library’s Special Collections. Focusing primarily on the kit house industry of Michigan and the Midwest\, the catalogs provide a portal to explore multiple themes\, such as\, the Michigan house catalog industry\, changing architectural styles\, the business of selling homes\, societal and cultural implications\, and domestic technologies. We hope the exhibit is not simply a nostalgic view back\, but raises awareness of our domestic surroundings today and compels us to ask questions as we look to the future.\n\nThe exhibit is available in the Clark Library (second floor Hatcher) during Hatcher Library hours.
UID:86339-21632755@events.umich.edu
URL:https://events.umich.edu/event/86339
CLASS:PUBLIC
STATUS:CONFIRMED
CATEGORIES:Architecture,Free,Library
LOCATION:Hatcher Graduate Library - Clark Library, 2nd Floor
CONTACT:
END:VEVENT
BEGIN:VEVENT
DTSTAMP:20210701T145834
DTSTART;TZID=America/Detroit:20210912T100000
DTEND;TZID=America/Detroit:20210912T160000
SUMMARY:Exhibition:A Garden of Earthy Delights: Ceramic Sculptures by Ann Arbor Potters Guild at Matthaei Botanical Gardens
DESCRIPTION:Inspired by the synergy between nature’s beauty and complexity\, and in partnership with the University of Michigan Matthaei Botanical Gardens\, artists from the Ann Arbor Potters Guild created work centered around Michigan’s natural landscapes and specifically for the Great Lakes Garden at Matthaei. Potters Guild artists created eight free-standing sculptures using the full range of traditional ceramic methods and tools\, the potter’s wheel\, press molds\, coil building\, slab construction\, and sculpting. Depictions range from naturalistic and representational\, to abstract\, as well as a whimsical nod or two to the timeless role of fantasy and myth in humankind’s communion with nature. Exhibit is free but scheduled reservations are required to visit the botanical gardens. Use this link to book your visit: https://www.signupgenius.com/go/8050f4aadad22a2fd0-matthaei1
UID:84388-21623741@events.umich.edu
URL:https://events.umich.edu/event/84388
CLASS:PUBLIC
STATUS:CONFIRMED
CATEGORIES:Art,Outdoors
LOCATION:Matthaei Botanical Gardens
CONTACT:
END:VEVENT
BEGIN:VEVENT
DTSTAMP:20210912T120005
DTSTART;TZID=America/Detroit:20210912T130000
DTEND;TZID=America/Detroit:20210912T143000
SUMMARY:Other:CMU
DESCRIPTION:UMWSC vs. CMU 
UID:86381-21633903@events.umich.edu
URL:https://events.umich.edu/event/86381
CLASS:PUBLIC
STATUS:CONFIRMED
CATEGORIES:
LOCATION:Mitchell Field
CONTACT:
END:VEVENT
BEGIN:VEVENT
DTSTAMP:20210823T123057
DTSTART;TZID=America/Detroit:20210912T133000
DTEND;TZID=America/Detroit:20210912T141500
SUMMARY:Careers / Jobs:Path2MBA at Stanford Graduate School of Business
DESCRIPTION:Considering getting your MBA or know someone who is? The JumpStart Path2MBA prepares undergraduate students and working professionals to engage directly with admissions officers at our MBA program partners.\n \nJoin Stanford GSB MBA program admissions representatives and learn more about the program\, the admissions process\, and what life would be like on the other side of a Stanford MBA.\n  \nPath2MBA at Stanford Graduate School of Business\nSunday\, September 12\, 2021\, at 1:30 p.m. ET\n \nClick on our LinkedIn post or Website Blog to express interest and register for the session. \n\nLinkedIn: https://www.linkedin.com/feed/update/urn:li:activity:6828733478851416064\n\nWebsite: https://www.jumpstartadvisorygroup.com/path2mba-spotlight-stanford-graduate-school-of-business-2021/\n\nRegards\,\nJumpStart Advisory Group
UID:85013-21625423@events.umich.edu
URL:https://events.umich.edu/event/85013
CLASS:PUBLIC
STATUS:CONFIRMED
CATEGORIES:
LOCATION:
CONTACT:
END:VEVENT
BEGIN:VEVENT
DTSTAMP:20210912T120005
DTSTART;TZID=America/Detroit:20210912T140000
DTEND;TZID=America/Detroit:20210912T163000
SUMMARY:Other:Game vs Central Michigan University
DESCRIPTION:Home game at Mitchell Field between Michigan and Central Michigan.
UID:86174-21631855@events.umich.edu
URL:https://events.umich.edu/event/86174
CLASS:PUBLIC
STATUS:CONFIRMED
CATEGORIES:
LOCATION:Mitchell Field
CONTACT:
END:VEVENT
BEGIN:VEVENT
DTSTAMP:20210909T170526
DTSTART;TZID=America/Detroit:20210912T140000
DTEND;TZID=America/Detroit:20210912T170000
SUMMARY:Careers / Jobs:Graduate Career Fair Reception\, hosted by GradSWE
DESCRIPTION:Are you a grad student looking to jumpstart your career? If you plan to participate in the upcoming Fall SWE/TBP Career Fair\, consider joining us the Sunday prior at our annual Graduate Career Fair Reception hosted by GradSWE! This is an informal event that will allow you to network with recruiters looking specifically for MS/PhD students. The reception will be held Sunday 9/12 2-5 PM ET. A list of participating companies will be published closer to the event. During the session\, students may freely join breakout rooms with their companies of interest. No resumes will be accepted at the event. Due to COVID19\, we will be holding this session virtually on Zoom. Please RSVP to get access to the link! The current list of companies\, agenda for the event\, and more information about them can be found in the link labeled \"Company List\"\n\nRSVP is required.\nContact: Shannon Clancy at sclancy@umich.edu
UID:85909-21630296@events.umich.edu
URL:https://events.umich.edu/event/85909
CLASS:PUBLIC
STATUS:CONFIRMED
CATEGORIES:Engineering,Graduate Students,Michigan Engineering,Networking,Professional Development,Undergraduate Students
LOCATION:Off Campus Location
CONTACT:
END:VEVENT
BEGIN:VEVENT
DTSTAMP:20210823T123100
DTSTART;TZID=America/Detroit:20210912T143000
DTEND;TZID=America/Detroit:20210912T151500
SUMMARY:Careers / Jobs:Meet Up w/Kellogg Admissions on a Path2MBA for Professionals and UGrads
DESCRIPTION:Greetings From JumpStart!\n\nConsidering getting your MBA? TheJumpStart Path2MBA prepares undergraduate students and working professionals to engage directly with admissions officers at our MBA program partners.\nNorthwestern’s Kellogg School of Management prepares you to approach problems different\, ask better questions and work more effectively.  \n\nIn addition to professionals pursuing an MBA after gaining work experience\, exceptional college students have the opportunity to gain acceptance into one of the world’s top MBA programs before beginning their professional journey.   \n\nJoin Kellogg program admissions representativeswho will answer questions about the MBA experience and provide insight into the application process.  \n\nPath2MBA at Kellogg School of Management\nSunday\, September 12\, 2021\, at 02:30 p.m. ET\n\nClick on our LinkedIn post or Website Blog to express interest and register for the session. \n\nLinkedIn: https://www.linkedin.com/feed/update/urn:li:activity:6829164305095680001\n\nWebsite: https://www.jumpstartadvisorygroup.com/path2mba-spotlight-northwesterns-kellogg-school-of-management-2021/\n\nRegards\,\n\nJumpStart Advisory Group\n
UID:85082-21625556@events.umich.edu
URL:https://events.umich.edu/event/85082
CLASS:PUBLIC
STATUS:CONFIRMED
CATEGORIES:
LOCATION:
CONTACT:
END:VEVENT
BEGIN:VEVENT
DTSTAMP:20210823T123105
DTSTART;TZID=America/Detroit:20210912T153000
DTEND;TZID=America/Detroit:20210912T161500
SUMMARY:Careers / Jobs:Path2MBA Journey at Vanderbilt (Owen)
DESCRIPTION:Greetings From JumpStart!\n\nConsidering getting your MBA? TheJumpStart Path2MBA prepares undergraduate students and working professionals to engage directly with admissions officers at our MBA program partners.\nVanderbilt University’s Owen School of Management was founded in the Vanderbilt University in 1969. In fact\, the Economist ranked the Vanderbilt MBA as #5 for its ability to Open New Career Opportunities and the Financial Times ranked Vanderbilt’s MBA program #8 in the U.S. and #9 globally for careers services in 2019.\n\nJoin Vanderbilt University’s OwenSchool of Management to learn about a Day in the Life of an MBA student through its Diversity Symposium and Discover Weekend.\n\nPath2MBA Journey at Vanderbilt (Owen)\nSunday\, September 12\, 2021\, at 03:30 p.m. ET\n\nClick on our LinkedIn post or Website Blog to express interest and register for the session. \n\nLinkedIn: https://www.linkedin.com/feed/update/urn:li:activity:6830898081295347712\n\nWebsite: https://www.jumpstartadvisorygroup.com/path2mba-spotlight-vanderbilt-university-own-graduate-school-of-management-2021/\n\n\nRegards\,\nJumpStart Advisory Group
UID:85225-21625762@events.umich.edu
URL:https://events.umich.edu/event/85225
CLASS:PUBLIC
STATUS:CONFIRMED
CATEGORIES:
LOCATION:
CONTACT:
END:VEVENT
BEGIN:VEVENT
DTSTAMP:20210901T123521
DTSTART;TZID=America/Detroit:20210912T193000
DTEND;TZID=America/Detroit:20210912T210000
SUMMARY:Performance:Asleep at the Wheel
DESCRIPTION:Please review The Ark’s current COVID-related information and policies before purchasing a ticket and again before attending a show. Policies will be updated as circumstances and requirements change in our community. By purchasing a ticket you agree that you and your guests will comply with all laws\, orders\, ordinances\, regulations and health and safety guidance adopted by the State of Michigan\, the County of Washtenaw and The Ark\, including any guidelines in place at the time of the show. Attendees who do not comply will be asked to leave.\n\n\n\nIn the words of Billboard\, \"Everything this act has ever released is simply spectacular.\" In Texas they say Bob Wills is still the king. But Asleep at the Wheel is the official heir apparent\, a perennial Ark favorite well into a fourth decade of fabulous Western swing dance rhythms and artful country songwriting. More than 80 members have passed through Asleep at the Wheel since the band's beginnings\, but founder and frontman Ray Benson's vision of an ongoing and constantly growing tribute to the giants of Western swing\, with generous helpings of country and jump blues\, has stayed fresh. Asleep at the Wheel has won nine Grammy awards and counting\, and they deliver a high-energy show every time they come to The Ark.
UID:84206-21620763@events.umich.edu
URL:https://events.umich.edu/event/84206
CLASS:PUBLIC
STATUS:CONFIRMED
CATEGORIES:
LOCATION:Off Campus Location
CONTACT:
END:VEVENT
END:VCALENDAR