BEGIN:VCALENDAR
VERSION:2.0
PRODID:-//UM//UM*Events//EN
CALSCALE:GREGORIAN
BEGIN:VTIMEZONE
TZID:America/Detroit
TZURL:http://tzurl.org/zoneinfo/America/Detroit
X-LIC-LOCATION:America/Detroit
BEGIN:DAYLIGHT
TZOFFSETFROM:-0500
TZOFFSETTO:-0400
TZNAME:EDT
DTSTART:20070311T020000
RRULE:FREQ=YEARLY;BYMONTH=3;BYDAY=2SU
END:DAYLIGHT
BEGIN:STANDARD
TZOFFSETFROM:-0400
TZOFFSETTO:-0500
TZNAME:EST
DTSTART:20071104T020000
RRULE:FREQ=YEARLY;BYMONTH=11;BYDAY=1SU
END:STANDARD
END:VTIMEZONE
BEGIN:VEVENT
DTSTAMP:20210813T092233
DTSTART;TZID=America/Detroit:20210918T000000
DTEND;TZID=America/Detroit:20210918T230000
SUMMARY:Exercise / Fitness:2021 Hail! From Home Virtual 5K
DESCRIPTION:Join the Alumni Association and fellow Wolverines for the second annual Hail! From Home Virtual 5K!\n\nCome together with Wolverines around the world to complete your favorite 5K course during the month of September. By participating\, you are supporting underrepresented minority students through the LEAD Scholars program.\n\nA portion of every registration benefits the LEAD Scholars program\, which supports Black\, Native American\, and Latinx students accepted to U-M through life-changing scholarship and inclusive community support.\n\nAll virtual 5K participants will receive a commemorative Hail! From Home race kit complete with a custom t-shirt\, race bib\, and finisher’s medal.\n\nSign up and get just over 10% off your registration today — wherever you are\, every mile makes a difference.
UID:85236-21626043@events.umich.edu
URL:https://events.umich.edu/event/85236
CLASS:PUBLIC
STATUS:CONFIRMED
CATEGORIES:Alumni,Fitness
LOCATION:Off Campus Location
CONTACT:
END:VEVENT
BEGIN:VEVENT
DTSTAMP:20210918T180005
DTSTART;TZID=America/Detroit:20210918T000000
DTEND;TZID=America/Detroit:20210918T235959
SUMMARY:Other:Fall Retreat - Making Decisions In Light of The Great Commission
DESCRIPTION:Join us for our Fall Retreat: Making Decisions In Light of The Great Commission.It will be at Somerset Beach Campground Friday evening to Saturday evening. The cost is $60\, but if finances are a concern contact Emily.Sign up here: https://forms.gle/KsdQaM5qbepXVVe57
UID:85935-21639898@events.umich.edu
URL:https://events.umich.edu/event/85935
CLASS:PUBLIC
STATUS:CONFIRMED
CATEGORIES:
LOCATION:Somerset Beach Campground
CONTACT:
END:VEVENT
BEGIN:VEVENT
DTSTAMP:20210918T120005
DTSTART;TZID=America/Detroit:20210918T000000
DTEND;TZID=America/Detroit:20210918T235959
SUMMARY:Conference / Symposium:MiASLA Annual Conference and LA Bike Ride
DESCRIPTION:Join us for the Michigan ASLA Annual Conference and LA Bike Ride (Cherry Capital Cycle Tour) in Traverse City this year! Registration for the conference and bike ride are separate\, but both sound incredibly fun and engaging so sign up soon! Link to register: https://www.michiganasla.org/general-8 Conference is on Friday\, September 17Bike Ride is on Saturday\, September 18
UID:85610-21639782@events.umich.edu
URL:https://events.umich.edu/event/85610
CLASS:PUBLIC
STATUS:CONFIRMED
CATEGORIES:
LOCATION:Hagerty Center at Northwestern Michigan College
CONTACT:
END:VEVENT
BEGIN:VEVENT
DTSTAMP:20210919T180003
DTSTART;TZID=America/Detroit:20210918T000000
DTEND;TZID=America/Detroit:20210918T235959
SUMMARY:Sporting Event:Singlehanded Qualifiers
DESCRIPTION:Qualifier for Singlehand Nationals.
UID:85443-21640246@events.umich.edu
URL:https://events.umich.edu/event/85443
CLASS:PUBLIC
STATUS:CONFIRMED
CATEGORIES:
LOCATION:University of Wisconsin Madison, Madison,WI
CONTACT:
END:VEVENT
BEGIN:VEVENT
DTSTAMP:20210918T120006
DTSTART;TZID=America/Detroit:20210918T000000
DTEND;TZID=America/Detroit:20210918T235959
SUMMARY:Sporting Event:Sparty Invite
DESCRIPTION:Invitational water polo tournament hosted by Michigan State University. 
UID:86473-21639791@events.umich.edu
URL:https://events.umich.edu/event/86473
CLASS:PUBLIC
STATUS:CONFIRMED
CATEGORIES:
LOCATION:Michigan State University
CONTACT:
END:VEVENT
BEGIN:VEVENT
DTSTAMP:20210918T180005
DTSTART;TZID=America/Detroit:20210918T000000
DTEND;TZID=America/Detroit:20210918T235959
SUMMARY:Other:Wisconsin Meet
DESCRIPTION:New meet! We are excited!
UID:85874-21639895@events.umich.edu
URL:https://events.umich.edu/event/85874
CLASS:PUBLIC
STATUS:CONFIRMED
CATEGORIES:
LOCATION:Verona Area High School
CONTACT:
END:VEVENT
BEGIN:VEVENT
DTSTAMP:20210511T124519
DTSTART;TZID=America/Detroit:20210918T080000
DTEND;TZID=America/Detroit:20210918T230000
SUMMARY:Other:Become a UROP Research Mentor
DESCRIPTION:Submit a Research Project for the 2021-2022 Academic Year: https://lsa.umich.edu/urop/research-mentors.html\n\nUROP Research Mentors are faculty and post-doc researchers from across all U-M's 19 Schools and Colleges who provide undergraduate student researchers an opportunity to engage in research activities that help them learn about the pursuit of knowledge within an academic discipline. This early exposure to research fosters a valuable academic experience for students. Through this collaboration\, students gain research skills and mentorship that lead to academic retention\, a more positive undergraduate experience and paths to graduate school.
UID:83879-21619532@events.umich.edu
URL:https://events.umich.edu/event/83879
CLASS:PUBLIC
STATUS:CONFIRMED
CATEGORIES:AEM Featured,Education,Faculty,Free,Graduate and Professional Students,Graduate Students,Interdisciplinary,Mentorship,Research,research data,Staff,Urop
LOCATION:Off Campus Location
CONTACT:
END:VEVENT
BEGIN:VEVENT
DTSTAMP:20210723T154528
DTSTART;TZID=America/Detroit:20210918T080000
DTEND;TZID=America/Detroit:20210918T235900
SUMMARY:Exhibition:That Greece Might Still Be Free
DESCRIPTION:Learn about the Greek War of Independence\, 19th century European international politics\, and the origins of nationalism and the modern nation-state. This exhibit commemorates the 200th anniversary of the Greek War of Independence\, which began with General Alexandros Ypsilantis’ (Greek: Αλέξανδρος Υψηλάντης) uprising against the Ottoman rulers in the Danubian Principality of Moldavia during the spring of 1821. https://myumi.ch/wlYoq\n\nThe exhibit was curated by students in the Michigan Library Scholars program\, William McClelland and Quinn Byington\, with Zachary Quint as their librarian mentor.
UID:84737-21624765@events.umich.edu
URL:https://events.umich.edu/event/84737
CLASS:PUBLIC
STATUS:CONFIRMED
CATEGORIES:Exhibition,History,Library
LOCATION:Off Campus Location
CONTACT:
END:VEVENT
BEGIN:VEVENT
DTSTAMP:20210901T114359
DTSTART;TZID=America/Detroit:20210918T080000
DTEND;TZID=America/Detroit:20210918T170000
SUMMARY:Community Service:U-M Food Drive for Food Gatherers
DESCRIPTION:In 2020\, members of the U-M and local community donated more than 242\,000 meals' worth of food to Food Gatherers through three food drives. \n\nBut with school restarting\, pandemic unemployment benefits ending and the pandemic resurging\, the need for food\, diapers and toiletries continues to rise. \n\nMichigan Medicine has launched a new food drive through Sept. 26\, with in-person and online giving options. To give in person\, bring food and toiletry donations to Dock 90 of the North Campus Research Complex\, off Huron Parkway south of Plymouth Road. See a full list of most-needed items and other details about what can and can't be accepted: https://www.uofmhealth.org/fallfood \nOr give online at https://foodgatherers.org/um
UID:86116-21631605@events.umich.edu
URL:https://events.umich.edu/event/86116
CLASS:PUBLIC
STATUS:CONFIRMED
CATEGORIES:Community Service,Food,Medicine,Public Health
LOCATION:North Campus Research Complex Building 18 - Loading Dock 90
CONTACT:
END:VEVENT
BEGIN:VEVENT
DTSTAMP:20211104T150425
DTSTART;TZID=America/Detroit:20210918T090000
DTEND;TZID=America/Detroit:20210918T170000
SUMMARY:Exhibition:Buying Home\, Selling America: the House Catalog\, 1906-1966
DESCRIPTION:Buying Home\, Selling America: the House Catalog\, 1906-1966 brings to light the collection of house catalogs in the Art\, Architecture & Engineering Library’s Special Collections. Focusing primarily on the kit house industry of Michigan and the Midwest\, the catalogs provide a portal to explore multiple themes\, such as\, the Michigan house catalog industry\, changing architectural styles\, the business of selling homes\, societal and cultural implications\, and domestic technologies. We hope the exhibit is not simply a nostalgic view back\, but raises awareness of our domestic surroundings today and compels us to ask questions as we look to the future.\n\nThe exhibit is available in the Clark Library (second floor Hatcher) during Hatcher Library hours.
UID:86339-21632761@events.umich.edu
URL:https://events.umich.edu/event/86339
CLASS:PUBLIC
STATUS:CONFIRMED
CATEGORIES:Architecture,Free,Library
LOCATION:Hatcher Graduate Library - Clark Library, 2nd Floor
CONTACT:
END:VEVENT
BEGIN:VEVENT
DTSTAMP:20210701T145834
DTSTART;TZID=America/Detroit:20210918T100000
DTEND;TZID=America/Detroit:20210918T160000
SUMMARY:Exhibition:A Garden of Earthy Delights: Ceramic Sculptures by Ann Arbor Potters Guild at Matthaei Botanical Gardens
DESCRIPTION:Inspired by the synergy between nature’s beauty and complexity\, and in partnership with the University of Michigan Matthaei Botanical Gardens\, artists from the Ann Arbor Potters Guild created work centered around Michigan’s natural landscapes and specifically for the Great Lakes Garden at Matthaei. Potters Guild artists created eight free-standing sculptures using the full range of traditional ceramic methods and tools\, the potter’s wheel\, press molds\, coil building\, slab construction\, and sculpting. Depictions range from naturalistic and representational\, to abstract\, as well as a whimsical nod or two to the timeless role of fantasy and myth in humankind’s communion with nature. Exhibit is free but scheduled reservations are required to visit the botanical gardens. Use this link to book your visit: https://www.signupgenius.com/go/8050f4aadad22a2fd0-matthaei1
UID:84388-21623747@events.umich.edu
URL:https://events.umich.edu/event/84388
CLASS:PUBLIC
STATUS:CONFIRMED
CATEGORIES:Art,Outdoors
LOCATION:Matthaei Botanical Gardens
CONTACT:
END:VEVENT
BEGIN:VEVENT
DTSTAMP:20210908T090702
DTSTART;TZID=America/Detroit:20210918T100000
DTEND;TZID=America/Detroit:20210918T120000
SUMMARY:Recreational / Games:Game Day @ The Union
DESCRIPTION:Ready to get pumped for Game Day? We've got you covered! Stop by the Union front lawn before the Michigan vs. Northern Illinois Football game for music\, lawn games\, free food and all the Michigan spirit you need to root the Wolverines on to victory!\n\nUnion Front Lawn - 10 am -12 pm
UID:86408-21634186@events.umich.edu
URL:https://events.umich.edu/event/86408
CLASS:PUBLIC
STATUS:CONFIRMED
CATEGORIES:Athletics - Football,Food,Free,Game Day,Games,Graduate and Professional Students,In Person,Meal,Outdoors,Social,Undergraduate Students,Well-being
LOCATION:Michigan Union - Front Lawn
CONTACT:
END:VEVENT
BEGIN:VEVENT
DTSTAMP:20211015T121519
DTSTART;TZID=America/Detroit:20210918T110000
DTEND;TZID=America/Detroit:20210918T170000
SUMMARY:Exhibition:Respond / Resist / Rethink: A Stamps Student Poster & Video Exhibition
DESCRIPTION:Over the last 12-18 months\, the world has wit­nessed the bru­tal impact of the COVID-19 pan­demic com­pounded by sys­temic racism as it pro­lif­er­ated across the US\, threat­en­ing to sti­fle its vibrant and diverse soci­ety. Stu­dents and youth in the US and glob­ally have been at the fore­front of social change devis­ing mod­els of inclu­sion and care for those deeply impacted by the pan­demic and racial and envi­ron­men­tal inequities. \n Stamps Gallery invited stu­dents at the Penny W. Stamps School of Art &amp\; Design to design posters and make videos that respond to the prompt: what change would you like to see in your community? Stamps students created meaningful posters and video work that will be featured in Respond/​Resist/​Rethink 2021: A Stu­dent Poster &amp\; Video Exhi­bi­tion. \n Why posters &amp\; video?\nFor gen­er­a­tions\, posters have served as an effec­tive tool to cir­cu­late ideas and mes­sages to the pub­lic. Visu­ally strik­ing\, and designed to draw atten­tion from passersby\, posters can be con­ver­sa­tion starters\, invite peo­ple to pause\, reflect\, spread the word\, get involved. They have been a pow­er­ful medium for many con­cep­tual artists and graphic design­ers to cre­ate pow­er­ful images and mes­sages that could respond to imme­di­ate issues and be dis­trib­uted widely. \n Sim­i­larly\, video art was another excit­ing imme­di­ate medium for con­cep­tual artists in the 1960s and 1970s as the tech­nol­ogy became more acces­si­ble to the masses. Video art pro­vided an alter­na­tive to the dom­i­nant broad­cast­ing cor­po­ra­tions. Artists made exper­i­men­tal films\, recorded per­for­mances\, and first-per­son nar­ra­tives that were then exhib­ited and screened at gal­leries\, muse­ums\, and events. Posters and videos con­tinue to be salient fea­tures in the 21st Cen­tury to respond to urgent issues and ques­tions fac­ing the present moment. \nRespond / Resist / Rethink asks the UM com­mu­nity to come together to envi­sion mod­els for inclu­sion that are grounded in equal­ity\, belong­ing\, and empathy. The work featured in the exhibition were selected through an open call by a com­mit­tee comprising Stamps fac­ulty\, stu­dents\, and staff includ­ing Julianna Lew\, David Chung\, Najwat Rehman\, Albert Che\, and Stamps Gallery staff.
UID:84617-21624264@events.umich.edu
URL:https://events.umich.edu/event/84617
CLASS:PUBLIC
STATUS:CONFIRMED
CATEGORIES:Art
LOCATION:Off Campus Location
CONTACT:
END:VEVENT
BEGIN:VEVENT
DTSTAMP:20211021T121520
DTSTART;TZID=America/Detroit:20210918T110000
DTEND;TZID=America/Detroit:20210918T170000
SUMMARY:Exhibition:Stephanie Dinkins: On Love & Data
DESCRIPTION:Stamps Gallery is proud to present the first survey of renowned transmedia artist Stephanie Dinkins\, who creates platforms for dialogue about artificial intelligence as it intersects race\, gender\, aging\, and our future histories. \nThrough her work\, Dinkins has become a central figure nationally and internationally recognized for exposing bias and inequity within artificial intelligence systems. Weaving together art production and exhibition\, community-based workshops and public speaking all with the intention of encouraging action towards making artificial intelligence systems more inclusive\, accessible and transparent. \n In this exhibition\, Dinkins will debut new and interactive installations and workshops that build on her concept of Afro-now-ism. In this poetic manifesto-like text\, Dinkins asks her audience\, particularly from communities of color\, to not only confront the litany of violences that humans have wielded upon one another based on the institutional and social constructions of race\, caste\, class\, and gender to maintain status quo and the current systems of power - but rise above it by taking action to start building the world that they desire. \nShe writes: “Instead of waiting to reach the proverbial promised land\, also known as a time in the future that may or may not manifest in your lifetime\, Afro-now-ism is taking the leap and the risks to imagine and define oneself beyond systemic oppression... For black people in particular\, it means conceiving yourself in the space of free and expansive thought and acting from a critically integrated space\, allowing for more community-sustaining work.” \n Through her installations and workshops Stephanie Dinkins: On Love &amp\; Data develops a dialogue with the audience on the hierarchies embedded within machine learning and AI architecture and one&#039\;s individual agency in transforming the algorithms within it. The audience will explore and participate in creating a more inclusive data-based narrative of what governance of the people\, by the people and for the people can look like in an AI mediated world where care is encoded within our digital civic system.
UID:84616-21624244@events.umich.edu
URL:https://events.umich.edu/event/84616
CLASS:PUBLIC
STATUS:CONFIRMED
CATEGORIES:Art
LOCATION:Off Campus Location
CONTACT:
END:VEVENT
BEGIN:VEVENT
DTSTAMP:20210913T125431
DTSTART;TZID=America/Detroit:20210918T120000
DTEND;TZID=America/Detroit:20210918T130000
SUMMARY:Other:Apply to be an Arts Ambassador!
DESCRIPTION:Deadline to apply: Monday\, September 20\, 10pm\n\nThe Arts Ambassador Program is designed to increase student awareness of the arts on campus and connect students who share an interest in the arts.\n\nArts at Michigan is looking for enthusiastic and friendly students who have an interest in the arts that they want to share! Arts Ambassadors are a student org who serve as the bridge between the arts and the U-M student body. As an Arts Ambassador you'll learn about the arts both on campus and in the community\, meet local artists\, and help promote arts events and activities.\n\nBeing a part of the Arts Ambassadors program is an extremely rewarding and fun experience! As an Arts Ambassador\, you will be responsible for attending weekly (virtual) meetings\, taking leadership roles in organizing arts events\, collaborating with other Arts Ambassadors to engage students in the arts\, and most importantly\, spreading the word about the vast arts community at U-M!
UID:86870-21637039@events.umich.edu
URL:https://events.umich.edu/event/86870
CLASS:PUBLIC
STATUS:CONFIRMED
CATEGORIES:Architecture,Art,Arts Ambassadors,Dance,Exhibition,Film,Music,Student Org,Theater
LOCATION:
CONTACT:
END:VEVENT
BEGIN:VEVENT
DTSTAMP:20210913T131028
DTSTART;TZID=America/Detroit:20210918T130000
DTEND;TZID=America/Detroit:20210918T140000
SUMMARY:Exhibition:Sign up for Art Outta Town: Dlectricity
DESCRIPTION:This Art Outta Town trip includes your transportation to and from DLECTRICITY! DLECTRICITY is a light-based art and technology festival in Midtown Detroit! This trip is open to all current U-M students\, but seating is limited\, so register today!\n\nDLECTRICITY\, inspired by Nuit Blanche arts festivals from around the world\, has presented three major light-based art + technology festivals in 2012\, 2014 and 2017. Produced by Midtown Detroit\, Inc. (MDI)\, the spectacular outdoor visual light + art celebration takes place in Detroit’s Cultural Center and DTE’s Beacon Park. Attendees are immersed in a landscape of light through groundbreaking installations of video art\, new media\, lasers\, interactive design and engineering\, and captivating performance.
UID:86871-21637047@events.umich.edu
URL:https://events.umich.edu/event/86871
CLASS:PUBLIC
STATUS:CONFIRMED
CATEGORIES:arts at michigan,detroit,trip,visual arts
LOCATION:
CONTACT:
END:VEVENT
BEGIN:VEVENT
DTSTAMP:20210810T114649
DTSTART;TZID=America/Detroit:20210918T140000
DTEND;TZID=America/Detroit:20210918T150000
SUMMARY:Livestream / Virtual:Virtual Saturday Sampler Tour | Looking at Greek Vases
DESCRIPTION:Saturday Sampler tours are back! We've missed you and are thrilled to be offering our Saturday Sampler tours virtually. Join us over Zoom to explore the Kelsey Museum from the comfort of your home.\n\nThe theme of this week's tour is \"Looking at Greek Vases.\"\nPottery has been described as the “tail that wags archaeology” because it has been found in such abundant quantities at excavation sites around the world. This tour focuses on some of the ancient Greek vases on display at the Kelsey Museum. While examining these often beautiful vases\, we consider the clues they give about their uses as well as what they reveal about the ancient Greeks themselves.\n\nZoom link:\nhttps://umich.zoom.us/j/98615763784
UID:85069-21625539@events.umich.edu
URL:https://events.umich.edu/event/85069
CLASS:PUBLIC
STATUS:CONFIRMED
CATEGORIES:Archaeology,Classical Studies,Free
LOCATION:Off Campus Location
CONTACT:
END:VEVENT
BEGIN:VEVENT
DTSTAMP:20210723T114650
DTSTART;TZID=America/Detroit:20210918T200000
DTEND;TZID=America/Detroit:20210918T220000
SUMMARY:Performance:Eddie from Ohio (Rescheduled from 9/18/20)
DESCRIPTION:*By purchasing a ticket you agree that you and your guests will comply with all laws\, orders\, ordinances\, regulations and health and safety guidance adopted by the State of Michigan\, the County of Washtenaw and The Ark\, including any guidelines in place at the time of the show. Attendees who do not comply will be asked to leave. Policies will be updated as circumstances and requirements change in our community. Please review The Ark’s current COVID-related information before attending a show.*\n\nEddie from Ohio\, actually a quartet from Virginia\, offers lyrically driven and often humorous original music\, sung in four-part harmonies over a background of acoustic strings and hand and stick percussion. Their vocal blend\, rhythmic vigor\, and prolific original material combine to make music unlike anything else on the market—sort of like Peter\, Paul & Mary on high-octane French roast\, they say. \"The manic strumminess recalls Ani DiFranco or Dave Matthews\,\" says Performing Songwriter\, \"but there's also a deep undercurrent of high\, lonesome mountain harmony that should appeal to fans of Alison Krauss and Union Station.\" The Edheads will be out in force for this show (get tickets early)\, because Eddie from Ohio isn't on the road as often as they used to be. Whenever and wherever the four convene on stage\, an Eddie from Ohio show is an experience to remember.
UID:73576-18261090@events.umich.edu
URL:https://events.umich.edu/event/73576
CLASS:PUBLIC
STATUS:CONFIRMED
CATEGORIES:The Ark
LOCATION:Off Campus Location
CONTACT:
END:VEVENT
BEGIN:VEVENT
DTSTAMP:20210903T181505
DTSTART;TZID=America/Detroit:20210918T200000
SUMMARY:Performance:Grand Night for Singing
DESCRIPTION:Tickets on sale September 1\, 2021\n\nShowcase of all things vocal at SMTD from choirs to musical theatre\, opera to art song. Hosted Michael McElroy\, the new chair of musical theatre.
UID:85573-21626941@events.umich.edu
URL:https://events.umich.edu/event/85573
CLASS:PUBLIC
STATUS:CONFIRMED
CATEGORIES:Concert,Culture,Music
LOCATION:Hill Auditorium
CONTACT:
END:VEVENT
END:VCALENDAR