BEGIN:VCALENDAR
VERSION:2.0
PRODID:-//UM//UM*Events//EN
CALSCALE:GREGORIAN
BEGIN:VTIMEZONE
TZID:America/Detroit
TZURL:http://tzurl.org/zoneinfo/America/Detroit
X-LIC-LOCATION:America/Detroit
BEGIN:DAYLIGHT
TZOFFSETFROM:-0500
TZOFFSETTO:-0400
TZNAME:EDT
DTSTART:20070311T020000
RRULE:FREQ=YEARLY;BYMONTH=3;BYDAY=2SU
END:DAYLIGHT
BEGIN:STANDARD
TZOFFSETFROM:-0400
TZOFFSETTO:-0500
TZNAME:EST
DTSTART:20071104T020000
RRULE:FREQ=YEARLY;BYMONTH=11;BYDAY=1SU
END:STANDARD
END:VTIMEZONE
BEGIN:VEVENT
DTSTAMP:20210813T092233
DTSTART;TZID=America/Detroit:20210919T000000
DTEND;TZID=America/Detroit:20210919T230000
SUMMARY:Exercise / Fitness:2021 Hail! From Home Virtual 5K
DESCRIPTION:Join the Alumni Association and fellow Wolverines for the second annual Hail! From Home Virtual 5K!\n\nCome together with Wolverines around the world to complete your favorite 5K course during the month of September. By participating\, you are supporting underrepresented minority students through the LEAD Scholars program.\n\nA portion of every registration benefits the LEAD Scholars program\, which supports Black\, Native American\, and Latinx students accepted to U-M through life-changing scholarship and inclusive community support.\n\nAll virtual 5K participants will receive a commemorative Hail! From Home race kit complete with a custom t-shirt\, race bib\, and finisher’s medal.\n\nSign up and get just over 10% off your registration today — wherever you are\, every mile makes a difference.
UID:85236-21626044@events.umich.edu
URL:https://events.umich.edu/event/85236
CLASS:PUBLIC
STATUS:CONFIRMED
CATEGORIES:Alumni,Fitness
LOCATION:Off Campus Location
CONTACT:
END:VEVENT
BEGIN:VEVENT
DTSTAMP:20210918T180005
DTSTART;TZID=America/Detroit:20210919T000000
DTEND;TZID=America/Detroit:20210919T190000
SUMMARY:Other:Fall Retreat - Making Decisions In Light of The Great Commission
DESCRIPTION:Join us for our Fall Retreat: Making Decisions In Light of The Great Commission.It will be at Somerset Beach Campground Friday evening to Saturday evening. The cost is $60\, but if finances are a concern contact Emily.Sign up here: https://forms.gle/KsdQaM5qbepXVVe57
UID:85935-21639899@events.umich.edu
URL:https://events.umich.edu/event/85935
CLASS:PUBLIC
STATUS:CONFIRMED
CATEGORIES:
LOCATION:Somerset Beach Campground
CONTACT:
END:VEVENT
BEGIN:VEVENT
DTSTAMP:20210918T120005
DTSTART;TZID=America/Detroit:20210919T000000
DTEND;TZID=America/Detroit:20210919T170000
SUMMARY:Conference / Symposium:MiASLA Annual Conference and LA Bike Ride
DESCRIPTION:Join us for the Michigan ASLA Annual Conference and LA Bike Ride (Cherry Capital Cycle Tour) in Traverse City this year! Registration for the conference and bike ride are separate\, but both sound incredibly fun and engaging so sign up soon! Link to register: https://www.michiganasla.org/general-8 Conference is on Friday\, September 17Bike Ride is on Saturday\, September 18
UID:85610-21639783@events.umich.edu
URL:https://events.umich.edu/event/85610
CLASS:PUBLIC
STATUS:CONFIRMED
CATEGORIES:
LOCATION:Hagerty Center at Northwestern Michigan College
CONTACT:
END:VEVENT
BEGIN:VEVENT
DTSTAMP:20210919T180003
DTSTART;TZID=America/Detroit:20210919T000000
DTEND;TZID=America/Detroit:20210919T235959
SUMMARY:Sporting Event:Singlehanded Qualifiers
DESCRIPTION:Qualifier for Singlehand Nationals.
UID:85443-21640247@events.umich.edu
URL:https://events.umich.edu/event/85443
CLASS:PUBLIC
STATUS:CONFIRMED
CATEGORIES:
LOCATION:University of Wisconsin Madison, Madison,WI
CONTACT:
END:VEVENT
BEGIN:VEVENT
DTSTAMP:20210918T120006
DTSTART;TZID=America/Detroit:20210919T000000
DTEND;TZID=America/Detroit:20210919T160000
SUMMARY:Sporting Event:Sparty Invite
DESCRIPTION:Invitational water polo tournament hosted by Michigan State University. 
UID:86473-21639792@events.umich.edu
URL:https://events.umich.edu/event/86473
CLASS:PUBLIC
STATUS:CONFIRMED
CATEGORIES:
LOCATION:Michigan State University
CONTACT:
END:VEVENT
BEGIN:VEVENT
DTSTAMP:20210918T180005
DTSTART;TZID=America/Detroit:20210919T000000
DTEND;TZID=America/Detroit:20210919T190000
SUMMARY:Other:Wisconsin Meet
DESCRIPTION:New meet! We are excited!
UID:85874-21639896@events.umich.edu
URL:https://events.umich.edu/event/85874
CLASS:PUBLIC
STATUS:CONFIRMED
CATEGORIES:
LOCATION:Verona Area High School
CONTACT:
END:VEVENT
BEGIN:VEVENT
DTSTAMP:20210511T124519
DTSTART;TZID=America/Detroit:20210919T080000
DTEND;TZID=America/Detroit:20210919T230000
SUMMARY:Other:Become a UROP Research Mentor
DESCRIPTION:Submit a Research Project for the 2021-2022 Academic Year: https://lsa.umich.edu/urop/research-mentors.html\n\nUROP Research Mentors are faculty and post-doc researchers from across all U-M's 19 Schools and Colleges who provide undergraduate student researchers an opportunity to engage in research activities that help them learn about the pursuit of knowledge within an academic discipline. This early exposure to research fosters a valuable academic experience for students. Through this collaboration\, students gain research skills and mentorship that lead to academic retention\, a more positive undergraduate experience and paths to graduate school.
UID:83879-21619533@events.umich.edu
URL:https://events.umich.edu/event/83879
CLASS:PUBLIC
STATUS:CONFIRMED
CATEGORIES:AEM Featured,Education,Faculty,Free,Graduate and Professional Students,Graduate Students,Interdisciplinary,Mentorship,Research,research data,Staff,Urop
LOCATION:Off Campus Location
CONTACT:
END:VEVENT
BEGIN:VEVENT
DTSTAMP:20210723T154528
DTSTART;TZID=America/Detroit:20210919T080000
DTEND;TZID=America/Detroit:20210919T235900
SUMMARY:Exhibition:That Greece Might Still Be Free
DESCRIPTION:Learn about the Greek War of Independence\, 19th century European international politics\, and the origins of nationalism and the modern nation-state. This exhibit commemorates the 200th anniversary of the Greek War of Independence\, which began with General Alexandros Ypsilantis’ (Greek: Αλέξανδρος Υψηλάντης) uprising against the Ottoman rulers in the Danubian Principality of Moldavia during the spring of 1821. https://myumi.ch/wlYoq\n\nThe exhibit was curated by students in the Michigan Library Scholars program\, William McClelland and Quinn Byington\, with Zachary Quint as their librarian mentor.
UID:84737-21624766@events.umich.edu
URL:https://events.umich.edu/event/84737
CLASS:PUBLIC
STATUS:CONFIRMED
CATEGORIES:Exhibition,History,Library
LOCATION:Off Campus Location
CONTACT:
END:VEVENT
BEGIN:VEVENT
DTSTAMP:20210901T114359
DTSTART;TZID=America/Detroit:20210919T080000
DTEND;TZID=America/Detroit:20210919T170000
SUMMARY:Community Service:U-M Food Drive for Food Gatherers
DESCRIPTION:In 2020\, members of the U-M and local community donated more than 242\,000 meals' worth of food to Food Gatherers through three food drives. \n\nBut with school restarting\, pandemic unemployment benefits ending and the pandemic resurging\, the need for food\, diapers and toiletries continues to rise. \n\nMichigan Medicine has launched a new food drive through Sept. 26\, with in-person and online giving options. To give in person\, bring food and toiletry donations to Dock 90 of the North Campus Research Complex\, off Huron Parkway south of Plymouth Road. See a full list of most-needed items and other details about what can and can't be accepted: https://www.uofmhealth.org/fallfood \nOr give online at https://foodgatherers.org/um
UID:86116-21631606@events.umich.edu
URL:https://events.umich.edu/event/86116
CLASS:PUBLIC
STATUS:CONFIRMED
CATEGORIES:Community Service,Food,Medicine,Public Health
LOCATION:North Campus Research Complex Building 18 - Loading Dock 90
CONTACT:
END:VEVENT
BEGIN:VEVENT
DTSTAMP:20210919T120006
DTSTART;TZID=America/Detroit:20210919T083000
DTEND;TZID=America/Detroit:20210919T140000
SUMMARY:Other:TRI-DU Muncie
DESCRIPTION:Second Conference race in Selma\, Indiana!
UID:86457-21634430@events.umich.edu
URL:https://events.umich.edu/event/86457
CLASS:PUBLIC
STATUS:CONFIRMED
CATEGORIES:
LOCATION:Prairie Creek Park
CONTACT:
END:VEVENT
BEGIN:VEVENT
DTSTAMP:20211104T150425
DTSTART;TZID=America/Detroit:20210919T090000
DTEND;TZID=America/Detroit:20210919T170000
SUMMARY:Exhibition:Buying Home\, Selling America: the House Catalog\, 1906-1966
DESCRIPTION:Buying Home\, Selling America: the House Catalog\, 1906-1966 brings to light the collection of house catalogs in the Art\, Architecture & Engineering Library’s Special Collections. Focusing primarily on the kit house industry of Michigan and the Midwest\, the catalogs provide a portal to explore multiple themes\, such as\, the Michigan house catalog industry\, changing architectural styles\, the business of selling homes\, societal and cultural implications\, and domestic technologies. We hope the exhibit is not simply a nostalgic view back\, but raises awareness of our domestic surroundings today and compels us to ask questions as we look to the future.\n\nThe exhibit is available in the Clark Library (second floor Hatcher) during Hatcher Library hours.
UID:86339-21632762@events.umich.edu
URL:https://events.umich.edu/event/86339
CLASS:PUBLIC
STATUS:CONFIRMED
CATEGORIES:Architecture,Free,Library
LOCATION:Hatcher Graduate Library - Clark Library, 2nd Floor
CONTACT:
END:VEVENT
BEGIN:VEVENT
DTSTAMP:20210919T060006
DTSTART;TZID=America/Detroit:20210919T093000
DTEND;TZID=America/Detroit:20210919T120000
SUMMARY:Other:Game vs Trine University
DESCRIPTION:Home Game at Yost
UID:86965-21637747@events.umich.edu
URL:https://events.umich.edu/event/86965
CLASS:PUBLIC
STATUS:CONFIRMED
CATEGORIES:
LOCATION:Yost Ice Arena
CONTACT:
END:VEVENT
BEGIN:VEVENT
DTSTAMP:20210701T145834
DTSTART;TZID=America/Detroit:20210919T100000
DTEND;TZID=America/Detroit:20210919T160000
SUMMARY:Exhibition:A Garden of Earthy Delights: Ceramic Sculptures by Ann Arbor Potters Guild at Matthaei Botanical Gardens
DESCRIPTION:Inspired by the synergy between nature’s beauty and complexity\, and in partnership with the University of Michigan Matthaei Botanical Gardens\, artists from the Ann Arbor Potters Guild created work centered around Michigan’s natural landscapes and specifically for the Great Lakes Garden at Matthaei. Potters Guild artists created eight free-standing sculptures using the full range of traditional ceramic methods and tools\, the potter’s wheel\, press molds\, coil building\, slab construction\, and sculpting. Depictions range from naturalistic and representational\, to abstract\, as well as a whimsical nod or two to the timeless role of fantasy and myth in humankind’s communion with nature. Exhibit is free but scheduled reservations are required to visit the botanical gardens. Use this link to book your visit: https://www.signupgenius.com/go/8050f4aadad22a2fd0-matthaei1
UID:84388-21623748@events.umich.edu
URL:https://events.umich.edu/event/84388
CLASS:PUBLIC
STATUS:CONFIRMED
CATEGORIES:Art,Outdoors
LOCATION:Matthaei Botanical Gardens
CONTACT:
END:VEVENT
BEGIN:VEVENT
DTSTAMP:20210804T104018
DTSTART;TZID=America/Detroit:20210919T110000
DTEND;TZID=America/Detroit:20210919T130000
SUMMARY:Well-being:Go Blue 5K
DESCRIPTION:Are you new to Michigan? Looking for an opportunity to be active and get to know campus? Participate in the Go Blue 5K to connect with other students! All groups will be led by U-M students so you can build community with others. Walk\, run or roll with us - whatever is most comfortable for you!\n\nThe 5K will begin at 11:00am on Sunday\, September 19. Register for the location with the part of campus you would like to explore most!\n\nWhen you participate\, post your pics with the hashtag #GoBlue5K. We're looking forward to seeing you soon!
UID:84934-21625307@events.umich.edu
URL:https://events.umich.edu/event/84934
CLASS:PUBLIC
STATUS:CONFIRMED
CATEGORIES:First Year Experience,Fitness,Free,Networking,Outdoors,Rec Sports,Welcome to Michigan,Well-being
LOCATION:
CONTACT:
END:VEVENT
BEGIN:VEVENT
DTSTAMP:20210913T125431
DTSTART;TZID=America/Detroit:20210919T120000
DTEND;TZID=America/Detroit:20210919T130000
SUMMARY:Other:Apply to be an Arts Ambassador!
DESCRIPTION:Deadline to apply: Monday\, September 20\, 10pm\n\nThe Arts Ambassador Program is designed to increase student awareness of the arts on campus and connect students who share an interest in the arts.\n\nArts at Michigan is looking for enthusiastic and friendly students who have an interest in the arts that they want to share! Arts Ambassadors are a student org who serve as the bridge between the arts and the U-M student body. As an Arts Ambassador you'll learn about the arts both on campus and in the community\, meet local artists\, and help promote arts events and activities.\n\nBeing a part of the Arts Ambassadors program is an extremely rewarding and fun experience! As an Arts Ambassador\, you will be responsible for attending weekly (virtual) meetings\, taking leadership roles in organizing arts events\, collaborating with other Arts Ambassadors to engage students in the arts\, and most importantly\, spreading the word about the vast arts community at U-M!
UID:86870-21637040@events.umich.edu
URL:https://events.umich.edu/event/86870
CLASS:PUBLIC
STATUS:CONFIRMED
CATEGORIES:Architecture,Art,Arts Ambassadors,Dance,Exhibition,Film,Music,Student Org,Theater
LOCATION:
CONTACT:
END:VEVENT
BEGIN:VEVENT
DTSTAMP:20210919T120005
DTSTART;TZID=America/Detroit:20210919T120000
DTEND;TZID=America/Detroit:20210919T160000
SUMMARY:Other:Scrimmage Against Michigan State
DESCRIPTION:The University of Michigan Club Softball team will be travelling to East Lansing to take on in-state rival\, Michigan State\, in a double-header scrimmage. Games times are 12 p.m. and 2 p.m on Sunday\, September 19th. Go Blue!
UID:86372-21633642@events.umich.edu
URL:https://events.umich.edu/event/86372
CLASS:PUBLIC
STATUS:CONFIRMED
CATEGORIES:
LOCATION:Ranney Park
CONTACT:
END:VEVENT
BEGIN:VEVENT
DTSTAMP:20210901T095212
DTSTART;TZID=America/Detroit:20210919T130000
DTEND;TZID=America/Detroit:20210919T143000
SUMMARY:Social / Informal Gathering:Downtown Bike Tour
DESCRIPTION:Meet Professor Sarah Mills at the Adventure Leadership Rental Center (next to Elbel Field) for a bike tour of downtown Ann Arbor. At the end of the tour we will have ice cream at Washtenaw Dairy (non-dairy options available).\n\nBe sure to sign up in advance at bit.ly/SLEsignups so that we know of any accessibility needs and can rent a bike for you if you don't have one.
UID:86104-21631573@events.umich.edu
URL:https://events.umich.edu/event/86104
CLASS:PUBLIC
STATUS:CONFIRMED
CATEGORIES:Food,Outdoors,Sustainability,Tour
LOCATION:Elbel Field - Adventure Leadership Rental Center, next to Elbel Field.
CONTACT:
END:VEVENT
BEGIN:VEVENT
DTSTAMP:20210919T120006
DTSTART;TZID=America/Detroit:20210919T130000
DTEND;TZID=America/Detroit:20210919T153000
SUMMARY:Other:Game vs Ferris State University
DESCRIPTION:Away game between Michigan and Ferris State.
UID:85790-21629084@events.umich.edu
URL:https://events.umich.edu/event/85790
CLASS:PUBLIC
STATUS:CONFIRMED
CATEGORIES:
LOCATION:Ferris State University
CONTACT:
END:VEVENT
BEGIN:VEVENT
DTSTAMP:20210919T120005
DTSTART;TZID=America/Detroit:20210919T130000
DTEND;TZID=America/Detroit:20210919T150000
SUMMARY:Other:Notre Dame
DESCRIPTION:UMWSC vs. ND at ND 
UID:86475-21634535@events.umich.edu
URL:https://events.umich.edu/event/86475
CLASS:PUBLIC
STATUS:CONFIRMED
CATEGORIES:
LOCATION:Ricci Fields 
CONTACT:
END:VEVENT
BEGIN:VEVENT
DTSTAMP:20210913T131028
DTSTART;TZID=America/Detroit:20210919T130000
DTEND;TZID=America/Detroit:20210919T140000
SUMMARY:Exhibition:Sign up for Art Outta Town: Dlectricity
DESCRIPTION:This Art Outta Town trip includes your transportation to and from DLECTRICITY! DLECTRICITY is a light-based art and technology festival in Midtown Detroit! This trip is open to all current U-M students\, but seating is limited\, so register today!\n\nDLECTRICITY\, inspired by Nuit Blanche arts festivals from around the world\, has presented three major light-based art + technology festivals in 2012\, 2014 and 2017. Produced by Midtown Detroit\, Inc. (MDI)\, the spectacular outdoor visual light + art celebration takes place in Detroit’s Cultural Center and DTE’s Beacon Park. Attendees are immersed in a landscape of light through groundbreaking installations of video art\, new media\, lasers\, interactive design and engineering\, and captivating performance.
UID:86871-21637048@events.umich.edu
URL:https://events.umich.edu/event/86871
CLASS:PUBLIC
STATUS:CONFIRMED
CATEGORIES:arts at michigan,detroit,trip,visual arts
LOCATION:
CONTACT:
END:VEVENT
BEGIN:VEVENT
DTSTAMP:20210914T101022
DTSTART;TZID=America/Detroit:20210919T150000
DTEND;TZID=America/Detroit:20210919T160000
SUMMARY:Livestream / Virtual:Nam Center Virtual Chuseok Dae Party 2021 | Netflix Party: Crash Landing on You
DESCRIPTION:Yoon Se-Ri (Son Ye-Jin) is an heiress to a conglomerate in South Korea. One day while paragliding\, an accident caused by strong winds leads Yoon Se-Ri to make an emergency landing in North Korea. There\, she meets Ri Jeong-Hyeok (Hyun-Bin)\, who is a North Korean army officer. Does he decide to turn her in? Join the party to find out! We’ll be pointing out some interesting cultural aspects in the chat during the drama episode. Grab a blanket and some popcorn! \n\nPre-registration via Google Form is required to receive Netflix Party Link: https://forms.gle/iStdY17eFXMF3GeQ7\n\nSee full list of Virtual Chuseok Dae Party 2021 events: https://ii.umich.edu/ncks/news-events/events/virtual-chuseok-dae-party.html
UID:86485-21634637@events.umich.edu
URL:https://events.umich.edu/event/86485
CLASS:PUBLIC
STATUS:CONFIRMED
CATEGORIES:Asia,Film,Korea
LOCATION:Off Campus Location
CONTACT:
END:VEVENT
BEGIN:VEVENT
DTSTAMP:20210723T121012
DTSTART;TZID=America/Detroit:20210919T200000
DTEND;TZID=America/Detroit:20210919T220000
SUMMARY:Performance:Riders in the Sky
DESCRIPTION:*By purchasing a ticket you agree that you and your guests will comply with all laws\, orders\, ordinances\, regulations and health and safety guidance adopted by the State of Michigan\, the County of Washtenaw and The Ark\, including any guidelines in place at the time of the show. Attendees who do not comply will be asked to leave. Policies will be updated as circumstances and requirements change in our community. Please review The Ark’s current COVID-related information before attending a show.*\n\nRiders in the Sky\, recently celebrated their 40th anniversary\, but they're not slowing down—that wouldn't be the Cowboy Way! The Riders roll on with their mix of Western song classics and zany send-ups of these. What sometimes gets overlooked amid the hilarity is that Ranger Doug (Idol of American Youth)\, Woody Paul (King of the Cowboy Fiddlers)\, Joey (the Cowpolka King)\, and Too Slim (Licensed Driver) are matchless musicians\, with a huge and growing stock of old and new songs to draw on as they deepen a great American tradition. And can Keith Urban do rope tricks on stage? Ranger Doug was an Ann Arborite once upon a time\, and the group's Ark shows have been uniformly terrific. Riders In The Sky are the only exclusively Western artist to have won a Grammy (twice). That the band was even formed is a feat of improbable likelihood. What are the odds that a theoretical plasma physicist\, a wildlife manager–galvanizer–Life Scout\, an English major–shot putter–Bluegrass Boy\, and a Polka Hall of Fame member would collectively become \"America's Favorite Cowboys\"?
UID:73577-18261091@events.umich.edu
URL:https://events.umich.edu/event/73577
CLASS:PUBLIC
STATUS:CONFIRMED
CATEGORIES:The Ark
LOCATION:Off Campus Location
CONTACT:
END:VEVENT
END:VCALENDAR