BEGIN:VCALENDAR
VERSION:2.0
PRODID:-//UM//UM*Events//EN
CALSCALE:GREGORIAN
BEGIN:VTIMEZONE
TZID:America/Detroit
TZURL:http://tzurl.org/zoneinfo/America/Detroit
X-LIC-LOCATION:America/Detroit
BEGIN:DAYLIGHT
TZOFFSETFROM:-0500
TZOFFSETTO:-0400
TZNAME:EDT
DTSTART:20070311T020000
RRULE:FREQ=YEARLY;BYMONTH=3;BYDAY=2SU
END:DAYLIGHT
BEGIN:STANDARD
TZOFFSETFROM:-0400
TZOFFSETTO:-0500
TZNAME:EST
DTSTART:20071104T020000
RRULE:FREQ=YEARLY;BYMONTH=11;BYDAY=1SU
END:STANDARD
END:VTIMEZONE
BEGIN:VEVENT
DTSTAMP:20210813T092233
DTSTART;TZID=America/Detroit:20210925T000000
DTEND;TZID=America/Detroit:20210925T230000
SUMMARY:Exercise / Fitness:2021 Hail! From Home Virtual 5K
DESCRIPTION:Join the Alumni Association and fellow Wolverines for the second annual Hail! From Home Virtual 5K!\n\nCome together with Wolverines around the world to complete your favorite 5K course during the month of September. By participating\, you are supporting underrepresented minority students through the LEAD Scholars program.\n\nA portion of every registration benefits the LEAD Scholars program\, which supports Black\, Native American\, and Latinx students accepted to U-M through life-changing scholarship and inclusive community support.\n\nAll virtual 5K participants will receive a commemorative Hail! From Home race kit complete with a custom t-shirt\, race bib\, and finisher’s medal.\n\nSign up and get just over 10% off your registration today — wherever you are\, every mile makes a difference.
UID:85236-21626050@events.umich.edu
URL:https://events.umich.edu/event/85236
CLASS:PUBLIC
STATUS:CONFIRMED
CATEGORIES:Alumni,Fitness
LOCATION:Off Campus Location
CONTACT:
END:VEVENT
BEGIN:VEVENT
DTSTAMP:20210926T180004
DTSTART;TZID=America/Detroit:20210925T000000
DTEND;TZID=America/Detroit:20210925T235959
SUMMARY:Sporting Event:Great Lakes Intercollegiate Offshore Regatta (GLIOR)
DESCRIPTION:Keelboat Regatta hosted by the Chicago Corinthian Yacht Club.
UID:85444-21643795@events.umich.edu
URL:https://events.umich.edu/event/85444
CLASS:PUBLIC
STATUS:CONFIRMED
CATEGORIES:
LOCATION:Chicago Corinthian Yacht Club, Chicago, IL
CONTACT:
END:VEVENT
BEGIN:VEVENT
DTSTAMP:20210926T120005
DTSTART;TZID=America/Detroit:20210925T000000
DTEND;TZID=America/Detroit:20210925T235959
SUMMARY:Other:Queen City Classic Tournament
DESCRIPTION:Queen City Classic Tournament hosted by the University of Cincinnati 
UID:86811-21643748@events.umich.edu
URL:https://events.umich.edu/event/86811
CLASS:PUBLIC
STATUS:CONFIRMED
CATEGORIES:
LOCATION:2600 Clifton Ave, Cincinnati, OH 45221
CONTACT:
END:VEVENT
BEGIN:VEVENT
DTSTAMP:20210511T124519
DTSTART;TZID=America/Detroit:20210925T080000
DTEND;TZID=America/Detroit:20210925T230000
SUMMARY:Other:Become a UROP Research Mentor
DESCRIPTION:Submit a Research Project for the 2021-2022 Academic Year: https://lsa.umich.edu/urop/research-mentors.html\n\nUROP Research Mentors are faculty and post-doc researchers from across all U-M's 19 Schools and Colleges who provide undergraduate student researchers an opportunity to engage in research activities that help them learn about the pursuit of knowledge within an academic discipline. This early exposure to research fosters a valuable academic experience for students. Through this collaboration\, students gain research skills and mentorship that lead to academic retention\, a more positive undergraduate experience and paths to graduate school.
UID:83879-21619539@events.umich.edu
URL:https://events.umich.edu/event/83879
CLASS:PUBLIC
STATUS:CONFIRMED
CATEGORIES:AEM Featured,Education,Faculty,Free,Graduate and Professional Students,Graduate Students,Interdisciplinary,Mentorship,Research,research data,Staff,Urop
LOCATION:Off Campus Location
CONTACT:
END:VEVENT
BEGIN:VEVENT
DTSTAMP:20210723T154528
DTSTART;TZID=America/Detroit:20210925T080000
DTEND;TZID=America/Detroit:20210925T235900
SUMMARY:Exhibition:That Greece Might Still Be Free
DESCRIPTION:Learn about the Greek War of Independence\, 19th century European international politics\, and the origins of nationalism and the modern nation-state. This exhibit commemorates the 200th anniversary of the Greek War of Independence\, which began with General Alexandros Ypsilantis’ (Greek: Αλέξανδρος Υψηλάντης) uprising against the Ottoman rulers in the Danubian Principality of Moldavia during the spring of 1821. https://myumi.ch/wlYoq\n\nThe exhibit was curated by students in the Michigan Library Scholars program\, William McClelland and Quinn Byington\, with Zachary Quint as their librarian mentor.
UID:84737-21624772@events.umich.edu
URL:https://events.umich.edu/event/84737
CLASS:PUBLIC
STATUS:CONFIRMED
CATEGORIES:Exhibition,History,Library
LOCATION:Off Campus Location
CONTACT:
END:VEVENT
BEGIN:VEVENT
DTSTAMP:20210901T114359
DTSTART;TZID=America/Detroit:20210925T080000
DTEND;TZID=America/Detroit:20210925T170000
SUMMARY:Community Service:U-M Food Drive for Food Gatherers
DESCRIPTION:In 2020\, members of the U-M and local community donated more than 242\,000 meals' worth of food to Food Gatherers through three food drives. \n\nBut with school restarting\, pandemic unemployment benefits ending and the pandemic resurging\, the need for food\, diapers and toiletries continues to rise. \n\nMichigan Medicine has launched a new food drive through Sept. 26\, with in-person and online giving options. To give in person\, bring food and toiletry donations to Dock 90 of the North Campus Research Complex\, off Huron Parkway south of Plymouth Road. See a full list of most-needed items and other details about what can and can't be accepted: https://www.uofmhealth.org/fallfood \nOr give online at https://foodgatherers.org/um
UID:86116-21631612@events.umich.edu
URL:https://events.umich.edu/event/86116
CLASS:PUBLIC
STATUS:CONFIRMED
CATEGORIES:Community Service,Food,Medicine,Public Health
LOCATION:North Campus Research Complex Building 18 - Loading Dock 90
CONTACT:
END:VEVENT
BEGIN:VEVENT
DTSTAMP:20210722T160520
DTSTART;TZID=America/Detroit:20210925T090000
DTEND;TZID=America/Detroit:20210925T210000
SUMMARY:Fair / Festival:7th Annual Thunder Bay Folk Festival
DESCRIPTION:The Thunder Bay Folk Festival is a weekend event held at the Alpena Antique Tractor Showgrounds located at 6850 French Rd\, Alpena\, Michigan.\n\nThis is truly a family-friendly event with something for everyone. We have Musicians jamming in the jam tent\, or around their campsites on Friday and Live Music on Saturday.\n\nOur goal is to put on a first-class music festival right here in NE Michigan. We book popular bands from around the state and occasionally have artists from as far away as Chicago. Another goal was to provide a venue for our many\, many talented musicians close by to perform\, and with that in mind\, we always have a fine selection of these local artists.\n\nMusical genres range from 60’s folk/rock\, bluegrass\, country\, faux-grass\, blues\, and always great dance tunes. Don’t let the title “folk” confuse you. We feel that folk music encompasses all these genres and more!
UID:84719-21624476@events.umich.edu
URL:https://events.umich.edu/event/84719
CLASS:PUBLIC
STATUS:CONFIRMED
CATEGORIES:Festival
LOCATION:Off Campus Location
CONTACT:
END:VEVENT
BEGIN:VEVENT
DTSTAMP:20211104T150425
DTSTART;TZID=America/Detroit:20210925T090000
DTEND;TZID=America/Detroit:20210925T170000
SUMMARY:Exhibition:Buying Home\, Selling America: the House Catalog\, 1906-1966
DESCRIPTION:Buying Home\, Selling America: the House Catalog\, 1906-1966 brings to light the collection of house catalogs in the Art\, Architecture & Engineering Library’s Special Collections. Focusing primarily on the kit house industry of Michigan and the Midwest\, the catalogs provide a portal to explore multiple themes\, such as\, the Michigan house catalog industry\, changing architectural styles\, the business of selling homes\, societal and cultural implications\, and domestic technologies. We hope the exhibit is not simply a nostalgic view back\, but raises awareness of our domestic surroundings today and compels us to ask questions as we look to the future.\n\nThe exhibit is available in the Clark Library (second floor Hatcher) during Hatcher Library hours.
UID:86339-21632768@events.umich.edu
URL:https://events.umich.edu/event/86339
CLASS:PUBLIC
STATUS:CONFIRMED
CATEGORIES:Architecture,Free,Library
LOCATION:Hatcher Graduate Library - Clark Library, 2nd Floor
CONTACT:
END:VEVENT
BEGIN:VEVENT
DTSTAMP:20210901T095601
DTSTART;TZID=America/Detroit:20210925T094000
DTEND;TZID=America/Detroit:20210925T122000
SUMMARY:Community Service:SLE @ Campus Farm
DESCRIPTION:Join SLE for a tour and workday at the Campus Farm located at Matthaei Botanical Gardens! Minivans will pick up outside the Vandenberg CC. Dressing for outdoor work (closed-toed shoes\, long pants\, sunblock/hat)\, and bringing water is recommended.\n\nTo coordinate transportation\, please sign up online at biy.ly/SLEsignups
UID:86106-21631575@events.umich.edu
URL:https://events.umich.edu/event/86106
CLASS:PUBLIC
STATUS:CONFIRMED
CATEGORIES:Community Service,Ecology,Environment,Food,Health & Wellness,Outdoors
LOCATION:Campus Farm
CONTACT:
END:VEVENT
BEGIN:VEVENT
DTSTAMP:20210701T145834
DTSTART;TZID=America/Detroit:20210925T100000
DTEND;TZID=America/Detroit:20210925T160000
SUMMARY:Exhibition:A Garden of Earthy Delights: Ceramic Sculptures by Ann Arbor Potters Guild at Matthaei Botanical Gardens
DESCRIPTION:Inspired by the synergy between nature’s beauty and complexity\, and in partnership with the University of Michigan Matthaei Botanical Gardens\, artists from the Ann Arbor Potters Guild created work centered around Michigan’s natural landscapes and specifically for the Great Lakes Garden at Matthaei. Potters Guild artists created eight free-standing sculptures using the full range of traditional ceramic methods and tools\, the potter’s wheel\, press molds\, coil building\, slab construction\, and sculpting. Depictions range from naturalistic and representational\, to abstract\, as well as a whimsical nod or two to the timeless role of fantasy and myth in humankind’s communion with nature. Exhibit is free but scheduled reservations are required to visit the botanical gardens. Use this link to book your visit: https://www.signupgenius.com/go/8050f4aadad22a2fd0-matthaei1
UID:84388-21623754@events.umich.edu
URL:https://events.umich.edu/event/84388
CLASS:PUBLIC
STATUS:CONFIRMED
CATEGORIES:Art,Outdoors
LOCATION:Matthaei Botanical Gardens
CONTACT:
END:VEVENT
BEGIN:VEVENT
DTSTAMP:20210925T120006
DTSTART;TZID=America/Detroit:20210925T110000
DTEND;TZID=America/Detroit:20210925T150000
SUMMARY:Other:League Match vs. Notre Dame University 
DESCRIPTION:The University of Michigan Women's Rugby Football Club will be traveling to South Bend Indiana to compete against Notre Dame University in a league 15s match. 
UID:86035-21631226@events.umich.edu
URL:https://events.umich.edu/event/86035
CLASS:PUBLIC
STATUS:CONFIRMED
CATEGORIES:
LOCATION:Stinson Rugby Field
CONTACT:
END:VEVENT
BEGIN:VEVENT
DTSTAMP:20211015T121519
DTSTART;TZID=America/Detroit:20210925T110000
DTEND;TZID=America/Detroit:20210925T170000
SUMMARY:Exhibition:Respond / Resist / Rethink: A Stamps Student Poster & Video Exhibition
DESCRIPTION:Over the last 12-18 months\, the world has wit­nessed the bru­tal impact of the COVID-19 pan­demic com­pounded by sys­temic racism as it pro­lif­er­ated across the US\, threat­en­ing to sti­fle its vibrant and diverse soci­ety. Stu­dents and youth in the US and glob­ally have been at the fore­front of social change devis­ing mod­els of inclu­sion and care for those deeply impacted by the pan­demic and racial and envi­ron­men­tal inequities. \n Stamps Gallery invited stu­dents at the Penny W. Stamps School of Art &amp\; Design to design posters and make videos that respond to the prompt: what change would you like to see in your community? Stamps students created meaningful posters and video work that will be featured in Respond/​Resist/​Rethink 2021: A Stu­dent Poster &amp\; Video Exhi­bi­tion. \n Why posters &amp\; video?\nFor gen­er­a­tions\, posters have served as an effec­tive tool to cir­cu­late ideas and mes­sages to the pub­lic. Visu­ally strik­ing\, and designed to draw atten­tion from passersby\, posters can be con­ver­sa­tion starters\, invite peo­ple to pause\, reflect\, spread the word\, get involved. They have been a pow­er­ful medium for many con­cep­tual artists and graphic design­ers to cre­ate pow­er­ful images and mes­sages that could respond to imme­di­ate issues and be dis­trib­uted widely. \n Sim­i­larly\, video art was another excit­ing imme­di­ate medium for con­cep­tual artists in the 1960s and 1970s as the tech­nol­ogy became more acces­si­ble to the masses. Video art pro­vided an alter­na­tive to the dom­i­nant broad­cast­ing cor­po­ra­tions. Artists made exper­i­men­tal films\, recorded per­for­mances\, and first-per­son nar­ra­tives that were then exhib­ited and screened at gal­leries\, muse­ums\, and events. Posters and videos con­tinue to be salient fea­tures in the 21st Cen­tury to respond to urgent issues and ques­tions fac­ing the present moment. \nRespond / Resist / Rethink asks the UM com­mu­nity to come together to envi­sion mod­els for inclu­sion that are grounded in equal­ity\, belong­ing\, and empathy. The work featured in the exhibition were selected through an open call by a com­mit­tee comprising Stamps fac­ulty\, stu­dents\, and staff includ­ing Julianna Lew\, David Chung\, Najwat Rehman\, Albert Che\, and Stamps Gallery staff.
UID:84617-21624268@events.umich.edu
URL:https://events.umich.edu/event/84617
CLASS:PUBLIC
STATUS:CONFIRMED
CATEGORIES:Art
LOCATION:Off Campus Location
CONTACT:
END:VEVENT
BEGIN:VEVENT
DTSTAMP:20211021T121520
DTSTART;TZID=America/Detroit:20210925T110000
DTEND;TZID=America/Detroit:20210925T170000
SUMMARY:Exhibition:Stephanie Dinkins: On Love & Data
DESCRIPTION:Stamps Gallery is proud to present the first survey of renowned transmedia artist Stephanie Dinkins\, who creates platforms for dialogue about artificial intelligence as it intersects race\, gender\, aging\, and our future histories. \nThrough her work\, Dinkins has become a central figure nationally and internationally recognized for exposing bias and inequity within artificial intelligence systems. Weaving together art production and exhibition\, community-based workshops and public speaking all with the intention of encouraging action towards making artificial intelligence systems more inclusive\, accessible and transparent. \n In this exhibition\, Dinkins will debut new and interactive installations and workshops that build on her concept of Afro-now-ism. In this poetic manifesto-like text\, Dinkins asks her audience\, particularly from communities of color\, to not only confront the litany of violences that humans have wielded upon one another based on the institutional and social constructions of race\, caste\, class\, and gender to maintain status quo and the current systems of power - but rise above it by taking action to start building the world that they desire. \nShe writes: “Instead of waiting to reach the proverbial promised land\, also known as a time in the future that may or may not manifest in your lifetime\, Afro-now-ism is taking the leap and the risks to imagine and define oneself beyond systemic oppression... For black people in particular\, it means conceiving yourself in the space of free and expansive thought and acting from a critically integrated space\, allowing for more community-sustaining work.” \n Through her installations and workshops Stephanie Dinkins: On Love &amp\; Data develops a dialogue with the audience on the hierarchies embedded within machine learning and AI architecture and one&#039\;s individual agency in transforming the algorithms within it. The audience will explore and participate in creating a more inclusive data-based narrative of what governance of the people\, by the people and for the people can look like in an AI mediated world where care is encoded within our digital civic system.
UID:84616-21624248@events.umich.edu
URL:https://events.umich.edu/event/84616
CLASS:PUBLIC
STATUS:CONFIRMED
CATEGORIES:Art
LOCATION:Off Campus Location
CONTACT:
END:VEVENT
BEGIN:VEVENT
DTSTAMP:20210913T164616
DTSTART;TZID=America/Detroit:20210925T133000
DTEND;TZID=America/Detroit:20210925T153000
SUMMARY:Social / Informal Gathering:Game Day @ The Union
DESCRIPTION:Ready to get pumped for Game Day? We've got you covered! Stop by the Union front lawn before the Michigan vs. Rutgers Football game for music\, lawn games\, free food and all the Michigan spirit you need to root the Wolverines on to victory!\n\nUnion Front Lawn - 1:30 pm - 3:30 pm
UID:86890-21637077@events.umich.edu
URL:https://events.umich.edu/event/86890
CLASS:PUBLIC
STATUS:CONFIRMED
CATEGORIES:Athletics - Football,Food,Free,Game Day,Games,Graduate Students,In Person,Outdoors,Social,Tailgate,Undergraduate Students,Well-being
LOCATION:Michigan Union - Front Lawn
CONTACT:
END:VEVENT
BEGIN:VEVENT
DTSTAMP:20210926T120006
DTSTART;TZID=America/Detroit:20210925T150000
DTEND;TZID=America/Detroit:20210925T235959
SUMMARY:Other:Lake Freeman Triathlon
DESCRIPTION:MECTC Conference Championships Hosted by Purdue Triathlon
UID:86900-21643762@events.umich.edu
URL:https://events.umich.edu/event/86900
CLASS:PUBLIC
STATUS:CONFIRMED
CATEGORIES:
LOCATION:Lake Freeman
CONTACT:
END:VEVENT
BEGIN:VEVENT
DTSTAMP:20210925T180004
DTSTART;TZID=America/Detroit:20210925T160000
DTEND;TZID=America/Detroit:20210925T190000
SUMMARY:Social / Informal Gathering:Welcome-Back Picnic
DESCRIPTION:Having spent a long lock-down quarantine\, we are gathering once again to celebrate the new academic year. As an annual tradition\, IGSA is holding a fun afternoon picnic for all returning and new students\, faculty\, and staff. We will meet up on Saturday\, September 25th at Gallup Park. Food and beverages are provided but you are welcome to bring your favorite dishes.
UID:86285-21632586@events.umich.edu
URL:https://events.umich.edu/event/86285
CLASS:PUBLIC
STATUS:CONFIRMED
CATEGORIES:
LOCATION:Gallup Park
CONTACT:
END:VEVENT
BEGIN:VEVENT
DTSTAMP:20210925T180002
DTSTART;TZID=America/Detroit:20210925T190000
DTEND;TZID=America/Detroit:20210925T220000
SUMMARY:Other:Black Homecoming
DESCRIPTION:The annual Black Homecoming Gala at the University of Michigan is a cultural event that unites the campus community and showcases the achievements and diversity of its student body. Every year\, Michigan students\, faculty\, staff\, and alumni gather to celebrate each other’s accomplishments\, show their school spirit\, and appreciate one another in a festive and formal environment. The event serves a valuable role in creating meaningful and life-long connections between past\, present\, and future classes of University of Michigan students.  
UID:56479-13910457@events.umich.edu
URL:https://events.umich.edu/event/56479
CLASS:PUBLIC
STATUS:CONFIRMED
CATEGORIES:
LOCATION:Michigan Union
CONTACT:
END:VEVENT
BEGIN:VEVENT
DTSTAMP:20210915T111649
DTSTART;TZID=America/Detroit:20210925T190000
DTEND;TZID=America/Detroit:20210925T235900
SUMMARY:Exhibition:Stephanie Dinkins: On Love & Data & Holding Space\, 2021 (A new project for Dlectricity)
DESCRIPTION:Stamps Gallery is proud to premier a new projection work by Stephanie Dinkins at Detroit&#039\;s DLECTRICITY festival\, September 24-25\, 2021 from 7:00 pm – midnight. \nDLECTRICITY is free and open to the public. No registration required.\nThis new work extends into a visual poem and offers glimpses into an Afro-now-ist world Dinkins has envisioned. In this world\, Dinkins illuminates the power and resilience in black women’s stories\, reminding us that sharing and receiving stories is an act of resistance. \n \nThis projection is part of a major survey of Dinkins work titled Stephanie Dinkins: On Love &amp\; Data\, on view at Stamps Gallery through October 23\, 2021. Curated by Srimoyee Mitra.\nDLECTRICITY is a nighttime outdoor festival of art\, light and technology that showcases extraordinary art by emerging and established artists and creative design professionals. This outdoor festival includes over 40 art installations and 2 music stages. The festival will focus on safe visitor experiences in open spaces throughout Detroit’s Cultural Center and DTE’s Beacon Park.\nImage: Stephanie Dink­ins\, Secret Gar­den (video still)\, 2020 \n
UID:85364-21626318@events.umich.edu
URL:https://events.umich.edu/event/85364
CLASS:PUBLIC
STATUS:CONFIRMED
CATEGORIES:Art
LOCATION:Off Campus Location
CONTACT:
END:VEVENT
BEGIN:VEVENT
DTSTAMP:20210723T121755
DTSTART;TZID=America/Detroit:20210925T200000
DTEND;TZID=America/Detroit:20210925T220000
SUMMARY:Performance:Susan Werner - Rescheduled from 5/9
DESCRIPTION:*By purchasing a ticket you agree that you and your guests will comply with all laws\, orders\, ordinances\, regulations and health and safety guidance adopted by the State of Michigan\, the County of Washtenaw and The Ark\, including any guidelines in place at the time of the show. Attendees who do not comply will be asked to leave. Policies will be updated as circumstances and requirements change in our community. Please review The Ark’s current COVID-related information before attending a show.*\n\nNPR has called Susan Werner \"folk's empress of the unexpected.\" Susan is a triple threat at folk awards ceremonies with her luxuriously smooth and strong voice (she's a former opera singer)\, riveting lyrics\, and haunting melodies. \"When it comes to crafting a song\, Ms. Werner's only peers are Jimmy Webb and Paul Simon\,\" raves No Depression. Susan can do it all! She's a virtuoso on both piano and guitar\, and her recordings have ranged from hardcore folk to Broadway music\, humorous songs\, a skeptical yet sympathetic take on gospel\, songs of farming\, and even classical arrangements of classic rock. Susan has a way of reinventing herself for each new project\, but there's a core of humor sophistication\, and musical craft that endures. Her latest album is \"NOLA: Susan Werner Goes to New Orleans\,\" and\, well\, New Orleans may never be the same.
UID:68373-21312497@events.umich.edu
URL:https://events.umich.edu/event/68373
CLASS:PUBLIC
STATUS:CONFIRMED
CATEGORIES:The Ark
LOCATION:1027 E. Huron Building
CONTACT:
END:VEVENT
END:VCALENDAR