BEGIN:VCALENDAR
VERSION:2.0
PRODID:-//UM//UM*Events//EN
CALSCALE:GREGORIAN
BEGIN:VTIMEZONE
TZID:America/Detroit
TZURL:http://tzurl.org/zoneinfo/America/Detroit
X-LIC-LOCATION:America/Detroit
BEGIN:DAYLIGHT
TZOFFSETFROM:-0500
TZOFFSETTO:-0400
TZNAME:EDT
DTSTART:20070311T020000
RRULE:FREQ=YEARLY;BYMONTH=3;BYDAY=2SU
END:DAYLIGHT
BEGIN:STANDARD
TZOFFSETFROM:-0400
TZOFFSETTO:-0500
TZNAME:EST
DTSTART:20071104T020000
RRULE:FREQ=YEARLY;BYMONTH=11;BYDAY=1SU
END:STANDARD
END:VTIMEZONE
BEGIN:VEVENT
DTSTAMP:20210813T092233
DTSTART;TZID=America/Detroit:20210926T000000
DTEND;TZID=America/Detroit:20210926T230000
SUMMARY:Exercise / Fitness:2021 Hail! From Home Virtual 5K
DESCRIPTION:Join the Alumni Association and fellow Wolverines for the second annual Hail! From Home Virtual 5K!\n\nCome together with Wolverines around the world to complete your favorite 5K course during the month of September. By participating\, you are supporting underrepresented minority students through the LEAD Scholars program.\n\nA portion of every registration benefits the LEAD Scholars program\, which supports Black\, Native American\, and Latinx students accepted to U-M through life-changing scholarship and inclusive community support.\n\nAll virtual 5K participants will receive a commemorative Hail! From Home race kit complete with a custom t-shirt\, race bib\, and finisher’s medal.\n\nSign up and get just over 10% off your registration today — wherever you are\, every mile makes a difference.
UID:85236-21626051@events.umich.edu
URL:https://events.umich.edu/event/85236
CLASS:PUBLIC
STATUS:CONFIRMED
CATEGORIES:Alumni,Fitness
LOCATION:Off Campus Location
CONTACT:
END:VEVENT
BEGIN:VEVENT
DTSTAMP:20210926T180004
DTSTART;TZID=America/Detroit:20210926T000000
DTEND;TZID=America/Detroit:20210926T235959
SUMMARY:Sporting Event:Great Lakes Intercollegiate Offshore Regatta (GLIOR)
DESCRIPTION:Keelboat Regatta hosted by the Chicago Corinthian Yacht Club.
UID:85444-21643796@events.umich.edu
URL:https://events.umich.edu/event/85444
CLASS:PUBLIC
STATUS:CONFIRMED
CATEGORIES:
LOCATION:Chicago Corinthian Yacht Club, Chicago, IL
CONTACT:
END:VEVENT
BEGIN:VEVENT
DTSTAMP:20210926T120006
DTSTART;TZID=America/Detroit:20210926T000000
DTEND;TZID=America/Detroit:20210926T235959
SUMMARY:Other:Lake Freeman Triathlon
DESCRIPTION:MECTC Conference Championships Hosted by Purdue Triathlon
UID:86900-21643763@events.umich.edu
URL:https://events.umich.edu/event/86900
CLASS:PUBLIC
STATUS:CONFIRMED
CATEGORIES:
LOCATION:Lake Freeman
CONTACT:
END:VEVENT
BEGIN:VEVENT
DTSTAMP:20210926T120005
DTSTART;TZID=America/Detroit:20210926T000000
DTEND;TZID=America/Detroit:20210926T235959
SUMMARY:Other:Queen City Classic Tournament
DESCRIPTION:Queen City Classic Tournament hosted by the University of Cincinnati 
UID:86811-21643749@events.umich.edu
URL:https://events.umich.edu/event/86811
CLASS:PUBLIC
STATUS:CONFIRMED
CATEGORIES:
LOCATION:2600 Clifton Ave, Cincinnati, OH 45221
CONTACT:
END:VEVENT
BEGIN:VEVENT
DTSTAMP:20210511T124519
DTSTART;TZID=America/Detroit:20210926T080000
DTEND;TZID=America/Detroit:20210926T230000
SUMMARY:Other:Become a UROP Research Mentor
DESCRIPTION:Submit a Research Project for the 2021-2022 Academic Year: https://lsa.umich.edu/urop/research-mentors.html\n\nUROP Research Mentors are faculty and post-doc researchers from across all U-M's 19 Schools and Colleges who provide undergraduate student researchers an opportunity to engage in research activities that help them learn about the pursuit of knowledge within an academic discipline. This early exposure to research fosters a valuable academic experience for students. Through this collaboration\, students gain research skills and mentorship that lead to academic retention\, a more positive undergraduate experience and paths to graduate school.
UID:83879-21619540@events.umich.edu
URL:https://events.umich.edu/event/83879
CLASS:PUBLIC
STATUS:CONFIRMED
CATEGORIES:AEM Featured,Education,Faculty,Free,Graduate and Professional Students,Graduate Students,Interdisciplinary,Mentorship,Research,research data,Staff,Urop
LOCATION:Off Campus Location
CONTACT:
END:VEVENT
BEGIN:VEVENT
DTSTAMP:20210723T154528
DTSTART;TZID=America/Detroit:20210926T080000
DTEND;TZID=America/Detroit:20210926T235900
SUMMARY:Exhibition:That Greece Might Still Be Free
DESCRIPTION:Learn about the Greek War of Independence\, 19th century European international politics\, and the origins of nationalism and the modern nation-state. This exhibit commemorates the 200th anniversary of the Greek War of Independence\, which began with General Alexandros Ypsilantis’ (Greek: Αλέξανδρος Υψηλάντης) uprising against the Ottoman rulers in the Danubian Principality of Moldavia during the spring of 1821. https://myumi.ch/wlYoq\n\nThe exhibit was curated by students in the Michigan Library Scholars program\, William McClelland and Quinn Byington\, with Zachary Quint as their librarian mentor.
UID:84737-21624773@events.umich.edu
URL:https://events.umich.edu/event/84737
CLASS:PUBLIC
STATUS:CONFIRMED
CATEGORIES:Exhibition,History,Library
LOCATION:Off Campus Location
CONTACT:
END:VEVENT
BEGIN:VEVENT
DTSTAMP:20210901T114359
DTSTART;TZID=America/Detroit:20210926T080000
DTEND;TZID=America/Detroit:20210926T170000
SUMMARY:Community Service:U-M Food Drive for Food Gatherers
DESCRIPTION:In 2020\, members of the U-M and local community donated more than 242\,000 meals' worth of food to Food Gatherers through three food drives. \n\nBut with school restarting\, pandemic unemployment benefits ending and the pandemic resurging\, the need for food\, diapers and toiletries continues to rise. \n\nMichigan Medicine has launched a new food drive through Sept. 26\, with in-person and online giving options. To give in person\, bring food and toiletry donations to Dock 90 of the North Campus Research Complex\, off Huron Parkway south of Plymouth Road. See a full list of most-needed items and other details about what can and can't be accepted: https://www.uofmhealth.org/fallfood \nOr give online at https://foodgatherers.org/um
UID:86116-21631613@events.umich.edu
URL:https://events.umich.edu/event/86116
CLASS:PUBLIC
STATUS:CONFIRMED
CATEGORIES:Community Service,Food,Medicine,Public Health
LOCATION:North Campus Research Complex Building 18 - Loading Dock 90
CONTACT:
END:VEVENT
BEGIN:VEVENT
DTSTAMP:20211104T150425
DTSTART;TZID=America/Detroit:20210926T090000
DTEND;TZID=America/Detroit:20210926T170000
SUMMARY:Exhibition:Buying Home\, Selling America: the House Catalog\, 1906-1966
DESCRIPTION:Buying Home\, Selling America: the House Catalog\, 1906-1966 brings to light the collection of house catalogs in the Art\, Architecture & Engineering Library’s Special Collections. Focusing primarily on the kit house industry of Michigan and the Midwest\, the catalogs provide a portal to explore multiple themes\, such as\, the Michigan house catalog industry\, changing architectural styles\, the business of selling homes\, societal and cultural implications\, and domestic technologies. We hope the exhibit is not simply a nostalgic view back\, but raises awareness of our domestic surroundings today and compels us to ask questions as we look to the future.\n\nThe exhibit is available in the Clark Library (second floor Hatcher) during Hatcher Library hours.
UID:86339-21632769@events.umich.edu
URL:https://events.umich.edu/event/86339
CLASS:PUBLIC
STATUS:CONFIRMED
CATEGORIES:Architecture,Free,Library
LOCATION:Hatcher Graduate Library - Clark Library, 2nd Floor
CONTACT:
END:VEVENT
BEGIN:VEVENT
DTSTAMP:20210926T060004
DTSTART;TZID=America/Detroit:20210926T093000
DTEND;TZID=America/Detroit:20210926T120000
SUMMARY:Other:Game vs BGSU
DESCRIPTION:Home game at Yost
UID:86957-21637736@events.umich.edu
URL:https://events.umich.edu/event/86957
CLASS:PUBLIC
STATUS:CONFIRMED
CATEGORIES:
LOCATION:Yost Ice Arena
CONTACT:
END:VEVENT
BEGIN:VEVENT
DTSTAMP:20210701T145834
DTSTART;TZID=America/Detroit:20210926T100000
DTEND;TZID=America/Detroit:20210926T160000
SUMMARY:Exhibition:A Garden of Earthy Delights: Ceramic Sculptures by Ann Arbor Potters Guild at Matthaei Botanical Gardens
DESCRIPTION:Inspired by the synergy between nature’s beauty and complexity\, and in partnership with the University of Michigan Matthaei Botanical Gardens\, artists from the Ann Arbor Potters Guild created work centered around Michigan’s natural landscapes and specifically for the Great Lakes Garden at Matthaei. Potters Guild artists created eight free-standing sculptures using the full range of traditional ceramic methods and tools\, the potter’s wheel\, press molds\, coil building\, slab construction\, and sculpting. Depictions range from naturalistic and representational\, to abstract\, as well as a whimsical nod or two to the timeless role of fantasy and myth in humankind’s communion with nature. Exhibit is free but scheduled reservations are required to visit the botanical gardens. Use this link to book your visit: https://www.signupgenius.com/go/8050f4aadad22a2fd0-matthaei1
UID:84388-21623755@events.umich.edu
URL:https://events.umich.edu/event/84388
CLASS:PUBLIC
STATUS:CONFIRMED
CATEGORIES:Art,Outdoors
LOCATION:Matthaei Botanical Gardens
CONTACT:
END:VEVENT
BEGIN:VEVENT
DTSTAMP:20210817T085133
DTSTART;TZID=America/Detroit:20210926T100000
DTEND;TZID=America/Detroit:20210926T170000
SUMMARY:Conference / Symposium:FYE College Success Symposium
DESCRIPTION:Are you a first-year\, transfer\, or second year student? Want to learn tips\, tricks\, and tools for success at U-M? \n\nJoin First Year Experience (FYE) for our College Success Symposium! We'll have workshops with four themes: Journey\, Discover\, Connect\, and Thrive. All workshops will be led by students\, for students!\n\nWe will offer the College Success Symposium TWICE throughout the semester - on September 26th and October 3rd. Register for the date that works best for you!\n\n***Registration is required\, and if you register\, you will be expected to attend the entirety of the day-long symposium. Lunch will be provided!***\n\nRegister here: https://myumi.ch/xmo34
UID:85309-21626210@events.umich.edu
URL:https://events.umich.edu/event/85309
CLASS:PUBLIC
STATUS:CONFIRMED
CATEGORIES:Academics,Education,First Year Experience,first year students,first-generation,Food,Free,Health & Wellness,involvement,Leadership,Networking,Professional Development,Social,Transfer Students,Undergraduate,Undergraduate Students,Welcome to Michigan,Well-being,Workshop
LOCATION:Michigan Union - Kuenzel Room
CONTACT:
END:VEVENT
BEGIN:VEVENT
DTSTAMP:20210926T120007
DTSTART;TZID=America/Detroit:20210926T120000
DTEND;TZID=America/Detroit:20210926T143000
SUMMARY:Other:Game vs Oakland University
DESCRIPTION:League Match between Oakland and Michigan.
UID:86547-21634886@events.umich.edu
URL:https://events.umich.edu/event/86547
CLASS:PUBLIC
STATUS:CONFIRMED
CATEGORIES:
LOCATION:Oakland University
CONTACT:
END:VEVENT
BEGIN:VEVENT
DTSTAMP:20210926T120005
DTSTART;TZID=America/Detroit:20210926T120000
DTEND;TZID=America/Detroit:20210926T130000
SUMMARY:Other:Western Michigan
DESCRIPTION:UMWSC vs. Western at Home
UID:86477-21634537@events.umich.edu
URL:https://events.umich.edu/event/86477
CLASS:PUBLIC
STATUS:CONFIRMED
CATEGORIES:
LOCATION:Mitchell Field
CONTACT:
END:VEVENT
BEGIN:VEVENT
DTSTAMP:20210916T171716
DTSTART;TZID=America/Detroit:20210926T123000
DTEND;TZID=America/Detroit:20210926T130000
SUMMARY:Exercise / Fitness:Bike to Harvest Fest!
DESCRIPTION:GROUP BIKE CANCELED DUE TO CONSTRUCTION - GO ON YOUR OWN AT YOUR OWN DISCRETION\n\nJoin student leaders of University of Michigan Sustainable Foods Program and the Campus Farm for a scenic bike ride along the Huron River from Nichols Arboretum (peony gardens) to the U-M Campus Farm at Matthaei Botanical Gardens where we will join in the \"9th Annual Harvest Festival\" activities.\nThe route will be completely off road trails including the B2B and Matthaei Gardens Trail.\n\nThe route from Nichols Arboretum to the Campus Farm is just under 6 miles long\, and we estimate the trip to take about 30 minutes on bikes. Although the group will start at the same time\, we expect that the group will spread out along the way. So feel free to go at your own pace. You can even opt to jog if you would prefer.\n\nStart time: 12:30pm at the Nichols Arboretum: 1610 Washington Heights\nBring your own bike and water bottle! All are welcome to participate.\nDon’t have a bike? Check out the link to  Adventure Leadership for information on daily bicycle rentals. Or bring your own trail-friendly mode of transportation (jogging shoes\, scooter\, etc.).\n\nNote: This is a one way group trip\, so individuals will need to plan transportation back to central campus.\n\nFor more information about the \"9th Annual Harvest Festival\" Check out events hosted by University of Michigan Sustainable Food Program. And don't forget to follow UMSFP on Instagram for more updates.
UID:84628-21624292@events.umich.edu
URL:https://events.umich.edu/event/84628
CLASS:PUBLIC
STATUS:CONFIRMED
CATEGORIES:campus farm,environment,environmental,environmental justice,event,Family,festival,free,friends of the campus farm,Health & Wellness,health and wellness,local,matthaei,matthaei botanical gardens,outdoor adventures,Outdoors,Public Health,Social Impact,student org,sustainability
LOCATION:Off Campus Location
CONTACT:
END:VEVENT
BEGIN:VEVENT
DTSTAMP:20210926T120006
DTSTART;TZID=America/Detroit:20210926T130000
DTEND;TZID=America/Detroit:20210926T143000
SUMMARY:Meeting:9/26 Meeting
DESCRIPTION:The group will be meeting to play Speedball
UID:87397-21641887@events.umich.edu
URL:https://events.umich.edu/event/87397
CLASS:PUBLIC
STATUS:CONFIRMED
CATEGORIES:
LOCATION:Palmer Field
CONTACT:
END:VEVENT
BEGIN:VEVENT
DTSTAMP:20210923T114712
DTSTART;TZID=America/Detroit:20210926T130000
DTEND;TZID=America/Detroit:20210926T160000
SUMMARY:Fair / Festival:9th Annual Harvest Festival
DESCRIPTION:The University of Michigan Sustainable Food Program and the Campus Farm invite you to the 9th Annual Harvest Fest\, on Sunday\, Sept 26 from 1-4pm. This celebration of all things sustainable food at U-M is located at the UM Campus Farm and Matthaei Botanical Gardens (1800 N Dixboro Rd). Join us for games\, music\, food\, farm tours\, and connections to many organizations on campus and in our local community working to make our food system more just and resilient.\n\nThis event is FREE and open to the community so bring your friends and family.\n\nFree bus transportation will run every 20 minutes from the Central Campus Transit Center to Matthaei Botanical Gardens / U-M Campus Farm and back again. Free parking is also available on site.\n\nBike to Harvest is canceled due to construction. You can still go on your own if you'd like\, but expect construction along the B2B trail.
UID:84626-21624287@events.umich.edu
URL:https://events.umich.edu/event/84626
CLASS:PUBLIC
STATUS:CONFIRMED
CATEGORIES:campus farm,community gathering,education,environmental justice,event,Family,festival,food,food and gardens,food and the environment,food sustainability,free,friends of the campus farm,garden,Health & Wellness,health and wellness,healthy eating,herb garden,local,local food,matthaei,matthaei botanical gardens,michigan sustainable foods initiative,Outdoors,Public Health,Social Impact,social justice,student advocates for nutrition,student org,student organizations,sustainability,sustainable,sustainable food systems
LOCATION:Off Campus Location
CONTACT:
END:VEVENT
BEGIN:VEVENT
DTSTAMP:20210926T120003
DTSTART;TZID=America/Detroit:20210926T130000
DTEND;TZID=America/Detroit:20210926T160000
SUMMARY:Other:Harvest Festival
DESCRIPTION:The University of Michigan Sustainable Food Program (UMSFP) and the Campus Farm invite you to a celebration of all things sustainable food at U-M. Join us for games\, music\, food\, farm tours\, and connections to many organizations on campus and in our local community working to make our food system more just and resilient. Transportation is available for U-M students! For more information\, click this link: http://bit.ly/umharvestfest
UID:84720-21624485@events.umich.edu
URL:https://events.umich.edu/event/84720
CLASS:PUBLIC
STATUS:CONFIRMED
CATEGORIES:
LOCATION:Campus Farm
CONTACT:
END:VEVENT
BEGIN:VEVENT
DTSTAMP:20210919T194057
DTSTART;TZID=America/Detroit:20210926T130000
DTEND;TZID=America/Detroit:20210926T160000
SUMMARY:Social / Informal Gathering:Welcome Back Picnic\, sponsored by SHPE Grad\, GradSWE\, & GSBES
DESCRIPTION:SHPE Grad\, GSBES\, and GradSWE invite incoming and returning students to our welcome back picnic next Sunday\, September 26th. The event will be held on at Duderstadt Front Lawn from 1pm-4pm! Join us for food\, activities\, and fellowship between the organizations. Attendees are encouraged to bring their own blankets to sit on the grass. You will be asked to show your ResponsiBLUE on arrival.\nRSVP is required.\nContact: Christopher Ayala at ayalac@umich.edu
UID:87214-21640340@events.umich.edu
URL:https://events.umich.edu/event/87214
CLASS:PUBLIC
STATUS:CONFIRMED
CATEGORIES:Graduate Students,Michigan Engineering,Undergraduate Students
LOCATION:Duderstadt Center - Front Lawn
CONTACT:
END:VEVENT
BEGIN:VEVENT
DTSTAMP:20210914T130939
DTSTART;TZID=America/Detroit:20210926T140000
DTEND;TZID=America/Detroit:20210926T150000
SUMMARY:Performance:SoniCelegans - and Beyond!
DESCRIPTION:This is a milestone in a journey that brings together music and neurobiology. Through a collaboration among musicians\, neurobiologists\, sound engineers\, composers\, scientists\, humans\, and nematodes\, we explore questions inspired by neurobiology experiments with the invertebrate model organism Caenorhabditis elegans (C. elegans). How does memory sound? What constitutes the musical background of a memory? How is a maze represented musically? What is the relationship between stochasticity in spatial navigation and improvisation in musical navigation? How can a human performer converse with a tiny invertebrate animal lost in space? How can we learn to create music guided by an experimental animal? How can an invertebrate creature learn to navigate guided by music? And\, ultimately\, how do the founding definitions of our certainties shape up when we shift our frame of thought into a new paradigm?\n\nSunday\, September 26 | 2-3pm & 3-4pm (each show is a 30-minute installation followed by a 30-minute performance)\nAdmission is free but RSVP is required at https://forms.gle/AXorZMAZartHizHF8
UID:86934-21637598@events.umich.edu
URL:https://events.umich.edu/event/86934
CLASS:PUBLIC
STATUS:CONFIRMED
CATEGORIES:ArtsEngine,Biology,Biosciences,creativity,Electrical Engineering and Computer Science,Faculty,Free,Interdisciplinary,Mechanical Engineering,Michigan Robotics,music,north campus,Robotics,Science
LOCATION:Earl V. Moore Building - Chip Davis Studio
CONTACT:
END:VEVENT
BEGIN:VEVENT
DTSTAMP:20210923T181511
DTSTART;TZID=America/Detroit:20210926T150000
SUMMARY:Performance:Masterclass: Sunny Wilkinson\, vocal jazz
DESCRIPTION:part of the Don Chisholm Vocal Jazz Series
UID:85576-21626944@events.umich.edu
URL:https://events.umich.edu/event/85576
CLASS:PUBLIC
STATUS:CONFIRMED
CATEGORIES:Concert,Culture,Free,Music,North campus
LOCATION:Stearns Building - Cady Room
CONTACT:
END:VEVENT
BEGIN:VEVENT
DTSTAMP:20210914T130939
DTSTART;TZID=America/Detroit:20210926T150000
DTEND;TZID=America/Detroit:20210926T160000
SUMMARY:Performance:SoniCelegans - and Beyond!
DESCRIPTION:This is a milestone in a journey that brings together music and neurobiology. Through a collaboration among musicians\, neurobiologists\, sound engineers\, composers\, scientists\, humans\, and nematodes\, we explore questions inspired by neurobiology experiments with the invertebrate model organism Caenorhabditis elegans (C. elegans). How does memory sound? What constitutes the musical background of a memory? How is a maze represented musically? What is the relationship between stochasticity in spatial navigation and improvisation in musical navigation? How can a human performer converse with a tiny invertebrate animal lost in space? How can we learn to create music guided by an experimental animal? How can an invertebrate creature learn to navigate guided by music? And\, ultimately\, how do the founding definitions of our certainties shape up when we shift our frame of thought into a new paradigm?\n\nSunday\, September 26 | 2-3pm & 3-4pm (each show is a 30-minute installation followed by a 30-minute performance)\nAdmission is free but RSVP is required at https://forms.gle/AXorZMAZartHizHF8
UID:86934-21637599@events.umich.edu
URL:https://events.umich.edu/event/86934
CLASS:PUBLIC
STATUS:CONFIRMED
CATEGORIES:ArtsEngine,Biology,Biosciences,creativity,Electrical Engineering and Computer Science,Faculty,Free,Interdisciplinary,Mechanical Engineering,Michigan Robotics,music,north campus,Robotics,Science
LOCATION:Earl V. Moore Building - Chip Davis Studio
CONTACT:
END:VEVENT
BEGIN:VEVENT
DTSTAMP:20210908T130919
DTSTART;TZID=America/Detroit:20210926T160000
DTEND;TZID=America/Detroit:20210926T180000
SUMMARY:Lecture / Discussion:The Premodern Colloquium. Anti-Aljamiado: Transliterating Arabic in the Antialcoranes
DESCRIPTION:After the forced conversion of the Muslims in Castile in 1502 and in Aragon in 1526\, numerous Christian writers made use of Arabic and Islamic texts as part of a missionizing effort to instruct and acculturate the new Morisco population. Texts by the convert known as Juan Andrés (Confusión o confutación de la secta mahomética y del Alcorán\, 1515)\, Juan Martín de Figuerola (Lumbre de la fe contra la secta machomética\, not published\, finished 1518)\, Bishop of Barcelona Martín García (Sermones\, 1520)\, Erasmist writer Bernardo Pérez de Chinchón (Antialcorano\, 1532)\, and the Avilan priest Lope de Obregón (Confutación del alcorán y secta mahometana\, sacado de sus proprios libros\, y de la vida del mesmo Mahoma\, 1555) form part of a group of missionizing texts that can be called “Anti-Qurʾāns\,” on the basis of Pérez de Chinchón’s title. Such texts present an inversion of the language and practices of the Moriscos. They do not use Aljamiado (Castilian text written in Arabic letters and sometimes blended with Arabic text)\, employed to express and support Morisco identity\, but rather “anti-Aljamiado” (Arabic text written in Latin letters\, blended with Castilian text)\, employed to undermine that identity and encourage conversion and assimilation. This chapter analyzes this phenomenon in the context of Arabic knowledge and use in early sixteenth-century Iberia\, arguing that the use of “anti-Aljamiado” was not simply an accident of transliteration or typesetting\, but was part of a deliberate strategy by Christian preachers and writers to support their own authority in arguing against Islam.\n\nRyan Szpiech is Associate Professor of Spanish and Judaic Studies\, and Director of the Center for Middle East and North African Studies at the University of Michigan\, where he teaches and writes about translation\, conversion\, and religious interaction in medieval and early modern Iberia. He is the author of Conversion and Narrative: Reading and Religious Authority in Medieval Polemic (Pennsylvania\, 2013)\, which won the La Corónica Book Award (2015)\; editor of Medieval Exegesis and Religious Difference: Commentary\, Conflict\, and Community in the Premodern Mediterranean (Fordham\, 2015) and of a special issue of Journal of Medieval Iberian Studies (2011) on “Gender and Genre in Medieval Sepharad”\; and co-editor of Interreligious Encounters in Polemics between Christians\, Jews\, and Muslims in Iberia and Beyond (Brill\, 2018) and Astrolabes in Medieval Cultures (Brill\, 2019). In 2019\, he completed a 25-minute documentary about the history of King Alfonso X\, entitled “The Birth of Spanish in 3D” (https://birth-of-spanish.rll.lsa.umich.edu/). Since 2013\, he has been editor-in-chief of the journal Medieval Encounters.
UID:85742-21628584@events.umich.edu
URL:https://events.umich.edu/event/85742
CLASS:PUBLIC
STATUS:CONFIRMED
CATEGORIES:arabic,comparative literature,Literature,Spanish Studies
LOCATION:Off Campus Location
CONTACT:
END:VEVENT
BEGIN:VEVENT
DTSTAMP:20210802T154305
DTSTART;TZID=America/Detroit:20210926T200000
DTEND;TZID=America/Detroit:20210926T230000
SUMMARY:Performance:May Erlewine & The Motivations
DESCRIPTION:On a few special dates each year\, singer-songwriter May Erlewine breaks from her Americana and folk roots to front The Motivations: a seven-piece dance party funk band that dishes up boogie jams and classic soul cuts and features vocals\, guitar\, keys\, bass\, organ\, trumpet\, saxophone\, drums and percussion. Expect a retro-groove dance party meant to get you moving\, make you feel connected\, and help you celebrate the moment. We'll set aside the dance floor on either side of the stage\, so you can look forward to feel-good fun and small revolutions to shake things up\, just enough.
UID:84865-21625211@events.umich.edu
URL:https://events.umich.edu/event/84865
CLASS:PUBLIC
STATUS:CONFIRMED
CATEGORIES:The Ark
LOCATION:Off Campus Location
CONTACT:
END:VEVENT
END:VCALENDAR