BEGIN:VCALENDAR
VERSION:2.0
PRODID:-//UM//UM*Events//EN
CALSCALE:GREGORIAN
BEGIN:VTIMEZONE
TZID:America/Detroit
TZURL:http://tzurl.org/zoneinfo/America/Detroit
X-LIC-LOCATION:America/Detroit
BEGIN:DAYLIGHT
TZOFFSETFROM:-0500
TZOFFSETTO:-0400
TZNAME:EDT
DTSTART:20070311T020000
RRULE:FREQ=YEARLY;BYMONTH=3;BYDAY=2SU
END:DAYLIGHT
BEGIN:STANDARD
TZOFFSETFROM:-0400
TZOFFSETTO:-0500
TZNAME:EST
DTSTART:20071104T020000
RRULE:FREQ=YEARLY;BYMONTH=11;BYDAY=1SU
END:STANDARD
END:VTIMEZONE
BEGIN:VEVENT
DTSTAMP:20211003T180004
DTSTART;TZID=America/Detroit:20211003T000000
DTEND;TZID=America/Detroit:20211003T235959
SUMMARY:Sporting Event:Battle Creek Blast Tournament
DESCRIPTION:Weekend Tournament in Battle Creek. Three games guaranteed. One game elimination tournament on Sunday if we make it out of pool play. 
UID:86964-21646846@events.umich.edu
URL:https://events.umich.edu/event/86964
CLASS:PUBLIC
STATUS:CONFIRMED
CATEGORIES:
LOCATION:Bailey Park
CONTACT:
END:VEVENT
BEGIN:VEVENT
DTSTAMP:20211003T180003
DTSTART;TZID=America/Detroit:20211003T000000
DTEND;TZID=America/Detroit:20211003T235959
SUMMARY:Sporting Event:Cary Price Memorial Regatta
DESCRIPTION:MCSA fleet race regatta that our team is hosting.
UID:85446-21646786@events.umich.edu
URL:https://events.umich.edu/event/85446
CLASS:PUBLIC
STATUS:CONFIRMED
CATEGORIES:
LOCATION:University of Michigan, Ann Arbor, MI
CONTACT:
END:VEVENT
BEGIN:VEVENT
DTSTAMP:20210923T181826
DTSTART;TZID=America/Detroit:20211003T000000
DTEND;TZID=America/Detroit:20211003T160000
SUMMARY:Recreational / Games:Grad Student Dark Sky Park Trip
DESCRIPTION:Join us as we venture north to enjoy Michigan’s fall colors during the day and spectacular stars at night. We’ll spend two nights camping along Lake Michigan in Wilderness State Park filling our days with hikes in woods and along the shore\, and at night we will enjoy the stars from our campsite or the nearby Headlands International Dark Sky Park.\n\nApproximate trip start time: 3:00pm Friday\, October 1\nApproximate trip end time: 4:00pm Sunday\, October 3\n\nThis trip is designed specifically for grad students. There is a mandatory pre-trip meeting on Tuesday\, September 28\, 7:00pm at Adventure Leadership Rental Center\, 336 Hill St.\n\nCall with questions or for more info 734-764-3967.
UID:87481-21642403@events.umich.edu
URL:https://events.umich.edu/event/87481
CLASS:PUBLIC
STATUS:CONFIRMED
CATEGORIES:Camp,Outdoors,Rec Sports,Well-being
LOCATION:Off Campus Location
CONTACT:
END:VEVENT
BEGIN:VEVENT
DTSTAMP:20211003T120003
DTSTART;TZID=America/Detroit:20211003T000000
DTEND;TZID=America/Detroit:20211003T235959
SUMMARY:Other:Indy Tournament
DESCRIPTION:The University of Michigan Club Softball team will be heading to Elkhart\, Indiana to participate in the the Indy Tournament. 
UID:86899-21646746@events.umich.edu
URL:https://events.umich.edu/event/86899
CLASS:PUBLIC
STATUS:CONFIRMED
CATEGORIES:
LOCATION:Indy Softball Fields
CONTACT:
END:VEVENT
BEGIN:VEVENT
DTSTAMP:20211003T180004
DTSTART;TZID=America/Detroit:20211003T000000
DTEND;TZID=America/Detroit:20211003T235959
SUMMARY:Sporting Event:OSU Duals Tournament
DESCRIPTION:Duals Tournament at Ohio State University. We will be one of nine teams competing at the event\, featuring fencers from OSU\, Cleveland State University\, Indiana University\, and others.
UID:86806-21646834@events.umich.edu
URL:https://events.umich.edu/event/86806
CLASS:PUBLIC
STATUS:CONFIRMED
CATEGORIES:
LOCATION:Ohio State University
CONTACT:
END:VEVENT
BEGIN:VEVENT
DTSTAMP:20211003T180003
DTSTART;TZID=America/Detroit:20211003T000000
DTEND;TZID=America/Detroit:20211003T235959
SUMMARY:Sporting Event:Women's Showcase
DESCRIPTION:Showcase Regatta with the top teams across the country. 
UID:85445-21646782@events.umich.edu
URL:https://events.umich.edu/event/85445
CLASS:PUBLIC
STATUS:CONFIRMED
CATEGORIES:
LOCATION:St. Mary&#039;s College of Maryland, St. Mary&#039;s City, MD
CONTACT:
END:VEVENT
BEGIN:VEVENT
DTSTAMP:20210511T124519
DTSTART;TZID=America/Detroit:20211003T080000
DTEND;TZID=America/Detroit:20211003T230000
SUMMARY:Other:Become a UROP Research Mentor
DESCRIPTION:Submit a Research Project for the 2021-2022 Academic Year: https://lsa.umich.edu/urop/research-mentors.html\n\nUROP Research Mentors are faculty and post-doc researchers from across all U-M's 19 Schools and Colleges who provide undergraduate student researchers an opportunity to engage in research activities that help them learn about the pursuit of knowledge within an academic discipline. This early exposure to research fosters a valuable academic experience for students. Through this collaboration\, students gain research skills and mentorship that lead to academic retention\, a more positive undergraduate experience and paths to graduate school.
UID:83879-21619547@events.umich.edu
URL:https://events.umich.edu/event/83879
CLASS:PUBLIC
STATUS:CONFIRMED
CATEGORIES:AEM Featured,Education,Faculty,Free,Graduate and Professional Students,Graduate Students,Interdisciplinary,Mentorship,Research,research data,Staff,Urop
LOCATION:Off Campus Location
CONTACT:
END:VEVENT
BEGIN:VEVENT
DTSTAMP:20210901T101042
DTSTART;TZID=America/Detroit:20211003T080000
DTEND;TZID=America/Detroit:20211003T130000
SUMMARY:Social / Informal Gathering:SLE Retreat
DESCRIPTION:Spend the night at the Edwin S. George Reserve with SLE! We will provide transportation to the reserve in Pinckney\, Michigan. Students can sleep indoors on a bed or camp outside. We will be exploring the reserve (the bog!)\, cooking\, and talking together. If weather permits\, there will be a bonfire. We will depart on Saturday afternoon and return Sunday afternoon.
UID:86109-21631579@events.umich.edu
URL:https://events.umich.edu/event/86109
CLASS:PUBLIC
STATUS:CONFIRMED
CATEGORIES:Ecology,Environment,Outdoors,Sustainability
LOCATION:E.S. George Reserve
CONTACT:
END:VEVENT
BEGIN:VEVENT
DTSTAMP:20210723T154528
DTSTART;TZID=America/Detroit:20211003T080000
DTEND;TZID=America/Detroit:20211003T235900
SUMMARY:Exhibition:That Greece Might Still Be Free
DESCRIPTION:Learn about the Greek War of Independence\, 19th century European international politics\, and the origins of nationalism and the modern nation-state. This exhibit commemorates the 200th anniversary of the Greek War of Independence\, which began with General Alexandros Ypsilantis’ (Greek: Αλέξανδρος Υψηλάντης) uprising against the Ottoman rulers in the Danubian Principality of Moldavia during the spring of 1821. https://myumi.ch/wlYoq\n\nThe exhibit was curated by students in the Michigan Library Scholars program\, William McClelland and Quinn Byington\, with Zachary Quint as their librarian mentor.
UID:84737-21624780@events.umich.edu
URL:https://events.umich.edu/event/84737
CLASS:PUBLIC
STATUS:CONFIRMED
CATEGORIES:Exhibition,History,Library
LOCATION:Off Campus Location
CONTACT:
END:VEVENT
BEGIN:VEVENT
DTSTAMP:20211104T150425
DTSTART;TZID=America/Detroit:20211003T090000
DTEND;TZID=America/Detroit:20211003T170000
SUMMARY:Exhibition:Buying Home\, Selling America: the House Catalog\, 1906-1966
DESCRIPTION:Buying Home\, Selling America: the House Catalog\, 1906-1966 brings to light the collection of house catalogs in the Art\, Architecture & Engineering Library’s Special Collections. Focusing primarily on the kit house industry of Michigan and the Midwest\, the catalogs provide a portal to explore multiple themes\, such as\, the Michigan house catalog industry\, changing architectural styles\, the business of selling homes\, societal and cultural implications\, and domestic technologies. We hope the exhibit is not simply a nostalgic view back\, but raises awareness of our domestic surroundings today and compels us to ask questions as we look to the future.\n\nThe exhibit is available in the Clark Library (second floor Hatcher) during Hatcher Library hours.
UID:86339-21632776@events.umich.edu
URL:https://events.umich.edu/event/86339
CLASS:PUBLIC
STATUS:CONFIRMED
CATEGORIES:Architecture,Free,Library
LOCATION:Hatcher Graduate Library - Clark Library, 2nd Floor
CONTACT:
END:VEVENT
BEGIN:VEVENT
DTSTAMP:20210920T121526
DTSTART;TZID=America/Detroit:20211003T090000
DTEND;TZID=America/Detroit:20211003T170000
SUMMARY:Conference / Symposium:SLSA 2021 Conference
DESCRIPTION:The Penny W. Stamps School of Art &amp\; Design is the proud host of the annual conference for the Society for Literature\, Science and the Arts (SLSA)\, September 30 - October 3\, 2021.\nDue to the ongoing uncertainties of the COVID-19 pandemic\, the 2021 SLSA conference and member exhibition will be virtual\, bringing together an interdisciplinary and evolving community of scholars and creative makers around the 2021 theme “Energy.”\nConference registrationProgram ScheduleVirtual Poster Exhibition
UID:87261-21640690@events.umich.edu
URL:https://events.umich.edu/event/87261
CLASS:PUBLIC
STATUS:CONFIRMED
CATEGORIES:Art
LOCATION:Off Campus Location
CONTACT:
END:VEVENT
BEGIN:VEVENT
DTSTAMP:20210920T121525
DTSTART;TZID=America/Detroit:20211003T090000
DTEND;TZID=America/Detroit:20211003T170000
SUMMARY:Exhibition:SLSA 2021 Virtual Poster Exhibition
DESCRIPTION:The Penny W. Stamps School of Art &amp\; Design is the proud host of the annual conference for the Society for Literature\, Science and the Arts (SLSA) September 30 - October 3\, 2021. Learn more about the Conference here.\nDue to the ongoing uncertainties of the COVID-19 pandemic\, the 2021 SLSA conference and member exhibition will be virtual\, bringing together an interdisciplinary and evolving community of scholars and creative makers around the 2021 theme “Energy.”
UID:87260-21640686@events.umich.edu
URL:https://events.umich.edu/event/87260
CLASS:PUBLIC
STATUS:CONFIRMED
CATEGORIES:Art
LOCATION:Off Campus Location
CONTACT:
END:VEVENT
BEGIN:VEVENT
DTSTAMP:20210701T145834
DTSTART;TZID=America/Detroit:20211003T100000
DTEND;TZID=America/Detroit:20211003T160000
SUMMARY:Exhibition:A Garden of Earthy Delights: Ceramic Sculptures by Ann Arbor Potters Guild at Matthaei Botanical Gardens
DESCRIPTION:Inspired by the synergy between nature’s beauty and complexity\, and in partnership with the University of Michigan Matthaei Botanical Gardens\, artists from the Ann Arbor Potters Guild created work centered around Michigan’s natural landscapes and specifically for the Great Lakes Garden at Matthaei. Potters Guild artists created eight free-standing sculptures using the full range of traditional ceramic methods and tools\, the potter’s wheel\, press molds\, coil building\, slab construction\, and sculpting. Depictions range from naturalistic and representational\, to abstract\, as well as a whimsical nod or two to the timeless role of fantasy and myth in humankind’s communion with nature. Exhibit is free but scheduled reservations are required to visit the botanical gardens. Use this link to book your visit: https://www.signupgenius.com/go/8050f4aadad22a2fd0-matthaei1
UID:84388-21623762@events.umich.edu
URL:https://events.umich.edu/event/84388
CLASS:PUBLIC
STATUS:CONFIRMED
CATEGORIES:Art,Outdoors
LOCATION:Matthaei Botanical Gardens
CONTACT:
END:VEVENT
BEGIN:VEVENT
DTSTAMP:20210913T143715
DTSTART;TZID=America/Detroit:20211003T100000
DTEND;TZID=America/Detroit:20211003T160000
SUMMARY:Conference / Symposium:Conference. What’s New\, What’s Next? Innovative Methods\, New Sources\, and Paradigm Shifts in Jewish Studies
DESCRIPTION:This interdisciplinary online conference\, hosted by POLIN Museum of the History of Polish Jews\, will bring together scholars in a wide range of fields: anthropology\, sociology\, history\, memory studies\, museology\, art history\, and political science\, among others.\n\n\"What’s New\, What’s Next? Innovative Methods\, New Sources\, and Paradigm Shifts in Jewish Studies\" will explore new directions in the study of East and Central European Jews and the place of Jewish studies in the humanities today.\n\nConference participants will explore these questions: What constitutes Jewish studies today and in which direction should we be heading? Which paradigms are guiding the field today? How are theoretical and methodological developments in the humanities and social sciences shaping Jewish studies? How are scholars working in a broad range of disciplines – history\, social sciences\, literature\, visual and performing arts\, and other disciplines – contributing to the field? What are interdisciplinary approaches contributing to the field? What is the impact of studies of Jewish life in the former Polish-Lithuanian Commonwealth on a wider understanding of world history?\n\nThe conference website including description and program\, are at https://polin.pl/en/whats-new-whats-next-2021
UID:86877-21637059@events.umich.edu
URL:https://events.umich.edu/event/86877
CLASS:PUBLIC
STATUS:CONFIRMED
CATEGORIES:European,Interdisciplinary,International,Jewish Studies,Poland
LOCATION:Off Campus Location
CONTACT:
END:VEVENT
BEGIN:VEVENT
DTSTAMP:20210817T085133
DTSTART;TZID=America/Detroit:20211003T100000
DTEND;TZID=America/Detroit:20211003T170000
SUMMARY:Conference / Symposium:FYE College Success Symposium
DESCRIPTION:Are you a first-year\, transfer\, or second year student? Want to learn tips\, tricks\, and tools for success at U-M? \n\nJoin First Year Experience (FYE) for our College Success Symposium! We'll have workshops with four themes: Journey\, Discover\, Connect\, and Thrive. All workshops will be led by students\, for students!\n\nWe will offer the College Success Symposium TWICE throughout the semester - on September 26th and October 3rd. Register for the date that works best for you!\n\n***Registration is required\, and if you register\, you will be expected to attend the entirety of the day-long symposium. Lunch will be provided!***\n\nRegister here: https://myumi.ch/xmo34
UID:85309-21626211@events.umich.edu
URL:https://events.umich.edu/event/85309
CLASS:PUBLIC
STATUS:CONFIRMED
CATEGORIES:Academics,Education,First Year Experience,first year students,first-generation,Food,Free,Health & Wellness,involvement,Leadership,Networking,Professional Development,Social,Transfer Students,Undergraduate,Undergraduate Students,Welcome to Michigan,Well-being,Workshop
LOCATION:Michigan Union - Kuenzel Room
CONTACT:
END:VEVENT
BEGIN:VEVENT
DTSTAMP:20211003T120003
DTSTART;TZID=America/Detroit:20211003T130000
DTEND;TZID=America/Detroit:20211003T150000
SUMMARY:Other:Wisconsin
DESCRIPTION:UMWSC vs. Wisconsin at neutral location 
UID:86478-21634538@events.umich.edu
URL:https://events.umich.edu/event/86478
CLASS:PUBLIC
STATUS:CONFIRMED
CATEGORIES:
LOCATION:Dowling Park
CONTACT:
END:VEVENT
BEGIN:VEVENT
DTSTAMP:20211003T120005
DTSTART;TZID=America/Detroit:20211003T133000
DTEND;TZID=America/Detroit:20211003T160000
SUMMARY:Other:Game vs Eastern Michigan University
DESCRIPTION:League match between Eastern Michigan and Michigan.
UID:86548-21634887@events.umich.edu
URL:https://events.umich.edu/event/86548
CLASS:PUBLIC
STATUS:CONFIRMED
CATEGORIES:
LOCATION:Eastern Michigan University
CONTACT:
END:VEVENT
BEGIN:VEVENT
DTSTAMP:20210923T001511
DTSTART;TZID=America/Detroit:20211003T140000
SUMMARY:Performance:Nora: A Doll’s House
DESCRIPTION:Department of Theatre & Drama \n\nWritten by Stef Smith\nAfter the classic play by Henrik Ibsen\nDirected by Malcolm Tulip\n\nNora Helmer has been a feminist icon since her first appearance in 1879 as the lead character in Henrik Ibsen’s then-controversial A Doll’s House. 140 years later\, Olivier Award-winning playwright Stef Smith has reshaped Nora’s singular struggle for financial and emotional independence into three characters\, setting three Noras on parallel paths in different time periods. As their stories unfold\, shifting cultural expectations exert their pressure on each Nora as what it means to be a feminist changes. \n\nNora: A Doll’s House received its premiere at Citizen’s Theatre in Glasgow in 2019 before moving to the Young Vic in early 2020.
UID:86176-21631860@events.umich.edu
URL:https://events.umich.edu/event/86176
CLASS:PUBLIC
STATUS:CONFIRMED
CATEGORIES:Concert,Culture,North campus,Theater
LOCATION:Walgreen Drama Center - Arthur Miller Theatre
CONTACT:
END:VEVENT
BEGIN:VEVENT
DTSTAMP:20210920T121515
DTSTART;TZID=America/Detroit:20211003T160000
SUMMARY:Livestream / Virtual:Recital: The Complete Organ Works of Nicolaus Bruhns  2021 Organ Conference
DESCRIPTION:Jackson Merrill\, Graduate Student in Organ Performance\, University of Michigan\n\nWatch on Zoom at https://myumi.ch/lx4dk\n\n2021 Organ Conference\nMore information at https://myumi.ch/zxzOO
UID:87244-21640664@events.umich.edu
URL:https://events.umich.edu/event/87244
CLASS:PUBLIC
STATUS:CONFIRMED
CATEGORIES:Concert,Culture,Free,Lecture,Music
LOCATION:Off Campus Location
CONTACT:
END:VEVENT
BEGIN:VEVENT
DTSTAMP:20211003T180004
DTSTART;TZID=America/Detroit:20211003T170000
DTEND;TZID=America/Detroit:20211003T193000
SUMMARY:Other:Away Game vs Adrian
DESCRIPTION:Away Game at Arrington Ice Center
UID:86961-21637740@events.umich.edu
URL:https://events.umich.edu/event/86961
CLASS:PUBLIC
STATUS:CONFIRMED
CATEGORIES:
LOCATION:Arrington Ice Arena
CONTACT:
END:VEVENT
BEGIN:VEVENT
DTSTAMP:20210927T181519
DTSTART;TZID=America/Detroit:20211003T200000
SUMMARY:Performance:Recital:  Works of Charles Tournemire and Improvisations Based on Gregorian Chant  2021 Organ Conference
DESCRIPTION:Joseph Balistreri\, Musician in Residence\, Christ Church Cranbrook\, Bloomfield Hills\, MI\n\nWatch Hill livestream at https://myumi.ch/yK1g3\n\n2021 Organ Conference\nMore information at https://myumi.ch/zxzOO
UID:87243-21640663@events.umich.edu
URL:https://events.umich.edu/event/87243
CLASS:PUBLIC
STATUS:CONFIRMED
CATEGORIES:Concert,Culture,Free,Music
LOCATION:Hill Auditorium
CONTACT:
END:VEVENT
END:VCALENDAR