BEGIN:VCALENDAR
VERSION:2.0
PRODID:-//UM//UM*Events//EN
CALSCALE:GREGORIAN
BEGIN:VTIMEZONE
TZID:America/Detroit
TZURL:http://tzurl.org/zoneinfo/America/Detroit
X-LIC-LOCATION:America/Detroit
BEGIN:DAYLIGHT
TZOFFSETFROM:-0500
TZOFFSETTO:-0400
TZNAME:EDT
DTSTART:20070311T020000
RRULE:FREQ=YEARLY;BYMONTH=3;BYDAY=2SU
END:DAYLIGHT
BEGIN:STANDARD
TZOFFSETFROM:-0400
TZOFFSETTO:-0500
TZNAME:EST
DTSTART:20071104T020000
RRULE:FREQ=YEARLY;BYMONTH=11;BYDAY=1SU
END:STANDARD
END:VTIMEZONE
BEGIN:VEVENT
DTSTAMP:20211010T180003
DTSTART;TZID=America/Detroit:20211010T000000
DTEND;TZID=America/Detroit:20211010T235959
SUMMARY:Sporting Event:Coed Showcase A 
DESCRIPTION:Competitive Interconference Showcasing to qualify for another regatta later in the season.
UID:85447-21649924@events.umich.edu
URL:https://events.umich.edu/event/85447
CLASS:PUBLIC
STATUS:CONFIRMED
CATEGORIES:
LOCATION:Brown University, Providence, Rhode Island
CONTACT:
END:VEVENT
BEGIN:VEVENT
DTSTAMP:20211010T120003
DTSTART;TZID=America/Detroit:20211010T000000
DTEND;TZID=America/Detroit:20211010T235959
SUMMARY:Other:Fall Brawl
DESCRIPTION:The first tournament of the year for Flywheel Women's Ultimate. Make friends\, play friz :)
UID:86893-21649860@events.umich.edu
URL:https://events.umich.edu/event/86893
CLASS:PUBLIC
STATUS:CONFIRMED
CATEGORIES:
LOCATION:Kilbourne Run Sports Park  
CONTACT:
END:VEVENT
BEGIN:VEVENT
DTSTAMP:20211010T180005
DTSTART;TZID=America/Detroit:20211010T000000
DTEND;TZID=America/Detroit:20211010T235959
SUMMARY:Sporting Event:Head of the Rock Regatta
DESCRIPTION:Rowing Regatta in Rockford\, IL.
UID:87935-21649999@events.umich.edu
URL:https://events.umich.edu/event/87935
CLASS:PUBLIC
STATUS:CONFIRMED
CATEGORIES:
LOCATION:Rockford, IL
CONTACT:
END:VEVENT
BEGIN:VEVENT
DTSTAMP:20211010T180004
DTSTART;TZID=America/Detroit:20211010T000000
DTEND;TZID=America/Detroit:20211010T235959
SUMMARY:Sporting Event:Intercollegiate Offshore Regatta (IOR)
DESCRIPTION:Keelboat Competitive Interconference Regatta.
UID:86898-21649969@events.umich.edu
URL:https://events.umich.edu/event/86898
CLASS:PUBLIC
STATUS:CONFIRMED
CATEGORIES:
LOCATION:Larchmont Yacht Club, Larchmont, NY
CONTACT:
END:VEVENT
BEGIN:VEVENT
DTSTAMP:20211010T180003
DTSTART;TZID=America/Detroit:20211010T000000
DTEND;TZID=America/Detroit:20211010T235959
SUMMARY:Sporting Event:Stu Nelson Trophy 
DESCRIPTION:Competitive Interconference Women's Fleet Race on the Thames River in Connecticut.
UID:85448-21649928@events.umich.edu
URL:https://events.umich.edu/event/85448
CLASS:PUBLIC
STATUS:CONFIRMED
CATEGORIES:
LOCATION:Connecticut College, New London, Connecticut
CONTACT:
END:VEVENT
BEGIN:VEVENT
DTSTAMP:20210511T124519
DTSTART;TZID=America/Detroit:20211010T080000
DTEND;TZID=America/Detroit:20211010T230000
SUMMARY:Other:Become a UROP Research Mentor
DESCRIPTION:Submit a Research Project for the 2021-2022 Academic Year: https://lsa.umich.edu/urop/research-mentors.html\n\nUROP Research Mentors are faculty and post-doc researchers from across all U-M's 19 Schools and Colleges who provide undergraduate student researchers an opportunity to engage in research activities that help them learn about the pursuit of knowledge within an academic discipline. This early exposure to research fosters a valuable academic experience for students. Through this collaboration\, students gain research skills and mentorship that lead to academic retention\, a more positive undergraduate experience and paths to graduate school.
UID:83879-21619554@events.umich.edu
URL:https://events.umich.edu/event/83879
CLASS:PUBLIC
STATUS:CONFIRMED
CATEGORIES:AEM Featured,Education,Faculty,Free,Graduate and Professional Students,Graduate Students,Interdisciplinary,Mentorship,Research,research data,Staff,Urop
LOCATION:Off Campus Location
CONTACT:
END:VEVENT
BEGIN:VEVENT
DTSTAMP:20210907T152304
DTSTART;TZID=America/Detroit:20211010T080000
DTEND;TZID=America/Detroit:20211010T170000
SUMMARY:Other:Realm of the Dead
DESCRIPTION:Realm of the Dead is an installation/performance\, freely adapted from Rogério Pinto’s award-winning play\, Marília\, about his sister who died in an accident in the street outside the family home when she was three years old and he just tenth months. Comprising a solo performance and an installation that serves as a set for that performance\, Realm of the Dead is grounded in the work of the Brazilian theater artist Augusto Boal and in autoethnographic social work research and practice. These methodologies are recommended as vehicles for critical reflection\, self-healing\, personal growth\, and advocacy.\n\nThe Realm of the Dead installation comprises more than thirty suitcases\, each reflecting an aspect of Pinto’s multiple physical and spiritual journeys and representing the cemetery where Marília is buried. The performance\, directed by Erwin Maas\, also includes autobiographical material and explorations of ethnicity\, race\, gender\, class\, and other identities. The autoethnographic content of the piece has been reformatted into workshops for students at the University of Michigan’s School of Social Work.
UID:86446-21634327@events.umich.edu
URL:https://events.umich.edu/event/86446
CLASS:PUBLIC
STATUS:CONFIRMED
CATEGORIES:Art,Diversity Equity and Inclusion,Exhibition,Identity Perception,school of social work,social work
LOCATION:
CONTACT:
END:VEVENT
BEGIN:VEVENT
DTSTAMP:20210723T154528
DTSTART;TZID=America/Detroit:20211010T080000
DTEND;TZID=America/Detroit:20211010T235900
SUMMARY:Exhibition:That Greece Might Still Be Free
DESCRIPTION:Learn about the Greek War of Independence\, 19th century European international politics\, and the origins of nationalism and the modern nation-state. This exhibit commemorates the 200th anniversary of the Greek War of Independence\, which began with General Alexandros Ypsilantis’ (Greek: Αλέξανδρος Υψηλάντης) uprising against the Ottoman rulers in the Danubian Principality of Moldavia during the spring of 1821. https://myumi.ch/wlYoq\n\nThe exhibit was curated by students in the Michigan Library Scholars program\, William McClelland and Quinn Byington\, with Zachary Quint as their librarian mentor.
UID:84737-21624787@events.umich.edu
URL:https://events.umich.edu/event/84737
CLASS:PUBLIC
STATUS:CONFIRMED
CATEGORIES:Exhibition,History,Library
LOCATION:Off Campus Location
CONTACT:
END:VEVENT
BEGIN:VEVENT
DTSTAMP:20211104T150425
DTSTART;TZID=America/Detroit:20211010T090000
DTEND;TZID=America/Detroit:20211010T170000
SUMMARY:Exhibition:Buying Home\, Selling America: the House Catalog\, 1906-1966
DESCRIPTION:Buying Home\, Selling America: the House Catalog\, 1906-1966 brings to light the collection of house catalogs in the Art\, Architecture & Engineering Library’s Special Collections. Focusing primarily on the kit house industry of Michigan and the Midwest\, the catalogs provide a portal to explore multiple themes\, such as\, the Michigan house catalog industry\, changing architectural styles\, the business of selling homes\, societal and cultural implications\, and domestic technologies. We hope the exhibit is not simply a nostalgic view back\, but raises awareness of our domestic surroundings today and compels us to ask questions as we look to the future.\n\nThe exhibit is available in the Clark Library (second floor Hatcher) during Hatcher Library hours.
UID:86339-21632783@events.umich.edu
URL:https://events.umich.edu/event/86339
CLASS:PUBLIC
STATUS:CONFIRMED
CATEGORIES:Architecture,Free,Library
LOCATION:Hatcher Graduate Library - Clark Library, 2nd Floor
CONTACT:
END:VEVENT
BEGIN:VEVENT
DTSTAMP:20220119T121743
DTSTART;TZID=America/Detroit:20211010T090000
DTEND;TZID=America/Detroit:20211010T230000
SUMMARY:Careers / Jobs:Detroit Community-Engaged Research Program Application Open
DESCRIPTION:Gain exposure to non-profits\, research and Detroit in Summer 2022.\n\nBe part of the DCERP social justice focused summer fellowship program run through the U-M’s Undergraduate Research Opportunity Program. Learn while helping community organizations with research projects addressing social and environmental justice\, food insecurity\, human rights\, public health\, youth development\, and more! Our program brings together aspiring change agents who will learn about the city\, non-profits\, community engagement and each other! \n\nhttps://myumi.ch/erK95\n\nPriority Deadline: December 3rd (5pm)\nFinal Application Deadline: January 31st 2022 (5pm)\n\nInfo Session offered Wednesdays at Noon weekly\nFrom October 27 - December 8\, January 5 - January 12\nRegister for an info session at: https://myumi.ch/kxprd
UID:87903-21647486@events.umich.edu
URL:https://events.umich.edu/event/87903
CLASS:PUBLIC
STATUS:CONFIRMED
CATEGORIES:Activism,AEM Featured,Applications,Dcerp,Detroit,Environment,Fellowship,first-generation,Free,Humanities,Interdisciplinary,Internship,Public Health,Public Policy,Research,Social Impact,Social Justice,Summer Jobs,Sustainability,The College Of Literature\, Science\, And The Arts,Transfer Students,Undergraduate,Undergraduate Students,Urop
LOCATION:Off Campus Location
CONTACT:
END:VEVENT
BEGIN:VEVENT
DTSTAMP:20210928T161837
DTSTART;TZID=America/Detroit:20211010T090000
DTEND;TZID=America/Detroit:20211010T160000
SUMMARY:Workshop / Seminar:Great Lakes Adiban Society Workshop
DESCRIPTION:We are pleased to announce the schedule for the 2021 Great Lakes Adiban Society Workshop\, hosted by the University of Michigan\, Ann Arbor! The workshop is free and open to all\, and participants can attend either in person or via Zoom. \n\nTo register for the workshop\, please visit: \nhttps://greatlakesadiban.github.io/workshop/2021/09/26/workshop-2021.html\n\nSaturday\, Oct. 9\n\nBreakfast (8:30–9:15)\n\nReading with Islamicate theories of love and rhetoric (9:15–10:45)\n9:15–10:00 / Jeson Ng\, “Mathal and Majāz as Method in Ibn Ṭufayl’s Ḥayy ibn Yaqẓān”\n10:00–10:45 / Allison Kanner-Botan\, “Desire and Askēsis: Sexuality\, Animality\, and the Figure of Majnūn in Medieval Islam”\n\nMaking Mughal literary culture (11:00–12:30)\n11:00–11:45 / Nathan LM Tabor\, “Association\, Conduct\, and Style During Delhi’s Roaring 1720s”\n11:45–12:30 / Justin Smolin\, “Krishna the Magician”\n\nLunch break (12:30–2:00)\n\nEngaging the Arabic literary tradition and its interpreters (2:00–3:30) 2:00–2:45 / Jennifer Tobkin\, “Khālid al-Kātib: Abū Tammām’s Political\, Literary\, and Romantic Foil”\n2:45–3:30 / Samer Ali\, “Whiteness and Orientalism: Race\, Methodology\, and the Problem of Nonwhite Poetry”\n\nSunday\, Oct. 10\nBreakfast (8:30–9:15)\n\nRethinking adab (9:15–10:45)\n9:15–10:00 / Shounak Ghosh\, “Early Modern Diplomacy: Practices and Cultures in the Persianate World\, 1489–1722”\n10:00–10:45 / Pia Maria Malik\, “Reading Sufi Prescriptions and Descriptions: Adab as Ritual Emulation and Performative Action”\n\nFunction and form in the early modern Persian panegyric (11:00–12:30) 11:00–11:45 / Shaahin Pishbin\, “To Praise\, Remember\, and Connect: Writing Poems about Poets in Early Modern Persian Literary Culture”\n11:45–12:30 / Paul Losensky\, “The Shrine Keeper’s Lament: A Manqabat for Imam Rezā by Qodsi Mashhadi”\n\nLunch break (12:30–2:00)\n\n(De)constructing masculinities in Persian narrative poems (2:00–2:45)\n2:00–2:45 / Amanda Caterina Leong\, “Rethinking Female Javanmardi: Nizami’s Haft Paykar as a ‘Mirror for Princesses’ ”\n\nWrap-up (3:00–4:00)
UID:87645-21644657@events.umich.edu
URL:https://events.umich.edu/event/87645
CLASS:PUBLIC
STATUS:CONFIRMED
CATEGORIES:Literature,Middle East Studies
LOCATION:202 S. Thayer - 2022
CONTACT:
END:VEVENT
BEGIN:VEVENT
DTSTAMP:20211010T120004
DTSTART;TZID=America/Detroit:20211010T100000
DTEND;TZID=America/Detroit:20211010T160000
SUMMARY:Other:Triple Header against Bowling Green
DESCRIPTION:The Michigan Club Softball team will be traveling to Bowling Green to play in a conference triple header.Go Blue!
UID:87468-21642387@events.umich.edu
URL:https://events.umich.edu/event/87468
CLASS:PUBLIC
STATUS:CONFIRMED
CATEGORIES:
LOCATION:Bowling Green
CONTACT:
END:VEVENT
BEGIN:VEVENT
DTSTAMP:20211010T120003
DTSTART;TZID=America/Detroit:20211010T120000
DTEND;TZID=America/Detroit:20211010T140000
SUMMARY:Other:Ferris State
DESCRIPTION:UMWSC vs. Ferris State at Home
UID:86480-21634540@events.umich.edu
URL:https://events.umich.edu/event/86480
CLASS:PUBLIC
STATUS:CONFIRMED
CATEGORIES:
LOCATION:Mitchell Field
CONTACT:
END:VEVENT
BEGIN:VEVENT
DTSTAMP:20210927T212455
DTSTART;TZID=America/Detroit:20211010T140000
DTEND;TZID=America/Detroit:20211010T150000
SUMMARY:Exercise / Fitness:ESG Nature Walk
DESCRIPTION:Come along for a nature walk through the Nichols Arboretum (a.k.a.\, “The Arb”) for a refreshing view of everything that the Ann Arbor fall season has to offer. Explore the Peony Garden\, the Huron riverfront\, tallgrass prairies\, and the fall foliage in this 123-acre pocket of natural beauty sandwiched between the Central and North campuses. \n\nGroups will depart from the M28 Parking Lot to the south of Mary Markley Hall (https://goo.gl/maps/mobLtB5GX2wiuBfMA)\, at 2 PM on Saturday\, October 9th and Sunday\, October 10th. The walk would be 1.5 miles long\, lasting from 35 to 45 minutes. You can check out the route map here (https://mbgna.umich.edu/wp-content/uploads/2018/02/06-Prairie-Trail.pdf).\n\nRSVP here (https://forms.gle/ktaT9upmwjeH7ej66) if you are interested! Though this is not strictly required\, it is recommended so that we can know how many people to expect.
UID:87622-21644353@events.umich.edu
URL:https://events.umich.edu/event/87622
CLASS:PUBLIC
STATUS:CONFIRMED
CATEGORIES:Environment,Free
LOCATION:Nichols Arboretum
CONTACT:
END:VEVENT
BEGIN:VEVENT
DTSTAMP:20211010T120004
DTSTART;TZID=America/Detroit:20211010T140000
DTEND;TZID=America/Detroit:20211010T163000
SUMMARY:Other:Game vs Grand Valley State University
DESCRIPTION:League Match between Grand Valley State and Michigan.
UID:86549-21634888@events.umich.edu
URL:https://events.umich.edu/event/86549
CLASS:PUBLIC
STATUS:CONFIRMED
CATEGORIES:
LOCATION:Grand Valley State University
CONTACT:
END:VEVENT
BEGIN:VEVENT
DTSTAMP:20210923T001511
DTSTART;TZID=America/Detroit:20211010T140000
SUMMARY:Performance:Nora: A Doll’s House
DESCRIPTION:Department of Theatre & Drama \n\nWritten by Stef Smith\nAfter the classic play by Henrik Ibsen\nDirected by Malcolm Tulip\n\nNora Helmer has been a feminist icon since her first appearance in 1879 as the lead character in Henrik Ibsen’s then-controversial A Doll’s House. 140 years later\, Olivier Award-winning playwright Stef Smith has reshaped Nora’s singular struggle for financial and emotional independence into three characters\, setting three Noras on parallel paths in different time periods. As their stories unfold\, shifting cultural expectations exert their pressure on each Nora as what it means to be a feminist changes. \n\nNora: A Doll’s House received its premiere at Citizen’s Theatre in Glasgow in 2019 before moving to the Young Vic in early 2020.
UID:86176-21631864@events.umich.edu
URL:https://events.umich.edu/event/86176
CLASS:PUBLIC
STATUS:CONFIRMED
CATEGORIES:Concert,Culture,North campus,Theater
LOCATION:Walgreen Drama Center - Arthur Miller Theatre
CONTACT:
END:VEVENT
BEGIN:VEVENT
DTSTAMP:20211010T121517
DTSTART;TZID=America/Detroit:20211010T140000
SUMMARY:Performance:Nora: A Doll’s House - CANCELLED
DESCRIPTION:Department of Theatre & Drama \n\nWritten by Stef Smith\nAfter the classic play by Henrik Ibsen\nDirected by Malcolm Tulip\n\nNora Helmer has been a feminist icon since her first appearance in 1879 as the lead character in Henrik Ibsen’s then-controversial A Doll’s House. 140 years later\, Olivier Award-winning playwright Stef Smith has reshaped Nora’s singular struggle for financial and emotional independence into three characters\, setting three Noras on parallel paths in different time periods. As their stories unfold\, shifting cultural expectations exert their pressure on each Nora as what it means to be a feminist changes. \n\nNora: A Doll’s House received its premiere at Citizen’s Theatre in Glasgow in 2019 before moving to the Young Vic in early 2020.
UID:88079-21649915@events.umich.edu
URL:https://events.umich.edu/event/88079
CLASS:PUBLIC
STATUS:CONFIRMED
CATEGORIES:Concert,Culture,North campus,Theater
LOCATION:Lydia Mendelssohn Theatre
CONTACT:
END:VEVENT
BEGIN:VEVENT
DTSTAMP:20211006T181526
DTSTART;TZID=America/Detroit:20211010T140000
SUMMARY:Performance:Senior Recital: Connor Higley\, tuba
DESCRIPTION:PROGRAM: Barat - Introduction and Dance for Tuba and Piano\; Galliard - Sonata no. 5 for Bassoon or Violoncello and Harpsichord\; Bach - Cello Suite no. 5 in C Minor\, BWV 1011\; Schumann - Adagio and Allegro for Horn and Piano\; Raum - Sweet Dances.
UID:87997-21648331@events.umich.edu
URL:https://events.umich.edu/event/87997
CLASS:PUBLIC
STATUS:CONFIRMED
CATEGORIES:Free,Music,North campus
LOCATION:Earl V. Moore Building - Britton Recital Hall
CONTACT:
END:VEVENT
BEGIN:VEVENT
DTSTAMP:20210923T001512
DTSTART;TZID=America/Detroit:20211010T140000
SUMMARY:Performance:The Wild Party
DESCRIPTION:Department of Musical Theatre \n\nBook\, Music\, & Lyrics by Andrew Lippa (BM ‵87\, music education and voice)\nDirected by MiMi Scardulla\nMusic Direction by Jason DeBord\n\nThe setting is the roaring 1920s. Lovers Queenie and Burrs decide to throw the party-to-end-all-parties in their Manhattan apartment. After the arrival of a slew of colorful guests living life on the edge\, Queenie's wandering eye lands on a striking man named Mr. Black. As the decadence is reaching a climax\, so is Burrs' jealousy\, which erupts and sends him into a violent rage. Gun in hand and inhibitions abandoned\, Burrs turns on Queenie and Black. The gun gets fired\, but who's been shot?\n\nA steamy prohibition tale\, steamrolling and roaring its way across the stage\, The Wild Party was an Off-Broadway gem that garnered an array of industry accolades\, including Drama Desk\, Outer Critics Circle and Obie awards. Based on Joseph Moncure March's 1928 narrative poem of the same name\, this darkly brilliant show features one of the most exciting\, pulse-racing scores ever written\, courtesy of SMTD alumnus Andrew Lippa (The Addams Family\, Big Fish).
UID:86177-21631868@events.umich.edu
URL:https://events.umich.edu/event/86177
CLASS:PUBLIC
STATUS:CONFIRMED
CATEGORIES:Concert,Culture,Dance,Music,Theater
LOCATION:Lydia Mendelssohn Theatre
CONTACT:
END:VEVENT
BEGIN:VEVENT
DTSTAMP:20211008T181514
DTSTART;TZID=America/Detroit:20211010T160000
SUMMARY:Performance:Michigan Chamber Players
DESCRIPTION:Attend in person or watch online at https://myumi.ch/StampsWatch
UID:87366-21641623@events.umich.edu
URL:https://events.umich.edu/event/87366
CLASS:PUBLIC
STATUS:CONFIRMED
CATEGORIES:Concert,Culture,Free,Music,North campus
LOCATION:Walgreen Drama Center - Stamps Auditorium
CONTACT:
END:VEVENT
BEGIN:VEVENT
DTSTAMP:20210929T181521
DTSTART;TZID=America/Detroit:20211010T193000
SUMMARY:Performance:Guest Recital: Svetozar Ivanov\, piano
DESCRIPTION:The Mystery of Stillness\n(nine vignettes inspired by poetry)   \n\nSvetozar Ivanov\, University of South Florida\n\nattend in person or watch online at https://myumi.ch/BrittonWatch
UID:87369-21641626@events.umich.edu
URL:https://events.umich.edu/event/87369
CLASS:PUBLIC
STATUS:CONFIRMED
CATEGORIES:Concert,Culture,Free,Music,North campus
LOCATION:Earl V. Moore Building - Britton Recital Hall
CONTACT:
END:VEVENT
BEGIN:VEVENT
DTSTAMP:20210723T114254
DTSTART;TZID=America/Detroit:20211010T193000
DTEND;TZID=America/Detroit:20211010T220000
SUMMARY:Performance:The David Bromberg Quintet (Rescheduled from 5/1/20 & 9/25/20)
DESCRIPTION:*By purchasing a ticket you agree that you and your guests will comply with all laws\, orders\, ordinances\, regulations and health and safety guidance adopted by the State of Michigan\, the County of Washtenaw and The Ark\, including any guidelines in place at the time of the show. Attendees who do not comply will be asked to leave. Policies will be updated as circumstances and requirements change in our community. Please review The Ark’s current COVID-related information before attending a show.*\n\nTicketholders from the 9/25/20 will automatically have print at home tickets for the new show on October 21\, 2021.\n\nA legend of the folk scene\, David Bromberg got his start in the Greenwich Village coffeehouse scene in the mid-1960s. His extraordinary guitar picking and exceptional stylistic range developed over the next decade. David's live shows\, rarer since he took up violin-making full time\, range from Texas swing to bluegrass\, blues\, classical music\, and anything else that might cross his mind. In the words of the New York Times\, he \"has such control of his audience that he can\, at one moment\, hold it in his hand with a tender\, touching yet funny anecdotal song\, and then set it romping and stomping with a raucous bit of raunch. He is electrifying.\" We might add that he picked up on the humor in country and classic blues as well as anyone else in the folk revival scene\, making his shows a great deal of fun. David appears tonight with his quintet\, with whom he recently recorded a new album\, \"Big Road.\"
UID:74135-18543394@events.umich.edu
URL:https://events.umich.edu/event/74135
CLASS:PUBLIC
STATUS:CONFIRMED
CATEGORIES:
LOCATION:Off Campus Location
CONTACT:
END:VEVENT
BEGIN:VEVENT
DTSTAMP:20211010T180004
DTSTART;TZID=America/Detroit:20211010T200000
DTEND;TZID=America/Detroit:20211010T223000
SUMMARY:Other:University of Michigan Women's Ice Hockey VS Adrian College
DESCRIPTION:University of Michigan Women's Ice Hockey VS Adrian College
UID:87693-21645173@events.umich.edu
URL:https://events.umich.edu/event/87693
CLASS:PUBLIC
STATUS:CONFIRMED
CATEGORIES:
LOCATION:Yost Ice Arena
CONTACT:
END:VEVENT
END:VCALENDAR