BEGIN:VCALENDAR
VERSION:2.0
PRODID:-//UM//UM*Events//EN
CALSCALE:GREGORIAN
BEGIN:VTIMEZONE
TZID:America/Detroit
TZURL:http://tzurl.org/zoneinfo/America/Detroit
X-LIC-LOCATION:America/Detroit
BEGIN:DAYLIGHT
TZOFFSETFROM:-0500
TZOFFSETTO:-0400
TZNAME:EDT
DTSTART:20070311T020000
RRULE:FREQ=YEARLY;BYMONTH=3;BYDAY=2SU
END:DAYLIGHT
BEGIN:STANDARD
TZOFFSETFROM:-0400
TZOFFSETTO:-0500
TZNAME:EST
DTSTART:20071104T020000
RRULE:FREQ=YEARLY;BYMONTH=11;BYDAY=1SU
END:STANDARD
END:VTIMEZONE
BEGIN:VEVENT
DTSTAMP:20211017T180003
DTSTART;TZID=America/Detroit:20211016T000000
DTEND;TZID=America/Detroit:20211016T235959
SUMMARY:Sporting Event: David Lee Arnoff Trophy
DESCRIPTION:Interconference fleet race regatta hosted by Hobart.
UID:85483-21653179@events.umich.edu
URL:https://events.umich.edu/event/85483
CLASS:PUBLIC
STATUS:CONFIRMED
CATEGORIES:
LOCATION:Hobart William Smith College, Geneva, NY
CONTACT:
END:VEVENT
BEGIN:VEVENT
DTSTAMP:20211017T180003
DTSTART;TZID=America/Detroit:20211016T000000
DTEND;TZID=America/Detroit:20211016T235959
SUMMARY:Sporting Event:Morton Schapiro PhD Trophy
DESCRIPTION:MCSA fleet race regatta.
UID:85482-21653175@events.umich.edu
URL:https://events.umich.edu/event/85482
CLASS:PUBLIC
STATUS:CONFIRMED
CATEGORIES:
LOCATION:Northwestern University, Evanston, IL
CONTACT:
END:VEVENT
BEGIN:VEVENT
DTSTAMP:20211017T180004
DTSTART;TZID=America/Detroit:20211016T000000
DTEND;TZID=America/Detroit:20211016T235959
SUMMARY:Sporting Event:Navy Small Keelboat Regatta
DESCRIPTION:Oldest collegiate keelboat event hosted by the United States Naval Academy on the Chesapeake Bay. 
UID:87896-21653231@events.umich.edu
URL:https://events.umich.edu/event/87896
CLASS:PUBLIC
STATUS:CONFIRMED
CATEGORIES:
LOCATION:United States Naval Academy, Annapolis, Maryland 
CONTACT:
END:VEVENT
BEGIN:VEVENT
DTSTAMP:20211017T180003
DTSTART;TZID=America/Detroit:20211016T000000
DTEND;TZID=America/Detroit:20211016T235959
SUMMARY:Sporting Event:Women's Showcase Final
DESCRIPTION:Showcase final event.   
UID:85484-21653183@events.umich.edu
URL:https://events.umich.edu/event/85484
CLASS:PUBLIC
STATUS:CONFIRMED
CATEGORIES:
LOCATION:Harvard University, Cambridge, Massachusetts
CONTACT:
END:VEVENT
BEGIN:VEVENT
DTSTAMP:20211017T180003
DTSTART;TZID=America/Detroit:20211016T070000
DTEND;TZID=America/Detroit:20211016T235959
SUMMARY:Other:Michigan D-1 College Men's Conference Championship
DESCRIPTION:D-1 and developmental teams from Michigan compete to qualify for the Great Lakes Regional Championship.
UID:87105-21653214@events.umich.edu
URL:https://events.umich.edu/event/87105
CLASS:PUBLIC
STATUS:CONFIRMED
CATEGORIES:
LOCATION:Mitchell Field
CONTACT:
END:VEVENT
BEGIN:VEVENT
DTSTAMP:20210511T124519
DTSTART;TZID=America/Detroit:20211016T080000
DTEND;TZID=America/Detroit:20211016T230000
SUMMARY:Other:Become a UROP Research Mentor
DESCRIPTION:Submit a Research Project for the 2021-2022 Academic Year: https://lsa.umich.edu/urop/research-mentors.html\n\nUROP Research Mentors are faculty and post-doc researchers from across all U-M's 19 Schools and Colleges who provide undergraduate student researchers an opportunity to engage in research activities that help them learn about the pursuit of knowledge within an academic discipline. This early exposure to research fosters a valuable academic experience for students. Through this collaboration\, students gain research skills and mentorship that lead to academic retention\, a more positive undergraduate experience and paths to graduate school.
UID:83879-21619560@events.umich.edu
URL:https://events.umich.edu/event/83879
CLASS:PUBLIC
STATUS:CONFIRMED
CATEGORIES:AEM Featured,Education,Faculty,Free,Graduate and Professional Students,Graduate Students,Interdisciplinary,Mentorship,Research,research data,Staff,Urop
LOCATION:Off Campus Location
CONTACT:
END:VEVENT
BEGIN:VEVENT
DTSTAMP:20210907T152304
DTSTART;TZID=America/Detroit:20211016T080000
DTEND;TZID=America/Detroit:20211016T170000
SUMMARY:Other:Realm of the Dead
DESCRIPTION:Realm of the Dead is an installation/performance\, freely adapted from Rogério Pinto’s award-winning play\, Marília\, about his sister who died in an accident in the street outside the family home when she was three years old and he just tenth months. Comprising a solo performance and an installation that serves as a set for that performance\, Realm of the Dead is grounded in the work of the Brazilian theater artist Augusto Boal and in autoethnographic social work research and practice. These methodologies are recommended as vehicles for critical reflection\, self-healing\, personal growth\, and advocacy.\n\nThe Realm of the Dead installation comprises more than thirty suitcases\, each reflecting an aspect of Pinto’s multiple physical and spiritual journeys and representing the cemetery where Marília is buried. The performance\, directed by Erwin Maas\, also includes autobiographical material and explorations of ethnicity\, race\, gender\, class\, and other identities. The autoethnographic content of the piece has been reformatted into workshops for students at the University of Michigan’s School of Social Work.
UID:86446-21634333@events.umich.edu
URL:https://events.umich.edu/event/86446
CLASS:PUBLIC
STATUS:CONFIRMED
CATEGORIES:Art,Diversity Equity and Inclusion,Exhibition,Identity Perception,school of social work,social work
LOCATION:
CONTACT:
END:VEVENT
BEGIN:VEVENT
DTSTAMP:20210723T154528
DTSTART;TZID=America/Detroit:20211016T080000
DTEND;TZID=America/Detroit:20211016T235900
SUMMARY:Exhibition:That Greece Might Still Be Free
DESCRIPTION:Learn about the Greek War of Independence\, 19th century European international politics\, and the origins of nationalism and the modern nation-state. This exhibit commemorates the 200th anniversary of the Greek War of Independence\, which began with General Alexandros Ypsilantis’ (Greek: Αλέξανδρος Υψηλάντης) uprising against the Ottoman rulers in the Danubian Principality of Moldavia during the spring of 1821. https://myumi.ch/wlYoq\n\nThe exhibit was curated by students in the Michigan Library Scholars program\, William McClelland and Quinn Byington\, with Zachary Quint as their librarian mentor.
UID:84737-21624793@events.umich.edu
URL:https://events.umich.edu/event/84737
CLASS:PUBLIC
STATUS:CONFIRMED
CATEGORIES:Exhibition,History,Library
LOCATION:Off Campus Location
CONTACT:
END:VEVENT
BEGIN:VEVENT
DTSTAMP:20210922T213338
DTSTART;TZID=America/Detroit:20211016T090000
SUMMARY:Conference / Symposium:2021 Liszt Society Festival
DESCRIPTION:The American Liszt Society will hold its 2021 Festival\, “Liszt and Hungary\,” at the University of Michigan School of Music\, Theatre & Dance from October 15 through 18\, showcasing the music of Liszt and of numerous other Hungarian composers\, and highlighting the music and dance of the Romani people\, commonly known as “gypsies.”\n\nFor further information and to register for the Festival\, please visit smtd.umich.edu/liszt2021\n\nThe opening event\, on October 15th at 4:00 p.m.\, will be the world premiere of the film Piano Lessons: the Art and Life of German Diez Nieto\, a musical descendant of Liszt and protégé of Claudio Arrau. The formal opening\, a performance of George Batyi and the Gypsy Stringz\, will take place at 8:00 p.m. that evening. Subsequent events begin at 9:00 each morning and conclude each evening with a concert at 8:00 p.m. Programming runs from 19th through 21st century music\, ranging from the complete Hungarian Rhapsodies to the Rhapsody in Blue\, Béla Bartók\, György Ligeti\, and beyond. Programs will also feature the influence of music of the Romani people\, not only in Hungary but across Europe.\n\nFestival attendees will be able to attend presentations by leading experts on the varying manifestations of style hongrois (Hungarian style) in Western music\, observe Hungarian dance steps\, enjoy Hungarian food\, take in performances of Hungarian solo piano\, chamber\, and vocal repertoire\, and much more!\n\nPerformers and lecturers will include national and international artists and scholars as well as faculty and students from the University of Michigan School of Music\, Theatre & Dance.\n\nFor further information and to register for the Festival\, please visit smtd.umich.edu/liszt2021
UID:87258-21640679@events.umich.edu
URL:https://events.umich.edu/event/87258
CLASS:PUBLIC
STATUS:CONFIRMED
CATEGORIES:Concert,Culture,Lecture,Music
LOCATION:Off Campus Location
CONTACT:
END:VEVENT
BEGIN:VEVENT
DTSTAMP:20211104T150425
DTSTART;TZID=America/Detroit:20211016T090000
DTEND;TZID=America/Detroit:20211016T170000
SUMMARY:Exhibition:Buying Home\, Selling America: the House Catalog\, 1906-1966
DESCRIPTION:Buying Home\, Selling America: the House Catalog\, 1906-1966 brings to light the collection of house catalogs in the Art\, Architecture & Engineering Library’s Special Collections. Focusing primarily on the kit house industry of Michigan and the Midwest\, the catalogs provide a portal to explore multiple themes\, such as\, the Michigan house catalog industry\, changing architectural styles\, the business of selling homes\, societal and cultural implications\, and domestic technologies. We hope the exhibit is not simply a nostalgic view back\, but raises awareness of our domestic surroundings today and compels us to ask questions as we look to the future.\n\nThe exhibit is available in the Clark Library (second floor Hatcher) during Hatcher Library hours.
UID:86339-21632789@events.umich.edu
URL:https://events.umich.edu/event/86339
CLASS:PUBLIC
STATUS:CONFIRMED
CATEGORIES:Architecture,Free,Library
LOCATION:Hatcher Graduate Library - Clark Library, 2nd Floor
CONTACT:
END:VEVENT
BEGIN:VEVENT
DTSTAMP:20220119T121743
DTSTART;TZID=America/Detroit:20211016T090000
DTEND;TZID=America/Detroit:20211016T230000
SUMMARY:Careers / Jobs:Detroit Community-Engaged Research Program Application Open
DESCRIPTION:Gain exposure to non-profits\, research and Detroit in Summer 2022.\n\nBe part of the DCERP social justice focused summer fellowship program run through the U-M’s Undergraduate Research Opportunity Program. Learn while helping community organizations with research projects addressing social and environmental justice\, food insecurity\, human rights\, public health\, youth development\, and more! Our program brings together aspiring change agents who will learn about the city\, non-profits\, community engagement and each other! \n\nhttps://myumi.ch/erK95\n\nPriority Deadline: December 3rd (5pm)\nFinal Application Deadline: January 31st 2022 (5pm)\n\nInfo Session offered Wednesdays at Noon weekly\nFrom October 27 - December 8\, January 5 - January 12\nRegister for an info session at: https://myumi.ch/kxprd
UID:87903-21647492@events.umich.edu
URL:https://events.umich.edu/event/87903
CLASS:PUBLIC
STATUS:CONFIRMED
CATEGORIES:Activism,AEM Featured,Applications,Dcerp,Detroit,Environment,Fellowship,first-generation,Free,Humanities,Interdisciplinary,Internship,Public Health,Public Policy,Research,Social Impact,Social Justice,Summer Jobs,Sustainability,The College Of Literature\, Science\, And The Arts,Transfer Students,Undergraduate,Undergraduate Students,Urop
LOCATION:Off Campus Location
CONTACT:
END:VEVENT
BEGIN:VEVENT
DTSTAMP:20211014T120308
DTSTART;TZID=America/Detroit:20211016T100000
DTEND;TZID=America/Detroit:20211016T180000
SUMMARY:Conference / Symposium:Victor Pelevin: Post-Soviet\, Postmodern\, Global Conference
DESCRIPTION:Pelevin is the most significant and popular Russian author of the post-Soviet era as well as the most extensively translated one into the English language. Debates around his prolific output are often very heated in post-Soviet cultural circles. Participants will look at Pelevin's oeuvre from his groundbreaking writings of the 1990s to his recent output. They will articulate the continuities and transformations of his art and flesh out its importance. This is a hybrid event. The ONLY in-person events are 2 panels held in the Rackham East Conference room — one on Sat\, Oct 16th from 4-6 pm and one on Sun\, Oct 17th from 1-3 pm. Light refreshments served. Please Register to receive the Zoom link for all sessions: https://umich.zoom.us/webinar/register/WN_q0x8U3zIThiib19fw5pVew
UID:87638-21644651@events.umich.edu
URL:https://events.umich.edu/event/87638
CLASS:PUBLIC
STATUS:CONFIRMED
CATEGORIES:Books,Capitalism,Crees,Culture,European,Graduate Students,Humanities,International,International Institute,Philosophy,Russia,Russian,Slavic,Slavic Featured,Slavic Studies,Socialism,Weiser Center For Europe And Eurasia,World Literature
LOCATION:Rackham Graduate School (Horace H.) - East Conference
CONTACT:
END:VEVENT
BEGIN:VEVENT
DTSTAMP:20211015T121519
DTSTART;TZID=America/Detroit:20211016T110000
DTEND;TZID=America/Detroit:20211016T170000
SUMMARY:Exhibition:Respond / Resist / Rethink: A Stamps Student Poster & Video Exhibition
DESCRIPTION:Over the last 12-18 months\, the world has wit­nessed the bru­tal impact of the COVID-19 pan­demic com­pounded by sys­temic racism as it pro­lif­er­ated across the US\, threat­en­ing to sti­fle its vibrant and diverse soci­ety. Stu­dents and youth in the US and glob­ally have been at the fore­front of social change devis­ing mod­els of inclu­sion and care for those deeply impacted by the pan­demic and racial and envi­ron­men­tal inequities. \n Stamps Gallery invited stu­dents at the Penny W. Stamps School of Art &amp\; Design to design posters and make videos that respond to the prompt: what change would you like to see in your community? Stamps students created meaningful posters and video work that will be featured in Respond/​Resist/​Rethink 2021: A Stu­dent Poster &amp\; Video Exhi­bi­tion. \n Why posters &amp\; video?\nFor gen­er­a­tions\, posters have served as an effec­tive tool to cir­cu­late ideas and mes­sages to the pub­lic. Visu­ally strik­ing\, and designed to draw atten­tion from passersby\, posters can be con­ver­sa­tion starters\, invite peo­ple to pause\, reflect\, spread the word\, get involved. They have been a pow­er­ful medium for many con­cep­tual artists and graphic design­ers to cre­ate pow­er­ful images and mes­sages that could respond to imme­di­ate issues and be dis­trib­uted widely. \n Sim­i­larly\, video art was another excit­ing imme­di­ate medium for con­cep­tual artists in the 1960s and 1970s as the tech­nol­ogy became more acces­si­ble to the masses. Video art pro­vided an alter­na­tive to the dom­i­nant broad­cast­ing cor­po­ra­tions. Artists made exper­i­men­tal films\, recorded per­for­mances\, and first-per­son nar­ra­tives that were then exhib­ited and screened at gal­leries\, muse­ums\, and events. Posters and videos con­tinue to be salient fea­tures in the 21st Cen­tury to respond to urgent issues and ques­tions fac­ing the present moment. \nRespond / Resist / Rethink asks the UM com­mu­nity to come together to envi­sion mod­els for inclu­sion that are grounded in equal­ity\, belong­ing\, and empathy. The work featured in the exhibition were selected through an open call by a com­mit­tee comprising Stamps fac­ulty\, stu­dents\, and staff includ­ing Julianna Lew\, David Chung\, Najwat Rehman\, Albert Che\, and Stamps Gallery staff.
UID:84617-21632389@events.umich.edu
URL:https://events.umich.edu/event/84617
CLASS:PUBLIC
STATUS:CONFIRMED
CATEGORIES:Art
LOCATION:Off Campus Location
CONTACT:
END:VEVENT
BEGIN:VEVENT
DTSTAMP:20211021T121520
DTSTART;TZID=America/Detroit:20211016T110000
DTEND;TZID=America/Detroit:20211016T170000
SUMMARY:Exhibition:Stephanie Dinkins: On Love & Data
DESCRIPTION:Stamps Gallery is proud to present the first survey of renowned transmedia artist Stephanie Dinkins\, who creates platforms for dialogue about artificial intelligence as it intersects race\, gender\, aging\, and our future histories. \nThrough her work\, Dinkins has become a central figure nationally and internationally recognized for exposing bias and inequity within artificial intelligence systems. Weaving together art production and exhibition\, community-based workshops and public speaking all with the intention of encouraging action towards making artificial intelligence systems more inclusive\, accessible and transparent. \n In this exhibition\, Dinkins will debut new and interactive installations and workshops that build on her concept of Afro-now-ism. In this poetic manifesto-like text\, Dinkins asks her audience\, particularly from communities of color\, to not only confront the litany of violences that humans have wielded upon one another based on the institutional and social constructions of race\, caste\, class\, and gender to maintain status quo and the current systems of power - but rise above it by taking action to start building the world that they desire. \nShe writes: “Instead of waiting to reach the proverbial promised land\, also known as a time in the future that may or may not manifest in your lifetime\, Afro-now-ism is taking the leap and the risks to imagine and define oneself beyond systemic oppression... For black people in particular\, it means conceiving yourself in the space of free and expansive thought and acting from a critically integrated space\, allowing for more community-sustaining work.” \n Through her installations and workshops Stephanie Dinkins: On Love &amp\; Data develops a dialogue with the audience on the hierarchies embedded within machine learning and AI architecture and one&#039\;s individual agency in transforming the algorithms within it. The audience will explore and participate in creating a more inclusive data-based narrative of what governance of the people\, by the people and for the people can look like in an AI mediated world where care is encoded within our digital civic system.
UID:84616-21625754@events.umich.edu
URL:https://events.umich.edu/event/84616
CLASS:PUBLIC
STATUS:CONFIRMED
CATEGORIES:Art
LOCATION:Off Campus Location
CONTACT:
END:VEVENT
BEGIN:VEVENT
DTSTAMP:20210929T161330
DTSTART;TZID=America/Detroit:20211016T110000
DTEND;TZID=America/Detroit:20211016T130000
SUMMARY:Meeting:University of Michigan Alumnae Council Fall Meeting and Program
DESCRIPTION:Hear what your University of Michigan Alumnae Council (UMAC) has been up to and plans for the year ahead. And then join us as we honor Michigan's National 2021 Championship Women's Gymnastics Coach Bev Plocki.\n\nSpecial guests include:\n* Greg Harden\, Senior Executive Athletic Director and Director of Athletic Counseling\n* Michelle McMahon\, Sports Broadcaster\n\nRegister for ZOOM link: https://rb.gy/erckdk
UID:87689-21645076@events.umich.edu
URL:https://events.umich.edu/event/87689
CLASS:PUBLIC
STATUS:CONFIRMED
CATEGORIES:Alumni,Athletics - Women's Gymnastics,Leadership,Networking,Social
LOCATION:Off Campus Location
CONTACT:
END:VEVENT
BEGIN:VEVENT
DTSTAMP:20211008T125757
DTSTART;TZID=America/Detroit:20211016T120000
DTEND;TZID=America/Detroit:20211016T140000
SUMMARY:Lecture / Discussion:GTC: History’s Undead: Benjamin\, Marx and the Tradition of the Oppressed
DESCRIPTION:Undisciplined // Global Theories of Critique 2021-22\n\nThe Global Theories of Critique workshop meetings this year revolves around the practice of un-disciplining knowledge. Each speaker will open up the session with the body of theory and/or practice they strive to un-discipline in their work. Followed by a roundtable discussion of the speakers’ work that the workshop participants will read beforehand.\n\nAll meetings will be on Zoom. Register here: https://umich.zoom.us/meeting/register/tJUrduirrD4sG9Fl9T6fZEAVerNzOHPH2NAR\n\nSami Khatib’s work spans the fields of Aesthetic Theory\, Critical Theory\, Media Theory and Cultural Studies with a special focus on the thought of Walter Benjamin. His area of competence is in 19th and 20th century Continental Philosophy with an emphasis on early Frankfurt School\, Kant\, German Idealism\, Nietzsche\, Marx\, Freud and post-Structuralism. He holds an M.A. degree in Media Studies and Philosophy (2004) and a Ph.D. degree in Media Studies (2013) from Freie Universität Berlin (Germany). He is author of a book on Walter Benjamin (Marburg: Tectum\, 2013)\; an English translation\, titled “'Teleology without End.' Walter Benjamin’s Dislocation of the Messianic\,” is forthcoming. After finishing his appointment as an Andrew Mellon Postdoctoral Fellow at the Center for Arts and Humanities at the American University of Beirut (2015/16)\, he joined the Department of Fine Arts and Art History at AUB as a Whittlesey Visiting Assistant Professor. Prior to his appointments at AUB\, he taught Cultural and Media Studies at Freie Universität Berlin. In 2012\, he was awarded a residency fellowship from the interdisciplinary Jan van Eyck Academie\, a post-academic institute for research and production in the fields of fine art\, design and theory\, based in Maastricht (NL).
UID:88038-21648641@events.umich.edu
URL:https://events.umich.edu/event/88038
CLASS:PUBLIC
STATUS:CONFIRMED
CATEGORIES:Anthropology,History,Humanities,Interdisciplinary,Literature
LOCATION:Off Campus Location
CONTACT:
END:VEVENT
BEGIN:VEVENT
DTSTAMP:20210907T110836
DTSTART;TZID=America/Detroit:20211016T140000
DTEND;TZID=America/Detroit:20211016T150000
SUMMARY:Livestream / Virtual:Virtual Saturday Sampler Tour | What Is Archaeology?
DESCRIPTION:The theme of this week's Virtual Saturday Sampler Tour is \"What Is Archaeology?\"\n\nCelebrate International Archaeology Day with the Kelsey Museum as we explore the question\, What is archaeology? Have you ever wondered how archaeologists reconstruct the past just by looking at the artifacts they find? Join us for this family-friendly virtual tour to learn about the archaeology of ancient Egypt\, Mesopotamia\, Greece\, and Rome!\n\nZoom link:\nhttps://umich.zoom.us/j/98615763784
UID:86405-21634183@events.umich.edu
URL:https://events.umich.edu/event/86405
CLASS:PUBLIC
STATUS:CONFIRMED
CATEGORIES:Archaeology,Family,Free
LOCATION:Off Campus Location
CONTACT:
END:VEVENT
BEGIN:VEVENT
DTSTAMP:20210723T115335
DTSTART;TZID=America/Detroit:20211016T200000
DTEND;TZID=America/Detroit:20211016T220000
SUMMARY:Performance:Joshua Davis
DESCRIPTION:*By purchasing a ticket you agree that you and your guests will comply with all laws\, orders\, ordinances\, regulations and health and safety guidance adopted by the State of Michigan\, the County of Washtenaw and The Ark\, including any guidelines in place at the time of the show. Attendees who do not comply will be asked to leave. Policies will be updated as circumstances and requirements change in our community. Please review The Ark’s current COVID-related information before attending a show.*\n\nOver the past twenty years\, Michigan-based Joshua Davis has honed an impressive range of skills – songwriter\, bandleader\, guitarist\, and vocalist among them – in the most honest possible fashion: night after night\, song after song\, show after show Davis simply delivered every performance as though his life depended on it. Investing himself in the American musical diaspora\, he has explored the common thread connecting folk\, blues\, jazz\, ragtime\, and country forms – discovering his personal perspective as a composer in the process. “My sound is rooted in the folk tradition\,” Joshua explains\, “but it’s not folk music. Terms like Americana\, roots rock\, and heartland rock come up\, but there’s so much more to it than that. I’m not a purist: I play with that American folk lineage\, I play with those metaphors.” His versatility and ravenous musical curiosity has resulted in a divergent and fervent output. Since his appearance as a finalist on Season 8 of NBC’s “The Voice”\, Davis has been churning out an album a year and has plans to continue to do so. His sensibilities shine brightest on his latest trio of solo releases\, each a thoughtful dispatch on life\, love\, change\, and growth.
UID:84297-21621071@events.umich.edu
URL:https://events.umich.edu/event/84297
CLASS:PUBLIC
STATUS:CONFIRMED
CATEGORIES:
LOCATION:Off Campus Location
CONTACT:
END:VEVENT
BEGIN:VEVENT
DTSTAMP:20210924T181524
DTSTART;TZID=America/Detroit:20211016T200000
SUMMARY:Performance:Piano Recital: Liszt’s Hungarian Rhapsodies 1-15
DESCRIPTION:American Liszt Society Festival \n\nNo. 1 in C-sharp minor  - Joseph Kingma\nNo. 2 in C-sharp minor - Alexandre Dossin (Cadenza: Dossin)\nNo. 3 in B-flat Major - Lori Piitz\nNo. 4 in E-flat Major -  Yuting Ma\nNo. 5 in E minor - Forrest Howell\nNo. 6 in D-flat - Caroline Hong\nNo. 7 in D minor - Yixuan Han\nNo. 8 in F-sharp minor -  Shun Fu Chang\nNo. 9 in E-flat Major “Carnival in Pest” -  Grigor Khachatryan\nNo. 10 in E Major - Ji-hyang Gwak\nNo. 11 in A minor\, first version\nMagyar Rapszódia S. 242 No. 14 (1846-47) - Tomasz Kamieniak\nNo. 12 in C-sharp minor  - Andrew Le\nNo. 13 in A minor - Louis Nagel\nNo. 14 in F minor  - Eric Ruple\nNo. 15 in A minor “Rákóczi March\,” (after Vladimir Horowitz) - Michael Boyd\n\nFor further information and to register for the Festival\, please visit smtd.umich.edu/liszt2021
UID:87431-21642025@events.umich.edu
URL:https://events.umich.edu/event/87431
CLASS:PUBLIC
STATUS:CONFIRMED
CATEGORIES:Concert,Culture,Free,Music,North campus
LOCATION:Earl V. Moore Building - Britton Recital Hall
CONTACT:
END:VEVENT
BEGIN:VEVENT
DTSTAMP:20210923T001512
DTSTART;TZID=America/Detroit:20211016T200000
SUMMARY:Performance:The Wild Party
DESCRIPTION:Department of Musical Theatre \n\nBook\, Music\, & Lyrics by Andrew Lippa (BM ‵87\, music education and voice)\nDirected by MiMi Scardulla\nMusic Direction by Jason DeBord\n\nThe setting is the roaring 1920s. Lovers Queenie and Burrs decide to throw the party-to-end-all-parties in their Manhattan apartment. After the arrival of a slew of colorful guests living life on the edge\, Queenie's wandering eye lands on a striking man named Mr. Black. As the decadence is reaching a climax\, so is Burrs' jealousy\, which erupts and sends him into a violent rage. Gun in hand and inhibitions abandoned\, Burrs turns on Queenie and Black. The gun gets fired\, but who's been shot?\n\nA steamy prohibition tale\, steamrolling and roaring its way across the stage\, The Wild Party was an Off-Broadway gem that garnered an array of industry accolades\, including Drama Desk\, Outer Critics Circle and Obie awards. Based on Joseph Moncure March's 1928 narrative poem of the same name\, this darkly brilliant show features one of the most exciting\, pulse-racing scores ever written\, courtesy of SMTD alumnus Andrew Lippa (The Addams Family\, Big Fish).
UID:86177-21631871@events.umich.edu
URL:https://events.umich.edu/event/86177
CLASS:PUBLIC
STATUS:CONFIRMED
CATEGORIES:Concert,Culture,Dance,Music,Theater
LOCATION:Lydia Mendelssohn Theatre
CONTACT:
END:VEVENT
END:VCALENDAR