BEGIN:VCALENDAR
VERSION:2.0
PRODID:-//UM//UM*Events//EN
CALSCALE:GREGORIAN
BEGIN:VTIMEZONE
TZID:America/Detroit
TZURL:http://tzurl.org/zoneinfo/America/Detroit
X-LIC-LOCATION:America/Detroit
BEGIN:DAYLIGHT
TZOFFSETFROM:-0500
TZOFFSETTO:-0400
TZNAME:EDT
DTSTART:20070311T020000
RRULE:FREQ=YEARLY;BYMONTH=3;BYDAY=2SU
END:DAYLIGHT
BEGIN:STANDARD
TZOFFSETFROM:-0400
TZOFFSETTO:-0500
TZNAME:EST
DTSTART:20071104T020000
RRULE:FREQ=YEARLY;BYMONTH=11;BYDAY=1SU
END:STANDARD
END:VTIMEZONE
BEGIN:VEVENT
DTSTAMP:20211017T180003
DTSTART;TZID=America/Detroit:20211017T000000
DTEND;TZID=America/Detroit:20211017T235959
SUMMARY:Sporting Event: David Lee Arnoff Trophy
DESCRIPTION:Interconference fleet race regatta hosted by Hobart.
UID:85483-21653180@events.umich.edu
URL:https://events.umich.edu/event/85483
CLASS:PUBLIC
STATUS:CONFIRMED
CATEGORIES:
LOCATION:Hobart William Smith College, Geneva, NY
CONTACT:
END:VEVENT
BEGIN:VEVENT
DTSTAMP:20211017T180003
DTSTART;TZID=America/Detroit:20211017T000000
DTEND;TZID=America/Detroit:20211017T235959
SUMMARY:Other:Michigan D-1 College Men's Conference Championship
DESCRIPTION:D-1 and developmental teams from Michigan compete to qualify for the Great Lakes Regional Championship.
UID:87105-21653215@events.umich.edu
URL:https://events.umich.edu/event/87105
CLASS:PUBLIC
STATUS:CONFIRMED
CATEGORIES:
LOCATION:Mitchell Field
CONTACT:
END:VEVENT
BEGIN:VEVENT
DTSTAMP:20211017T180003
DTSTART;TZID=America/Detroit:20211017T000000
DTEND;TZID=America/Detroit:20211017T235959
SUMMARY:Sporting Event:Morton Schapiro PhD Trophy
DESCRIPTION:MCSA fleet race regatta.
UID:85482-21653176@events.umich.edu
URL:https://events.umich.edu/event/85482
CLASS:PUBLIC
STATUS:CONFIRMED
CATEGORIES:
LOCATION:Northwestern University, Evanston, IL
CONTACT:
END:VEVENT
BEGIN:VEVENT
DTSTAMP:20211017T180004
DTSTART;TZID=America/Detroit:20211017T000000
DTEND;TZID=America/Detroit:20211017T235959
SUMMARY:Sporting Event:Navy Small Keelboat Regatta
DESCRIPTION:Oldest collegiate keelboat event hosted by the United States Naval Academy on the Chesapeake Bay. 
UID:87896-21653232@events.umich.edu
URL:https://events.umich.edu/event/87896
CLASS:PUBLIC
STATUS:CONFIRMED
CATEGORIES:
LOCATION:United States Naval Academy, Annapolis, Maryland 
CONTACT:
END:VEVENT
BEGIN:VEVENT
DTSTAMP:20211017T180003
DTSTART;TZID=America/Detroit:20211017T000000
DTEND;TZID=America/Detroit:20211017T235959
SUMMARY:Sporting Event:Women's Showcase Final
DESCRIPTION:Showcase final event.   
UID:85484-21653184@events.umich.edu
URL:https://events.umich.edu/event/85484
CLASS:PUBLIC
STATUS:CONFIRMED
CATEGORIES:
LOCATION:Harvard University, Cambridge, Massachusetts
CONTACT:
END:VEVENT
BEGIN:VEVENT
DTSTAMP:20210511T124519
DTSTART;TZID=America/Detroit:20211017T080000
DTEND;TZID=America/Detroit:20211017T230000
SUMMARY:Other:Become a UROP Research Mentor
DESCRIPTION:Submit a Research Project for the 2021-2022 Academic Year: https://lsa.umich.edu/urop/research-mentors.html\n\nUROP Research Mentors are faculty and post-doc researchers from across all U-M's 19 Schools and Colleges who provide undergraduate student researchers an opportunity to engage in research activities that help them learn about the pursuit of knowledge within an academic discipline. This early exposure to research fosters a valuable academic experience for students. Through this collaboration\, students gain research skills and mentorship that lead to academic retention\, a more positive undergraduate experience and paths to graduate school.
UID:83879-21619561@events.umich.edu
URL:https://events.umich.edu/event/83879
CLASS:PUBLIC
STATUS:CONFIRMED
CATEGORIES:AEM Featured,Education,Faculty,Free,Graduate and Professional Students,Graduate Students,Interdisciplinary,Mentorship,Research,research data,Staff,Urop
LOCATION:Off Campus Location
CONTACT:
END:VEVENT
BEGIN:VEVENT
DTSTAMP:20210907T152304
DTSTART;TZID=America/Detroit:20211017T080000
DTEND;TZID=America/Detroit:20211017T170000
SUMMARY:Other:Realm of the Dead
DESCRIPTION:Realm of the Dead is an installation/performance\, freely adapted from Rogério Pinto’s award-winning play\, Marília\, about his sister who died in an accident in the street outside the family home when she was three years old and he just tenth months. Comprising a solo performance and an installation that serves as a set for that performance\, Realm of the Dead is grounded in the work of the Brazilian theater artist Augusto Boal and in autoethnographic social work research and practice. These methodologies are recommended as vehicles for critical reflection\, self-healing\, personal growth\, and advocacy.\n\nThe Realm of the Dead installation comprises more than thirty suitcases\, each reflecting an aspect of Pinto’s multiple physical and spiritual journeys and representing the cemetery where Marília is buried. The performance\, directed by Erwin Maas\, also includes autobiographical material and explorations of ethnicity\, race\, gender\, class\, and other identities. The autoethnographic content of the piece has been reformatted into workshops for students at the University of Michigan’s School of Social Work.
UID:86446-21634334@events.umich.edu
URL:https://events.umich.edu/event/86446
CLASS:PUBLIC
STATUS:CONFIRMED
CATEGORIES:Art,Diversity Equity and Inclusion,Exhibition,Identity Perception,school of social work,social work
LOCATION:
CONTACT:
END:VEVENT
BEGIN:VEVENT
DTSTAMP:20210723T154528
DTSTART;TZID=America/Detroit:20211017T080000
DTEND;TZID=America/Detroit:20211017T235900
SUMMARY:Exhibition:That Greece Might Still Be Free
DESCRIPTION:Learn about the Greek War of Independence\, 19th century European international politics\, and the origins of nationalism and the modern nation-state. This exhibit commemorates the 200th anniversary of the Greek War of Independence\, which began with General Alexandros Ypsilantis’ (Greek: Αλέξανδρος Υψηλάντης) uprising against the Ottoman rulers in the Danubian Principality of Moldavia during the spring of 1821. https://myumi.ch/wlYoq\n\nThe exhibit was curated by students in the Michigan Library Scholars program\, William McClelland and Quinn Byington\, with Zachary Quint as their librarian mentor.
UID:84737-21624794@events.umich.edu
URL:https://events.umich.edu/event/84737
CLASS:PUBLIC
STATUS:CONFIRMED
CATEGORIES:Exhibition,History,Library
LOCATION:Off Campus Location
CONTACT:
END:VEVENT
BEGIN:VEVENT
DTSTAMP:20210922T213338
DTSTART;TZID=America/Detroit:20211017T090000
SUMMARY:Conference / Symposium:2021 Liszt Society Festival
DESCRIPTION:The American Liszt Society will hold its 2021 Festival\, “Liszt and Hungary\,” at the University of Michigan School of Music\, Theatre & Dance from October 15 through 18\, showcasing the music of Liszt and of numerous other Hungarian composers\, and highlighting the music and dance of the Romani people\, commonly known as “gypsies.”\n\nFor further information and to register for the Festival\, please visit smtd.umich.edu/liszt2021\n\nThe opening event\, on October 15th at 4:00 p.m.\, will be the world premiere of the film Piano Lessons: the Art and Life of German Diez Nieto\, a musical descendant of Liszt and protégé of Claudio Arrau. The formal opening\, a performance of George Batyi and the Gypsy Stringz\, will take place at 8:00 p.m. that evening. Subsequent events begin at 9:00 each morning and conclude each evening with a concert at 8:00 p.m. Programming runs from 19th through 21st century music\, ranging from the complete Hungarian Rhapsodies to the Rhapsody in Blue\, Béla Bartók\, György Ligeti\, and beyond. Programs will also feature the influence of music of the Romani people\, not only in Hungary but across Europe.\n\nFestival attendees will be able to attend presentations by leading experts on the varying manifestations of style hongrois (Hungarian style) in Western music\, observe Hungarian dance steps\, enjoy Hungarian food\, take in performances of Hungarian solo piano\, chamber\, and vocal repertoire\, and much more!\n\nPerformers and lecturers will include national and international artists and scholars as well as faculty and students from the University of Michigan School of Music\, Theatre & Dance.\n\nFor further information and to register for the Festival\, please visit smtd.umich.edu/liszt2021
UID:87258-21640680@events.umich.edu
URL:https://events.umich.edu/event/87258
CLASS:PUBLIC
STATUS:CONFIRMED
CATEGORIES:Concert,Culture,Lecture,Music
LOCATION:Off Campus Location
CONTACT:
END:VEVENT
BEGIN:VEVENT
DTSTAMP:20211104T150425
DTSTART;TZID=America/Detroit:20211017T090000
DTEND;TZID=America/Detroit:20211017T170000
SUMMARY:Exhibition:Buying Home\, Selling America: the House Catalog\, 1906-1966
DESCRIPTION:Buying Home\, Selling America: the House Catalog\, 1906-1966 brings to light the collection of house catalogs in the Art\, Architecture & Engineering Library’s Special Collections. Focusing primarily on the kit house industry of Michigan and the Midwest\, the catalogs provide a portal to explore multiple themes\, such as\, the Michigan house catalog industry\, changing architectural styles\, the business of selling homes\, societal and cultural implications\, and domestic technologies. We hope the exhibit is not simply a nostalgic view back\, but raises awareness of our domestic surroundings today and compels us to ask questions as we look to the future.\n\nThe exhibit is available in the Clark Library (second floor Hatcher) during Hatcher Library hours.
UID:86339-21632790@events.umich.edu
URL:https://events.umich.edu/event/86339
CLASS:PUBLIC
STATUS:CONFIRMED
CATEGORIES:Architecture,Free,Library
LOCATION:Hatcher Graduate Library - Clark Library, 2nd Floor
CONTACT:
END:VEVENT
BEGIN:VEVENT
DTSTAMP:20220119T121743
DTSTART;TZID=America/Detroit:20211017T090000
DTEND;TZID=America/Detroit:20211017T230000
SUMMARY:Careers / Jobs:Detroit Community-Engaged Research Program Application Open
DESCRIPTION:Gain exposure to non-profits\, research and Detroit in Summer 2022.\n\nBe part of the DCERP social justice focused summer fellowship program run through the U-M’s Undergraduate Research Opportunity Program. Learn while helping community organizations with research projects addressing social and environmental justice\, food insecurity\, human rights\, public health\, youth development\, and more! Our program brings together aspiring change agents who will learn about the city\, non-profits\, community engagement and each other! \n\nhttps://myumi.ch/erK95\n\nPriority Deadline: December 3rd (5pm)\nFinal Application Deadline: January 31st 2022 (5pm)\n\nInfo Session offered Wednesdays at Noon weekly\nFrom October 27 - December 8\, January 5 - January 12\nRegister for an info session at: https://myumi.ch/kxprd
UID:87903-21647493@events.umich.edu
URL:https://events.umich.edu/event/87903
CLASS:PUBLIC
STATUS:CONFIRMED
CATEGORIES:Activism,AEM Featured,Applications,Dcerp,Detroit,Environment,Fellowship,first-generation,Free,Humanities,Interdisciplinary,Internship,Public Health,Public Policy,Research,Social Impact,Social Justice,Summer Jobs,Sustainability,The College Of Literature\, Science\, And The Arts,Transfer Students,Undergraduate,Undergraduate Students,Urop
LOCATION:Off Campus Location
CONTACT:
END:VEVENT
BEGIN:VEVENT
DTSTAMP:20211014T120308
DTSTART;TZID=America/Detroit:20211017T100000
DTEND;TZID=America/Detroit:20211017T150000
SUMMARY:Conference / Symposium:Victor Pelevin: Post-Soviet\, Postmodern\, Global Conference
DESCRIPTION:Pelevin is the most significant and popular Russian author of the post-Soviet era as well as the most extensively translated one into the English language. Debates around his prolific output are often very heated in post-Soviet cultural circles. Participants will look at Pelevin's oeuvre from his groundbreaking writings of the 1990s to his recent output. They will articulate the continuities and transformations of his art and flesh out its importance. This is a hybrid event. The ONLY in-person events are 2 panels held in the Rackham East Conference room — one on Sat\, Oct 16th from 4-6 pm and one on Sun\, Oct 17th from 1-3 pm. Light refreshments served. Please Register to receive the Zoom link for all sessions: https://umich.zoom.us/webinar/register/WN_q0x8U3zIThiib19fw5pVew
UID:87638-21644652@events.umich.edu
URL:https://events.umich.edu/event/87638
CLASS:PUBLIC
STATUS:CONFIRMED
CATEGORIES:Books,Capitalism,Crees,Culture,European,Graduate Students,Humanities,International,International Institute,Philosophy,Russia,Russian,Slavic,Slavic Featured,Slavic Studies,Socialism,Weiser Center For Europe And Eurasia,World Literature
LOCATION:Rackham Graduate School (Horace H.) - East Conference Room
CONTACT:
END:VEVENT
BEGIN:VEVENT
DTSTAMP:20211004T155212
DTSTART;TZID=America/Detroit:20211017T110000
DTEND;TZID=America/Detroit:20211017T170000
SUMMARY:Fair / Festival:Ann Arbor Antiquarian Book Fair
DESCRIPTION:Returning in 2021 for its 45th year\, the Ann Arbor Antiquarian Book Fair will be held at the Michigan Union on the campus of the University of Michigan on Sunday\, October 17\, 2021. Admission to the book fair is $5 at the door (cash only)\, benefitting the U-M William L. Clements Library.\n\nThe Ann Arbor Antiquarian Book Fair brings together booksellers and dealers from across America\, all handling a wide range of old and rare books\, Americana\, children’s books\, autographs and manuscripts\, maps\, prints\, ephemera\, photography\, fine press material and more.\n\nSee real books. See real people. See a real book fair. October 17\, 2021.\n\n*The University requires that guests comply with masking and social distancing policies\, and complete the ResponsiBLUE health screen before entering any building on campus.*\n\nFor more information\, visit http://www.AnnArborBookFair.com
UID:84874-21625220@events.umich.edu
URL:https://events.umich.edu/event/84874
CLASS:PUBLIC
STATUS:CONFIRMED
CATEGORIES:american culture,american history,art history,Books,Festival,Humanities,In Person,libraries,Library,literary arts,Literature
LOCATION:Michigan Union
CONTACT:
END:VEVENT
BEGIN:VEVENT
DTSTAMP:20211017T120003
DTSTART;TZID=America/Detroit:20211017T120000
DTEND;TZID=America/Detroit:20211017T180000
SUMMARY:Other:Fall Break Dual Match vs. Georgia Tech
DESCRIPTION:Dual Match with Georgia Institute of Technology
UID:85668-21628101@events.umich.edu
URL:https://events.umich.edu/event/85668
CLASS:PUBLIC
STATUS:CONFIRMED
CATEGORIES:
LOCATION:Dan Magill Tennis Complex - University of Georgia
CONTACT:
END:VEVENT
BEGIN:VEVENT
DTSTAMP:20210923T001512
DTSTART;TZID=America/Detroit:20211017T140000
SUMMARY:Performance:The Wild Party
DESCRIPTION:Department of Musical Theatre \n\nBook\, Music\, & Lyrics by Andrew Lippa (BM ‵87\, music education and voice)\nDirected by MiMi Scardulla\nMusic Direction by Jason DeBord\n\nThe setting is the roaring 1920s. Lovers Queenie and Burrs decide to throw the party-to-end-all-parties in their Manhattan apartment. After the arrival of a slew of colorful guests living life on the edge\, Queenie's wandering eye lands on a striking man named Mr. Black. As the decadence is reaching a climax\, so is Burrs' jealousy\, which erupts and sends him into a violent rage. Gun in hand and inhibitions abandoned\, Burrs turns on Queenie and Black. The gun gets fired\, but who's been shot?\n\nA steamy prohibition tale\, steamrolling and roaring its way across the stage\, The Wild Party was an Off-Broadway gem that garnered an array of industry accolades\, including Drama Desk\, Outer Critics Circle and Obie awards. Based on Joseph Moncure March's 1928 narrative poem of the same name\, this darkly brilliant show features one of the most exciting\, pulse-racing scores ever written\, courtesy of SMTD alumnus Andrew Lippa (The Addams Family\, Big Fish).
UID:86177-21631872@events.umich.edu
URL:https://events.umich.edu/event/86177
CLASS:PUBLIC
STATUS:CONFIRMED
CATEGORIES:Concert,Culture,Dance,Music,Theater
LOCATION:Lydia Mendelssohn Theatre
CONTACT:
END:VEVENT
BEGIN:VEVENT
DTSTAMP:20210908T095902
DTSTART;TZID=America/Detroit:20211017T160000
DTEND;TZID=America/Detroit:20211017T180000
SUMMARY:Lecture / Discussion:The Premodern Colloquium. Love of Wisdom\, Ancient Sources\, and Innovation in Medieval Philosophy:  Contemplative Desire according to Henry of Ghent
DESCRIPTION:To what extent is medieval philosophy original and innovative? Is its theological context a stimulating or a dulling influence\, or something else? To address these questions\, I outline some the chief ancient approaches to philosophy\, understood as the love of wisdom\, to see the starting point from which the medieval version develops. Next\, I consider the general influence of theological doctrine on medieval love of wisdom. I then analyze a specific issue—the purpose of contemplation—according to the theologian Henry of Ghent (d. 1293)\, to get a more concrete grasp of the possibilities of medieval philosophy as an attempt to synthesize reason and religious doctrine. This last analysis makes special reference to some of Henry of Ghent’s questions on human knowledge\, which appear in the first part of his major work\, the Summa.
UID:85743-21628585@events.umich.edu
URL:https://events.umich.edu/event/85743
CLASS:PUBLIC
STATUS:CONFIRMED
CATEGORIES:European,History,Philosophy
LOCATION:Off Campus Location
CONTACT:
END:VEVENT
BEGIN:VEVENT
DTSTAMP:20210723T113947
DTSTART;TZID=America/Detroit:20211017T193000
DTEND;TZID=America/Detroit:20211017T210000
SUMMARY:Performance:Cowboy Junkies
DESCRIPTION:*By purchasing a ticket you agree that you and your guests will comply with all laws\, orders\, ordinances\, regulations and health and safety guidance adopted by the State of Michigan\, the County of Washtenaw and The Ark\, including any guidelines in place at the time of the show. Attendees who do not comply will be asked to leave. Policies will be updated as circumstances and requirements change in our community. Please review The Ark’s current COVID-related information before attending a show.*\n\nSometimes revolutions begin quietly. In 1988\, Cowboy Junkies proved that there was an audience waiting for something quiet\, beautiful and reflective. \"The Trinity Session\" was like a whisper that cut through the noise -- and it was compelling.  It stood out in the midst of the flash and bombast that came to define the late 1980s.  The now classic recording combined folk\, blues\, and rock in a way that had never been heard before and went on to sell more than a million copies.
UID:84604-21624203@events.umich.edu
URL:https://events.umich.edu/event/84604
CLASS:PUBLIC
STATUS:CONFIRMED
CATEGORIES:The Ark
LOCATION:Off Campus Location
CONTACT:
END:VEVENT
BEGIN:VEVENT
DTSTAMP:20210923T001519
DTSTART;TZID=America/Detroit:20211017T200000
SUMMARY:Performance:Faculty Chamber Music Recital - American Liszt Society Festival
DESCRIPTION:University of Michigan faculty\n\nPROGRAM:\nRapsodia for Trombone\, Piano\, and Percussion - Miklós Kocsár\nDavid Jackson\, trombone\nIan Antonio\, percussion\nMatthew Bengtson\, piano\n\nSonata for Two Pianos and Percussion\, Sz. 110\, BB 115 - Béla Bartók\nLogan Skelton and Amy I-Lin Cheng\, pianos\nIan Antonio and Douglas Perkins\, percussion\n\nPiano Quartet in G minor\, Op. 25 - Johannes Brahms\nAaron Berofsky\, violin\nKathryn Votapek\, violin\nAmir Eldan\, cello\nChristopher Harding\, piano\n\npart of the American Liszt Society Festival\nFor further information and to register for the Festival\, please visit smtd.umich.edu/liszt2021
UID:87259-21640682@events.umich.edu
URL:https://events.umich.edu/event/87259
CLASS:PUBLIC
STATUS:CONFIRMED
CATEGORIES:Concert,Culture,Free,Music,North campus
LOCATION:Earl V. Moore Building - Britton Recital Hall
CONTACT:
END:VEVENT
BEGIN:VEVENT
DTSTAMP:20211008T143941
DTSTART;TZID=America/Detroit:20211017T235900
DTEND;TZID=America/Detroit:20211017T235900
SUMMARY:Workshop / Seminar:Story Lab Retreat Applications
DESCRIPTION:Fall Retreats\nThursday\, November 4\, 4:00 PM - 9:00 PM ET\nFriday\, November 5\, 10:00 AM - 3:00 PM ET\n\nHeld in-person at the Ross School of Business\n\nApplications due Oct. 17\, 2021\n\nStory Lab develops executive-level presence and communication skills through storytelling workshops and events. To be an effective leader — at work\, in the community\, or in your personal life — you must be able to communicate with impact. Often this means telling stories that are meaningful to you and others\, and doing so in the rich language and expressive style of a seasoned storyteller. If you can craft and deliver an effective story\, you will be better able to convey your value to recruiters\, inspire and motivate classmates and colleagues\, and influence your audience. At Story Lab\, you’ll find an immersive experience and an opportunity to hone your skills in a safe and supportive environment.\n\nThis half-day retreat will be led by expert storytellers who will lead you through exercises to build your confidence and realize your unique communication style while celebrating extraordinary displays of leadership on stages large and small. A meal will be provided.\n\nWho should participate in the retreat:\nStudents with a strong interest in building storytelling abilities and leadership development. Any level student at any school is welcome.\n\nHow to participate in the retreat:\nFill out the application form (linked at https://docs.google.com/forms/d/e/1FAIpQLSdn0VTMOQlPesnKVVkGHZhUVTIetagLNRl4ye9LcqKhp0mt2Q/viewform) by October 17. We have a limited number of spots available.\n\nThis event is powered by the Sanger Leadership Center\, Ross Design + Business\, and is in partnership with Student Life and M-LEAD.
UID:88057-21649067@events.umich.edu
URL:https://events.umich.edu/event/88057
CLASS:PUBLIC
STATUS:CONFIRMED
CATEGORIES:Free,Graduate,Storytelling,Student Affairs,Undergraduate
LOCATION:Ross School of Business
CONTACT:
END:VEVENT
END:VCALENDAR