BEGIN:VCALENDAR
VERSION:2.0
PRODID:-//UM//UM*Events//EN
CALSCALE:GREGORIAN
BEGIN:VTIMEZONE
TZID:America/Detroit
TZURL:http://tzurl.org/zoneinfo/America/Detroit
X-LIC-LOCATION:America/Detroit
BEGIN:DAYLIGHT
TZOFFSETFROM:-0500
TZOFFSETTO:-0400
TZNAME:EDT
DTSTART:20070311T020000
RRULE:FREQ=YEARLY;BYMONTH=3;BYDAY=2SU
END:DAYLIGHT
BEGIN:STANDARD
TZOFFSETFROM:-0400
TZOFFSETTO:-0500
TZNAME:EST
DTSTART:20071104T020000
RRULE:FREQ=YEARLY;BYMONTH=11;BYDAY=1SU
END:STANDARD
END:VTIMEZONE
BEGIN:VEVENT
DTSTAMP:20211024T180003
DTSTART;TZID=America/Detroit:20211023T000000
DTEND;TZID=America/Detroit:20211023T235959
SUMMARY:Sporting Event:Coed Showcase Finals
DESCRIPTION:Showcase event.
UID:85487-21655839@events.umich.edu
URL:https://events.umich.edu/event/85487
CLASS:PUBLIC
STATUS:CONFIRMED
CATEGORIES:
LOCATION:TBD
CONTACT:
END:VEVENT
BEGIN:VEVENT
DTSTAMP:20211024T180003
DTSTART;TZID=America/Detroit:20211023T000000
DTEND;TZID=America/Detroit:20211023T235959
SUMMARY:Sporting Event:Emma Biagioni
DESCRIPTION:MCSA fleet race regatta.   
UID:85485-21655831@events.umich.edu
URL:https://events.umich.edu/event/85485
CLASS:PUBLIC
STATUS:CONFIRMED
CATEGORIES:
LOCATION:Hope College, Holland, Michigan
CONTACT:
END:VEVENT
BEGIN:VEVENT
DTSTAMP:20211025T060004
DTSTART;TZID=America/Detroit:20211023T000000
DTEND;TZID=America/Detroit:20211023T235959
SUMMARY:Sporting Event:Head of the Charles Regatta
DESCRIPTION:Rowing Regatta in Boston\, MA
UID:88319-21656047@events.umich.edu
URL:https://events.umich.edu/event/88319
CLASS:PUBLIC
STATUS:CONFIRMED
CATEGORIES:
LOCATION:Boston, MA
CONTACT:
END:VEVENT
BEGIN:VEVENT
DTSTAMP:20211023T120002
DTSTART;TZID=America/Detroit:20211023T000000
DTEND;TZID=America/Detroit:20211023T235959
SUMMARY:Other:NIRCA Great Lakes Regional
DESCRIPTION:Time to dominate our region!
UID:85350-21655365@events.umich.edu
URL:https://events.umich.edu/event/85350
CLASS:PUBLIC
STATUS:CONFIRMED
CATEGORIES:
LOCATION:Blue River Cross Country Course
CONTACT:
END:VEVENT
BEGIN:VEVENT
DTSTAMP:20211024T180003
DTSTART;TZID=America/Detroit:20211023T000000
DTEND;TZID=America/Detroit:20211023T235959
SUMMARY:Sporting Event:Wisco Women's
DESCRIPTION:MCSA women's regatta.
UID:85486-21655835@events.umich.edu
URL:https://events.umich.edu/event/85486
CLASS:PUBLIC
STATUS:CONFIRMED
CATEGORIES:
LOCATION:University of Wisconsin - Madison, Madison, WI
CONTACT:
END:VEVENT
BEGIN:VEVENT
DTSTAMP:20210511T124519
DTSTART;TZID=America/Detroit:20211023T080000
DTEND;TZID=America/Detroit:20211023T230000
SUMMARY:Other:Become a UROP Research Mentor
DESCRIPTION:Submit a Research Project for the 2021-2022 Academic Year: https://lsa.umich.edu/urop/research-mentors.html\n\nUROP Research Mentors are faculty and post-doc researchers from across all U-M's 19 Schools and Colleges who provide undergraduate student researchers an opportunity to engage in research activities that help them learn about the pursuit of knowledge within an academic discipline. This early exposure to research fosters a valuable academic experience for students. Through this collaboration\, students gain research skills and mentorship that lead to academic retention\, a more positive undergraduate experience and paths to graduate school.
UID:83879-21619567@events.umich.edu
URL:https://events.umich.edu/event/83879
CLASS:PUBLIC
STATUS:CONFIRMED
CATEGORIES:AEM Featured,Education,Faculty,Free,Graduate and Professional Students,Graduate Students,Interdisciplinary,Mentorship,Research,research data,Staff,Urop
LOCATION:Off Campus Location
CONTACT:
END:VEVENT
BEGIN:VEVENT
DTSTAMP:20210723T154528
DTSTART;TZID=America/Detroit:20211023T080000
DTEND;TZID=America/Detroit:20211023T235900
SUMMARY:Exhibition:That Greece Might Still Be Free
DESCRIPTION:Learn about the Greek War of Independence\, 19th century European international politics\, and the origins of nationalism and the modern nation-state. This exhibit commemorates the 200th anniversary of the Greek War of Independence\, which began with General Alexandros Ypsilantis’ (Greek: Αλέξανδρος Υψηλάντης) uprising against the Ottoman rulers in the Danubian Principality of Moldavia during the spring of 1821. https://myumi.ch/wlYoq\n\nThe exhibit was curated by students in the Michigan Library Scholars program\, William McClelland and Quinn Byington\, with Zachary Quint as their librarian mentor.
UID:84737-21624800@events.umich.edu
URL:https://events.umich.edu/event/84737
CLASS:PUBLIC
STATUS:CONFIRMED
CATEGORIES:Exhibition,History,Library
LOCATION:Off Campus Location
CONTACT:
END:VEVENT
BEGIN:VEVENT
DTSTAMP:20211104T150425
DTSTART;TZID=America/Detroit:20211023T090000
DTEND;TZID=America/Detroit:20211023T170000
SUMMARY:Exhibition:Buying Home\, Selling America: the House Catalog\, 1906-1966
DESCRIPTION:Buying Home\, Selling America: the House Catalog\, 1906-1966 brings to light the collection of house catalogs in the Art\, Architecture & Engineering Library’s Special Collections. Focusing primarily on the kit house industry of Michigan and the Midwest\, the catalogs provide a portal to explore multiple themes\, such as\, the Michigan house catalog industry\, changing architectural styles\, the business of selling homes\, societal and cultural implications\, and domestic technologies. We hope the exhibit is not simply a nostalgic view back\, but raises awareness of our domestic surroundings today and compels us to ask questions as we look to the future.\n\nThe exhibit is available in the Clark Library (second floor Hatcher) during Hatcher Library hours.
UID:86339-21632796@events.umich.edu
URL:https://events.umich.edu/event/86339
CLASS:PUBLIC
STATUS:CONFIRMED
CATEGORIES:Architecture,Free,Library
LOCATION:Hatcher Graduate Library - Clark Library, 2nd Floor
CONTACT:
END:VEVENT
BEGIN:VEVENT
DTSTAMP:20220119T121743
DTSTART;TZID=America/Detroit:20211023T090000
DTEND;TZID=America/Detroit:20211023T230000
SUMMARY:Careers / Jobs:Detroit Community-Engaged Research Program Application Open
DESCRIPTION:Gain exposure to non-profits\, research and Detroit in Summer 2022.\n\nBe part of the DCERP social justice focused summer fellowship program run through the U-M’s Undergraduate Research Opportunity Program. Learn while helping community organizations with research projects addressing social and environmental justice\, food insecurity\, human rights\, public health\, youth development\, and more! Our program brings together aspiring change agents who will learn about the city\, non-profits\, community engagement and each other! \n\nhttps://myumi.ch/erK95\n\nPriority Deadline: December 3rd (5pm)\nFinal Application Deadline: January 31st 2022 (5pm)\n\nInfo Session offered Wednesdays at Noon weekly\nFrom October 27 - December 8\, January 5 - January 12\nRegister for an info session at: https://myumi.ch/kxprd
UID:87903-21647499@events.umich.edu
URL:https://events.umich.edu/event/87903
CLASS:PUBLIC
STATUS:CONFIRMED
CATEGORIES:Activism,AEM Featured,Applications,Dcerp,Detroit,Environment,Fellowship,first-generation,Free,Humanities,Interdisciplinary,Internship,Public Health,Public Policy,Research,Social Impact,Social Justice,Summer Jobs,Sustainability,The College Of Literature\, Science\, And The Arts,Transfer Students,Undergraduate,Undergraduate Students,Urop
LOCATION:Off Campus Location
CONTACT:
END:VEVENT
BEGIN:VEVENT
DTSTAMP:20211023T120003
DTSTART;TZID=America/Detroit:20211023T090000
DTEND;TZID=America/Detroit:20211023T180000
SUMMARY:Other:Oakland University Quad
DESCRIPTION:Quad at Oakland University
UID:87315-21641041@events.umich.edu
URL:https://events.umich.edu/event/87315
CLASS:PUBLIC
STATUS:CONFIRMED
CATEGORIES:
LOCATION:Oakland University
CONTACT:
END:VEVENT
BEGIN:VEVENT
DTSTAMP:20210823T090955
DTSTART;TZID=America/Detroit:20211023T100000
DTEND;TZID=America/Detroit:20211023T120000
SUMMARY:Conference / Symposium:WE21 Alumni Brunch
DESCRIPTION:Attend WE21's alumni brunch to connect with UMich alumni and current members of our undergrad SWE chapter! It will be hosted on Saturday\, October 23rd from 10 am - noon at Le Meridien Indianapolis\, 123 S Illinois St\, Indianapolis\, IN. Contact: Akshaya Jagadeesh at swe.gradliaison@umich.edu\n\nNo RSVP is required.\nContact: Akshaya Jagadeesh at swe.gradliaison@umich.edu
UID:85622-21627799@events.umich.edu
URL:https://events.umich.edu/event/85622
CLASS:PUBLIC
STATUS:CONFIRMED
CATEGORIES:Engineering,Graduate Students,Undergraduate Students
LOCATION:Off Campus Location
CONTACT:
END:VEVENT
BEGIN:VEVENT
DTSTAMP:20210824T145811
DTSTART;TZID=America/Detroit:20211023T103000
DTEND;TZID=America/Detroit:20211023T113000
SUMMARY:Livestream / Virtual:Saturday Morning Physics | The Physics of Music
DESCRIPTION:Music is a universal language that has the power to influence our moods and inspire. All music is ultimately due to the physics of different kinds of vibrating objects. Professor Aidala will discuss how natural modes of vibration lead to musical tones and timbres.
UID:85678-21628192@events.umich.edu
URL:https://events.umich.edu/event/85678
CLASS:PUBLIC
STATUS:CONFIRMED
CATEGORIES:Alumni,Art,Astronomy,astrophysics,Basic Science,Culture,Faculty,Family,Free,Graduate And Professional Students,Graduate Students,Lifelong Learning,Music,Professional Development,Prospective Undergraduate Students,Undergraduate,Undergraduate Students
LOCATION:Off Campus Location
CONTACT:
END:VEVENT
BEGIN:VEVENT
DTSTAMP:20211021T121520
DTSTART;TZID=America/Detroit:20211023T110000
DTEND;TZID=America/Detroit:20211023T170000
SUMMARY:Exhibition:Stephanie Dinkins: On Love & Data
DESCRIPTION:Stamps Gallery is proud to present the first survey of renowned transmedia artist Stephanie Dinkins\, who creates platforms for dialogue about artificial intelligence as it intersects race\, gender\, aging\, and our future histories. \nThrough her work\, Dinkins has become a central figure nationally and internationally recognized for exposing bias and inequity within artificial intelligence systems. Weaving together art production and exhibition\, community-based workshops and public speaking all with the intention of encouraging action towards making artificial intelligence systems more inclusive\, accessible and transparent. \n In this exhibition\, Dinkins will debut new and interactive installations and workshops that build on her concept of Afro-now-ism. In this poetic manifesto-like text\, Dinkins asks her audience\, particularly from communities of color\, to not only confront the litany of violences that humans have wielded upon one another based on the institutional and social constructions of race\, caste\, class\, and gender to maintain status quo and the current systems of power - but rise above it by taking action to start building the world that they desire. \nShe writes: “Instead of waiting to reach the proverbial promised land\, also known as a time in the future that may or may not manifest in your lifetime\, Afro-now-ism is taking the leap and the risks to imagine and define oneself beyond systemic oppression... For black people in particular\, it means conceiving yourself in the space of free and expansive thought and acting from a critically integrated space\, allowing for more community-sustaining work.” \n Through her installations and workshops Stephanie Dinkins: On Love &amp\; Data develops a dialogue with the audience on the hierarchies embedded within machine learning and AI architecture and one&#039\;s individual agency in transforming the algorithms within it. The audience will explore and participate in creating a more inclusive data-based narrative of what governance of the people\, by the people and for the people can look like in an AI mediated world where care is encoded within our digital civic system.
UID:84616-21625758@events.umich.edu
URL:https://events.umich.edu/event/84616
CLASS:PUBLIC
STATUS:CONFIRMED
CATEGORIES:Art
LOCATION:Off Campus Location
CONTACT:
END:VEVENT
BEGIN:VEVENT
DTSTAMP:20211024T120003
DTSTART;TZID=America/Detroit:20211023T120000
DTEND;TZID=America/Detroit:20211023T235959
SUMMARY:Sporting Event:Big Ten Crossover
DESCRIPTION:Big 10 water polo tournament in Hudsonville\, Michigan. (Previously Purdue University)
UID:87751-21655764@events.umich.edu
URL:https://events.umich.edu/event/87751
CLASS:PUBLIC
STATUS:CONFIRMED
CATEGORIES:
LOCATION:Hudsonville, Michigan
CONTACT:
END:VEVENT
BEGIN:VEVENT
DTSTAMP:20211023T120003
DTSTART;TZID=America/Detroit:20211023T120000
DTEND;TZID=America/Detroit:20211023T150000
SUMMARY:Sporting Event:League Match vs. Davenport University 
DESCRIPTION:The University of Michigan Women's Rugby Football club will be traveling to Davenport to take on the panthers for a league match!
UID:87546-21643569@events.umich.edu
URL:https://events.umich.edu/event/87546
CLASS:PUBLIC
STATUS:CONFIRMED
CATEGORIES:
LOCATION:6191 Kraft Ave. Grand Rapids ,Mi 49512
CONTACT:
END:VEVENT
BEGIN:VEVENT
DTSTAMP:20211007T181515
DTSTART;TZID=America/Detroit:20211023T170000
SUMMARY:Performance:Guest Recital: Stijn DeCock\, piano
DESCRIPTION:Solo piano recital of works by Mendelssohn\, Bach-Busoni\, Liszt\, Copland and Scriabin. Stijn DeCock is Assistant Professor of Piano at Florida State University.\n\nattend in person or watch online at https://myumi.ch/BrittonWatch
UID:88040-21648734@events.umich.edu
URL:https://events.umich.edu/event/88040
CLASS:PUBLIC
STATUS:CONFIRMED
CATEGORIES:Concert,Culture,Free,Music,North campus
LOCATION:Earl V. Moore Building - Britton Recital Hall
CONTACT:
END:VEVENT
BEGIN:VEVENT
DTSTAMP:20210816T160229
DTSTART;TZID=America/Detroit:20211023T200000
DTEND;TZID=America/Detroit:20211023T220000
SUMMARY:Performance:Cancelled - Alejandro Escovedo
DESCRIPTION:*By purchasing a ticket you agree that you and your guests will comply with all laws\, orders\, ordinances\, regulations and health and safety guidance adopted by the State of Michigan\, the County of Washtenaw and The Ark\, including any guidelines in place at the time of the show. Attendees who do not comply will be asked to leave. Policies will be updated as circumstances and requirements change in our community. Please review The Ark’s current COVID-related information before attending a show.*\n\nA Note from Alejandro\n\n \n\nDear Friends\,\n\nIt pains me to write this letter. On March 12\, 2020\, my band and I received word that our tour was to be postponed until further notice due to the Covid pandemic\, I remember that day vividly. We had been rehearsing and preparing to tour behind the release of La Cruzada\, the Spanish version of The Crossing\, Don Antonio was to play guitar on that tour\, but was detained because of the outbreak of Covid in Italy. Upon being informed that the tour was postponed\, we decided to phone a friend in Milan to hear what effect the virus was having on their lives\; what he told us was frightening and truly drove home the severity and danger of contracting the virus.\n\nWe said goodbye without shaking hands or abrazos\, we were in shock from the news from Italy. That was roughly 17 months ago. I have not played a show since February 2020. When news of a vaccine was announced\, I like many of us began to feel a sense that we might get back to a safe and healthy world in which we might gather and celebrate music once again. I wanted nothing more than to return to doing what I’ve been doing for the last 45 years\, which is singing songs\, playing with good friends and rocking to the beat of the drums. \n\nWith the delta variant rearing its ugly head\, I’ve come to a very difficult decision and that is that I am not touring this year\, and will focus on writing my memoir\, writing new songs and working on a screenplay based on The Crossing. I feel I have a responsibility to not put you\, the audience\, in danger. If even one of you became ill as a result of attending my shows\, it would bear heavy on my soul. I’ve always felt rock n roll was a contact sport played in sweaty little clubs with loud guitars\, and the abandon that comes from the freedom and buzz of energy blasting from the stage until the wee hours of the morning. Until we can share those moments again without fear I’ll be listening to the birds sing with Nancy and the dogs. Please be safe and love one another.\n\nCrossing borders\, jumping barriers\, taking risks\, betting it all: that’s the path Alejandro Escovedo has been taking in his lifelong search for the heart of rock and roll.\n\nThe epic 17 song suite comprising The Crossing is about that journey: searching\, but not necessarily finding\, eyes and ears open all the way. Ranging from sweeping orchestral numbers to classic rock to bursts of 70s punk\, the collection finds Escovedo delving further into his lifelong musical journey across his most sonically diverse work yet.\n\n“This says more about me than any of my records without it being a record about me\,” Alejandro Escovedo \, “The Crossing”\n\nThe Crossing tells the tale of two boys\, one from Mexico\, one from Italy\, who meet in Texas to chase their American rock and roll dreams. They discover a not-so-welcoming\, very different place from the Promised Land they imagined\, with cameos from the likes of Wayne Kramer of the MC5 and James Williamson of the Stooges to show the boys the way.\n\nA Mexican-American kid with Texas roots and California raising taking on immigration issues in two continents with an Italian band\, no less\, makes perfect sense — if you know Alejandro Escovedo. Forever the curious explorer\, he’s been a punk of the rebel kind in The Nuns\, a cowpunk of the non-Western variety in Rank and File\, commander of a guitar army in The True Believers\, an orchestral conductor in his solo work\, and a sensitive boy who has outrun death\, demons\, lust\, and lost love in his songs. He has collaborated with Bruce Springsteen\, John Cale\, Los Lobos\, Peter Buck & Scott McCaughey\, Tony Visconti\, and Chuck Prophet. No Depression magazine declared him the Artist of the Decade.\n\nTwo years ago\, with a string of European tour dates booked\, he went looking for a band from the Continent to back him up. Don Antonio\, a seasoned\, all-instrumental band from Modigliana \, in the northern Italian province of Emilia-Romagna\, came highly recommended\, but Alejandro wasn’t so sure at first. “They didn’t look like a rock and roll band\,” he says. Then he started asking around. Their reputation sealed the deal. “Turns out they’d played with all my friends – Dan Stuart\, Howe Gelb\, Steve Wynn. Everybody knew them. Apparently\, at one time or another\, everybody toured with them as a band\, made friends with them\, or played the festival they put on every year.”\n\nHe sent the band a list of thirty songs before meeting up in Modigliana . “We had dinner\,” Alejandro says. “We rehearsed a day and a half\, then did 35 gigs in 40 days in ten different countries across Europe.\n\n“I fell in love with them.”\n\nTwo months later\, he was back for more tour dates including the south of Italy.\n\n“That’s when it hit me how similar Mexican culture and Italian culture can be\, especially in the south where the food is very spicy\, the language is very different\, and the desert meets the ocean.”\n\nHe learned about a deeper history. His new bandmates teased him for thinking 200 years was a long time.\n\nThe stories Alejandro Escovedo has been telling about the great migration across North America over the past 150 years mirrors stories that have been playing out for centuries in Europe\, Africa\, and the Middle East.  “It’s ancient\,” he says. “It’s been going on for centuries. It’s encoded in the DNA of all of us.”\n\nThe stories and the melding of music led the band and the artist to extend the collaboration into the studio. “I started developing this idea where a young boy from southern Italy named Salvo and a young boy from Mexico named Diego would meet in South Texas\,” Alejandro says. “They were looking for the America they had heard about\, seen in films\, heard on records\,” he says. “They go looking for the MC5\, the Stooges\, the Dolls\, the Ramones\, all the American bands that they love. They go looking for the authors\, Kerouac and Ginsberg.” Without saying it\, they come across a very conservative America. “They find they are in a different America\, one that wasn’t as open and free as they had believed it was going to be.” But the story is not just that of Diego and Salvo\, it also mirrors that of Alejandro and the co-writer of his songs Antonio Gramentieri.\n\nAntonio\, Don Antonio’s guitarist and leader\, “speaks very good English\, he’s well read\, an ex-music journalist” Alejandro says. “He was easy to communicate with.” The album was recorded in a month at a farmhouse in Villafranca\, Italy with Brian Deck co-producing (Modest Mouse\, Gomez\, Iron & Wine). “Playing with these guys\, it came out naturally\, it was coming out without any thought at all. The things with Italians and their music is\, they’re always reaching for melody. It’s always very romantic\, even when it’s tragic.” The band also features Denis Valentini on bass\, Matteo Monti on drums\, Franz Valtieri and Gianni Perinelli on horns plus Nicola Peruch on keyboards.\n\n“My thoughts seem to fit very well with their kind of playing\, the instrumentation we had\, and the way they approach it\,” Alejandro says. “They’re not a rock band. They aren’t a band that grew up playing New York Dolls covers. They grew up playing their own cinematic music. When we get into this orchestral thing\, they totally embrace it.”\n\nKeeping the Escovedo edge sharp on The Crossing are his personal heroes Williamson and Kramer. Additional guests include Peter Perrett and John Perry from UK cult band The Only Ones\, recording together for the first time since 1980. Joe Ely features on both his own track\, “Silver City\,” as well as the title track. Rio Navidad –  a spoken word track about a Texan ranger – was written by novelist and bandleader Willy Vlautin\, and read by his bandmate Freddy Trujillo from Richmond Fontaine and The Delines.\n\n“I wanted them in there because Salvo and Diego were looking for that attitude\, that kind of perspective in rock and roll\,” Alejandro says. “There’s a line in ‘Sonica USA:’  “I saw the Zeroes and they looked like me/This is the America I want to be/Anarchy in Hollywood/land of the free.’\n\n“When we were playing as the True Believers early on [in the 1980s] we’d play San Marcos\, San Antonio [Texas] and get all these Chicano kids in denim vests and Iron Maiden patches. I remember thinking they were into us\, not necessarily for the music\, but for the fact we were there on stage. They loved that we were doing what we were doing. I wanted to bring the Zeros into it because to me the Zeros were so different than any other band that was happening at the time.\n\n“Salvo and Diego see the Plugz at Larchmont Hall\, Cypress Hill – they love everything that has something they can relate to\,” says Escovedo. “Seeing Love\, the band\, was like that to me. They were Chicano\, black\, white – there weren’t a lot of bands like that. Sam the Sham\, Thee Midnighters\, the Sir Douglas Quintet. All of that is what I experienced as a kid.\n\n“The Crossing has parts of everything I’ve done and everything I want to do\,” Alejandro says. “Lyrically\, I say a lot of things I’ve never said\, that I held back on. ‘Teenage Luggage’ is about the racism in music and things I’ve encountered along the way\, the kinds of things I grew up with as a kid in Orange County\, trying to be a surfer. Surfers hated Mexicans.”\n\nAlejandro has lived The Crossing. Now he invites you to join Salvo and Diego as they blaze their trail across America. It’s a journey like none you’ve experienced before
UID:84348-21623424@events.umich.edu
URL:https://events.umich.edu/event/84348
CLASS:PUBLIC
STATUS:CONFIRMED
CATEGORIES:
LOCATION:Off Campus Location
CONTACT:
END:VEVENT
BEGIN:VEVENT
DTSTAMP:20210928T134623
DTSTART;TZID=America/Detroit:20211023T200000
DTEND;TZID=America/Detroit:20211023T220000
SUMMARY:Performance:Dick Siegel with bassist Dave Roof  “When the Sumac is on Fire!”
DESCRIPTION:*Please review The Ark’s current COVID-related information and policies before purchasing a ticket and again before attending a show. Policies will be updated as circumstances and requirements change in our community. By purchasing a ticket you agree that you and your guests will comply with all laws\, orders\, ordinances\, regulations and health and safety guidance adopted by the State of Michigan\, the County of Washtenaw and The Ark\, including any guidelines in place at the time of the show. Attendees who do not comply will be asked to leave.*\n\nOne of America’s great songwriters\, Michigan legend\, Dick Siegel teams up with upright bassist Dave Roof to bring his irresistible and exuberant music to life. Strains of American folk\, blues\, jazz and R&B weave through Dick’s songs in classics like “Angelo’s” and “What Would Brando Do?” Sometimes there’s a hint of Hank Williams … a bit of Louis Jordan\, Bob Dylan … the zaniness of Spike Jones... even a little T.S. Elliot meets the Beatles. It’s all Dick Siegel music - served up hot and fresh.
UID:86196-21632079@events.umich.edu
URL:https://events.umich.edu/event/86196
CLASS:PUBLIC
STATUS:CONFIRMED
CATEGORIES:The Ark
LOCATION:Off Campus Location
CONTACT:
END:VEVENT
BEGIN:VEVENT
DTSTAMP:20210913T094142
DTSTART;TZID=America/Detroit:20211023T200000
DTEND;TZID=America/Detroit:20211023T220000
SUMMARY:Performance:Mrs. Kelly's Journey Home
DESCRIPTION:Mrs. Kelly's Journey Home  written and performed by Breeda Kelly Miller\, directed by Brian Cox.  A Pencilpoint Theatre Production.  A one woman show filled with laughs\, tears and lots of tea.  Mrs. Kelly's Journey Home is a moving\, joyous exploration of love\, roots and family with Breeda Miller employing heart and humor to bring multiple characters to vivid life.
UID:86615-21635224@events.umich.edu
URL:https://events.umich.edu/event/86615
CLASS:PUBLIC
STATUS:CONFIRMED
CATEGORIES:
LOCATION:Walgreen Drama Center
CONTACT:
END:VEVENT
END:VCALENDAR