BEGIN:VCALENDAR
VERSION:2.0
PRODID:-//UM//UM*Events//EN
CALSCALE:GREGORIAN
BEGIN:VTIMEZONE
TZID:America/Detroit
TZURL:http://tzurl.org/zoneinfo/America/Detroit
X-LIC-LOCATION:America/Detroit
BEGIN:DAYLIGHT
TZOFFSETFROM:-0500
TZOFFSETTO:-0400
TZNAME:EDT
DTSTART:20070311T020000
RRULE:FREQ=YEARLY;BYMONTH=3;BYDAY=2SU
END:DAYLIGHT
BEGIN:STANDARD
TZOFFSETFROM:-0400
TZOFFSETTO:-0500
TZNAME:EST
DTSTART:20071104T020000
RRULE:FREQ=YEARLY;BYMONTH=11;BYDAY=1SU
END:STANDARD
END:VTIMEZONE
BEGIN:VEVENT
DTSTAMP:20211024T120003
DTSTART;TZID=America/Detroit:20211024T000000
DTEND;TZID=America/Detroit:20211024T235959
SUMMARY:Sporting Event:Big Ten Crossover
DESCRIPTION:Big 10 water polo tournament in Hudsonville\, Michigan. (Previously Purdue University)
UID:87751-21655765@events.umich.edu
URL:https://events.umich.edu/event/87751
CLASS:PUBLIC
STATUS:CONFIRMED
CATEGORIES:
LOCATION:Hudsonville, Michigan
CONTACT:
END:VEVENT
BEGIN:VEVENT
DTSTAMP:20211024T180003
DTSTART;TZID=America/Detroit:20211024T000000
DTEND;TZID=America/Detroit:20211024T235959
SUMMARY:Sporting Event:Coed Showcase Finals
DESCRIPTION:Showcase event.
UID:85487-21655840@events.umich.edu
URL:https://events.umich.edu/event/85487
CLASS:PUBLIC
STATUS:CONFIRMED
CATEGORIES:
LOCATION:TBD
CONTACT:
END:VEVENT
BEGIN:VEVENT
DTSTAMP:20211024T180003
DTSTART;TZID=America/Detroit:20211024T000000
DTEND;TZID=America/Detroit:20211024T235959
SUMMARY:Sporting Event:Emma Biagioni
DESCRIPTION:MCSA fleet race regatta.   
UID:85485-21655832@events.umich.edu
URL:https://events.umich.edu/event/85485
CLASS:PUBLIC
STATUS:CONFIRMED
CATEGORIES:
LOCATION:Hope College, Holland, Michigan
CONTACT:
END:VEVENT
BEGIN:VEVENT
DTSTAMP:20211025T060004
DTSTART;TZID=America/Detroit:20211024T000000
DTEND;TZID=America/Detroit:20211024T235959
SUMMARY:Sporting Event:Head of the Charles Regatta
DESCRIPTION:Rowing Regatta in Boston\, MA
UID:88319-21656048@events.umich.edu
URL:https://events.umich.edu/event/88319
CLASS:PUBLIC
STATUS:CONFIRMED
CATEGORIES:
LOCATION:Boston, MA
CONTACT:
END:VEVENT
BEGIN:VEVENT
DTSTAMP:20211023T120002
DTSTART;TZID=America/Detroit:20211024T000000
DTEND;TZID=America/Detroit:20211024T170000
SUMMARY:Other:NIRCA Great Lakes Regional
DESCRIPTION:Time to dominate our region!
UID:85350-21655366@events.umich.edu
URL:https://events.umich.edu/event/85350
CLASS:PUBLIC
STATUS:CONFIRMED
CATEGORIES:
LOCATION:Blue River Cross Country Course
CONTACT:
END:VEVENT
BEGIN:VEVENT
DTSTAMP:20211024T180003
DTSTART;TZID=America/Detroit:20211024T000000
DTEND;TZID=America/Detroit:20211024T235959
SUMMARY:Sporting Event:Wisco Women's
DESCRIPTION:MCSA women's regatta.
UID:85486-21655836@events.umich.edu
URL:https://events.umich.edu/event/85486
CLASS:PUBLIC
STATUS:CONFIRMED
CATEGORIES:
LOCATION:University of Wisconsin - Madison, Madison, WI
CONTACT:
END:VEVENT
BEGIN:VEVENT
DTSTAMP:20210511T124519
DTSTART;TZID=America/Detroit:20211024T080000
DTEND;TZID=America/Detroit:20211024T230000
SUMMARY:Other:Become a UROP Research Mentor
DESCRIPTION:Submit a Research Project for the 2021-2022 Academic Year: https://lsa.umich.edu/urop/research-mentors.html\n\nUROP Research Mentors are faculty and post-doc researchers from across all U-M's 19 Schools and Colleges who provide undergraduate student researchers an opportunity to engage in research activities that help them learn about the pursuit of knowledge within an academic discipline. This early exposure to research fosters a valuable academic experience for students. Through this collaboration\, students gain research skills and mentorship that lead to academic retention\, a more positive undergraduate experience and paths to graduate school.
UID:83879-21619568@events.umich.edu
URL:https://events.umich.edu/event/83879
CLASS:PUBLIC
STATUS:CONFIRMED
CATEGORIES:AEM Featured,Education,Faculty,Free,Graduate and Professional Students,Graduate Students,Interdisciplinary,Mentorship,Research,research data,Staff,Urop
LOCATION:Off Campus Location
CONTACT:
END:VEVENT
BEGIN:VEVENT
DTSTAMP:20210723T154528
DTSTART;TZID=America/Detroit:20211024T080000
DTEND;TZID=America/Detroit:20211024T235900
SUMMARY:Exhibition:That Greece Might Still Be Free
DESCRIPTION:Learn about the Greek War of Independence\, 19th century European international politics\, and the origins of nationalism and the modern nation-state. This exhibit commemorates the 200th anniversary of the Greek War of Independence\, which began with General Alexandros Ypsilantis’ (Greek: Αλέξανδρος Υψηλάντης) uprising against the Ottoman rulers in the Danubian Principality of Moldavia during the spring of 1821. https://myumi.ch/wlYoq\n\nThe exhibit was curated by students in the Michigan Library Scholars program\, William McClelland and Quinn Byington\, with Zachary Quint as their librarian mentor.
UID:84737-21624801@events.umich.edu
URL:https://events.umich.edu/event/84737
CLASS:PUBLIC
STATUS:CONFIRMED
CATEGORIES:Exhibition,History,Library
LOCATION:Off Campus Location
CONTACT:
END:VEVENT
BEGIN:VEVENT
DTSTAMP:20211104T150425
DTSTART;TZID=America/Detroit:20211024T090000
DTEND;TZID=America/Detroit:20211024T170000
SUMMARY:Exhibition:Buying Home\, Selling America: the House Catalog\, 1906-1966
DESCRIPTION:Buying Home\, Selling America: the House Catalog\, 1906-1966 brings to light the collection of house catalogs in the Art\, Architecture & Engineering Library’s Special Collections. Focusing primarily on the kit house industry of Michigan and the Midwest\, the catalogs provide a portal to explore multiple themes\, such as\, the Michigan house catalog industry\, changing architectural styles\, the business of selling homes\, societal and cultural implications\, and domestic technologies. We hope the exhibit is not simply a nostalgic view back\, but raises awareness of our domestic surroundings today and compels us to ask questions as we look to the future.\n\nThe exhibit is available in the Clark Library (second floor Hatcher) during Hatcher Library hours.
UID:86339-21632797@events.umich.edu
URL:https://events.umich.edu/event/86339
CLASS:PUBLIC
STATUS:CONFIRMED
CATEGORIES:Architecture,Free,Library
LOCATION:Hatcher Graduate Library - Clark Library, 2nd Floor
CONTACT:
END:VEVENT
BEGIN:VEVENT
DTSTAMP:20220119T121743
DTSTART;TZID=America/Detroit:20211024T090000
DTEND;TZID=America/Detroit:20211024T230000
SUMMARY:Careers / Jobs:Detroit Community-Engaged Research Program Application Open
DESCRIPTION:Gain exposure to non-profits\, research and Detroit in Summer 2022.\n\nBe part of the DCERP social justice focused summer fellowship program run through the U-M’s Undergraduate Research Opportunity Program. Learn while helping community organizations with research projects addressing social and environmental justice\, food insecurity\, human rights\, public health\, youth development\, and more! Our program brings together aspiring change agents who will learn about the city\, non-profits\, community engagement and each other! \n\nhttps://myumi.ch/erK95\n\nPriority Deadline: December 3rd (5pm)\nFinal Application Deadline: January 31st 2022 (5pm)\n\nInfo Session offered Wednesdays at Noon weekly\nFrom October 27 - December 8\, January 5 - January 12\nRegister for an info session at: https://myumi.ch/kxprd
UID:87903-21647500@events.umich.edu
URL:https://events.umich.edu/event/87903
CLASS:PUBLIC
STATUS:CONFIRMED
CATEGORIES:Activism,AEM Featured,Applications,Dcerp,Detroit,Environment,Fellowship,first-generation,Free,Humanities,Interdisciplinary,Internship,Public Health,Public Policy,Research,Social Impact,Social Justice,Summer Jobs,Sustainability,The College Of Literature\, Science\, And The Arts,Transfer Students,Undergraduate,Undergraduate Students,Urop
LOCATION:Off Campus Location
CONTACT:
END:VEVENT
BEGIN:VEVENT
DTSTAMP:20211014T123236
DTSTART;TZID=America/Detroit:20211024T100000
DTEND;TZID=America/Detroit:20211024T170000
SUMMARY:Recreational / Games:Day Hike Pinckney Rec Area
DESCRIPTION:Come hiking in nearby Pinckey Recreation Area\, known for its extensive trail system and chain of lakes. We’ll enjoy some fall colors\, hike past lakes and the Huron River\, enjoy a lunch on the trail\, and recharge in nature.\n\nTransportation\, meals\, trip leaders are included.\n\nFor more information: Call us at 734-764-3967 or email us at advleadtrips@umich.edu
UID:88261-21652009@events.umich.edu
URL:https://events.umich.edu/event/88261
CLASS:PUBLIC
STATUS:CONFIRMED
CATEGORIES:Outdoors,Rec Sports,Well-being
LOCATION:Off Campus Location
CONTACT:
END:VEVENT
BEGIN:VEVENT
DTSTAMP:20211024T120004
DTSTART;TZID=America/Detroit:20211024T100000
DTEND;TZID=America/Detroit:20211024T160000
SUMMARY:Other:Triple Header Against Oakland
DESCRIPTION:The University of Michigan Club Softball team will be playing a triple header at home against Oakland University. Game times are scheduled for 10 a.m.\, 12 p.m.\, and 2 p.m. Go blue!
UID:88341-21653163@events.umich.edu
URL:https://events.umich.edu/event/88341
CLASS:PUBLIC
STATUS:CONFIRMED
CATEGORIES:
LOCATION:Softball Fields
CONTACT:
END:VEVENT
BEGIN:VEVENT
DTSTAMP:20211024T120003
DTSTART;TZID=America/Detroit:20211024T120000
DTEND;TZID=America/Detroit:20211024T130000
SUMMARY:Other:OSU
DESCRIPTION:UMWSC vs. OSU at neutral location 
UID:86481-21634541@events.umich.edu
URL:https://events.umich.edu/event/86481
CLASS:PUBLIC
STATUS:CONFIRMED
CATEGORIES:
LOCATION:Pacesetter Park
CONTACT:
END:VEVENT
BEGIN:VEVENT
DTSTAMP:20210913T094142
DTSTART;TZID=America/Detroit:20211024T140000
DTEND;TZID=America/Detroit:20211024T160000
SUMMARY:Performance:Mrs. Kelly's Journey Home
DESCRIPTION:Mrs. Kelly's Journey Home  written and performed by Breeda Kelly Miller\, directed by Brian Cox.  A Pencilpoint Theatre Production.  A one woman show filled with laughs\, tears and lots of tea.  Mrs. Kelly's Journey Home is a moving\, joyous exploration of love\, roots and family with Breeda Miller employing heart and humor to bring multiple characters to vivid life.
UID:86615-21635225@events.umich.edu
URL:https://events.umich.edu/event/86615
CLASS:PUBLIC
STATUS:CONFIRMED
CATEGORIES:
LOCATION:Walgreen Drama Center
CONTACT:
END:VEVENT
BEGIN:VEVENT
DTSTAMP:20211013T151612
DTSTART;TZID=America/Detroit:20211024T140000
DTEND;TZID=America/Detroit:20211024T150000
SUMMARY:Reception / Open House:Timber Pavilion Opening at the Matthaei Botanical Gardens
DESCRIPTION:Join us for the public opening of the Robotically Fabricated Structure (RFS) at the Matthaei Botanical Gardens. Brief remarks by Dean Jonathan Massey and project lead Arash Adel will be followed by a ribbon cutting to open this state-of-the-art timber structure. \n\nRFS is a robotically fabricated timber pavilion that explores new responsible and precise ways of creating our built environment. Contributing to outlooks for sustainable and low-carbon construction\, RFS was built and sited on the Matthaei Botanical Gardens in Ann Arbor through robot and human collaboration using standard off-the-shelf lumber that was regionally sourced. The structure was designed and fabricated by ADR Laboratory (Taubman College Assistant Professor Arash Adel)\, research assistants\, and Taubman College students\, employing Taubman College's state-of-the-art robotic fabrication facilities. This outdoor structure offers new public gathering points while maintaining an open-air condition marked by pandemic times.\n\nCompleting RFS elevated the ongoing research in robotic timber construction to the scale and complexities of full and complete building systems beyond the laboratory. The faculty leadership is fully invested in advancing the larger questions of how and why we make\, and this project explores and tests new ways of building the future. Join us to learn more and to be among the first to visit the pavilion.
UID:88234-21651563@events.umich.edu
URL:https://events.umich.edu/event/88234
CLASS:PUBLIC
STATUS:CONFIRMED
CATEGORIES:architecture,Architecture\, Urban Planning,engineering,Environment,Michigan Robotics,Robotics,sustainability
LOCATION:Matthaei Botanical Gardens
CONTACT:
END:VEVENT
BEGIN:VEVENT
DTSTAMP:20211026T181512
DTSTART;TZID=America/Detroit:20211024T150000
SUMMARY:Performance:Jazz Masterclass: Sunny Wilkinson\, voice
DESCRIPTION:part of the Don Chisholm Vocal Jazz Series
UID:88682-21656680@events.umich.edu
URL:https://events.umich.edu/event/88682
CLASS:PUBLIC
STATUS:CONFIRMED
CATEGORIES:Concert,Culture,Free,Music,North campus
LOCATION:Stearns Building - Cady Room
CONTACT:
END:VEVENT
BEGIN:VEVENT
DTSTAMP:20211005T001513
DTSTART;TZID=America/Detroit:20211024T160000
SUMMARY:Performance:Band-O-Rama
DESCRIPTION:Michael Haithcock\, Director of Bands\nCourtney Snyder\, Associate Director of Bands\nJohn Pasquale\, Director of the Michigan Marching and Athletic Bands\, Associate Director of Bands\n\nCarl Grapentine\, Announcer\n\nCONCERT BAND\nCOURTNEY SNYDER\, Conductor\n\nSYMPHONY BAND\nMICHAEL HAITHCOCK\, Conductor\n\nMICHIGAN MARCHING BAND\nJOHN PASQUALE\, Conductor\nRICHARD FREY\, Associate Conductor\n\nThe 57th anniversary of one of U-M's most cherished fall traditions\, the University of Michigan Bands annual showcase\, BAND-O-RAMA
UID:86421-21634280@events.umich.edu
URL:https://events.umich.edu/event/86421
CLASS:PUBLIC
STATUS:CONFIRMED
CATEGORIES:Concert,Culture,Music
LOCATION:Hill Auditorium
CONTACT:
END:VEVENT
BEGIN:VEVENT
DTSTAMP:20211024T170735
DTSTART;TZID=America/Detroit:20211024T160000
DTEND;TZID=America/Detroit:20211024T170000
SUMMARY:Exhibition:U-M Retirees Association Presents: The Joy of Carving: Carving Caricatures for 50 Years
DESCRIPTION:Floyd Radigan has been a carver his entire life.  He is a member of the prestigious organization\, Caricature Carvers of America of which there are only 25 members.  Join us to hear about caricature carving.
UID:88583-21655822@events.umich.edu
URL:https://events.umich.edu/event/88583
CLASS:PUBLIC
STATUS:CONFIRMED
CATEGORIES:
LOCATION:
CONTACT:
END:VEVENT
BEGIN:VEVENT
DTSTAMP:20211024T170735
DTSTART;TZID=America/Detroit:20211024T170000
DTEND;TZID=America/Detroit:20211024T180000
SUMMARY:Exhibition:U-M Retirees Association Presents: The Joy of Carving: Carving Caricatures for 50 Years
DESCRIPTION:Floyd Radigan has been a carver his entire life.  He is a member of the prestigious organization\, Caricature Carvers of America of which there are only 25 members.  Join us to hear about caricature carving.
UID:88583-21655823@events.umich.edu
URL:https://events.umich.edu/event/88583
CLASS:PUBLIC
STATUS:CONFIRMED
CATEGORIES:
LOCATION:
CONTACT:
END:VEVENT
BEGIN:VEVENT
DTSTAMP:20211024T170735
DTSTART;TZID=America/Detroit:20211024T170000
DTEND;TZID=America/Detroit:20211024T180000
SUMMARY:Exhibition:U-M Retirees Association Presents: The Joy of Carving: Carving Caricatures for 50 Years
DESCRIPTION:Floyd Radigan has been a carver his entire life.  He is a member of the prestigious organization\, Caricature Carvers of America of which there are only 25 members.  Join us to hear about caricature carving.
UID:88583-21655824@events.umich.edu
URL:https://events.umich.edu/event/88583
CLASS:PUBLIC
STATUS:CONFIRMED
CATEGORIES:
LOCATION:
CONTACT:
END:VEVENT
BEGIN:VEVENT
DTSTAMP:20210916T120507
DTSTART;TZID=America/Detroit:20211024T193000
DTEND;TZID=America/Detroit:20211024T210000
SUMMARY:Performance:CANCELLED - An evening with SIMRIT
DESCRIPTION:*By purchasing a ticket you agree that you and your guests will comply with all laws\, orders\, ordinances\, regulations and health and safety guidance adopted by the State of Michigan\, the County of Washtenaw and The Ark\, including any guidelines in place at the time of the show. Attendees who do not comply will be asked to leave. Policies will be updated as circumstances and requirements change in our community. Please review The Ark’s current COVID-related information before attending a show.*\n\nNeo-Psychedelic World Beat & Ethereal Wave band\, SIMRIT\, has created waves with packed theaters and concert halls\, chart-topping albums\, and raving fans world-wide that have powered a palpable musical movement. Transcending genres with their eclectic and eccentric blend of instruments and lineages\, the SIMRIT experience is based around its lead singer – songwriter\, Simrit Kaur\, born in Athens\, Greece and adopted by Greek Americans into South Carolina. Filling out the SIMRIT sound and experience is Salif Bamakora on the 21-string west African kora. Shannon Hayden on electric cello (that she runs through a pedal board with wild effects) and guitar\, Jared May on bass & Moog synthesizer\, and Devon Ashley on drums and other percussion. Their music is known for its hypnotic\, deep-pocket groove\, haunting beauty\, edge\, and psychedelic atmosphere. It has been called exotic funk while also being likened to the epic\, cinematic feels of David Lynch and Quentin Tarantino films.
UID:83921-21616896@events.umich.edu
URL:https://events.umich.edu/event/83921
CLASS:PUBLIC
STATUS:CONFIRMED
CATEGORIES:The Ark
LOCATION:Off Campus Location
CONTACT:
END:VEVENT
BEGIN:VEVENT
DTSTAMP:20211015T181517
DTSTART;TZID=America/Detroit:20211024T200000
SUMMARY:Performance:First Dissertation Recital: Margaret Burk\, conductor
DESCRIPTION:PROGRAM: Haydn - Missa in B-flat Major\, Hob. XXII:12 (”Theresienmesse”).
UID:88321-21652501@events.umich.edu
URL:https://events.umich.edu/event/88321
CLASS:PUBLIC
STATUS:CONFIRMED
CATEGORIES:Free,Music,North campus
LOCATION:Earl V. Moore Building - McIntosh Theatre
CONTACT:
END:VEVENT
END:VCALENDAR