BEGIN:VCALENDAR
VERSION:2.0
PRODID:-//UM//UM*Events//EN
CALSCALE:GREGORIAN
BEGIN:VTIMEZONE
TZID:America/Detroit
TZURL:http://tzurl.org/zoneinfo/America/Detroit
X-LIC-LOCATION:America/Detroit
BEGIN:DAYLIGHT
TZOFFSETFROM:-0500
TZOFFSETTO:-0400
TZNAME:EDT
DTSTART:20070311T020000
RRULE:FREQ=YEARLY;BYMONTH=3;BYDAY=2SU
END:DAYLIGHT
BEGIN:STANDARD
TZOFFSETFROM:-0400
TZOFFSETTO:-0500
TZNAME:EST
DTSTART:20071104T020000
RRULE:FREQ=YEARLY;BYMONTH=11;BYDAY=1SU
END:STANDARD
END:VTIMEZONE
BEGIN:VEVENT
DTSTAMP:20211031T120003
DTSTART;TZID=America/Detroit:20211031T000000
DTEND;TZID=America/Detroit:20211031T235959
SUMMARY:Sporting Event:Big Ten Championships
DESCRIPTION:Big 10 Championships at Iowa University.
UID:88077-21658352@events.umich.edu
URL:https://events.umich.edu/event/88077
CLASS:PUBLIC
STATUS:CONFIRMED
CATEGORIES:
LOCATION:Iowa University
CONTACT:
END:VEVENT
BEGIN:VEVENT
DTSTAMP:20211031T180002
DTSTART;TZID=America/Detroit:20211031T000000
DTEND;TZID=America/Detroit:20211031T235959
SUMMARY:Sporting Event:Cedarfest
DESCRIPTION:MCSA fleet race regatta.
UID:85488-21658388@events.umich.edu
URL:https://events.umich.edu/event/85488
CLASS:PUBLIC
STATUS:CONFIRMED
CATEGORIES:
LOCATION:Michigan State, East Lansing, MI
CONTACT:
END:VEVENT
BEGIN:VEVENT
DTSTAMP:20211030T180004
DTSTART;TZID=America/Detroit:20211031T000000
DTEND;TZID=America/Detroit:20211031T220000
SUMMARY:Other:Cleveland State Duals
DESCRIPTION:We will be driving down with the Travel Team down to Cleveland State University to partake in their fencing tournament.
UID:88109-21658132@events.umich.edu
URL:https://events.umich.edu/event/88109
CLASS:PUBLIC
STATUS:CONFIRMED
CATEGORIES:
LOCATION:Cleveland State University
CONTACT:
END:VEVENT
BEGIN:VEVENT
DTSTAMP:20211031T120004
DTSTART;TZID=America/Detroit:20211031T000000
DTEND;TZID=America/Detroit:20211031T235959
SUMMARY:Other:MASC Regional Tournament
DESCRIPTION:Regional Competition at Grand Park Events Center.
UID:87794-21658374@events.umich.edu
URL:https://events.umich.edu/event/87794
CLASS:PUBLIC
STATUS:CONFIRMED
CATEGORIES:
LOCATION:Grand Park Events Center
CONTACT:
END:VEVENT
BEGIN:VEVENT
DTSTAMP:20211031T180002
DTSTART;TZID=America/Detroit:20211031T000000
DTEND;TZID=America/Detroit:20211031T235959
SUMMARY:Sporting Event:MCSA Fall Championship
DESCRIPTION:Fall Championship regatta for the MCSA.
UID:85490-21658396@events.umich.edu
URL:https://events.umich.edu/event/85490
CLASS:PUBLIC
STATUS:CONFIRMED
CATEGORIES:
LOCATION:Chicago Yacht Club, Chicago, IL
CONTACT:
END:VEVENT
BEGIN:VEVENT
DTSTAMP:20211031T180002
DTSTART;TZID=America/Detroit:20211031T000000
DTEND;TZID=America/Detroit:20211031T235959
SUMMARY:Other:MIT Tournament ECTC 2021
DESCRIPTION:ECTC Tournament @MIT on Saturday\, Oct. 30th
UID:87103-21658400@events.umich.edu
URL:https://events.umich.edu/event/87103
CLASS:PUBLIC
STATUS:CONFIRMED
CATEGORIES:
LOCATION:Massachusetts Institute of Technology
CONTACT:
END:VEVENT
BEGIN:VEVENT
DTSTAMP:20211031T180002
DTSTART;TZID=America/Detroit:20211031T000000
DTEND;TZID=America/Detroit:20211031T235959
SUMMARY:Sporting Event:Nickerson Trophy 
DESCRIPTION:Interconference Fleet Race hosted by Tufts. 
UID:85489-21658392@events.umich.edu
URL:https://events.umich.edu/event/85489
CLASS:PUBLIC
STATUS:CONFIRMED
CATEGORIES:
LOCATION:Tufts University, Middlesex County, Massachusetts
CONTACT:
END:VEVENT
BEGIN:VEVENT
DTSTAMP:20211031T120004
DTSTART;TZID=America/Detroit:20211031T000000
DTEND;TZID=America/Detroit:20211031T235959
SUMMARY:Other:Regionals
DESCRIPTION:W-MASC Regional Tournament
UID:88636-21658380@events.umich.edu
URL:https://events.umich.edu/event/88636
CLASS:PUBLIC
STATUS:CONFIRMED
CATEGORIES:
LOCATION:Mitchell Field
CONTACT:
END:VEVENT
BEGIN:VEVENT
DTSTAMP:20211030T180005
DTSTART;TZID=America/Detroit:20211031T000000
DTEND;TZID=America/Detroit:20211031T190000
SUMMARY:Recreational / Games:SASLA Halloween Bash 2021
DESCRIPTION:SASLA will be hosting their yearly Halloween Bash! A night of ghoulishly good fun\, including pumpkin carving\, a Halloween movie\, costume contest\, candy\, and more! This year it is split into 2 days - the 2nd day will be an outdoor spooky adventure to make sure everyone can distance appropriately. We can't wait! 
UID:88577-21658151@events.umich.edu
URL:https://events.umich.edu/event/88577
CLASS:PUBLIC
STATUS:CONFIRMED
CATEGORIES:
LOCATION:MLA Studio
CONTACT:
END:VEVENT
BEGIN:VEVENT
DTSTAMP:20210511T124519
DTSTART;TZID=America/Detroit:20211031T080000
DTEND;TZID=America/Detroit:20211031T230000
SUMMARY:Other:Become a UROP Research Mentor
DESCRIPTION:Submit a Research Project for the 2021-2022 Academic Year: https://lsa.umich.edu/urop/research-mentors.html\n\nUROP Research Mentors are faculty and post-doc researchers from across all U-M's 19 Schools and Colleges who provide undergraduate student researchers an opportunity to engage in research activities that help them learn about the pursuit of knowledge within an academic discipline. This early exposure to research fosters a valuable academic experience for students. Through this collaboration\, students gain research skills and mentorship that lead to academic retention\, a more positive undergraduate experience and paths to graduate school.
UID:83879-21619575@events.umich.edu
URL:https://events.umich.edu/event/83879
CLASS:PUBLIC
STATUS:CONFIRMED
CATEGORIES:AEM Featured,Education,Faculty,Free,Graduate and Professional Students,Graduate Students,Interdisciplinary,Mentorship,Research,research data,Staff,Urop
LOCATION:Off Campus Location
CONTACT:
END:VEVENT
BEGIN:VEVENT
DTSTAMP:20211104T150425
DTSTART;TZID=America/Detroit:20211031T090000
DTEND;TZID=America/Detroit:20211031T170000
SUMMARY:Exhibition:Buying Home\, Selling America: the House Catalog\, 1906-1966
DESCRIPTION:Buying Home\, Selling America: the House Catalog\, 1906-1966 brings to light the collection of house catalogs in the Art\, Architecture & Engineering Library’s Special Collections. Focusing primarily on the kit house industry of Michigan and the Midwest\, the catalogs provide a portal to explore multiple themes\, such as\, the Michigan house catalog industry\, changing architectural styles\, the business of selling homes\, societal and cultural implications\, and domestic technologies. We hope the exhibit is not simply a nostalgic view back\, but raises awareness of our domestic surroundings today and compels us to ask questions as we look to the future.\n\nThe exhibit is available in the Clark Library (second floor Hatcher) during Hatcher Library hours.
UID:86339-21632804@events.umich.edu
URL:https://events.umich.edu/event/86339
CLASS:PUBLIC
STATUS:CONFIRMED
CATEGORIES:Architecture,Free,Library
LOCATION:Hatcher Graduate Library - Clark Library, 2nd Floor
CONTACT:
END:VEVENT
BEGIN:VEVENT
DTSTAMP:20220119T121743
DTSTART;TZID=America/Detroit:20211031T090000
DTEND;TZID=America/Detroit:20211031T230000
SUMMARY:Careers / Jobs:Detroit Community-Engaged Research Program Application Open
DESCRIPTION:Gain exposure to non-profits\, research and Detroit in Summer 2022.\n\nBe part of the DCERP social justice focused summer fellowship program run through the U-M’s Undergraduate Research Opportunity Program. Learn while helping community organizations with research projects addressing social and environmental justice\, food insecurity\, human rights\, public health\, youth development\, and more! Our program brings together aspiring change agents who will learn about the city\, non-profits\, community engagement and each other! \n\nhttps://myumi.ch/erK95\n\nPriority Deadline: December 3rd (5pm)\nFinal Application Deadline: January 31st 2022 (5pm)\n\nInfo Session offered Wednesdays at Noon weekly\nFrom October 27 - December 8\, January 5 - January 12\nRegister for an info session at: https://myumi.ch/kxprd
UID:87903-21647507@events.umich.edu
URL:https://events.umich.edu/event/87903
CLASS:PUBLIC
STATUS:CONFIRMED
CATEGORIES:Activism,AEM Featured,Applications,Dcerp,Detroit,Environment,Fellowship,first-generation,Free,Humanities,Interdisciplinary,Internship,Public Health,Public Policy,Research,Social Impact,Social Justice,Summer Jobs,Sustainability,The College Of Literature\, Science\, And The Arts,Transfer Students,Undergraduate,Undergraduate Students,Urop
LOCATION:Off Campus Location
CONTACT:
END:VEVENT
BEGIN:VEVENT
DTSTAMP:20211028T141550
DTSTART;TZID=America/Detroit:20211031T090000
DTEND;TZID=America/Detroit:20211031T230000
SUMMARY:Film Screening:For Halloween: the International Studies Horror Filmfest 2021
DESCRIPTION:This year the library's International Studies Horror Filmfest — our annual Halloween spectacular — is once again offered virtually. The movies are from around the world\, but each one is subtitled in English.\n\nGet your snacks in order and prepare to be horrified! If you’ve got creaky floors\, or a loud water heater\, we won’t judge you for wanting somebody’s hand to hold while you watch.\n\nWATCH AT YOUR LEISURE\n\nThe movies are available through Kanopy and Alexander Street streaming movie services\, which means you can watch them at your leisure — any day or time. Log in with your U-M credentials.\n\nLet the Right One In — Swedish — 1 hr 54 mins\nhttps://myumi.ch/yKeVR\nIn this romantic horror film\, a bullied 12-year-old boy develops a friendship with a pale\, serious young girl who only comes out at night. There was an American remake of this movie\, but this is the original.\n\nBacurau — Portuguese\, filmed in Brazil — 2 hrs 11 mins\nhttps://myumi.ch/QAejq\nIn this thriller mystery\, Bacurau — a (fictional) small town in Brazil — disappears from maps and GPS after its elderly matriarch dies. Residents see a UFO-shaped drone flying overhead.\n\nDead Friend\, or The Ghost — Korean — 1 hr 35 mins\nhttps://myumi.ch/r8WV7\nThis horror film is set in a high school\, where a bright young student loses her memory. Her old friends mysteriously die one by one\, her memory starts returning\, and she investigates.\n\nDogtooth — Greek — 1 hr 37 mins\nhttps://myumi.ch/jxpRN\nIn this violent drama\, parents keep their three children ignorant of the world outside their fenced compound\, keeping them in a perpetual childhood well into adulthood. This movie is definitely 10+ on the vicious scale!\n\nWATCH WITH US ON HALLOWEEN\n\nSign into Canvas with your U-M credentials: https://umich.instructure.com/enroll/XAFGE9\n\nYou can access the movies in Canvas at any time to watch on your own\, but please join us for a group viewing on Halloween (Sunday\, October 31) so you can chat during the movies! We'll be broadcasting on Canvas at these (approximate) times:\n\n4:00 pm: Let The Right One In\n6:00 pm: Bacurau\n8:30 pm: The Dead Friend (The Ghost)\n10:15 pm: Dogtooth
UID:88479-21654238@events.umich.edu
URL:https://events.umich.edu/event/88479
CLASS:PUBLIC
STATUS:CONFIRMED
CATEGORIES:Film,Free,Library
LOCATION:Off Campus Location
CONTACT:
END:VEVENT
BEGIN:VEVENT
DTSTAMP:20211130T115845
DTSTART;TZID=America/Detroit:20211031T100000
DTEND;TZID=America/Detroit:20211031T180000
SUMMARY:Exhibition:Free Your Mind: Art and Incarceration in Michigan
DESCRIPTION:This exhibt runs through December 12\, 2021.\n\nMaking art can be a transformative experience. It helps us to confront and address some of the most pressing issues of our time. Art has the power to shift the way we see and understand the world around us\, and the worlds within us. Free Your Mind: Art and Incarceration in Michigan invites us to consider these qualities of art\, while also grappling with the carceral system and the many ways it affects the lives of all of us.\n\nCurrently there are approximately 2.2 million people incarcerated in the United States\, and in Michigan\, there are roughly 33\,000 residents currently serving time in the prison system. Working together with a coalition of more than a dozen organizations and Michigan State University units and departments\, Free Your Mind explores the inner worlds of incarcerated individuals and the fundamental issues that shape conversations around incarceration today. The exhibition centers on four key topics of inquiry: Michigan’s length of sentencing and overcrowding in prisons\; the impact of incarceration on women\; youth incarceration\; and the dangers of COVID-19.\n\nThe exhibition features artists\, poets\, and storytellers of great achievement. The majority of these artists are either currently or formerly incarcerated. Their works on view invite us to consider the role art-making plays in prisons as a liberating force\, and offer unique perspectives on the experience of incarceration. The works also invite us to approach the subject of incarceration with an open mind. Free Your Mind aims to cultivate a greater sense of empathy for those directly impacted by incarceration and an understanding that their growth as individuals is linked to the greater health of the society we all live in\, together.\n\nFree Your Mind: Art and Incarceration in Michigan is organized by the Eli and Edythe Broad Art Museum at Michigan State University and curated by Steven L. Bridges\, Senior Curator and Director of Curatorial Affairs\, and Janie Paul\, Senior Curator and Cofounder\, Annual Exhibitions of Art by Michigan Prisoners\, a project of the Prison Creative Arts Project at the University of Michigan. Support for this exhibition is provided by the Eli and Edythe Broad endowed exhibitions fund.
UID:88762-21657424@events.umich.edu
URL:https://events.umich.edu/event/88762
CLASS:PUBLIC
STATUS:CONFIRMED
CATEGORIES:Art,Criminal Justice,Exhibition,Free,mass incarceration,Museum,prison issues,social justice,Visual Arts
LOCATION:Off Campus Location - MSU Broad Art Museum
CONTACT:
END:VEVENT
BEGIN:VEVENT
DTSTAMP:20210903T140304
DTSTART;TZID=America/Detroit:20211031T103000
DTEND;TZID=America/Detroit:20211031T200000
SUMMARY:Social / Informal Gathering:Halloween Brunch & Dinner
DESCRIPTION:Join us at the dining halls for a Halloween themed brunch and dinner!
UID:86326-21632727@events.umich.edu
URL:https://events.umich.edu/event/86326
CLASS:PUBLIC
STATUS:CONFIRMED
CATEGORIES:Brunch,Dinner,Food,Halloween,Michigan Dining,Social
LOCATION:North Quad
CONTACT:
END:VEVENT
BEGIN:VEVENT
DTSTAMP:20211028T172137
DTSTART;TZID=America/Detroit:20211031T120000
DTEND;TZID=America/Detroit:20211031T180000
SUMMARY:Exhibition:Connections\, New Beginnings: Artists in Transition
DESCRIPTION:Connections\, New Beginnings: Artists in Transition features the work of artists in the Linkage Project\, a program of the Prison Creative Arts Project (PCAP) that affirms the creativity of adults who have returned from incarceration. The artists previously exhibited their work at PCAP's Annual Exhibition of Art by Michigan Prisoners at the University of Michigan. For some\, this exhibition at the MSU Broad Art Lab is the first opportunity to show their work since regaining their freedom. Art-making has helped these artists during the dark years of their incarceration\, and we hope the exhibition inspires visitors to learn more about how to support formerly incarcerated people reconnecting with their communities.\n\nMartín Vargas\, artist and curator of this exhibition\, invites visitors and supporters to not only connect with the artists through their work\, but also during select Art Lab studio hours\, which will feature several of the artists working in person.\n\nConnections\, New Beginnings: Artists in Transition is organized by the Linkage Project of the Prison Creative Arts Project at the University of Michigan in partnership with the Eli and Edythe Broad Art Museum at Michigan State University. The exhibition is curated by Martín Vargas\, Vanessa Mayesky\, Scott Tompkins\, Nico Slowik\, Kimiko Uyeda\, and Jenna VanFleteren.
UID:88761-21657384@events.umich.edu
URL:https://events.umich.edu/event/88761
CLASS:PUBLIC
STATUS:CONFIRMED
CATEGORIES:Art,Criminal Justice,Exhibition,Free,Museum,social justice,Visual Arts
LOCATION:Off Campus Location - MSU Broad Art Lab
CONTACT:
END:VEVENT
BEGIN:VEVENT
DTSTAMP:20211007T121511
DTSTART;TZID=America/Detroit:20211031T160000
SUMMARY:Performance:Halloween Concert
DESCRIPTION:Kenneth Kiesler\, artistic director. \n\nA U-M tradition for more than 40 years\, the Halloween Concert brings together the University Symphony and Philharmonia Orchestras for this beloved holiday event. Graduate conducting students lead more than 125 costumed musicians for this entertaining concert featuring thrilling\, popular\, and spooky symphonic Halloween favorites. Get out your scariest costume or come dressed as you are to enjoy this chilling event.
UID:86190-21631985@events.umich.edu
URL:https://events.umich.edu/event/86190
CLASS:PUBLIC
STATUS:CONFIRMED
CATEGORIES:Music
LOCATION:Hill Auditorium
CONTACT:
END:VEVENT
BEGIN:VEVENT
DTSTAMP:20210723T114442
DTSTART;TZID=America/Detroit:20211031T193000
DTEND;TZID=America/Detroit:20211031T213000
SUMMARY:Performance:Dustbowl Revival w/opener Smooth Hound Smith - Rescheduled from 6/26/21
DESCRIPTION:*By purchasing a ticket you agree that you and your guests will comply with all laws\, orders\, ordinances\, regulations and health and safety guidance adopted by the State of Michigan\, the County of Washtenaw and The Ark\, including any guidelines in place at the time of the show. Attendees who do not comply will be asked to leave. Policies will be updated as circumstances and requirements change in our community. Please review The Ark’s current COVID-related information before attending a show.*\n\nThe Dustbowl Revival has always been about pushing the boundaries of what American roots music can be. In many ways\, they could have continued creating joyful\, booty-shaking songs and cut-to-heart folk-rock ballads that lift up their transcendent live shows—and mining new energetic material from the place where folk music\, funk\, and soul meet. But the band’s newest album\, \"Is It You\, Is It Me\,\" is something different entirely. Produced by Sam Kassirer [Lake Street Dive\, Josh Ritter] and engineered by Brian Joseph [Bon Iver\, Sufjan Stevens]\, it represents the latest stage in a band that never stops evolving and refuses to stand still. The album tackles uneasy topics—often where the political feels personal\, especially in the defiant \"Get Rid of You\,\" which was inspired by the student activists who emerged from the tragic Parkland High School shooting in Florida. The ominous driving brass groove of \"Enemy\" hones in on a painful generational split between a daughter and her parents who may have voted in a tyrant\, and have become strangers to her. This yearning search for common ground pervades the record as a whole.
UID:83287-21336291@events.umich.edu
URL:https://events.umich.edu/event/83287
CLASS:PUBLIC
STATUS:CONFIRMED
CATEGORIES:The Ark
LOCATION:Off Campus Location
CONTACT:
END:VEVENT
END:VCALENDAR