BEGIN:VCALENDAR
VERSION:2.0
PRODID:-//UM//UM*Events//EN
CALSCALE:GREGORIAN
BEGIN:VTIMEZONE
TZID:America/Detroit
TZURL:http://tzurl.org/zoneinfo/America/Detroit
X-LIC-LOCATION:America/Detroit
BEGIN:DAYLIGHT
TZOFFSETFROM:-0500
TZOFFSETTO:-0400
TZNAME:EDT
DTSTART:20070311T020000
RRULE:FREQ=YEARLY;BYMONTH=3;BYDAY=2SU
END:DAYLIGHT
BEGIN:STANDARD
TZOFFSETFROM:-0400
TZOFFSETTO:-0500
TZNAME:EST
DTSTART:20071104T020000
RRULE:FREQ=YEARLY;BYMONTH=11;BYDAY=1SU
END:STANDARD
END:VTIMEZONE
BEGIN:VEVENT
DTSTAMP:20211121T120004
DTSTART;TZID=America/Detroit:20211121T000000
DTEND;TZID=America/Detroit:20211121T235959
SUMMARY:Sporting Event:BIG10 West Playoffs
DESCRIPTION:University of Michigan Women's Rugby Football Club (UMWRFC) is travelling to Norman\, OK for the BIG10 West Championship
UID:89027-21662923@events.umich.edu
URL:https://events.umich.edu/event/89027
CLASS:PUBLIC
STATUS:CONFIRMED
CATEGORIES:
LOCATION:Norman, OK
CONTACT:
END:VEVENT
BEGIN:VEVENT
DTSTAMP:20211122T180006
DTSTART;TZID=America/Detroit:20211121T000000
DTEND;TZID=America/Detroit:20211121T235959
SUMMARY:Other:Brown tournament ECTC 2021
DESCRIPTION:ECTC Tournament @Brown on Sunday\, Nov. 21st.   
UID:88056-21663150@events.umich.edu
URL:https://events.umich.edu/event/88056
CLASS:PUBLIC
STATUS:CONFIRMED
CATEGORIES:
LOCATION:Brown University
CONTACT:
END:VEVENT
BEGIN:VEVENT
DTSTAMP:20211121T120003
DTSTART;TZID=America/Detroit:20211121T000000
DTEND;TZID=America/Detroit:20211121T235959
SUMMARY:Other:Kalamazoo Kick Off Classic 2021
DESCRIPTION:Kzoo 2021 - Nov 19-21
UID:87336-21662902@events.umich.edu
URL:https://events.umich.edu/event/87336
CLASS:PUBLIC
STATUS:CONFIRMED
CATEGORIES:
LOCATION:Wings Event Center 3600 Vanrick Dr, Kalamazoo, MI 49001
CONTACT:
END:VEVENT
BEGIN:VEVENT
DTSTAMP:20211121T120005
DTSTART;TZID=America/Detroit:20211121T000000
DTEND;TZID=America/Detroit:20211121T235959
SUMMARY:Other:NIRSA National Championships
DESCRIPTION:National Championships
UID:88899-21662944@events.umich.edu
URL:https://events.umich.edu/event/88899
CLASS:PUBLIC
STATUS:CONFIRMED
CATEGORIES:
LOCATION:Foley Soccer Park
CONTACT:
END:VEVENT
BEGIN:VEVENT
DTSTAMP:20211110T145517
DTSTART;TZID=America/Detroit:20211121T000000
DTEND;TZID=America/Detroit:20211121T235900
SUMMARY:Other:No Impact Challenge
DESCRIPTION:The Program in the Environment (PitE) Club's No Impact Challenge aims to raise awareness around environmental impact. This semester’s challenge will run from Monday\, November 15th - Sunday\, November 21st. \n\nEach day\, participants will record how sustainable their behaviors are. At the end of the week\, participants that take part every day will each win a prize. From this experience\, we hope you will become more aware of how certain actions and behaviors are more or less sustainable!\n\nSign up for the No Impact Challenge here (https://docs.google.com/forms/d/e/1FAIpQLSeFZRqKiywex9DyIVEpQOqbUEHN_sJH7oJd_QnrUpfPWbEAYw/viewform) or email laframna@umich.edu or elwelch@umich.edu if you have any questions. More information on point recording and general challenge info will be sent out to those signed up.
UID:89148-21660688@events.umich.edu
URL:https://events.umich.edu/event/89148
CLASS:PUBLIC
STATUS:CONFIRMED
CATEGORIES:Environment,Student Org,Sustainability,Virtual
LOCATION:Off Campus Location
CONTACT:
END:VEVENT
BEGIN:VEVENT
DTSTAMP:20220110T155719
DTSTART;TZID=America/Detroit:20211121T070000
DTEND;TZID=America/Detroit:20211121T230000
SUMMARY:Class / Instruction:Become a UROP Research Mentor
DESCRIPTION:Submit a Research Project for the 2021-2022 Academic Year: https://lsa.umich.edu/urop/research-mentors.html\n\nUROP Research Mentors are faculty and post-doc researchers from across all U-M's 19 Schools and Colleges who provide undergraduate student researchers an opportunity to engage in research activities that help them learn about the pursuit of knowledge within an academic discipline. This early exposure to research fosters a valuable academic experience for students. Through this collaboration\, students gain research skills and mentorship that lead to academic retention\, a more positive undergraduate experience and paths to graduate school.
UID:89182-21660874@events.umich.edu
URL:https://events.umich.edu/event/89182
CLASS:PUBLIC
STATUS:CONFIRMED
CATEGORIES:AEM Featured,Education,Faculty,Fellowship,first-generation,Graduate and Professional Students,Graduate Students,Humanities,Interdisciplinary,Leadership,Mentorship,Networking,Professional Development,Recruiting,Research,research data,Social Impact,Staff,Urop
LOCATION:Off Campus Location
CONTACT:
END:VEVENT
BEGIN:VEVENT
DTSTAMP:20211105T143112
DTSTART;TZID=America/Detroit:20211121T080000
DTEND;TZID=America/Detroit:20211121T170000
SUMMARY:Reception / Open House:Be a Hero at the Big House
DESCRIPTION:Be a Hero will be returning to the Big House on Sunday\, November 21st! Join us for our largest event at the Michigan Stadium. Blood donors are encouraged to donate blood at the biggest blood drive on the University of Michigan campus. Blood donations will count towards the Blood Battle competition against OSU. Attendees also have the opportunity to join the organ donor registry or be screened as a bone marrow donor. There will be entertainment\, activities\, giveaways\, special guests\, and snacks throughout the day. \n\nMake your blood donation appointment here: https://www.redcrossblood.org/give.html/drive-results?dt=WB:PL:DR:PM&ed=11%2F21%2F2021&order=DATE&range=10&sd=11%2F21%2F2021&zipSponsor=goblue\n\nScheduled Entertainment\n10:00 am - 12:00 pm  Meet the Wolverine Trooper\n10:50 am  Mascot Dance-off\n12:00 pm - 1:00 pm  Meet our Athletic Guest\, Jon Jansen\n1:00 pm  Watch the Detroit Lions vs. the Cleveland Browns on the suite TVs\n\nAll Day\nDonate Blood\nJoin the organ donor registry\nJoin the bone marrow registry\nMeet the Michigan pageant winners\nPlay games and participate in fun\, family-friendly activities\nPost something to the social media feed\nGrab some cider & doughnuts\nScore a free t-shirt\nEnter to win one of our exciting door prizes\n\n \nInterested in volunteering? We need a bunch of volunteers to help pull this event off! We're asking for help both the day of the event and the day before to help load-in. Click the sign-up links below to see how you can help!\n\nIn alignment with Michigan Medicine's policy\, all Michigan Medicine volunteers must be fully vaccinated against COVID-19 in order to volunteer. To be considered fully vaccinated\, you must be at least two weeks post completion of two doses of the Moderna or Pfizer vaccines\, or a single dose of the Johnson & Johnson vaccine. For information on vaccines and where to access them\, click here. \n\nIf you are a University of Michigan student\, faculty\, or staff member and have already verified your vaccine with the institution\, please email a screenshot of your ResponsiBLUE screen showing that your vaccine has been “Completed” to Megan Podschlne at mpodschl@med.umich.edu if you have not already done so.\nFor all other volunteers\, please submit your vaccine information if you have not already done so\, including a picture of your vaccine card\, by clicking here: https://umich.qualtrics.com/jfe/form/SV_8rkqg6yUMJLuD8G. If you have been partially vaccinated (i.e.\, received only 1 dose in a 2 dose series)\, please wait to submit this form until you have received all vaccine doses. \nIf you are not able to submit your information through the survey\, please let us know.\nOnce you submit the form\, vaccine information will be reviewed within the next 7 business days. If your vaccine series is not authorized by the U.S. Food and Drug Administration (FDA) or the World Health Organization (WHO)\, you will not be considered fully vaccinated under U-M policy. To be considered fully vaccinated you must have received all doses of the vaccine at least 2 weeks ago.\n\nBe a Hero volunteer sign-up (11/21/2021): https://www.signupgenius.com/go/20f0e4fa8ac2fa0fb6-beahero14\nBe a Hero Load-in volunteer sign-up (11/20/2021): https://www.signupgenius.com/go/20f0e4fa8ac2fa0fb6-beahero13 \n\n\nWould you like to share your donation or transplant story? Email Megan Podschlne at mpodschl@med.umich.edu.\n\n\nCan't make it to Be a Hero? Schedule a blood drive appointment between 10/27/2021 and 11/24/2021 to help us beat OSU in the annual Blood Battle competition! Visit www.redcrossblood.org and enter sponsor code \"goblue\" for a list of participating drives.
UID:68708-21659650@events.umich.edu
URL:https://events.umich.edu/event/68708
CLASS:PUBLIC
STATUS:CONFIRMED
CATEGORIES:Athletics,Athletics - Football,blood,Community Service,competition,Food,Free,Games,Health & Wellness,Medicine,Nursing,Pharmacy,Pre Med,Pre-Health,Public Health,service,Student Org,student organization,Volunteer
LOCATION:Michigan Stadium - Jack Roth Stadium Club
CONTACT:
END:VEVENT
BEGIN:VEVENT
DTSTAMP:20211104T150425
DTSTART;TZID=America/Detroit:20211121T090000
DTEND;TZID=America/Detroit:20211121T170000
SUMMARY:Exhibition:Buying Home\, Selling America: the House Catalog\, 1906-1966
DESCRIPTION:Buying Home\, Selling America: the House Catalog\, 1906-1966 brings to light the collection of house catalogs in the Art\, Architecture & Engineering Library’s Special Collections. Focusing primarily on the kit house industry of Michigan and the Midwest\, the catalogs provide a portal to explore multiple themes\, such as\, the Michigan house catalog industry\, changing architectural styles\, the business of selling homes\, societal and cultural implications\, and domestic technologies. We hope the exhibit is not simply a nostalgic view back\, but raises awareness of our domestic surroundings today and compels us to ask questions as we look to the future.\n\nThe exhibit is available in the Clark Library (second floor Hatcher) during Hatcher Library hours.
UID:86339-21632825@events.umich.edu
URL:https://events.umich.edu/event/86339
CLASS:PUBLIC
STATUS:CONFIRMED
CATEGORIES:Architecture,Free,Library
LOCATION:Hatcher Graduate Library - Clark Library, 2nd Floor
CONTACT:
END:VEVENT
BEGIN:VEVENT
DTSTAMP:20220119T121743
DTSTART;TZID=America/Detroit:20211121T090000
DTEND;TZID=America/Detroit:20211121T230000
SUMMARY:Careers / Jobs:Detroit Community-Engaged Research Program Application Open
DESCRIPTION:Gain exposure to non-profits\, research and Detroit in Summer 2022.\n\nBe part of the DCERP social justice focused summer fellowship program run through the U-M’s Undergraduate Research Opportunity Program. Learn while helping community organizations with research projects addressing social and environmental justice\, food insecurity\, human rights\, public health\, youth development\, and more! Our program brings together aspiring change agents who will learn about the city\, non-profits\, community engagement and each other! \n\nhttps://myumi.ch/erK95\n\nPriority Deadline: December 3rd (5pm)\nFinal Application Deadline: January 31st 2022 (5pm)\n\nInfo Session offered Wednesdays at Noon weekly\nFrom October 27 - December 8\, January 5 - January 12\nRegister for an info session at: https://myumi.ch/kxprd
UID:87903-21647528@events.umich.edu
URL:https://events.umich.edu/event/87903
CLASS:PUBLIC
STATUS:CONFIRMED
CATEGORIES:Activism,AEM Featured,Applications,Dcerp,Detroit,Environment,Fellowship,first-generation,Free,Humanities,Interdisciplinary,Internship,Public Health,Public Policy,Research,Social Impact,Social Justice,Summer Jobs,Sustainability,The College Of Literature\, Science\, And The Arts,Transfer Students,Undergraduate,Undergraduate Students,Urop
LOCATION:Off Campus Location
CONTACT:
END:VEVENT
BEGIN:VEVENT
DTSTAMP:20211115T154447
DTSTART;TZID=America/Detroit:20211121T100000
DTEND;TZID=America/Detroit:20211121T110000
SUMMARY:Exhibition:Enter the As I See It Monologue Competition!
DESCRIPTION:Arts at Michigan is seeking student submissions for the As I See It Monologue Competition! Students can submit up to two recorded original monologues along with scripts.\n\nThere is no theme for this competition. All monologues must be original content (written by the student submitting the video) and cannot be taken or adapted from an existing work. A script for each video must also be submitted.\n\nSubmissions will be accepted throughout the semester. The final date to submit is Friday\, December 3 at 10pm. There will also be optional opportunities to perform your monologues in front of a live audience as part of the submission process. Live performances are not required to enter the competition.\n\nThe first place winner will receive $100!
UID:89278-21661682@events.umich.edu
URL:https://events.umich.edu/event/89278
CLASS:PUBLIC
STATUS:CONFIRMED
CATEGORIES:Art,arts at michigan,Exhibition,Storytelling,Theater
LOCATION:
CONTACT:
END:VEVENT
BEGIN:VEVENT
DTSTAMP:20211130T115845
DTSTART;TZID=America/Detroit:20211121T100000
DTEND;TZID=America/Detroit:20211121T180000
SUMMARY:Exhibition:Free Your Mind: Art and Incarceration in Michigan
DESCRIPTION:This exhibt runs through December 12\, 2021.\n\nMaking art can be a transformative experience. It helps us to confront and address some of the most pressing issues of our time. Art has the power to shift the way we see and understand the world around us\, and the worlds within us. Free Your Mind: Art and Incarceration in Michigan invites us to consider these qualities of art\, while also grappling with the carceral system and the many ways it affects the lives of all of us.\n\nCurrently there are approximately 2.2 million people incarcerated in the United States\, and in Michigan\, there are roughly 33\,000 residents currently serving time in the prison system. Working together with a coalition of more than a dozen organizations and Michigan State University units and departments\, Free Your Mind explores the inner worlds of incarcerated individuals and the fundamental issues that shape conversations around incarceration today. The exhibition centers on four key topics of inquiry: Michigan’s length of sentencing and overcrowding in prisons\; the impact of incarceration on women\; youth incarceration\; and the dangers of COVID-19.\n\nThe exhibition features artists\, poets\, and storytellers of great achievement. The majority of these artists are either currently or formerly incarcerated. Their works on view invite us to consider the role art-making plays in prisons as a liberating force\, and offer unique perspectives on the experience of incarceration. The works also invite us to approach the subject of incarceration with an open mind. Free Your Mind aims to cultivate a greater sense of empathy for those directly impacted by incarceration and an understanding that their growth as individuals is linked to the greater health of the society we all live in\, together.\n\nFree Your Mind: Art and Incarceration in Michigan is organized by the Eli and Edythe Broad Art Museum at Michigan State University and curated by Steven L. Bridges\, Senior Curator and Director of Curatorial Affairs\, and Janie Paul\, Senior Curator and Cofounder\, Annual Exhibitions of Art by Michigan Prisoners\, a project of the Prison Creative Arts Project at the University of Michigan. Support for this exhibition is provided by the Eli and Edythe Broad endowed exhibitions fund.
UID:88762-21657427@events.umich.edu
URL:https://events.umich.edu/event/88762
CLASS:PUBLIC
STATUS:CONFIRMED
CATEGORIES:Art,Criminal Justice,Exhibition,Free,mass incarceration,Museum,prison issues,social justice,Visual Arts
LOCATION:Off Campus Location - MSU Broad Art Museum
CONTACT:
END:VEVENT
BEGIN:VEVENT
DTSTAMP:20211109T170715
DTSTART;TZID=America/Detroit:20211121T110000
DTEND;TZID=America/Detroit:20211121T120000
SUMMARY:Well-being:WSN Self-Care Sunday
DESCRIPTION:Wolverine Support Network (WSN) is a club that empowers University of Michigan students to create an inclusive community and support each other’s identity\, mental well-being\, and day-to-day lives. WSN facilitates 35+ peer-led support groups across campus\, for both undergraduate and graduate students\, that fit within students’ own availability. WSN also holds community-building events to foster connection among those within the WSN community and beyond.\n\nJoin WSN the weekend before Thanksgiving to reflect on who and what you are grateful for as well as to engage in some mindful practices for improving well-being! Establish or grow a community with others who prioritize metal and emotional health on campus.\n\nTo sign up for a peer-to-peer support group\, visit umichwsn.org/join. Please contact wsndirectors@umich.edu with any questions.
UID:89122-21660529@events.umich.edu
URL:https://events.umich.edu/event/89122
CLASS:PUBLIC
STATUS:CONFIRMED
CATEGORIES:Free,Inclusion,LGBT,Multicultural,Social,Student Org,Virtual,Well-being
LOCATION:Off Campus Location
CONTACT:
END:VEVENT
BEGIN:VEVENT
DTSTAMP:20220613T111638
DTSTART;TZID=America/Detroit:20211121T113000
DTEND;TZID=America/Detroit:20211121T121500
SUMMARY:Presentation:Expedition Reef
DESCRIPTION:Learn the secrets of the “rainforests of the sea” as you embark on an oceanic safari of the world’s most vibrant—and endangered—marine ecosystems. Expedition Reef immerses you in an undersea adventure. Along the way\, discover how corals grow\, feed\, reproduce\, and support over 25% of all marine life on Earth.
UID:89011-21659757@events.umich.edu
URL:https://events.umich.edu/event/89011
CLASS:PUBLIC
STATUS:CONFIRMED
CATEGORIES:Astronomy,Museum,natural history museum
LOCATION:Museum of Natural History - Planetarium and Dome Theatre
CONTACT:
END:VEVENT
BEGIN:VEVENT
DTSTAMP:20211028T172137
DTSTART;TZID=America/Detroit:20211121T120000
DTEND;TZID=America/Detroit:20211121T180000
SUMMARY:Exhibition:Connections\, New Beginnings: Artists in Transition
DESCRIPTION:Connections\, New Beginnings: Artists in Transition features the work of artists in the Linkage Project\, a program of the Prison Creative Arts Project (PCAP) that affirms the creativity of adults who have returned from incarceration. The artists previously exhibited their work at PCAP's Annual Exhibition of Art by Michigan Prisoners at the University of Michigan. For some\, this exhibition at the MSU Broad Art Lab is the first opportunity to show their work since regaining their freedom. Art-making has helped these artists during the dark years of their incarceration\, and we hope the exhibition inspires visitors to learn more about how to support formerly incarcerated people reconnecting with their communities.\n\nMartín Vargas\, artist and curator of this exhibition\, invites visitors and supporters to not only connect with the artists through their work\, but also during select Art Lab studio hours\, which will feature several of the artists working in person.\n\nConnections\, New Beginnings: Artists in Transition is organized by the Linkage Project of the Prison Creative Arts Project at the University of Michigan in partnership with the Eli and Edythe Broad Art Museum at Michigan State University. The exhibition is curated by Martín Vargas\, Vanessa Mayesky\, Scott Tompkins\, Nico Slowik\, Kimiko Uyeda\, and Jenna VanFleteren.
UID:88761-21657387@events.umich.edu
URL:https://events.umich.edu/event/88761
CLASS:PUBLIC
STATUS:CONFIRMED
CATEGORIES:Art,Criminal Justice,Exhibition,Free,Museum,social justice,Visual Arts
LOCATION:Off Campus Location - MSU Broad Art Lab
CONTACT:
END:VEVENT
BEGIN:VEVENT
DTSTAMP:20211105T153545
DTSTART;TZID=America/Detroit:20211121T123000
DTEND;TZID=America/Detroit:20211121T131500
SUMMARY:Presentation:Sky Tonight
DESCRIPTION:A live presentation showing what is visible in the sky tonight and for the coming few weeks. Viewers will discover how to determine the cardinal directions by finding the North Star\, current and upcoming constellations\, visible planets\, and other interesting astronomical phenomenon.\n\nThe state-of-the-art Planetarium & Dome Theater at the U-M Museum of Natural History transports visitors beyond distant stars and deep into the ocean from the comfort of reclining seats. Tickets $8. Tickets are available on the day of the show at the Museum Store.\nThe planetarium is operating at less than 50% capacity to maximize distancing between viewers. As with all University of Michigan buildings\, masks and health screenings are required.
UID:89012-21659685@events.umich.edu
URL:https://events.umich.edu/event/89012
CLASS:PUBLIC
STATUS:CONFIRMED
CATEGORIES:Astronomy,Museum,natural history museum
LOCATION:Museum of Natural History - Planetarium and Dome Theatre
CONTACT:
END:VEVENT
BEGIN:VEVENT
DTSTAMP:20211007T113144
DTSTART;TZID=America/Detroit:20211121T130000
DTEND;TZID=America/Detroit:20211121T150000
SUMMARY:Lecture / Discussion:Lab Chats
DESCRIPTION:Join us at the visible labs in the atriums for a discussion about the science happening inside. All ages welcome.\n\nStop by and chat with a researcher in the Biodiversity Genomics Lab to learn how and why scientists process DNA samples from plants and animals around the world.
UID:87929-21647718@events.umich.edu
URL:https://events.umich.edu/event/87929
CLASS:PUBLIC
STATUS:CONFIRMED
CATEGORIES:biodiversity,natural history museum,Natural Sciences
LOCATION:Museum of Natural History - Biodiversity Genomics Lab
CONTACT:
END:VEVENT
BEGIN:VEVENT
DTSTAMP:20211105T153307
DTSTART;TZID=America/Detroit:20211121T133000
DTEND;TZID=America/Detroit:20211121T141500
SUMMARY:Performance:Sea Monsters
DESCRIPTION:Stunning photo-realistic CGA transports audiences back to the Late Cretaceous\, when a great inland sea divided North America in two. The film follows a curious and adventurous Dolichorhynchops – familiarly known as a ‘dolly’ – as she travels through the most dangerous oceans in history. Along the way\, she encounters long-necked plesiosaurs\, giant turtles\, enormous fish\, fierce sharks\, and one of the most dangerous sea monsters of all\, the mosasaur. Finishes with an abbreviated star talk.\n\nThe state-of-the-art Planetarium & Dome Theater at the U-M Museum of Natural History transports visitors beyond distant stars and deep into the ocean from the comfort of reclining seats. Tickets $8. Tickets are available on the day of the show at the Museum Store.\nThe planetarium is operating at less than 50% capacity to maximize distancing between viewers. As with all University of Michigan buildings\, masks and health screenings are required.
UID:89014-21659741@events.umich.edu
URL:https://events.umich.edu/event/89014
CLASS:PUBLIC
STATUS:CONFIRMED
CATEGORIES:Astronomy,Museum,natural history museum
LOCATION:Museum of Natural History - Planetarium and Dome Theatre
CONTACT:
END:VEVENT
BEGIN:VEVENT
DTSTAMP:20211118T130543
DTSTART;TZID=America/Detroit:20211121T140000
DTEND;TZID=America/Detroit:20211121T170000
SUMMARY:Performance:Choir Boy
DESCRIPTION:Campus guests are expected to complete ResponsiBLUE Guest\, the daily COVID-19 symptom check tool\, prior to accessing campus buildings. U-M policy also requires all individuals — both vaccinated and unvaccinated — to wear a face covering while in a campus building or on campus transit.\n\nFor fifty years\, Charles R. Drew Prep School for Boys is a highly respected institution dedicated to helping its’ students grow into “strong\, ethical black men.” But what happens when Pharus does not fit the mold for a typical “Drew man?” Pharus is different from his peers\, and his effeminate nature constantly sets him apart. Though he may be the leader and most talented member of Drew’s renowned gospel choir\, he struggles to gain their acceptance and respect. Choir Boy\, written by the Academy Award-winning writer of Moonlight\, Tarell Alvin McCraney\, is a moving story of sexuality\, race\, hope\, gospel music\, and a young gay man finding his voice.\n\nChoir Boy contains racial (n-word) and homophobic (f-word) slurs
UID:88147-21650727@events.umich.edu
URL:https://events.umich.edu/event/88147
CLASS:PUBLIC
STATUS:CONFIRMED
CATEGORIES:Uac
LOCATION:Lydia Mendelssohn Theatre
CONTACT:
END:VEVENT
BEGIN:VEVENT
DTSTAMP:20211026T181515
DTSTART;TZID=America/Detroit:20211121T140000
SUMMARY:Performance:Michigan Youth Jazz Orchestra
DESCRIPTION:Dennis Wilson\, conductor\n\nattend in person or watch online at https://myumi.ch/HankinsonWatch
UID:88683-21656682@events.umich.edu
URL:https://events.umich.edu/event/88683
CLASS:PUBLIC
STATUS:CONFIRMED
CATEGORIES:Concert,Culture,Free,Music,North campus
LOCATION:Earl V. Moore Building - Hankinson Rehearsal Hall
CONTACT:
END:VEVENT
BEGIN:VEVENT
DTSTAMP:20211105T153545
DTSTART;TZID=America/Detroit:20211121T143000
DTEND;TZID=America/Detroit:20211121T151500
SUMMARY:Presentation:Sky Tonight
DESCRIPTION:A live presentation showing what is visible in the sky tonight and for the coming few weeks. Viewers will discover how to determine the cardinal directions by finding the North Star\, current and upcoming constellations\, visible planets\, and other interesting astronomical phenomenon.\n\nThe state-of-the-art Planetarium & Dome Theater at the U-M Museum of Natural History transports visitors beyond distant stars and deep into the ocean from the comfort of reclining seats. Tickets $8. Tickets are available on the day of the show at the Museum Store.\nThe planetarium is operating at less than 50% capacity to maximize distancing between viewers. As with all University of Michigan buildings\, masks and health screenings are required.
UID:89012-21659710@events.umich.edu
URL:https://events.umich.edu/event/89012
CLASS:PUBLIC
STATUS:CONFIRMED
CATEGORIES:Astronomy,Museum,natural history museum
LOCATION:Museum of Natural History - Planetarium and Dome Theatre
CONTACT:
END:VEVENT
BEGIN:VEVENT
DTSTAMP:20211026T181512
DTSTART;TZID=America/Detroit:20211121T150000
SUMMARY:Performance:Jazz Masterclass: Sunny Wilkinson\, voice
DESCRIPTION:part of the Don Chisholm Vocal Jazz Series
UID:88682-21656681@events.umich.edu
URL:https://events.umich.edu/event/88682
CLASS:PUBLIC
STATUS:CONFIRMED
CATEGORIES:Concert,Culture,Free,Music,North campus
LOCATION:Stearns Building - Cady Room
CONTACT:
END:VEVENT
BEGIN:VEVENT
DTSTAMP:20211102T121518
DTSTART;TZID=America/Detroit:20211121T160000
SUMMARY:Performance:Percussion Ensemble with Nikki Joshi
DESCRIPTION:Ian Antonio and Doug Perkins Co-Directors\n\nThe Percussion Ensemble will premiere new works by Sunyoung Kim and Alexis Lamb\, along with music by John Cage\, Paul Lansky\, and Annika Socolofsky.\n\nAttend in person or watch online at https://myumi.ch/McIntoshWatch
UID:88503-21654653@events.umich.edu
URL:https://events.umich.edu/event/88503
CLASS:PUBLIC
STATUS:CONFIRMED
CATEGORIES:Concert,Culture,Free,Music,North campus
LOCATION:Earl V. Moore Building - McIntosh Theatre
CONTACT:
END:VEVENT
BEGIN:VEVENT
DTSTAMP:20211101T135842
DTSTART;TZID=America/Detroit:20211121T180000
DTEND;TZID=America/Detroit:20211121T190000
SUMMARY:Social / Informal Gathering:Deutschtisch
DESCRIPTION:Join the Max Kade program in a German conversation hour over a Zoom dinner!
UID:88858-21658646@events.umich.edu
URL:https://events.umich.edu/event/88858
CLASS:PUBLIC
STATUS:CONFIRMED
CATEGORIES:German,Max Kade
LOCATION:Off Campus Location
CONTACT:
END:VEVENT
BEGIN:VEVENT
DTSTAMP:20211118T181516
DTSTART;TZID=America/Detroit:20211121T193000
SUMMARY:Performance:Leo Krieger
DESCRIPTION:PROGRAM\n\nConcerto Allegro - Alexej Lebedev \nClairières dans le ciel - Lili Boulanger \nLiquid Architecture -  David Biedenbender \nWinter 1941 - Daniel Schnyder
UID:89374-21662411@events.umich.edu
URL:https://events.umich.edu/event/89374
CLASS:PUBLIC
STATUS:CONFIRMED
CATEGORIES:Concert,Culture,Free,Music,North campus
LOCATION:Earl V. Moore Building - McIntosh Theatre
CONTACT:
END:VEVENT
BEGIN:VEVENT
DTSTAMP:20210723T120644
DTSTART;TZID=America/Detroit:20211121T193000
DTEND;TZID=America/Detroit:20211121T213000
SUMMARY:Performance:Peter Bradley Adams - Rescheduled from 3/31/21
DESCRIPTION:*By purchasing a ticket you agree that you and your guests will comply with all laws\, orders\, ordinances\, regulations and health and safety guidance adopted by the State of Michigan\, the County of Washtenaw and The Ark\, including any guidelines in place at the time of the show. Attendees who do not comply will be asked to leave. Policies will be updated as circumstances and requirements change in our community. Please review The Ark’s current COVID-related information before attending a show.*\n\nPeter Bradley Adams began his musical journey in Birmingham\, Alabama\, at age five\, when he discovered the Beatles' \"Sgt. Pepper\" album in his father's record collection. After wearing the record out on his aqua green playschool record player\, Peter went on to create his own house music\, setting up plastic trash cans and using pencils as drumsticks. Eventually his grandfather purchased real drum sticks to replace the pencils and a true musician was born. Peter Bradley Adams' brand of Americana songwriting nestles his often delicate\, always heartfelt voice in the warm embrace of gentle guitar\, tasteful dobro\, subtle banjo\, supportive bass\, and unhurried percussion. The result is a sonic scape that\, in turn\, wraps itself around the listener like a soft blanket on a cold day.
UID:73574-18261088@events.umich.edu
URL:https://events.umich.edu/event/73574
CLASS:PUBLIC
STATUS:CONFIRMED
CATEGORIES:The Ark
LOCATION:Off Campus Location
CONTACT:
END:VEVENT
BEGIN:VEVENT
DTSTAMP:20211108T121509
DTSTART;TZID=America/Detroit:20211121T200000
SUMMARY:Performance:Orpheus Singers
DESCRIPTION:Concucted by the Graduate Choral Conductors\n\nPROGRAM\nMagnificat in G minor RV 610 - Antonio Vivaldi\,  \nMagnificat in C ZWV 107 - Jan Dismas Zelenka\nMary's Verses - Trevor Weston\nMass - Igor Stravinsky\n\nattend in person or watch online at https://myumi.ch/StampsWatch
UID:87235-21640654@events.umich.edu
URL:https://events.umich.edu/event/87235
CLASS:PUBLIC
STATUS:CONFIRMED
CATEGORIES:Free,Music,North campus
LOCATION:Walgreen Drama Center - Stamps Auditorium
CONTACT:
END:VEVENT
END:VCALENDAR