BEGIN:VCALENDAR
VERSION:2.0
PRODID:-//UM//UM*Events//EN
CALSCALE:GREGORIAN
BEGIN:VTIMEZONE
TZID:America/Detroit
TZURL:http://tzurl.org/zoneinfo/America/Detroit
X-LIC-LOCATION:America/Detroit
BEGIN:DAYLIGHT
TZOFFSETFROM:-0500
TZOFFSETTO:-0400
TZNAME:EDT
DTSTART:20070311T020000
RRULE:FREQ=YEARLY;BYMONTH=3;BYDAY=2SU
END:DAYLIGHT
BEGIN:STANDARD
TZOFFSETFROM:-0400
TZOFFSETTO:-0500
TZNAME:EST
DTSTART:20071104T020000
RRULE:FREQ=YEARLY;BYMONTH=11;BYDAY=1SU
END:STANDARD
END:VTIMEZONE
BEGIN:VEVENT
DTSTAMP:20211210T131521
DTSTART;TZID=America/Detroit:20211123T000000
DTEND;TZID=America/Detroit:20211123T235900
SUMMARY:Film Screening:Afghanistan Series: Online Film Screening of 'Sonita' by Rokhsareh Ghaemmaghami
DESCRIPTION:The third and final installment of the Afghanistan Series focuses on women in Afghanistan.We are hosting a free screening online of the documentary 'Sonita' with Women Make Movies. The film is available now on demand\, but views are limited to 60 views - so get yours while you can! The film will be available online until sellout.\n\n*Sonita* the Film by Rokhsareh Ghaemmaghami:\n   \n*SONITA*  tells the inspiring story of Sonita Alizadeh\, an 18-year-old Afghan refugee in Iran\, who dreams of becoming a big-name rapper. This documentary is a two-time Sundance Film Festival award winner.\n   \nVIRTUAL | FREE | ON-DEMAND\nOnly 60 tickets are available. Tickets are available from now until sellout.   \nhttp://bit.ly/WatchSONITA\nPW: sonita56342\n\nWe are also honored to be hosting Sonita Alizadeh herself for an online Q&A and conversation coming up on January 18th at 3pm. Sonita will speak about her advocacy for women’s rights and ending child marriage. Find more info here: http://bit.ly/SonitaAndCara\n   \nThis event is part of the three part Afghanistan Series hosted by the Global Islamic Studies Center this Fall semester. The Afghanistan Series is cosponsored by the Center for Middle Eastern & North African Studies\, Arab and Muslim American Studies\, American Culture\, the Center for South Asian Studies\, the Digital Islamic Studies Curriculum\, the Institute for Research on Women and Gender\, the Department Communication & Media\, Women and Gender Studies\, and Middle East Studies. This event was made possible thanks to Women Make Movies.\n   \n\n-----\nIf there is anything we can do to make this event accessible to you\, please contact islamicstudies@umich.edu. Please be aware that advance notice is necessary as some accommodations may require more time for the university to arrange.
UID:89447-21663112@events.umich.edu
URL:https://events.umich.edu/event/89447
CLASS:PUBLIC
STATUS:CONFIRMED
CATEGORIES:Afghanistan,Film,Global Islamic Studies,Middle East Studies,Virtual
LOCATION:Off Campus Location
CONTACT:
END:VEVENT
BEGIN:VEVENT
DTSTAMP:20211122T180006
DTSTART;TZID=America/Detroit:20211123T000000
DTEND;TZID=America/Detroit:20211123T234500
SUMMARY:Other:Brown tournament ECTC 2021
DESCRIPTION:ECTC Tournament @Brown on Sunday\, Nov. 21st.   
UID:88056-21663152@events.umich.edu
URL:https://events.umich.edu/event/88056
CLASS:PUBLIC
STATUS:CONFIRMED
CATEGORIES:
LOCATION:Brown University
CONTACT:
END:VEVENT
BEGIN:VEVENT
DTSTAMP:20220110T155719
DTSTART;TZID=America/Detroit:20211123T070000
DTEND;TZID=America/Detroit:20211123T230000
SUMMARY:Class / Instruction:Become a UROP Research Mentor
DESCRIPTION:Submit a Research Project for the 2021-2022 Academic Year: https://lsa.umich.edu/urop/research-mentors.html\n\nUROP Research Mentors are faculty and post-doc researchers from across all U-M's 19 Schools and Colleges who provide undergraduate student researchers an opportunity to engage in research activities that help them learn about the pursuit of knowledge within an academic discipline. This early exposure to research fosters a valuable academic experience for students. Through this collaboration\, students gain research skills and mentorship that lead to academic retention\, a more positive undergraduate experience and paths to graduate school.
UID:89182-21660876@events.umich.edu
URL:https://events.umich.edu/event/89182
CLASS:PUBLIC
STATUS:CONFIRMED
CATEGORIES:AEM Featured,Education,Faculty,Fellowship,first-generation,Graduate and Professional Students,Graduate Students,Humanities,Interdisciplinary,Leadership,Mentorship,Networking,Professional Development,Recruiting,Research,research data,Social Impact,Staff,Urop
LOCATION:Off Campus Location
CONTACT:
END:VEVENT
BEGIN:VEVENT
DTSTAMP:20211104T150425
DTSTART;TZID=America/Detroit:20211123T090000
DTEND;TZID=America/Detroit:20211123T170000
SUMMARY:Exhibition:Buying Home\, Selling America: the House Catalog\, 1906-1966
DESCRIPTION:Buying Home\, Selling America: the House Catalog\, 1906-1966 brings to light the collection of house catalogs in the Art\, Architecture & Engineering Library’s Special Collections. Focusing primarily on the kit house industry of Michigan and the Midwest\, the catalogs provide a portal to explore multiple themes\, such as\, the Michigan house catalog industry\, changing architectural styles\, the business of selling homes\, societal and cultural implications\, and domestic technologies. We hope the exhibit is not simply a nostalgic view back\, but raises awareness of our domestic surroundings today and compels us to ask questions as we look to the future.\n\nThe exhibit is available in the Clark Library (second floor Hatcher) during Hatcher Library hours.
UID:86339-21632827@events.umich.edu
URL:https://events.umich.edu/event/86339
CLASS:PUBLIC
STATUS:CONFIRMED
CATEGORIES:Architecture,Free,Library
LOCATION:Hatcher Graduate Library - Clark Library, 2nd Floor
CONTACT:
END:VEVENT
BEGIN:VEVENT
DTSTAMP:20220119T121743
DTSTART;TZID=America/Detroit:20211123T090000
DTEND;TZID=America/Detroit:20211123T230000
SUMMARY:Careers / Jobs:Detroit Community-Engaged Research Program Application Open
DESCRIPTION:Gain exposure to non-profits\, research and Detroit in Summer 2022.\n\nBe part of the DCERP social justice focused summer fellowship program run through the U-M’s Undergraduate Research Opportunity Program. Learn while helping community organizations with research projects addressing social and environmental justice\, food insecurity\, human rights\, public health\, youth development\, and more! Our program brings together aspiring change agents who will learn about the city\, non-profits\, community engagement and each other! \n\nhttps://myumi.ch/erK95\n\nPriority Deadline: December 3rd (5pm)\nFinal Application Deadline: January 31st 2022 (5pm)\n\nInfo Session offered Wednesdays at Noon weekly\nFrom October 27 - December 8\, January 5 - January 12\nRegister for an info session at: https://myumi.ch/kxprd
UID:87903-21647530@events.umich.edu
URL:https://events.umich.edu/event/87903
CLASS:PUBLIC
STATUS:CONFIRMED
CATEGORIES:Activism,AEM Featured,Applications,Dcerp,Detroit,Environment,Fellowship,first-generation,Free,Humanities,Interdisciplinary,Internship,Public Health,Public Policy,Research,Social Impact,Social Justice,Summer Jobs,Sustainability,The College Of Literature\, Science\, And The Arts,Transfer Students,Undergraduate,Undergraduate Students,Urop
LOCATION:Off Campus Location
CONTACT:
END:VEVENT
BEGIN:VEVENT
DTSTAMP:20211013T133442
DTSTART;TZID=America/Detroit:20211123T090000
DTEND;TZID=America/Detroit:20211123T170000
SUMMARY:Exhibition:When This is All Over / Cuando Esto Termine
DESCRIPTION:Los Angeles-based artist Shizu Saldamando was born in 1978 to parents of Mexican-American and Japanese-American descent and raised in San Francisco’s Mission District. Saldamando merges painting and collage\, often using origami paper\, glitter\, or gold leaf in her compositions\, many of which are painted on wood or found surfaces. Her modern portraits and innovative methods challenge social constructs pertaining to individual and collective identity within the broader context of the “American Portrait.” Saldamando’s visual biographies\, which use her friends\, family\, and fellow members of the Chicanx creative community in Los Angeles\, create new ways of seeing and being seen.\n\nOn November 2\, 6:30-8pm\, Shizu Saldamando talks to curator Amanda Krugliak about Shizu's artistic practice and her exhibition *When This is All Over / Cuando Esto Termine*.\n\nAbout the artist: Shizu Saldamando is an LA based mixed media artist with an emphasis on portraiture. She received her B.A. from UCLA’s School of Arts and Architecture and her M.F.A. from California Institute of the Arts. Her work has been exhibited both locally and internationally and experiments with a broad range of surfaces and materials. Saldamando’s practice employs tattooing\, video\, painting and drawing on canvas\, wood\, paper\, and cloth. The work functions as homage\, as well as documentation\, of friends and peers within artistic and musical subcultures around the Los Angeles metropolitan area. She is currently represented by Charlie James Gallery in Los Angeles.\n\nShizu Saldamando is the 2021 Paula and Edwin Sidman Fellow in the Arts at the University of Michigan Institute for the Humanities.
UID:88229-21651540@events.umich.edu
URL:https://events.umich.edu/event/88229
CLASS:PUBLIC
STATUS:CONFIRMED
CATEGORIES:Art,Exhibition,Humanities,Visual Arts
LOCATION:202 S. Thayer - Institute for the Humanities Gallery
CONTACT:
END:VEVENT
BEGIN:VEVENT
DTSTAMP:20211115T154447
DTSTART;TZID=America/Detroit:20211123T100000
DTEND;TZID=America/Detroit:20211123T110000
SUMMARY:Exhibition:Enter the As I See It Monologue Competition!
DESCRIPTION:Arts at Michigan is seeking student submissions for the As I See It Monologue Competition! Students can submit up to two recorded original monologues along with scripts.\n\nThere is no theme for this competition. All monologues must be original content (written by the student submitting the video) and cannot be taken or adapted from an existing work. A script for each video must also be submitted.\n\nSubmissions will be accepted throughout the semester. The final date to submit is Friday\, December 3 at 10pm. There will also be optional opportunities to perform your monologues in front of a live audience as part of the submission process. Live performances are not required to enter the competition.\n\nThe first place winner will receive $100!
UID:89278-21661684@events.umich.edu
URL:https://events.umich.edu/event/89278
CLASS:PUBLIC
STATUS:CONFIRMED
CATEGORIES:Art,arts at michigan,Exhibition,Storytelling,Theater
LOCATION:
CONTACT:
END:VEVENT
BEGIN:VEVENT
DTSTAMP:20211209T160155
DTSTART;TZID=America/Detroit:20211123T100000
DTEND;TZID=America/Detroit:20211123T110000
SUMMARY:Other:LSA Technology Services Research Support Office Hours
DESCRIPTION:The Research Team within LSA Technology Services is excited to announce virtual office hours for research computing support. These are regularly scheduled times when we will have subject matter experts in geographic information systems\, high performance computing\, digital scholarship\, and computer programming available for drop-in support. Faculty\, staff\, and students with research-related questions pertaining to any of these areas can stop by to ask questions\, get help working through a problem\, or inquire about a new project—no appointment necessary!\n\nNot sure what we can do to help? Read on for more details about the services provided by each of these teams.\n\n*Digital Scholarship*\nOur digital scholarship team specializes in humanities\, social sciences\, and interdisciplinary digital project methods and can provide assistance with:\n* Conceptualizing\, planning\, and finding resources for a digital project\n* How to version\, archive\, and preserve a project\n* Sustainability\, preservation\, accessibility\, privacy\, consent\, or grant requirements\nNew to digital projects? We can also talk about how to demonstrate the scholarly rigor of your digital project\, accurately credit the labor required of the project at every stage\, and how to provide evidence and metrics for promotion and job dossiers.\n\n*Geographic Information Systems (GIS)*\n\nOur GIS specialists can help with your geographic data needs\, including the following:\n* Making maps for use in a class\, grant proposal\, or publication\n* Geospatial analysis: identifying spatial patterns and trends in your data\n* Georeferencing: assigning geographic coordinates to a historic paper map or a hand-drawn sketch for digital use as a basemap or combined display with other data\n* Geocoding: convert a spreadsheet with addresses into latitude-longitude so you can plot your data on a map\n* StoryMaps: harness the power of maps to tell your story\n* Integrating smartphones or tablets and GIS in your field courses or researchSetting up workshops for a class or group interested in learning to use GIS in the context of your discipline\n* Assistance with ESRI's ArcGIS platform\, including ArcGIS Pro and ArcGIS Online\, or other geospatial software\n* Developing your own custom GIS web application or mobile application\n\n*High Performance Computing (HPC)*\n\nOur HPC team can help with:\n* Accessing U-M’s new Great Lakes HPC (High Performance Computing) cluster\n* Moving your computational work from your laptop or workstation to the cluster\, freeing up your machines for other tasks\n* Compiling\, installing\, or configuring a wide range of computational software\n* Setting up automated workflows to save time\n* Debugging your programs to see why they are crashing\n* Evaluating the benefits of parallel computing\, more memory or system resources for your code\nWe regularly support Python\, R\, MATLAB\, C/C++\, Java\, Julia\, Go\, and many other applications.\n\n*Research Support Programming*\n\nOur computer programming team can help with any of the following:\n\n* Debugging\, repair\, and improvements or upgrades to your existing code\n* References to training and coding resources to assist in your project\n* Design and development of custom software to support your research\n* Incorporation of lab-specific hardware into custom software applications.\n* Writing funding for any of the above into your grant proposals\nWe're experienced in MATLAB\, Python\, R\, LabVIEW\, JavaScript\, MedPC\, iOS development\, and more.\n\nWho can join the office hours?\nLSA Faculty\, staff\, and students with research-related questions on geographic information systems\, high performance computing\, digital scholarship\, and computer programming\n\nWhen and where is it?\nOur virtual office hours use Zoom:\nMondays\, 2:00–3:00 P.M.\nTuesdays\, 10:00–11:00 A.M.\nThursdays\, 3:00–4:00 P.M.
UID:77718-21637436@events.umich.edu
URL:https://events.umich.edu/event/77718
CLASS:PUBLIC
STATUS:CONFIRMED
CATEGORIES:Digital Humanities,Digital Projects,Digital Scholarship,Faculty,Gis,Graduate Students,Humanities,Lsa,Office Hours,Postdoctoral Research Fellows,Qualitative Social Sciences,research,Science,Virtual
LOCATION:Off Campus Location
CONTACT:
END:VEVENT
BEGIN:VEVENT
DTSTAMP:20211020T165201
DTSTART;TZID=America/Detroit:20211123T100000
DTEND;TZID=America/Detroit:20211123T160000
SUMMARY:Exhibition:UJIMA: Collective Work and Responsibility at the University of Michigan
DESCRIPTION:This exhibit focuses on the concept of Ujima (collective work and responsibility in Swahili) as it pertains to activism on the campus of the University of Michigan over the years. By seeing how collective actions can lead to powerful movements\, the exhibit presents a chronological display demonstrating the importance of calling for change. \nThe majority of photos and articles originate from campus resources\, including the Bentley Historical Library\, the Michigan Daily's archives and other original materials. \nUJIMA is dedicated to the students\, faculty\, staff\, and alumni of the University of Michigan who envisioned and exemplified the principle of Ujima to bring about a more equitable and inclusive university through their thoughts and actions. \nThere is also a virtual audio/visual tour of the exhibit which can be accessed at:myumi.ch/7ZQn0
UID:88484-21654280@events.umich.edu
URL:https://events.umich.edu/event/88484
CLASS:PUBLIC
STATUS:CONFIRMED
CATEGORIES:Activism,african american,african and african american studies,african and afroamerican studies,African Diaspora,Black America,black history,Blackness,Civil Rights,daas,Equity,Exhibition,Inclusion,university of michigan history
LOCATION:Haven Hall - G648
CONTACT:
END:VEVENT
BEGIN:VEVENT
DTSTAMP:20211208T063027
DTSTART;TZID=America/Detroit:20211123T103000
DTEND;TZID=America/Detroit:20211123T120000
SUMMARY:Careers / Jobs:Careers at Costello Medical - Medical Communications
DESCRIPTION:Costello Medical are excited to be hosting a virtual recruitment event on Tuesday 23rd November at 3.30pm GMT\, 10.30am EST. This event will give you the opportunity to learn more about Costello Medical and theopportunities available\, get a taste of our work and put questions to our current team.\n\nThe event will last for 90 minutes and will cover:\n-Anintroduction to Costello Medical and life at our company\n-A chance to explore our projects with members of the team\n-Top tips and tricks when applying for a role at Costello Medical\n-Q&A\n\nWe hope you will be able to join us\, and if you have any questions\, please email our team via recruitment@costellomedical.com.\n\nPlease note that we have offices in Cambridge\, London and Manchester\, UK\, as well as Boston\, MA\, and you will have the chance to meet members from both our UK and US teams. We are unable to offer fully remote roles at this time.\n\nThe link to join the event will be shared\, via email\, 2 hours before the event. The email will be sent from Eventbrite and you will need to scroll to the bottom of the email where you will be able to locate the Microsoft Teams link.\n\nBefore the event\, please do review our current vacancies. There is also plenty of information available on our careers pages\, including further details of our benefits packages and some personal accounts from our colleagues regardingtheir experiences of working at Costello Medical.\n\nIf you are unable toattend this event\, but would like to stay in touch with us and hear about future events with Costello Medical\, please register your interest via our mailing list. A member of our recruitment team will be in touch directly when we host future events\, as well as keeping you informed about our recruitment efforts and sharing wider company updates.
UID:89059-21660377@events.umich.edu
URL:https://events.umich.edu/event/89059
CLASS:PUBLIC
STATUS:CONFIRMED
CATEGORIES:
LOCATION:
CONTACT:
END:VEVENT
BEGIN:VEVENT
DTSTAMP:20210804T093914
DTSTART;TZID=America/Detroit:20211123T120000
DTEND;TZID=America/Detroit:20211123T130000
SUMMARY:Livestream / Virtual:LRCCS Noon Lecture Series | The Logic of Social Media Repression in China
DESCRIPTION:60th Anniversary Alumni Lecture Series\n\nPlease register in advance for this Zoom webinar here: https://myumi.ch/wlY9k\n   \n   In this talk Dr. Miller discusses the logic of state-repression on social media in China and present research in progress on how Chinese citizens experience and respond to repression online. Drawing on online experiments and government documents\, he identifies several distinct repressive strategies in the online public sphere in China.\n   \n   Blake Miller is an Assistant Professor of Computational Social Science in the Methodology Department at the London School of Economics. He received his PhD in Political Science and Scientific Computing from the University of Michigan in 2018 where he was also a graduate research affiliate in the Lieberthal-Rogel Center for Chinese Studies. Before coming to LSE\, he was a Post-Doctoral Fellow at the Dartmouth College Program in Quantitative Social Science. For more information\, please visit www.blakeapm.com.
UID:84933-21625308@events.umich.edu
URL:https://events.umich.edu/event/84933
CLASS:PUBLIC
STATUS:CONFIRMED
CATEGORIES:China,Social Sciences
LOCATION:Off Campus Location
CONTACT:
END:VEVENT
BEGIN:VEVENT
DTSTAMP:20211115T133828
DTSTART;TZID=America/Detroit:20211123T120000
DTEND;TZID=America/Detroit:20211123T125000
SUMMARY:Lecture / Discussion:Sustaining a Healthy Nail Salon Workforce in Michigan
DESCRIPTION:Registration required \nhttps://umich.zoom.us/s/98595068138\n\nAurora Le\, PhD\, MPH\, CPH\, CSP (John G. Searle Assistant Professor of Environmental Health Sciences\, School of Public Health\, University of Michigan) and Marie-Anne Rosemberg\, PhD\, MN\, RN\, FAAOHN (Assistant Professor\, Dept. of Systems\, Populations and Leadership\, School of Nursing\, University of Michigan)\, co-lead the Michigan Healthy Nail Salon Cooperative. The goal of the environmental research seminar/webinar is to provide an interdisciplinary forum for sharing and critiquing research proposals and preliminary study results.
UID:89270-21661657@events.umich.edu
URL:https://events.umich.edu/event/89270
CLASS:PUBLIC
STATUS:CONFIRMED
CATEGORIES:Basic Science,Biosciences,Chemistry,Economics,Environment,Free,Interdisciplinary,Lecture,Life Science,Pre Med,Pre-Health,Public Health,Public Policy,Research,Science,seminar,Social Justice,Talk,Virtual
LOCATION:Off Campus Location
CONTACT:
END:VEVENT
BEGIN:VEVENT
DTSTAMP:20211208T123027
DTSTART;TZID=America/Detroit:20211123T130000
DTEND;TZID=America/Detroit:20211123T153000
SUMMARY:Careers / Jobs:Discover Bloomberg: Latinas in Finance
DESCRIPTION:Curious about what it's like to be a Latina in the Finance Industry? You are invited to join us virtually for a dynamic session to hear from our Latina colleagues across various departments at Bloomberg. You'llalso learn about our company and culture\, our internship and full time opportunities across our businesses. This will be a chance to expand your network virtually during these unprecedented times.
UID:88928-21659124@events.umich.edu
URL:https://events.umich.edu/event/88928
CLASS:PUBLIC
STATUS:CONFIRMED
CATEGORIES:
LOCATION:
CONTACT:
END:VEVENT
BEGIN:VEVENT
DTSTAMP:20210902T163916
DTSTART;TZID=America/Detroit:20211123T140000
DTEND;TZID=America/Detroit:20211123T153000
SUMMARY:Meeting:CoderSpaces - virtual office hours - Tuesdays - 2-3:30
DESCRIPTION:Are you grappling with a piece of code\, trying to compute on a University cluster\, or just getting started with a new method such as machine learning? Then we might have just the right space for you.\n\nAll members of the U-M community are invited to join our weekly virtual CoderSpaces\, Tuesdays – Thursdays\, during the Fall 2021 term to get research support and connect with others.\n\nThe virtual sessions are designed to assist faculty\, staff\, and students with research methodology\, statistics\, data science applications\, and computational programming for research.\n\nOur hosts have a wide set of methodological and technological expertise. They come to you from a variety of departments and disciplines and are looking forward to serving the U-M community in their research endeavors.\n\nCoderSpaces provide a casual\, productive and inclusive environment. Everyone is welcome regardless of skill level.\n\nJoin via Zoom* (https://umich.zoom.us/j/99832397131)\n*Users will have to sign in with their UMICH (Level-1) credentials.\n\nwith Alexander Gaenko (CSCAR)\, Armand Burks (ARC/UMSI)\, Liz Hanley (PDHP/ISR)\, Paul Schulz (PDHP/ISR)\n\nExpertise: Automation of tasks and workflows\, bash\, C/C++\, CMake\, data mining and visualization\, Fortran\, front-end HTML/CSS/JavaScript stack for custom web applications\, git\, GNU Make\, GPUs\, High performance computing\, inter-lingual software interoperability\, Java\, Julia\, machine learning\, natural language processing\, parallelization\, performance analysis\, Perl\, Python\, R\, SAS\, shell\, secure computing enclaves\, SQL\, Stata\, statistical methods (hypothesis testing\, data analysis\, modeling\, sampling)\, web scraping
UID:86227-21632238@events.umich.edu
URL:https://events.umich.edu/event/86227
CLASS:PUBLIC
STATUS:CONFIRMED
CATEGORIES:Data Science,High Performance Computing,Information and Technology,Research
LOCATION:Off Campus Location
CONTACT:
END:VEVENT
BEGIN:VEVENT
DTSTAMP:20211208T123028
DTSTART;TZID=America/Detroit:20211123T140000
DTEND;TZID=America/Detroit:20211123T143000
SUMMARY:Careers / Jobs:Info Session- Winter Week Experential Learning- Session 2
DESCRIPTION:Learn more about the mthree Winter Week- Experiential LearningProgram\nInfo Session and QA\n\nhttps://jobs.mthree.com/en/position/the-inaugural-mthree-winter-week-experiential-learning-program-united-states
UID:89067-21660385@events.umich.edu
URL:https://events.umich.edu/event/89067
CLASS:PUBLIC
STATUS:CONFIRMED
CATEGORIES:
LOCATION:
CONTACT:
END:VEVENT
BEGIN:VEVENT
DTSTAMP:20211103T144418
DTSTART;TZID=America/Detroit:20211123T150000
DTEND;TZID=America/Detroit:20211123T160000
SUMMARY:Social / Informal Gathering:I Just Came for the Pie
DESCRIPTION:Join Dean Curzan for the comforts of the season right here on campus! Featuring sweet pies and hot chocolate\, plus take home your own savory pot pie. \n\nGet on the waitlist: https://sessions.studentlife.umich.edu/p/track/6352\n\nPresented by LSA@Play\, a series of events to welcome and support LSA students as they return to a residential experience on campus. Get free food and swag\, connect with friends\, meet Dean Curzan\, and participate in fun activities throughout the year.\n\nVisit the LSA@Play webpage: https://lsa.umich.edu/play for more details\, sign-up to receive text/email updates\, and check for additional events being added soon!\n\nPlease complete the ResponsiBLUE health questionnaire prior to arriving at events.
UID:88411-21653781@events.umich.edu
URL:https://events.umich.edu/event/88411
CLASS:PUBLIC
STATUS:CONFIRMED
CATEGORIES:Social
LOCATION:LSA Building - Atrium
CONTACT:
END:VEVENT
END:VCALENDAR