BEGIN:VCALENDAR
VERSION:2.0
PRODID:-//UM//UM*Events//EN
CALSCALE:GREGORIAN
BEGIN:VTIMEZONE
TZID:America/Detroit
TZURL:http://tzurl.org/zoneinfo/America/Detroit
X-LIC-LOCATION:America/Detroit
BEGIN:DAYLIGHT
TZOFFSETFROM:-0500
TZOFFSETTO:-0400
TZNAME:EDT
DTSTART:20070311T020000
RRULE:FREQ=YEARLY;BYMONTH=3;BYDAY=2SU
END:DAYLIGHT
BEGIN:STANDARD
TZOFFSETFROM:-0400
TZOFFSETTO:-0500
TZNAME:EST
DTSTART:20071104T020000
RRULE:FREQ=YEARLY;BYMONTH=11;BYDAY=1SU
END:STANDARD
END:VTIMEZONE
BEGIN:VEVENT
DTSTAMP:20211210T131521
DTSTART;TZID=America/Detroit:20211126T000000
DTEND;TZID=America/Detroit:20211126T235900
SUMMARY:Film Screening:Afghanistan Series: Online Film Screening of 'Sonita' by Rokhsareh Ghaemmaghami
DESCRIPTION:The third and final installment of the Afghanistan Series focuses on women in Afghanistan.We are hosting a free screening online of the documentary 'Sonita' with Women Make Movies. The film is available now on demand\, but views are limited to 60 views - so get yours while you can! The film will be available online until sellout.\n\n*Sonita* the Film by Rokhsareh Ghaemmaghami:\n   \n*SONITA*  tells the inspiring story of Sonita Alizadeh\, an 18-year-old Afghan refugee in Iran\, who dreams of becoming a big-name rapper. This documentary is a two-time Sundance Film Festival award winner.\n   \nVIRTUAL | FREE | ON-DEMAND\nOnly 60 tickets are available. Tickets are available from now until sellout.   \nhttp://bit.ly/WatchSONITA\nPW: sonita56342\n\nWe are also honored to be hosting Sonita Alizadeh herself for an online Q&A and conversation coming up on January 18th at 3pm. Sonita will speak about her advocacy for women’s rights and ending child marriage. Find more info here: http://bit.ly/SonitaAndCara\n   \nThis event is part of the three part Afghanistan Series hosted by the Global Islamic Studies Center this Fall semester. The Afghanistan Series is cosponsored by the Center for Middle Eastern & North African Studies\, Arab and Muslim American Studies\, American Culture\, the Center for South Asian Studies\, the Digital Islamic Studies Curriculum\, the Institute for Research on Women and Gender\, the Department Communication & Media\, Women and Gender Studies\, and Middle East Studies. This event was made possible thanks to Women Make Movies.\n   \n\n-----\nIf there is anything we can do to make this event accessible to you\, please contact islamicstudies@umich.edu. Please be aware that advance notice is necessary as some accommodations may require more time for the university to arrange.
UID:89447-21663115@events.umich.edu
URL:https://events.umich.edu/event/89447
CLASS:PUBLIC
STATUS:CONFIRMED
CATEGORIES:Afghanistan,Film,Global Islamic Studies,Middle East Studies,Virtual
LOCATION:Off Campus Location
CONTACT:
END:VEVENT
BEGIN:VEVENT
DTSTAMP:20211117T111220
DTSTART;TZID=America/Detroit:20211126T000000
DTEND;TZID=America/Detroit:20211126T120000
SUMMARY:Other:Honors Office Closed for Holiday Break
DESCRIPTION:While the office is closed for the long weekend\, students continue to be able make appointments through the website for December.
UID:89333-21662014@events.umich.edu
URL:https://events.umich.edu/event/89333
CLASS:PUBLIC
STATUS:CONFIRMED
CATEGORIES:#Honors Program,Honors Program
LOCATION:Mason Hall
CONTACT:
END:VEVENT
BEGIN:VEVENT
DTSTAMP:20220110T155719
DTSTART;TZID=America/Detroit:20211126T070000
DTEND;TZID=America/Detroit:20211126T230000
SUMMARY:Class / Instruction:Become a UROP Research Mentor
DESCRIPTION:Submit a Research Project for the 2021-2022 Academic Year: https://lsa.umich.edu/urop/research-mentors.html\n\nUROP Research Mentors are faculty and post-doc researchers from across all U-M's 19 Schools and Colleges who provide undergraduate student researchers an opportunity to engage in research activities that help them learn about the pursuit of knowledge within an academic discipline. This early exposure to research fosters a valuable academic experience for students. Through this collaboration\, students gain research skills and mentorship that lead to academic retention\, a more positive undergraduate experience and paths to graduate school.
UID:89182-21660879@events.umich.edu
URL:https://events.umich.edu/event/89182
CLASS:PUBLIC
STATUS:CONFIRMED
CATEGORIES:AEM Featured,Education,Faculty,Fellowship,first-generation,Graduate and Professional Students,Graduate Students,Humanities,Interdisciplinary,Leadership,Mentorship,Networking,Professional Development,Recruiting,Research,research data,Social Impact,Staff,Urop
LOCATION:Off Campus Location
CONTACT:
END:VEVENT
BEGIN:VEVENT
DTSTAMP:20220119T121743
DTSTART;TZID=America/Detroit:20211126T090000
DTEND;TZID=America/Detroit:20211126T230000
SUMMARY:Careers / Jobs:Detroit Community-Engaged Research Program Application Open
DESCRIPTION:Gain exposure to non-profits\, research and Detroit in Summer 2022.\n\nBe part of the DCERP social justice focused summer fellowship program run through the U-M’s Undergraduate Research Opportunity Program. Learn while helping community organizations with research projects addressing social and environmental justice\, food insecurity\, human rights\, public health\, youth development\, and more! Our program brings together aspiring change agents who will learn about the city\, non-profits\, community engagement and each other! \n\nhttps://myumi.ch/erK95\n\nPriority Deadline: December 3rd (5pm)\nFinal Application Deadline: January 31st 2022 (5pm)\n\nInfo Session offered Wednesdays at Noon weekly\nFrom October 27 - December 8\, January 5 - January 12\nRegister for an info session at: https://myumi.ch/kxprd
UID:87903-21647533@events.umich.edu
URL:https://events.umich.edu/event/87903
CLASS:PUBLIC
STATUS:CONFIRMED
CATEGORIES:Activism,AEM Featured,Applications,Dcerp,Detroit,Environment,Fellowship,first-generation,Free,Humanities,Interdisciplinary,Internship,Public Health,Public Policy,Research,Social Impact,Social Justice,Summer Jobs,Sustainability,The College Of Literature\, Science\, And The Arts,Transfer Students,Undergraduate,Undergraduate Students,Urop
LOCATION:Off Campus Location
CONTACT:
END:VEVENT
BEGIN:VEVENT
DTSTAMP:20211013T133442
DTSTART;TZID=America/Detroit:20211126T090000
DTEND;TZID=America/Detroit:20211126T170000
SUMMARY:Exhibition:When This is All Over / Cuando Esto Termine
DESCRIPTION:Los Angeles-based artist Shizu Saldamando was born in 1978 to parents of Mexican-American and Japanese-American descent and raised in San Francisco’s Mission District. Saldamando merges painting and collage\, often using origami paper\, glitter\, or gold leaf in her compositions\, many of which are painted on wood or found surfaces. Her modern portraits and innovative methods challenge social constructs pertaining to individual and collective identity within the broader context of the “American Portrait.” Saldamando’s visual biographies\, which use her friends\, family\, and fellow members of the Chicanx creative community in Los Angeles\, create new ways of seeing and being seen.\n\nOn November 2\, 6:30-8pm\, Shizu Saldamando talks to curator Amanda Krugliak about Shizu's artistic practice and her exhibition *When This is All Over / Cuando Esto Termine*.\n\nAbout the artist: Shizu Saldamando is an LA based mixed media artist with an emphasis on portraiture. She received her B.A. from UCLA’s School of Arts and Architecture and her M.F.A. from California Institute of the Arts. Her work has been exhibited both locally and internationally and experiments with a broad range of surfaces and materials. Saldamando’s practice employs tattooing\, video\, painting and drawing on canvas\, wood\, paper\, and cloth. The work functions as homage\, as well as documentation\, of friends and peers within artistic and musical subcultures around the Los Angeles metropolitan area. She is currently represented by Charlie James Gallery in Los Angeles.\n\nShizu Saldamando is the 2021 Paula and Edwin Sidman Fellow in the Arts at the University of Michigan Institute for the Humanities.
UID:88229-21651543@events.umich.edu
URL:https://events.umich.edu/event/88229
CLASS:PUBLIC
STATUS:CONFIRMED
CATEGORIES:Art,Exhibition,Humanities,Visual Arts
LOCATION:202 S. Thayer - Institute for the Humanities Gallery
CONTACT:
END:VEVENT
BEGIN:VEVENT
DTSTAMP:20211115T154447
DTSTART;TZID=America/Detroit:20211126T100000
DTEND;TZID=America/Detroit:20211126T110000
SUMMARY:Exhibition:Enter the As I See It Monologue Competition!
DESCRIPTION:Arts at Michigan is seeking student submissions for the As I See It Monologue Competition! Students can submit up to two recorded original monologues along with scripts.\n\nThere is no theme for this competition. All monologues must be original content (written by the student submitting the video) and cannot be taken or adapted from an existing work. A script for each video must also be submitted.\n\nSubmissions will be accepted throughout the semester. The final date to submit is Friday\, December 3 at 10pm. There will also be optional opportunities to perform your monologues in front of a live audience as part of the submission process. Live performances are not required to enter the competition.\n\nThe first place winner will receive $100!
UID:89278-21661687@events.umich.edu
URL:https://events.umich.edu/event/89278
CLASS:PUBLIC
STATUS:CONFIRMED
CATEGORIES:Art,arts at michigan,Exhibition,Storytelling,Theater
LOCATION:
CONTACT:
END:VEVENT
BEGIN:VEVENT
DTSTAMP:20211130T115845
DTSTART;TZID=America/Detroit:20211126T100000
DTEND;TZID=America/Detroit:20211126T180000
SUMMARY:Exhibition:Free Your Mind: Art and Incarceration in Michigan
DESCRIPTION:This exhibt runs through December 12\, 2021.\n\nMaking art can be a transformative experience. It helps us to confront and address some of the most pressing issues of our time. Art has the power to shift the way we see and understand the world around us\, and the worlds within us. Free Your Mind: Art and Incarceration in Michigan invites us to consider these qualities of art\, while also grappling with the carceral system and the many ways it affects the lives of all of us.\n\nCurrently there are approximately 2.2 million people incarcerated in the United States\, and in Michigan\, there are roughly 33\,000 residents currently serving time in the prison system. Working together with a coalition of more than a dozen organizations and Michigan State University units and departments\, Free Your Mind explores the inner worlds of incarcerated individuals and the fundamental issues that shape conversations around incarceration today. The exhibition centers on four key topics of inquiry: Michigan’s length of sentencing and overcrowding in prisons\; the impact of incarceration on women\; youth incarceration\; and the dangers of COVID-19.\n\nThe exhibition features artists\, poets\, and storytellers of great achievement. The majority of these artists are either currently or formerly incarcerated. Their works on view invite us to consider the role art-making plays in prisons as a liberating force\, and offer unique perspectives on the experience of incarceration. The works also invite us to approach the subject of incarceration with an open mind. Free Your Mind aims to cultivate a greater sense of empathy for those directly impacted by incarceration and an understanding that their growth as individuals is linked to the greater health of the society we all live in\, together.\n\nFree Your Mind: Art and Incarceration in Michigan is organized by the Eli and Edythe Broad Art Museum at Michigan State University and curated by Steven L. Bridges\, Senior Curator and Director of Curatorial Affairs\, and Janie Paul\, Senior Curator and Cofounder\, Annual Exhibitions of Art by Michigan Prisoners\, a project of the Prison Creative Arts Project at the University of Michigan. Support for this exhibition is provided by the Eli and Edythe Broad endowed exhibitions fund.
UID:88762-21657412@events.umich.edu
URL:https://events.umich.edu/event/88762
CLASS:PUBLIC
STATUS:CONFIRMED
CATEGORIES:Art,Criminal Justice,Exhibition,Free,mass incarceration,Museum,prison issues,social justice,Visual Arts
LOCATION:Off Campus Location - MSU Broad Art Museum
CONTACT:
END:VEVENT
BEGIN:VEVENT
DTSTAMP:20210922T162753
DTSTART;TZID=America/Detroit:20211126T110000
DTEND;TZID=America/Detroit:20211126T130000
SUMMARY:Meeting:Semester in Detroit Office Hours (Fridays)
DESCRIPTION:Come by the Semester in Detroit office on Fridays to talk to SiD alum Natalie Suh. Natalie participated in SiD's Spring/Summer semester in 2019. Stop by the office to talk to Natalie about her experience in SiD\, her internship at 482Forward\, and any other questions you have!
UID:87391-21641774@events.umich.edu
URL:https://events.umich.edu/event/87391
CLASS:PUBLIC
STATUS:CONFIRMED
CATEGORIES:Activism,detroit,Education,residential college,Semester In Detroit,social justice,Study Abroad,Undergraduate Students
LOCATION:East Quadrangle - 1730
CONTACT:
END:VEVENT
BEGIN:VEVENT
DTSTAMP:20220613T111638
DTSTART;TZID=America/Detroit:20211126T113000
DTEND;TZID=America/Detroit:20211126T121500
SUMMARY:Presentation:Expedition Reef
DESCRIPTION:Learn the secrets of the “rainforests of the sea” as you embark on an oceanic safari of the world’s most vibrant—and endangered—marine ecosystems. Expedition Reef immerses you in an undersea adventure. Along the way\, discover how corals grow\, feed\, reproduce\, and support over 25% of all marine life on Earth.
UID:89011-21659660@events.umich.edu
URL:https://events.umich.edu/event/89011
CLASS:PUBLIC
STATUS:CONFIRMED
CATEGORIES:Astronomy,Museum,natural history museum
LOCATION:Museum of Natural History - Planetarium and Dome Theatre
CONTACT:
END:VEVENT
BEGIN:VEVENT
DTSTAMP:20211028T172137
DTSTART;TZID=America/Detroit:20211126T120000
DTEND;TZID=America/Detroit:20211126T180000
SUMMARY:Exhibition:Connections\, New Beginnings: Artists in Transition
DESCRIPTION:Connections\, New Beginnings: Artists in Transition features the work of artists in the Linkage Project\, a program of the Prison Creative Arts Project (PCAP) that affirms the creativity of adults who have returned from incarceration. The artists previously exhibited their work at PCAP's Annual Exhibition of Art by Michigan Prisoners at the University of Michigan. For some\, this exhibition at the MSU Broad Art Lab is the first opportunity to show their work since regaining their freedom. Art-making has helped these artists during the dark years of their incarceration\, and we hope the exhibition inspires visitors to learn more about how to support formerly incarcerated people reconnecting with their communities.\n\nMartín Vargas\, artist and curator of this exhibition\, invites visitors and supporters to not only connect with the artists through their work\, but also during select Art Lab studio hours\, which will feature several of the artists working in person.\n\nConnections\, New Beginnings: Artists in Transition is organized by the Linkage Project of the Prison Creative Arts Project at the University of Michigan in partnership with the Eli and Edythe Broad Art Museum at Michigan State University. The exhibition is curated by Martín Vargas\, Vanessa Mayesky\, Scott Tompkins\, Nico Slowik\, Kimiko Uyeda\, and Jenna VanFleteren.
UID:88761-21657372@events.umich.edu
URL:https://events.umich.edu/event/88761
CLASS:PUBLIC
STATUS:CONFIRMED
CATEGORIES:Art,Criminal Justice,Exhibition,Free,Museum,social justice,Visual Arts
LOCATION:Off Campus Location - MSU Broad Art Lab
CONTACT:
END:VEVENT
BEGIN:VEVENT
DTSTAMP:20211105T153545
DTSTART;TZID=America/Detroit:20211126T123000
DTEND;TZID=America/Detroit:20211126T131500
SUMMARY:Presentation:Sky Tonight
DESCRIPTION:A live presentation showing what is visible in the sky tonight and for the coming few weeks. Viewers will discover how to determine the cardinal directions by finding the North Star\, current and upcoming constellations\, visible planets\, and other interesting astronomical phenomenon.\n\nThe state-of-the-art Planetarium & Dome Theater at the U-M Museum of Natural History transports visitors beyond distant stars and deep into the ocean from the comfort of reclining seats. Tickets $8. Tickets are available on the day of the show at the Museum Store.\nThe planetarium is operating at less than 50% capacity to maximize distancing between viewers. As with all University of Michigan buildings\, masks and health screenings are required.
UID:89012-21659669@events.umich.edu
URL:https://events.umich.edu/event/89012
CLASS:PUBLIC
STATUS:CONFIRMED
CATEGORIES:Astronomy,Museum,natural history museum
LOCATION:Museum of Natural History - Planetarium and Dome Theatre
CONTACT:
END:VEVENT
BEGIN:VEVENT
DTSTAMP:20211105T153307
DTSTART;TZID=America/Detroit:20211126T133000
DTEND;TZID=America/Detroit:20211126T141500
SUMMARY:Performance:Sea Monsters
DESCRIPTION:Stunning photo-realistic CGA transports audiences back to the Late Cretaceous\, when a great inland sea divided North America in two. The film follows a curious and adventurous Dolichorhynchops – familiarly known as a ‘dolly’ – as she travels through the most dangerous oceans in history. Along the way\, she encounters long-necked plesiosaurs\, giant turtles\, enormous fish\, fierce sharks\, and one of the most dangerous sea monsters of all\, the mosasaur. Finishes with an abbreviated star talk.\n\nThe state-of-the-art Planetarium & Dome Theater at the U-M Museum of Natural History transports visitors beyond distant stars and deep into the ocean from the comfort of reclining seats. Tickets $8. Tickets are available on the day of the show at the Museum Store.\nThe planetarium is operating at less than 50% capacity to maximize distancing between viewers. As with all University of Michigan buildings\, masks and health screenings are required.
UID:89014-21659719@events.umich.edu
URL:https://events.umich.edu/event/89014
CLASS:PUBLIC
STATUS:CONFIRMED
CATEGORIES:Astronomy,Museum,natural history museum
LOCATION:Museum of Natural History - Planetarium and Dome Theatre
CONTACT:
END:VEVENT
BEGIN:VEVENT
DTSTAMP:20211105T153545
DTSTART;TZID=America/Detroit:20211126T143000
DTEND;TZID=America/Detroit:20211126T151500
SUMMARY:Presentation:Sky Tonight
DESCRIPTION:A live presentation showing what is visible in the sky tonight and for the coming few weeks. Viewers will discover how to determine the cardinal directions by finding the North Star\, current and upcoming constellations\, visible planets\, and other interesting astronomical phenomenon.\n\nThe state-of-the-art Planetarium & Dome Theater at the U-M Museum of Natural History transports visitors beyond distant stars and deep into the ocean from the comfort of reclining seats. Tickets $8. Tickets are available on the day of the show at the Museum Store.\nThe planetarium is operating at less than 50% capacity to maximize distancing between viewers. As with all University of Michigan buildings\, masks and health screenings are required.
UID:89012-21659694@events.umich.edu
URL:https://events.umich.edu/event/89012
CLASS:PUBLIC
STATUS:CONFIRMED
CATEGORIES:Astronomy,Museum,natural history museum
LOCATION:Museum of Natural History - Planetarium and Dome Theatre
CONTACT:
END:VEVENT
BEGIN:VEVENT
DTSTAMP:20210929T133451
DTSTART;TZID=America/Detroit:20211126T200000
DTEND;TZID=America/Detroit:20211126T220000
SUMMARY:Performance:Matt Watroba 30th Anniversary
DESCRIPTION:Please review The Ark’s current COVID-related information and policies before purchasing a ticket and again before attending a show. Policies will be updated as circumstances and requirements change in our community. By purchasing a ticket you agree that you and your guests will comply with all laws\, orders\, ordinances\, regulations and health and safety guidance adopted by the State of Michigan\, the County of Washtenaw and The Ark\, including any guidelines in place at the time of the show. Attendees who do not comply will be asked to leave.\n\nYour Thanksgiving weekend in Michigan isn't complete without hearing Matt Watroba! Matt is the kind of guy who makes friends easily. Not only is he on a first-name basis with most of the major folk musicians in North America after a few decades of sharing stages with them\, but he also has the kind of rapport with audiences that makes them feel as if they're sitting among friends in a living room. Matt's local shows have had the feel of a homecoming for Michigan folk music\, with great songs and warm memories for all—and often special guests!
UID:87686-21645073@events.umich.edu
URL:https://events.umich.edu/event/87686
CLASS:PUBLIC
STATUS:CONFIRMED
CATEGORIES:The Ark
LOCATION:Off Campus Location
CONTACT:
END:VEVENT
END:VCALENDAR