BEGIN:VCALENDAR
VERSION:2.0
PRODID:-//UM//UM*Events//EN
CALSCALE:GREGORIAN
BEGIN:VTIMEZONE
TZID:America/Detroit
TZURL:http://tzurl.org/zoneinfo/America/Detroit
X-LIC-LOCATION:America/Detroit
BEGIN:DAYLIGHT
TZOFFSETFROM:-0500
TZOFFSETTO:-0400
TZNAME:EDT
DTSTART:20070311T020000
RRULE:FREQ=YEARLY;BYMONTH=3;BYDAY=2SU
END:DAYLIGHT
BEGIN:STANDARD
TZOFFSETFROM:-0400
TZOFFSETTO:-0500
TZNAME:EST
DTSTART:20071104T020000
RRULE:FREQ=YEARLY;BYMONTH=11;BYDAY=1SU
END:STANDARD
END:VTIMEZONE
BEGIN:VEVENT
DTSTAMP:20211210T131521
DTSTART;TZID=America/Detroit:20211220T000000
DTEND;TZID=America/Detroit:20211220T235900
SUMMARY:Film Screening:Afghanistan Series: Online Film Screening of 'Sonita' by Rokhsareh Ghaemmaghami
DESCRIPTION:The third and final installment of the Afghanistan Series focuses on women in Afghanistan.We are hosting a free screening online of the documentary 'Sonita' with Women Make Movies. The film is available now on demand\, but views are limited to 60 views - so get yours while you can! The film will be available online until sellout.\n\n*Sonita* the Film by Rokhsareh Ghaemmaghami:\n   \n*SONITA*  tells the inspiring story of Sonita Alizadeh\, an 18-year-old Afghan refugee in Iran\, who dreams of becoming a big-name rapper. This documentary is a two-time Sundance Film Festival award winner.\n   \nVIRTUAL | FREE | ON-DEMAND\nOnly 60 tickets are available. Tickets are available from now until sellout.   \nhttp://bit.ly/WatchSONITA\nPW: sonita56342\n\nWe are also honored to be hosting Sonita Alizadeh herself for an online Q&A and conversation coming up on January 18th at 3pm. Sonita will speak about her advocacy for women’s rights and ending child marriage. Find more info here: http://bit.ly/SonitaAndCara\n   \nThis event is part of the three part Afghanistan Series hosted by the Global Islamic Studies Center this Fall semester. The Afghanistan Series is cosponsored by the Center for Middle Eastern & North African Studies\, Arab and Muslim American Studies\, American Culture\, the Center for South Asian Studies\, the Digital Islamic Studies Curriculum\, the Institute for Research on Women and Gender\, the Department Communication & Media\, Women and Gender Studies\, and Middle East Studies. This event was made possible thanks to Women Make Movies.\n   \n\n-----\nIf there is anything we can do to make this event accessible to you\, please contact islamicstudies@umich.edu. Please be aware that advance notice is necessary as some accommodations may require more time for the university to arrange.
UID:89447-21666759@events.umich.edu
URL:https://events.umich.edu/event/89447
CLASS:PUBLIC
STATUS:CONFIRMED
CATEGORIES:Afghanistan,Film,Global Islamic Studies,Middle East Studies,Virtual
LOCATION:Off Campus Location
CONTACT:
END:VEVENT
BEGIN:VEVENT
DTSTAMP:20211118T090926
DTSTART;TZID=America/Detroit:20211220T000000
DTEND;TZID=America/Detroit:20211220T235900
SUMMARY:Other:Call for Applications - Big Data Summer Institute in Biostatistics
DESCRIPTION:*The application for BDSI 2022 opens Wednesday\, December 1*\n\nThis year's Big Data Summer Institute in Biostatistics\, a SIBS program\, is a six-week full-time program designed to expose undergraduate students to the intersection of big data and human health. Students will have the opportunity to work in mentored research groups\, along with participating in social events across campus and in the surrounding area. Drawing from the expertise and experience of outstanding faculty of several departments at the University of Michigan — biostatistics\, statistics\, and electrical engineering and computer science — the institute exposes undergraduate students to diverse experiences and techniques that distinguishes it from any other undergraduate summer program in biostatistics in the country.\n\nwww.BigDataSummerInstitute.com
UID:89356-21662231@events.umich.edu
URL:https://events.umich.edu/event/89356
CLASS:PUBLIC
STATUS:CONFIRMED
CATEGORIES:Applications,biostatistics,Public Health,Research,Undergraduate Students
LOCATION:
CONTACT:
END:VEVENT
BEGIN:VEVENT
DTSTAMP:20211220T180003
DTSTART;TZID=America/Detroit:20211220T000000
DTEND;TZID=America/Detroit:20211220T235959
SUMMARY:Other:D-1 Men's College Nationals
DESCRIPTION:The 20 best collegiate ultimate teams compete for the National Championsip.
UID:89349-21668571@events.umich.edu
URL:https://events.umich.edu/event/89349
CLASS:PUBLIC
STATUS:CONFIRMED
CATEGORIES:
LOCATION:SilverLakes Equestrian and Sports Park
CONTACT:
END:VEVENT
BEGIN:VEVENT
DTSTAMP:20211220T120002
DTSTART;TZID=America/Detroit:20211220T000000
DTEND;TZID=America/Detroit:20211220T235959
SUMMARY:Exercise / Fitness:D-I Women's College Nationals
DESCRIPTION:FLYWHEEL is headed to Norco\, CA to compete in D-1 Women's college Nationals after securing a bid at Great Lakes Regionals.
UID:89184-21668524@events.umich.edu
URL:https://events.umich.edu/event/89184
CLASS:PUBLIC
STATUS:CONFIRMED
CATEGORIES:
LOCATION:SilverLakes Sports Park
CONTACT:
END:VEVENT
BEGIN:VEVENT
DTSTAMP:20211214T104856
DTSTART;TZID=America/Detroit:20211220T000000
DTEND;TZID=America/Detroit:20211220T230000
SUMMARY:Other:Museum Studies Minor Logo Design
DESCRIPTION:The Museum Studies Minor Program is looking for a new logo design.  If you have any ideas\, send us a sample at museumsminor@umich.edu\n\nDue date is Friday\, January 7th\, 2022
UID:89985-21667374@events.umich.edu
URL:https://events.umich.edu/event/89985
CLASS:PUBLIC
STATUS:CONFIRMED
CATEGORIES:museum,museum studies,museum studies program,museums
LOCATION:
CONTACT:
END:VEVENT
BEGIN:VEVENT
DTSTAMP:20211201T152834
DTSTART;TZID=America/Detroit:20211220T060000
DTEND;TZID=America/Detroit:20211220T235900
SUMMARY:Ceremony / Service:UROP Outstanding Mentor Nominations
DESCRIPTION:Undergraduate Research Opportunity Program students participating in UROP this academic year (2021-2022) can now nominate their research mentor(s) for the UROP Outstanding Research Mentor Award.\n\nThe award is announced during the annual spring research symposium.\n\nNominations are due February 11th.\nSubmit your nomination at: http://myumi.ch/pdxpE
UID:89680-21664822@events.umich.edu
URL:https://events.umich.edu/event/89680
CLASS:PUBLIC
STATUS:CONFIRMED
CATEGORIES:Mentorship,Research,symposium,Undergraduate,Undergraduate Students,Urop
LOCATION:Off Campus Location
CONTACT:
END:VEVENT
BEGIN:VEVENT
DTSTAMP:20220110T155719
DTSTART;TZID=America/Detroit:20211220T070000
DTEND;TZID=America/Detroit:20211220T230000
SUMMARY:Class / Instruction:Become a UROP Research Mentor
DESCRIPTION:Submit a Research Project for the 2021-2022 Academic Year: https://lsa.umich.edu/urop/research-mentors.html\n\nUROP Research Mentors are faculty and post-doc researchers from across all U-M's 19 Schools and Colleges who provide undergraduate student researchers an opportunity to engage in research activities that help them learn about the pursuit of knowledge within an academic discipline. This early exposure to research fosters a valuable academic experience for students. Through this collaboration\, students gain research skills and mentorship that lead to academic retention\, a more positive undergraduate experience and paths to graduate school.
UID:89182-21660903@events.umich.edu
URL:https://events.umich.edu/event/89182
CLASS:PUBLIC
STATUS:CONFIRMED
CATEGORIES:AEM Featured,Education,Faculty,Fellowship,first-generation,Graduate and Professional Students,Graduate Students,Humanities,Interdisciplinary,Leadership,Mentorship,Networking,Professional Development,Recruiting,Research,research data,Social Impact,Staff,Urop
LOCATION:Off Campus Location
CONTACT:
END:VEVENT
BEGIN:VEVENT
DTSTAMP:20211216T153923
DTSTART;TZID=America/Detroit:20211220T070000
DTEND;TZID=America/Detroit:20211220T235900
SUMMARY:Careers / Jobs:Rising Sophomore UROP Application Open
DESCRIPTION:The Undergraduate Research Opportunity Program is accepting applications from U-M rising sophomores for the 2022-2023 academic year cohort.\n\nParticipate in year-long research with mentors from across campus.\n\nApplications open December 13\, 2021\nPriority Deadline March 7\, 2022\n\nInformation Sessions will be offered in 2022: \n- Wednesday\, January 12\, 2022 (12:00-1:00 p.m. ET)\n- Tuesday\, January 25\, 2022 (5:00-6:00 p.m. ET)\n- Monday\, February 7\, 2022 (12:00-1:00 p.m. ET)\n- Thursday\, February 24\, 2022  (5:00-6:00 p.m. ET)\nInfo Session Registration: https://myumi.ch/qA17D
UID:89569-21664141@events.umich.edu
URL:https://events.umich.edu/event/89569
CLASS:PUBLIC
STATUS:CONFIRMED
CATEGORIES:AEM Featured,Applications,Engineering,Environment,first-generation,Humanities,Interdisciplinary,Life Science,Public Health,Research,research data,Sophomore,Undergraduate,Undergraduate Students,Urop
LOCATION:Off Campus Location
CONTACT:
END:VEVENT
BEGIN:VEVENT
DTSTAMP:20210922T154558
DTSTART;TZID=America/Detroit:20211220T080000
DTEND;TZID=America/Detroit:20211220T130000
SUMMARY:Meeting:Semester in Detroit Office Hours
DESCRIPTION:Semester in Detroit office hours with Professor Darcy Brandel. Professor Brandel teaches SiD's Detroit Art as Activist course. Stop by the SiD office on Mondays and Wednesdays between 8 am and 1 pm to chat with her about the program and her experiences in Detroit.
UID:87387-21641669@events.umich.edu
URL:https://events.umich.edu/event/87387
CLASS:PUBLIC
STATUS:CONFIRMED
CATEGORIES:Activism,Art,detroit,Free,In Person,residential college,Semester In Detroit,social justice,Study Abroad,Undergraduate Students
LOCATION:East Quadrangle - 1730
CONTACT:
END:VEVENT
BEGIN:VEVENT
DTSTAMP:20211104T150425
DTSTART;TZID=America/Detroit:20211220T090000
DTEND;TZID=America/Detroit:20211220T170000
SUMMARY:Exhibition:Buying Home\, Selling America: the House Catalog\, 1906-1966
DESCRIPTION:Buying Home\, Selling America: the House Catalog\, 1906-1966 brings to light the collection of house catalogs in the Art\, Architecture & Engineering Library’s Special Collections. Focusing primarily on the kit house industry of Michigan and the Midwest\, the catalogs provide a portal to explore multiple themes\, such as\, the Michigan house catalog industry\, changing architectural styles\, the business of selling homes\, societal and cultural implications\, and domestic technologies. We hope the exhibit is not simply a nostalgic view back\, but raises awareness of our domestic surroundings today and compels us to ask questions as we look to the future.\n\nThe exhibit is available in the Clark Library (second floor Hatcher) during Hatcher Library hours.
UID:86339-21659409@events.umich.edu
URL:https://events.umich.edu/event/86339
CLASS:PUBLIC
STATUS:CONFIRMED
CATEGORIES:Architecture,Free,Library
LOCATION:Hatcher Graduate Library - Clark Library, 2nd Floor
CONTACT:
END:VEVENT
BEGIN:VEVENT
DTSTAMP:20220119T121743
DTSTART;TZID=America/Detroit:20211220T090000
DTEND;TZID=America/Detroit:20211220T230000
SUMMARY:Careers / Jobs:Detroit Community-Engaged Research Program Application Open
DESCRIPTION:Gain exposure to non-profits\, research and Detroit in Summer 2022.\n\nBe part of the DCERP social justice focused summer fellowship program run through the U-M’s Undergraduate Research Opportunity Program. Learn while helping community organizations with research projects addressing social and environmental justice\, food insecurity\, human rights\, public health\, youth development\, and more! Our program brings together aspiring change agents who will learn about the city\, non-profits\, community engagement and each other! \n\nhttps://myumi.ch/erK95\n\nPriority Deadline: December 3rd (5pm)\nFinal Application Deadline: January 31st 2022 (5pm)\n\nInfo Session offered Wednesdays at Noon weekly\nFrom October 27 - December 8\, January 5 - January 12\nRegister for an info session at: https://myumi.ch/kxprd
UID:87903-21647557@events.umich.edu
URL:https://events.umich.edu/event/87903
CLASS:PUBLIC
STATUS:CONFIRMED
CATEGORIES:Activism,AEM Featured,Applications,Dcerp,Detroit,Environment,Fellowship,first-generation,Free,Humanities,Interdisciplinary,Internship,Public Health,Public Policy,Research,Social Impact,Social Justice,Summer Jobs,Sustainability,The College Of Literature\, Science\, And The Arts,Transfer Students,Undergraduate,Undergraduate Students,Urop
LOCATION:Off Campus Location
CONTACT:
END:VEVENT
BEGIN:VEVENT
DTSTAMP:20211020T165201
DTSTART;TZID=America/Detroit:20211220T100000
DTEND;TZID=America/Detroit:20211220T160000
SUMMARY:Exhibition:UJIMA: Collective Work and Responsibility at the University of Michigan
DESCRIPTION:This exhibit focuses on the concept of Ujima (collective work and responsibility in Swahili) as it pertains to activism on the campus of the University of Michigan over the years. By seeing how collective actions can lead to powerful movements\, the exhibit presents a chronological display demonstrating the importance of calling for change. \nThe majority of photos and articles originate from campus resources\, including the Bentley Historical Library\, the Michigan Daily's archives and other original materials. \nUJIMA is dedicated to the students\, faculty\, staff\, and alumni of the University of Michigan who envisioned and exemplified the principle of Ujima to bring about a more equitable and inclusive university through their thoughts and actions. \nThere is also a virtual audio/visual tour of the exhibit which can be accessed at:myumi.ch/7ZQn0
UID:88484-21654307@events.umich.edu
URL:https://events.umich.edu/event/88484
CLASS:PUBLIC
STATUS:CONFIRMED
CATEGORIES:Activism,african american,african and african american studies,african and afroamerican studies,African Diaspora,Black America,black history,Blackness,Civil Rights,daas,Equity,Exhibition,Inclusion,university of michigan history
LOCATION:Haven Hall - G648
CONTACT:
END:VEVENT
BEGIN:VEVENT
DTSTAMP:20220104T123024
DTSTART;TZID=America/Detroit:20211220T130000
DTEND;TZID=America/Detroit:20211220T140000
SUMMARY:Careers / Jobs:Resume Lab
DESCRIPTION:*RSVP required to attend. Click \"Join Event\" here: https://umich.joinhandshake.com/events/910785\n\nJust getting started building a resume? Have a draft but not sure how to make it better? Want to learn about resources available to revise your resume? Wherever you’re at Resume Lab is a great next step for you.\n\nGet real-time\, personalized support in asmall group setting by checking out the Resume Lab. \n\nWe will discuss and educate you on…\n- Design and format\n- Writing a great bullet point\n- Targeting your resume for specific internships/jobs\n\nIf you're a Graduate Student\, please make a 1:1 appointment instead of attending the Lab because this event is designed for undergraduates.\n\nNote: This event's information is shown in Handshake as well as on the Happening @ Michigan calendar so that it will be seen by a larger number of U-M Students. If you'd like to indicate that you'll be attending this event then please go to: https://umich.joinhandshake.com/events/910785\n\nRecent Grads: If you are an alumnus\, you will not be able to access the link due the University’s policy of discontinuing alumni Zoom accounts 30 days after graduation. Please contact careercenter@umich.edu with the subject line “Recent Grad Help” to receive either a recording of the session or to be set up with a 1:1. Include the name of the workshop/event in your email.
UID:89408-21662624@events.umich.edu
URL:https://events.umich.edu/event/89408
CLASS:PUBLIC
STATUS:CONFIRMED
CATEGORIES:
LOCATION:https://umich.zoom.us/j/2745640240
CONTACT:
END:VEVENT
BEGIN:VEVENT
DTSTAMP:20210922T161858
DTSTART;TZID=America/Detroit:20211220T130000
DTEND;TZID=America/Detroit:20211220T150000
SUMMARY:Meeting:Semester in Detroit Office Hours (Mondays)
DESCRIPTION:Come to Semester in Detroit office hours with Semester in Detroit alumni Ali Elatrache. Ali participated in Semester in Detroit in the Fall semester\, which brings together students from all three U of M campuses (Ann Arbor\, Dearborn\, and Flint). Stop by the office and talk to him about his experience interacting with students from the other campuses and any other questions you may have!
UID:87388-21641751@events.umich.edu
URL:https://events.umich.edu/event/87388
CLASS:PUBLIC
STATUS:CONFIRMED
CATEGORIES:Activism,Art,detroit,In Person,residential college,Semester In Detroit,social justice,Study Abroad,Undergraduate,Undergraduate Students
LOCATION:
CONTACT:
END:VEVENT
BEGIN:VEVENT
DTSTAMP:20220104T123031
DTSTART;TZID=America/Detroit:20211220T150000
DTEND;TZID=America/Detroit:20211220T160000
SUMMARY:Careers / Jobs:Shaw Industries - Diversity & Inclusion
DESCRIPTION:Shaw Industries Diversity and Inclusion Event - Meet ONE!\n\nJoin us for a meet and greet with one of Shaw Industries' Associate Resource Groups\, ONE LGBT+ & Allies. ONE champions a respectful\, inclusive\, and collaborative environment that supports LGBT+ associates and Allies.  \n\nShaw Industries Group\, Inc. is more than a flooring company – we are 22\,000 people united in our vision of creating a better future for our customers\, for our people\, for our community\, and for our company. We provide carpet\, resilient\, hardwood\, tile & stone\, laminate\, synthetic turf\, and other specialty items for residential and commercial markets worldwide.\n\nHeadquartered in Dalton\, Georgia\, Shaw is a wholly-owned subsidiary of Berkshire Hathaway with nearly $6 billion in annual revenue and representation throughout the U.S.\, as well as in Australia\, Belgium\, Brazil\, Canada\, Chile\, China\, France\, India\, Mexico\, Singapore\, United Arab Emirates\, and the United Kingdom. For more information about ourcompany brands\, operations\, and community involvement\, or to join our industry-leading team\, visit www.shawinc.com.
UID:89992-21667435@events.umich.edu
URL:https://events.umich.edu/event/89992
CLASS:PUBLIC
STATUS:CONFIRMED
CATEGORIES:
LOCATION:
CONTACT:
END:VEVENT
BEGIN:VEVENT
DTSTAMP:20211210T122646
DTSTART;TZID=America/Detroit:20211220T160000
DTEND;TZID=America/Detroit:20211220T170000
SUMMARY:Lecture / Discussion:RNA Faculty Candidate Seminar
DESCRIPTION:In-person/Hybrid seminar co-hosted by the Center for RNA Biomedicine\, the Department of Biological Chemistry and the Department of Biophysics\n\nTalk title: “Modulation of the MALT1 pre-mRNA structure by hnRNP proteins regulates T cell activation”\n\nKey words: pre-mRNA\, hnRNP\, NMR\, SHAPE\, structure\nAbstract: Alternative splicing is controlled by differential binding of trans-acting RNA binding proteins (RBPs) to cis-regulatory pre-mRNA elements. How pre-mRNA secondary structure affects recognition by RBPs and determines alternative exon usage is poorly understood. The MALT1 paracaspase is a key component of signaling pathways that mediate innate and adaptive immune responses. Alternative splicing of MALT1 exon7 is critical for controlling optimal T cell activation. Here\, we demonstrate that MALT1 pre-mRNA splicing depends on RNA structural elements that shield the splice sites of the alternatively spliced exon7. The RBPs hnRNP U and hnRNP L bind comparably and competitively to identical stem-loop RNA structures flanking the 5’ and 3’ splice sites of MALT1 exon7. While hnRNP U stabilizes RNA stem-loop conformations that maintain exon7 skipping\, hnRNP L destabilizes these RNA elements to facilitate recruitment of the essential splicing factor U2AF2 to promote exon7 inclusion. This work represents a paradigm for the control of splice site selection by differential RBP binding and modulation of pre-mRNA structure.\n\nIf you are having trouble registering\, please contact Martina Jerant at mjerant@umich.edu
UID:89572-21664385@events.umich.edu
URL:https://events.umich.edu/event/89572
CLASS:PUBLIC
STATUS:CONFIRMED
CATEGORIES:biolgical chemistry,biological chemistry,biological science,Biosciences,Chemistry
LOCATION:Taubman Biomedical Science Research Building - ABC Seminar rooms
CONTACT:
END:VEVENT
END:VCALENDAR