BEGIN:VCALENDAR
VERSION:2.0
PRODID:-//UM//UM*Events//EN
CALSCALE:GREGORIAN
BEGIN:VTIMEZONE
TZID:America/Detroit
TZURL:http://tzurl.org/zoneinfo/America/Detroit
X-LIC-LOCATION:America/Detroit
BEGIN:DAYLIGHT
TZOFFSETFROM:-0500
TZOFFSETTO:-0400
TZNAME:EDT
DTSTART:20070311T020000
RRULE:FREQ=YEARLY;BYMONTH=3;BYDAY=2SU
END:DAYLIGHT
BEGIN:STANDARD
TZOFFSETFROM:-0400
TZOFFSETTO:-0500
TZNAME:EST
DTSTART:20071104T020000
RRULE:FREQ=YEARLY;BYMONTH=11;BYDAY=1SU
END:STANDARD
END:VTIMEZONE
BEGIN:VEVENT
DTSTAMP:20211210T131521
DTSTART;TZID=America/Detroit:20211222T000000
DTEND;TZID=America/Detroit:20211222T235900
SUMMARY:Film Screening:Afghanistan Series: Online Film Screening of 'Sonita' by Rokhsareh Ghaemmaghami
DESCRIPTION:The third and final installment of the Afghanistan Series focuses on women in Afghanistan.We are hosting a free screening online of the documentary 'Sonita' with Women Make Movies. The film is available now on demand\, but views are limited to 60 views - so get yours while you can! The film will be available online until sellout.\n\n*Sonita* the Film by Rokhsareh Ghaemmaghami:\n   \n*SONITA*  tells the inspiring story of Sonita Alizadeh\, an 18-year-old Afghan refugee in Iran\, who dreams of becoming a big-name rapper. This documentary is a two-time Sundance Film Festival award winner.\n   \nVIRTUAL | FREE | ON-DEMAND\nOnly 60 tickets are available. Tickets are available from now until sellout.   \nhttp://bit.ly/WatchSONITA\nPW: sonita56342\n\nWe are also honored to be hosting Sonita Alizadeh herself for an online Q&A and conversation coming up on January 18th at 3pm. Sonita will speak about her advocacy for women’s rights and ending child marriage. Find more info here: http://bit.ly/SonitaAndCara\n   \nThis event is part of the three part Afghanistan Series hosted by the Global Islamic Studies Center this Fall semester. The Afghanistan Series is cosponsored by the Center for Middle Eastern & North African Studies\, Arab and Muslim American Studies\, American Culture\, the Center for South Asian Studies\, the Digital Islamic Studies Curriculum\, the Institute for Research on Women and Gender\, the Department Communication & Media\, Women and Gender Studies\, and Middle East Studies. This event was made possible thanks to Women Make Movies.\n   \n\n-----\nIf there is anything we can do to make this event accessible to you\, please contact islamicstudies@umich.edu. Please be aware that advance notice is necessary as some accommodations may require more time for the university to arrange.
UID:89447-21666761@events.umich.edu
URL:https://events.umich.edu/event/89447
CLASS:PUBLIC
STATUS:CONFIRMED
CATEGORIES:Afghanistan,Film,Global Islamic Studies,Middle East Studies,Virtual
LOCATION:Off Campus Location
CONTACT:
END:VEVENT
BEGIN:VEVENT
DTSTAMP:20211118T090926
DTSTART;TZID=America/Detroit:20211222T000000
DTEND;TZID=America/Detroit:20211222T235900
SUMMARY:Other:Call for Applications - Big Data Summer Institute in Biostatistics
DESCRIPTION:*The application for BDSI 2022 opens Wednesday\, December 1*\n\nThis year's Big Data Summer Institute in Biostatistics\, a SIBS program\, is a six-week full-time program designed to expose undergraduate students to the intersection of big data and human health. Students will have the opportunity to work in mentored research groups\, along with participating in social events across campus and in the surrounding area. Drawing from the expertise and experience of outstanding faculty of several departments at the University of Michigan — biostatistics\, statistics\, and electrical engineering and computer science — the institute exposes undergraduate students to diverse experiences and techniques that distinguishes it from any other undergraduate summer program in biostatistics in the country.\n\nwww.BigDataSummerInstitute.com
UID:89356-21662233@events.umich.edu
URL:https://events.umich.edu/event/89356
CLASS:PUBLIC
STATUS:CONFIRMED
CATEGORIES:Applications,biostatistics,Public Health,Research,Undergraduate Students
LOCATION:
CONTACT:
END:VEVENT
BEGIN:VEVENT
DTSTAMP:20211214T104856
DTSTART;TZID=America/Detroit:20211222T000000
DTEND;TZID=America/Detroit:20211222T230000
SUMMARY:Other:Museum Studies Minor Logo Design
DESCRIPTION:The Museum Studies Minor Program is looking for a new logo design.  If you have any ideas\, send us a sample at museumsminor@umich.edu\n\nDue date is Friday\, January 7th\, 2022
UID:89985-21667376@events.umich.edu
URL:https://events.umich.edu/event/89985
CLASS:PUBLIC
STATUS:CONFIRMED
CATEGORIES:museum,museum studies,museum studies program,museums
LOCATION:
CONTACT:
END:VEVENT
BEGIN:VEVENT
DTSTAMP:20211201T152834
DTSTART;TZID=America/Detroit:20211222T060000
DTEND;TZID=America/Detroit:20211222T235900
SUMMARY:Ceremony / Service:UROP Outstanding Mentor Nominations
DESCRIPTION:Undergraduate Research Opportunity Program students participating in UROP this academic year (2021-2022) can now nominate their research mentor(s) for the UROP Outstanding Research Mentor Award.\n\nThe award is announced during the annual spring research symposium.\n\nNominations are due February 11th.\nSubmit your nomination at: http://myumi.ch/pdxpE
UID:89680-21664824@events.umich.edu
URL:https://events.umich.edu/event/89680
CLASS:PUBLIC
STATUS:CONFIRMED
CATEGORIES:Mentorship,Research,symposium,Undergraduate,Undergraduate Students,Urop
LOCATION:Off Campus Location
CONTACT:
END:VEVENT
BEGIN:VEVENT
DTSTAMP:20220110T155719
DTSTART;TZID=America/Detroit:20211222T070000
DTEND;TZID=America/Detroit:20211222T230000
SUMMARY:Class / Instruction:Become a UROP Research Mentor
DESCRIPTION:Submit a Research Project for the 2021-2022 Academic Year: https://lsa.umich.edu/urop/research-mentors.html\n\nUROP Research Mentors are faculty and post-doc researchers from across all U-M's 19 Schools and Colleges who provide undergraduate student researchers an opportunity to engage in research activities that help them learn about the pursuit of knowledge within an academic discipline. This early exposure to research fosters a valuable academic experience for students. Through this collaboration\, students gain research skills and mentorship that lead to academic retention\, a more positive undergraduate experience and paths to graduate school.
UID:89182-21660905@events.umich.edu
URL:https://events.umich.edu/event/89182
CLASS:PUBLIC
STATUS:CONFIRMED
CATEGORIES:AEM Featured,Education,Faculty,Fellowship,first-generation,Graduate and Professional Students,Graduate Students,Humanities,Interdisciplinary,Leadership,Mentorship,Networking,Professional Development,Recruiting,Research,research data,Social Impact,Staff,Urop
LOCATION:Off Campus Location
CONTACT:
END:VEVENT
BEGIN:VEVENT
DTSTAMP:20211216T153923
DTSTART;TZID=America/Detroit:20211222T070000
DTEND;TZID=America/Detroit:20211222T235900
SUMMARY:Careers / Jobs:Rising Sophomore UROP Application Open
DESCRIPTION:The Undergraduate Research Opportunity Program is accepting applications from U-M rising sophomores for the 2022-2023 academic year cohort.\n\nParticipate in year-long research with mentors from across campus.\n\nApplications open December 13\, 2021\nPriority Deadline March 7\, 2022\n\nInformation Sessions will be offered in 2022: \n- Wednesday\, January 12\, 2022 (12:00-1:00 p.m. ET)\n- Tuesday\, January 25\, 2022 (5:00-6:00 p.m. ET)\n- Monday\, February 7\, 2022 (12:00-1:00 p.m. ET)\n- Thursday\, February 24\, 2022  (5:00-6:00 p.m. ET)\nInfo Session Registration: https://myumi.ch/qA17D
UID:89569-21664143@events.umich.edu
URL:https://events.umich.edu/event/89569
CLASS:PUBLIC
STATUS:CONFIRMED
CATEGORIES:AEM Featured,Applications,Engineering,Environment,first-generation,Humanities,Interdisciplinary,Life Science,Public Health,Research,research data,Sophomore,Undergraduate,Undergraduate Students,Urop
LOCATION:Off Campus Location
CONTACT:
END:VEVENT
BEGIN:VEVENT
DTSTAMP:20211104T150425
DTSTART;TZID=America/Detroit:20211222T090000
DTEND;TZID=America/Detroit:20211222T170000
SUMMARY:Exhibition:Buying Home\, Selling America: the House Catalog\, 1906-1966
DESCRIPTION:Buying Home\, Selling America: the House Catalog\, 1906-1966 brings to light the collection of house catalogs in the Art\, Architecture & Engineering Library’s Special Collections. Focusing primarily on the kit house industry of Michigan and the Midwest\, the catalogs provide a portal to explore multiple themes\, such as\, the Michigan house catalog industry\, changing architectural styles\, the business of selling homes\, societal and cultural implications\, and domestic technologies. We hope the exhibit is not simply a nostalgic view back\, but raises awareness of our domestic surroundings today and compels us to ask questions as we look to the future.\n\nThe exhibit is available in the Clark Library (second floor Hatcher) during Hatcher Library hours.
UID:86339-21659411@events.umich.edu
URL:https://events.umich.edu/event/86339
CLASS:PUBLIC
STATUS:CONFIRMED
CATEGORIES:Architecture,Free,Library
LOCATION:Hatcher Graduate Library - Clark Library, 2nd Floor
CONTACT:
END:VEVENT
BEGIN:VEVENT
DTSTAMP:20220119T121743
DTSTART;TZID=America/Detroit:20211222T090000
DTEND;TZID=America/Detroit:20211222T230000
SUMMARY:Careers / Jobs:Detroit Community-Engaged Research Program Application Open
DESCRIPTION:Gain exposure to non-profits\, research and Detroit in Summer 2022.\n\nBe part of the DCERP social justice focused summer fellowship program run through the U-M’s Undergraduate Research Opportunity Program. Learn while helping community organizations with research projects addressing social and environmental justice\, food insecurity\, human rights\, public health\, youth development\, and more! Our program brings together aspiring change agents who will learn about the city\, non-profits\, community engagement and each other! \n\nhttps://myumi.ch/erK95\n\nPriority Deadline: December 3rd (5pm)\nFinal Application Deadline: January 31st 2022 (5pm)\n\nInfo Session offered Wednesdays at Noon weekly\nFrom October 27 - December 8\, January 5 - January 12\nRegister for an info session at: https://myumi.ch/kxprd
UID:87903-21647559@events.umich.edu
URL:https://events.umich.edu/event/87903
CLASS:PUBLIC
STATUS:CONFIRMED
CATEGORIES:Activism,AEM Featured,Applications,Dcerp,Detroit,Environment,Fellowship,first-generation,Free,Humanities,Interdisciplinary,Internship,Public Health,Public Policy,Research,Social Impact,Social Justice,Summer Jobs,Sustainability,The College Of Literature\, Science\, And The Arts,Transfer Students,Undergraduate,Undergraduate Students,Urop
LOCATION:Off Campus Location
CONTACT:
END:VEVENT
BEGIN:VEVENT
DTSTAMP:20211208T153818
DTSTART;TZID=America/Detroit:20211222T100000
DTEND;TZID=America/Detroit:20211222T110000
SUMMARY:Livestream / Virtual:International Student Virtual Q&A Sessions
DESCRIPTION:To help you prepare for your arrival to campus\, the IC will offer two Question & Answer (Q&A) sessions hosted by current international students and they can answer questions you have about life at U-M and Ann Arbor!\n\nPlease note that because the Q&A sessions are presented by students\, immigration questions will not be addressed during these events.
UID:89905-21666334@events.umich.edu
URL:https://events.umich.edu/event/89905
CLASS:PUBLIC
STATUS:CONFIRMED
CATEGORIES:Virtual,Welcome to Michigan
LOCATION:Off Campus Location
CONTACT:
END:VEVENT
BEGIN:VEVENT
DTSTAMP:20211020T165201
DTSTART;TZID=America/Detroit:20211222T100000
DTEND;TZID=America/Detroit:20211222T160000
SUMMARY:Exhibition:UJIMA: Collective Work and Responsibility at the University of Michigan
DESCRIPTION:This exhibit focuses on the concept of Ujima (collective work and responsibility in Swahili) as it pertains to activism on the campus of the University of Michigan over the years. By seeing how collective actions can lead to powerful movements\, the exhibit presents a chronological display demonstrating the importance of calling for change. \nThe majority of photos and articles originate from campus resources\, including the Bentley Historical Library\, the Michigan Daily's archives and other original materials. \nUJIMA is dedicated to the students\, faculty\, staff\, and alumni of the University of Michigan who envisioned and exemplified the principle of Ujima to bring about a more equitable and inclusive university through their thoughts and actions. \nThere is also a virtual audio/visual tour of the exhibit which can be accessed at:myumi.ch/7ZQn0
UID:88484-21654309@events.umich.edu
URL:https://events.umich.edu/event/88484
CLASS:PUBLIC
STATUS:CONFIRMED
CATEGORIES:Activism,african american,african and african american studies,african and afroamerican studies,African Diaspora,Black America,black history,Blackness,Civil Rights,daas,Equity,Exhibition,Inclusion,university of michigan history
LOCATION:Haven Hall - G648
CONTACT:
END:VEVENT
BEGIN:VEVENT
DTSTAMP:20220621T152447
DTSTART;TZID=America/Detroit:20211222T121500
DTEND;TZID=America/Detroit:20211222T124500
SUMMARY:Well-being:VIRTUAL | CEW+Inspire Midweek Mindfulness-Guided Sit
DESCRIPTION:As part of the CEW+Inspire initiative\, CEW+ holds mindful meditation sits virtually on Wednesdays at 12:15.\n\nRSVP here to receive the Zoom link: https://myumi.ch/r8zv7\n\nMindfulness Meditation is a skill that can be learned and when practiced has the power to enhance a sense of wellbeing\, focus\, and interconnectedness. As we all continue to navigate uncertainty and challenges that are inherent in the act of being human\, we benefit from and are grateful for diverse cultures and traditions across the globe. Collectively they have passed on a wide variety of contemplative practices that encourage reflection\, silence\, and centering into the present moment to help us cope and better respond. Engaging in contemplative practices support the individual\, by cultivating a sense of awareness and well-being\, and benefit society by enhancing one’s capacity to create connection and community\, and to become an agent of positive social change. There are many forms of contemplative practices\, including meditation. Mindfulness meditation is one form aimed to help focus our awareness on the present moment as it unfolds\, moment to moment\, without judgment. Research on mindfulness continues to find a wide range of benefits. In short\, Mindfulness may be viewed as cognitive training that bolsters our ability to handle stress\, poor mood\, and threat. It also increases our capacity to focus our attention on what is most important to us and to be more compassionate to ourselves and to others.\n\nOn Wednesdays from 12:15 - 12:45 pm\, we come together in community to practice this skill in an open and supportive virtual space. Whether you are new to mindfulness meditation or are an experienced practitioner each session is designed to offer guidance and support to assist you. Join this supportive community and experience the gift of present moment awareness.
UID:85277-21666336@events.umich.edu
URL:https://events.umich.edu/event/85277
CLASS:PUBLIC
STATUS:CONFIRMED
CATEGORIES:Free,Mindfulness,Virtual,Well-being,Wellness,Work-life Balance
LOCATION:Off Campus Location
CONTACT:
END:VEVENT
BEGIN:VEVENT
DTSTAMP:20210921T140957
DTSTART;TZID=America/Detroit:20211222T170000
DTEND;TZID=America/Detroit:20211222T190000
SUMMARY:Social / Informal Gathering:optiMize Community Dinner
DESCRIPTION:optiMize is a student-led\, social impact organization in LSA that helps all students turn their ideas into impact. Join us every Wednesday for dinner and meet some cool people who are taking the first step to act on their ideas to make the world a more just and sustainable place.
UID:87332-21641171@events.umich.edu
URL:https://events.umich.edu/event/87332
CLASS:PUBLIC
STATUS:CONFIRMED
CATEGORIES:Business,Entrepreneurship,Environment,Food,Free,Interdisciplinary,Michigan Engineering,Multidisciplinary Design,Public Health,Public Policy,Social Impact,The College Of Literature\, Science\, And The Arts,Transfer Students,Undergraduate Students
LOCATION:LSA Building - Outdoor canopy
CONTACT:
END:VEVENT
BEGIN:VEVENT
DTSTAMP:20210922T161834
DTSTART;TZID=America/Detroit:20211222T170000
DTEND;TZID=America/Detroit:20211222T190000
SUMMARY:Meeting:Semester in Detroit Office Hours (Wednesdays)
DESCRIPTION:Come by the Semester in Detroit office to talk with SiD alum Mekulash Baron-Galbavi. Mekulash participated in SiD's Spring/Summer semester and interned at an organization focused on housing justice. Stop by on Wednesdays to talk to Mekulash about his time in Detroit and any other questions you have!
UID:87389-21641696@events.umich.edu
URL:https://events.umich.edu/event/87389
CLASS:PUBLIC
STATUS:CONFIRMED
CATEGORIES:Activism,Art,detroit,In Person,residential college,Semester In Detroit,social justice,Study Abroad,Undergraduate Students
LOCATION:East Quadrangle - 1730
CONTACT:
END:VEVENT
END:VCALENDAR