BEGIN:VCALENDAR
VERSION:2.0
PRODID:-//UM//UM*Events//EN
CALSCALE:GREGORIAN
BEGIN:VTIMEZONE
TZID:America/Detroit
TZURL:http://tzurl.org/zoneinfo/America/Detroit
X-LIC-LOCATION:America/Detroit
BEGIN:DAYLIGHT
TZOFFSETFROM:-0500
TZOFFSETTO:-0400
TZNAME:EDT
DTSTART:20070311T020000
RRULE:FREQ=YEARLY;BYMONTH=3;BYDAY=2SU
END:DAYLIGHT
BEGIN:STANDARD
TZOFFSETFROM:-0400
TZOFFSETTO:-0500
TZNAME:EST
DTSTART:20071104T020000
RRULE:FREQ=YEARLY;BYMONTH=11;BYDAY=1SU
END:STANDARD
END:VTIMEZONE
BEGIN:VEVENT
DTSTAMP:20211210T131521
DTSTART;TZID=America/Detroit:20220104T000000
DTEND;TZID=America/Detroit:20220104T235900
SUMMARY:Film Screening:Afghanistan Series: Online Film Screening of 'Sonita' by Rokhsareh Ghaemmaghami
DESCRIPTION:The third and final installment of the Afghanistan Series focuses on women in Afghanistan.We are hosting a free screening online of the documentary 'Sonita' with Women Make Movies. The film is available now on demand\, but views are limited to 60 views - so get yours while you can! The film will be available online until sellout.\n\n*Sonita* the Film by Rokhsareh Ghaemmaghami:\n   \n*SONITA*  tells the inspiring story of Sonita Alizadeh\, an 18-year-old Afghan refugee in Iran\, who dreams of becoming a big-name rapper. This documentary is a two-time Sundance Film Festival award winner.\n   \nVIRTUAL | FREE | ON-DEMAND\nOnly 60 tickets are available. Tickets are available from now until sellout.   \nhttp://bit.ly/WatchSONITA\nPW: sonita56342\n\nWe are also honored to be hosting Sonita Alizadeh herself for an online Q&A and conversation coming up on January 18th at 3pm. Sonita will speak about her advocacy for women’s rights and ending child marriage. Find more info here: http://bit.ly/SonitaAndCara\n   \nThis event is part of the three part Afghanistan Series hosted by the Global Islamic Studies Center this Fall semester. The Afghanistan Series is cosponsored by the Center for Middle Eastern & North African Studies\, Arab and Muslim American Studies\, American Culture\, the Center for South Asian Studies\, the Digital Islamic Studies Curriculum\, the Institute for Research on Women and Gender\, the Department Communication & Media\, Women and Gender Studies\, and Middle East Studies. This event was made possible thanks to Women Make Movies.\n   \n\n-----\nIf there is anything we can do to make this event accessible to you\, please contact islamicstudies@umich.edu. Please be aware that advance notice is necessary as some accommodations may require more time for the university to arrange.
UID:89447-21666774@events.umich.edu
URL:https://events.umich.edu/event/89447
CLASS:PUBLIC
STATUS:CONFIRMED
CATEGORIES:Afghanistan,Film,Global Islamic Studies,Middle East Studies,Virtual
LOCATION:Off Campus Location
CONTACT:
END:VEVENT
BEGIN:VEVENT
DTSTAMP:20211118T090926
DTSTART;TZID=America/Detroit:20220104T000000
DTEND;TZID=America/Detroit:20220104T235900
SUMMARY:Other:Call for Applications - Big Data Summer Institute in Biostatistics
DESCRIPTION:*The application for BDSI 2022 opens Wednesday\, December 1*\n\nThis year's Big Data Summer Institute in Biostatistics\, a SIBS program\, is a six-week full-time program designed to expose undergraduate students to the intersection of big data and human health. Students will have the opportunity to work in mentored research groups\, along with participating in social events across campus and in the surrounding area. Drawing from the expertise and experience of outstanding faculty of several departments at the University of Michigan — biostatistics\, statistics\, and electrical engineering and computer science — the institute exposes undergraduate students to diverse experiences and techniques that distinguishes it from any other undergraduate summer program in biostatistics in the country.\n\nwww.BigDataSummerInstitute.com
UID:89356-21662246@events.umich.edu
URL:https://events.umich.edu/event/89356
CLASS:PUBLIC
STATUS:CONFIRMED
CATEGORIES:Applications,biostatistics,Public Health,Research,Undergraduate Students
LOCATION:
CONTACT:
END:VEVENT
BEGIN:VEVENT
DTSTAMP:20211214T104856
DTSTART;TZID=America/Detroit:20220104T000000
DTEND;TZID=America/Detroit:20220104T230000
SUMMARY:Other:Museum Studies Minor Logo Design
DESCRIPTION:The Museum Studies Minor Program is looking for a new logo design.  If you have any ideas\, send us a sample at museumsminor@umich.edu\n\nDue date is Friday\, January 7th\, 2022
UID:89985-21667389@events.umich.edu
URL:https://events.umich.edu/event/89985
CLASS:PUBLIC
STATUS:CONFIRMED
CATEGORIES:museum,museum studies,museum studies program,museums
LOCATION:
CONTACT:
END:VEVENT
BEGIN:VEVENT
DTSTAMP:20211201T152834
DTSTART;TZID=America/Detroit:20220104T060000
DTEND;TZID=America/Detroit:20220104T235900
SUMMARY:Ceremony / Service:UROP Outstanding Mentor Nominations
DESCRIPTION:Undergraduate Research Opportunity Program students participating in UROP this academic year (2021-2022) can now nominate their research mentor(s) for the UROP Outstanding Research Mentor Award.\n\nThe award is announced during the annual spring research symposium.\n\nNominations are due February 11th.\nSubmit your nomination at: http://myumi.ch/pdxpE
UID:89680-21664837@events.umich.edu
URL:https://events.umich.edu/event/89680
CLASS:PUBLIC
STATUS:CONFIRMED
CATEGORIES:Mentorship,Research,symposium,Undergraduate,Undergraduate Students,Urop
LOCATION:Off Campus Location
CONTACT:
END:VEVENT
BEGIN:VEVENT
DTSTAMP:20220110T155719
DTSTART;TZID=America/Detroit:20220104T070000
DTEND;TZID=America/Detroit:20220104T230000
SUMMARY:Class / Instruction:Become a UROP Research Mentor
DESCRIPTION:Submit a Research Project for the 2021-2022 Academic Year: https://lsa.umich.edu/urop/research-mentors.html\n\nUROP Research Mentors are faculty and post-doc researchers from across all U-M's 19 Schools and Colleges who provide undergraduate student researchers an opportunity to engage in research activities that help them learn about the pursuit of knowledge within an academic discipline. This early exposure to research fosters a valuable academic experience for students. Through this collaboration\, students gain research skills and mentorship that lead to academic retention\, a more positive undergraduate experience and paths to graduate school.
UID:89182-21660918@events.umich.edu
URL:https://events.umich.edu/event/89182
CLASS:PUBLIC
STATUS:CONFIRMED
CATEGORIES:AEM Featured,Education,Faculty,Fellowship,first-generation,Graduate and Professional Students,Graduate Students,Humanities,Interdisciplinary,Leadership,Mentorship,Networking,Professional Development,Recruiting,Research,research data,Social Impact,Staff,Urop
LOCATION:Off Campus Location
CONTACT:
END:VEVENT
BEGIN:VEVENT
DTSTAMP:20211216T153923
DTSTART;TZID=America/Detroit:20220104T070000
DTEND;TZID=America/Detroit:20220104T235900
SUMMARY:Careers / Jobs:Rising Sophomore UROP Application Open
DESCRIPTION:The Undergraduate Research Opportunity Program is accepting applications from U-M rising sophomores for the 2022-2023 academic year cohort.\n\nParticipate in year-long research with mentors from across campus.\n\nApplications open December 13\, 2021\nPriority Deadline March 7\, 2022\n\nInformation Sessions will be offered in 2022: \n- Wednesday\, January 12\, 2022 (12:00-1:00 p.m. ET)\n- Tuesday\, January 25\, 2022 (5:00-6:00 p.m. ET)\n- Monday\, February 7\, 2022 (12:00-1:00 p.m. ET)\n- Thursday\, February 24\, 2022  (5:00-6:00 p.m. ET)\nInfo Session Registration: https://myumi.ch/qA17D
UID:89569-21664156@events.umich.edu
URL:https://events.umich.edu/event/89569
CLASS:PUBLIC
STATUS:CONFIRMED
CATEGORIES:AEM Featured,Applications,Engineering,Environment,first-generation,Humanities,Interdisciplinary,Life Science,Public Health,Research,research data,Sophomore,Undergraduate,Undergraduate Students,Urop
LOCATION:Off Campus Location
CONTACT:
END:VEVENT
BEGIN:VEVENT
DTSTAMP:20211104T150425
DTSTART;TZID=America/Detroit:20220104T090000
DTEND;TZID=America/Detroit:20220104T170000
SUMMARY:Exhibition:Buying Home\, Selling America: the House Catalog\, 1906-1966
DESCRIPTION:Buying Home\, Selling America: the House Catalog\, 1906-1966 brings to light the collection of house catalogs in the Art\, Architecture & Engineering Library’s Special Collections. Focusing primarily on the kit house industry of Michigan and the Midwest\, the catalogs provide a portal to explore multiple themes\, such as\, the Michigan house catalog industry\, changing architectural styles\, the business of selling homes\, societal and cultural implications\, and domestic technologies. We hope the exhibit is not simply a nostalgic view back\, but raises awareness of our domestic surroundings today and compels us to ask questions as we look to the future.\n\nThe exhibit is available in the Clark Library (second floor Hatcher) during Hatcher Library hours.
UID:86339-21659379@events.umich.edu
URL:https://events.umich.edu/event/86339
CLASS:PUBLIC
STATUS:CONFIRMED
CATEGORIES:Architecture,Free,Library
LOCATION:Hatcher Graduate Library - Clark Library, 2nd Floor
CONTACT:
END:VEVENT
BEGIN:VEVENT
DTSTAMP:20220119T121743
DTSTART;TZID=America/Detroit:20220104T090000
DTEND;TZID=America/Detroit:20220104T230000
SUMMARY:Careers / Jobs:Detroit Community-Engaged Research Program Application Open
DESCRIPTION:Gain exposure to non-profits\, research and Detroit in Summer 2022.\n\nBe part of the DCERP social justice focused summer fellowship program run through the U-M’s Undergraduate Research Opportunity Program. Learn while helping community organizations with research projects addressing social and environmental justice\, food insecurity\, human rights\, public health\, youth development\, and more! Our program brings together aspiring change agents who will learn about the city\, non-profits\, community engagement and each other! \n\nhttps://myumi.ch/erK95\n\nPriority Deadline: December 3rd (5pm)\nFinal Application Deadline: January 31st 2022 (5pm)\n\nInfo Session offered Wednesdays at Noon weekly\nFrom October 27 - December 8\, January 5 - January 12\nRegister for an info session at: https://myumi.ch/kxprd
UID:87903-21647572@events.umich.edu
URL:https://events.umich.edu/event/87903
CLASS:PUBLIC
STATUS:CONFIRMED
CATEGORIES:Activism,AEM Featured,Applications,Dcerp,Detroit,Environment,Fellowship,first-generation,Free,Humanities,Interdisciplinary,Internship,Public Health,Public Policy,Research,Social Impact,Social Justice,Summer Jobs,Sustainability,The College Of Literature\, Science\, And The Arts,Transfer Students,Undergraduate,Undergraduate Students,Urop
LOCATION:Off Campus Location
CONTACT:
END:VEVENT
BEGIN:VEVENT
DTSTAMP:20220103T093117
DTSTART;TZID=America/Detroit:20220104T100000
DTEND;TZID=America/Detroit:20220104T180000
SUMMARY:Other:Poster Sale
DESCRIPTION:Come on down to the Poster Sale! The Center for Campus Involvement is sponsoring the annual poster sale to help you find what you need to decorate your space and feel at home.\n\nJanuary 3 - January 7\n10 am - 6 pm\nMichigan Union Pond Room
UID:90318-21670340@events.umich.edu
URL:https://events.umich.edu/event/90318
CLASS:PUBLIC
STATUS:CONFIRMED
CATEGORIES:Graduate and Professional Students,In Person,Undergraduate Students
LOCATION:Michigan Union - Pond Room
CONTACT:
END:VEVENT
BEGIN:VEVENT
DTSTAMP:20220110T180006
DTSTART;TZID=America/Detroit:20220104T110000
DTEND;TZID=America/Detroit:20220104T235959
SUMMARY:Fair / Festival:Winterfest 2022 Session 1 | TABLES GO LIVE 1/10 FROM 2-4PM!
DESCRIPTION:Winterfest is your direct connection with great student orgs and clubs! The Winterfest org fair is broken into four sessions\, each focusing on a few categories of organizations. Winterfest Session 1 includes the following categories of organizations:Cultural/Ethnic   |   Gender/Sexuality   |   Religious/Spiritual   |   Sports Club/Recreation   |   Health & WellnessWinterfest 2022 will be held virtually this year to promote a safe and more inclusive environment. Virtual tables will be live on Monday\, January 10th from 2-4pm\, but you can explore the fair and participating orgs/departments anytime before that!
UID:90365-21673665@events.umich.edu
URL:https://events.umich.edu/event/90365
CLASS:PUBLIC
STATUS:CONFIRMED
CATEGORIES:
LOCATION:Online
CONTACT:
END:VEVENT
BEGIN:VEVENT
DTSTAMP:20220119T123049
DTSTART;TZID=America/Detroit:20220104T130000
DTEND;TZID=America/Detroit:20220104T133000
SUMMARY:Careers / Jobs:May Grad & Summer 2022 Internship Information session
DESCRIPTION:We are hosting this information session to share who SelectQuote is and what roles we are hiring for. We are currently seeking May 2022 Grads and Summer 2022 interns. \n\nSome roles we are filling-\nBusiness operations interns\nBusiness operations Program- May 2022 Grads\nIT internships\nMarketing internships\nHR Internships\nAnalyst internships\nAnd many more! \n\n\nSelectQuote’s success: a strong force of highly trained and skilled agents\, who provide consultative needs analysis for every consumer\, and proprietary technology that sources and routes high-quality leads.The company has three core business lines: SelectQuote Senior\, SelectQuote Life and SelectQuote Auto and Home. SelectQuote Senior\, the largest and fastest-growing business\, serves the needs of a demographic that sees 10\,000 people turn 65 each day with a range of Medicare Advantage and Medicare Supplement plans
UID:89914-21666398@events.umich.edu
URL:https://events.umich.edu/event/89914
CLASS:PUBLIC
STATUS:CONFIRMED
CATEGORIES:
LOCATION:
CONTACT:
END:VEVENT
BEGIN:VEVENT
DTSTAMP:20220104T115104
DTSTART;TZID=America/Detroit:20220104T150000
DTEND;TZID=America/Detroit:20220104T160000
SUMMARY:Workshop / Seminar:Integrating LinkedIn Learning in Canvas Courses
DESCRIPTION:Canvas Workshop  |  Level: Beginner\n \nWORKSHOP TOPICS\n- What is LinkedIn Learning?\n- How instructors and students benefit from LinkedIn Learning\n- Using LinkedIn content in your Canvas course\n\nThe ITS Teaching Online Technique Training Workshops are available to help you prepare for teaching online\, in person\, hybrid\, or HyFlex.\n \nFind detailed training information on this and additional workshops\, including on-demand recordings\, on the ITS Training website: https://its.umich.edu/training/canvas\n \nZoom join URL for all workshops: https://umich.zoom.us/j/96810579762
UID:85213-21670703@events.umich.edu
URL:https://events.umich.edu/event/85213
CLASS:PUBLIC
STATUS:CONFIRMED
CATEGORIES:Faculty,Free,Information And Technology,Teaching And Learning,Training,Virtual,Webinar,Workshop
LOCATION:Off Campus Location
CONTACT:
END:VEVENT
BEGIN:VEVENT
DTSTAMP:20220119T123050
DTSTART;TZID=America/Detroit:20220104T160000
DTEND;TZID=America/Detroit:20220104T163000
SUMMARY:Careers / Jobs:Navigating the Teacher Job Search
DESCRIPTION:Attend this Microsoft Teams session to learn tips for applyingto jobs\, completing applications\, and preparing for interviews.  We will also discuss interview do's and don'ts as well as principal look-fors when they are determining who they want to hire.
UID:89957-21666752@events.umich.edu
URL:https://events.umich.edu/event/89957
CLASS:PUBLIC
STATUS:CONFIRMED
CATEGORIES:
LOCATION:
CONTACT:
END:VEVENT
BEGIN:VEVENT
DTSTAMP:20211221T073105
DTSTART;TZID=America/Detroit:20220104T160000
DTEND;TZID=America/Detroit:20220104T170000
SUMMARY:Workshop / Seminar:Statistics Department Seminar Series: Ian Laga\, PhD Candidate\, Department of Statistics\, Penn State University
DESCRIPTION:Abstract: Key populations are populations that due to higher-risk behaviors\, are more likely to live with and transmit infectious diseases like HIV. These populations include female sex workers\, men who have sex with men\, and drug users. In order to implement efficient HIV and infectious disease prevention programs\, organizations need to understand both how large these key populations are and where they live. Aggregated relational data (ARD)\, formed from \"How many X's do you know?\" questions\, is a powerful tool for learning important network characters with incomplete network data. Compared to traditional survey methods\, ARD is attractive as it does not require a sample from the target population and does not ask respondents to self-reveal their own status. This is helpful for studying key populations who may be hesitant to reveal their status. The Kiev International Institute of Sociology (KIIS) collected ARD to estimate the size of HIV-related subpopulations in Ukraine. To analyze this data\, we propose a new ARD model which incorporates respondent and subpopulation covariates in a regression framework and adds a correlation structure to the responses. The resulting size estimates of those most-at-risk of HIV infection can improve the HIV response efficiency in Ukraine. Additionally\, the proposed model allows us to better understand two network features: 1. What characteristics affect who respondents know\, and 2. How is knowing someone from one group related to knowing people from other groups. These features can allow researchers to better recruit marginalized individuals into the prevention and treatment programs.\n\nhttps://ilaga.github.io/
UID:90155-21668489@events.umich.edu
URL:https://events.umich.edu/event/90155
CLASS:PUBLIC
STATUS:CONFIRMED
CATEGORIES:seminar
LOCATION:West Hall - 340
CONTACT:
END:VEVENT
BEGIN:VEVENT
DTSTAMP:20220119T183047
DTSTART;TZID=America/Detroit:20220104T190000
DTEND;TZID=America/Detroit:20220104T193000
SUMMARY:Careers / Jobs:adidas Undergrad Internship Q&A #1
DESCRIPTION:📢 Join us to learn more about our 2022 BeyGood x adidas Undergraduate Summer Internship program. 🚨 Internship applications will beopen  January 1st - 31st 2022 . \n\nThis is the perfect opportunity to connect with our team and dial in your game plan! \n\n 🙋‍♂️🙋‍♀️ Ask our recruiters questions!\n✅💯  Learn tips/tricks to make your application stand out!\n\nIntern requirements: \nCurrently enrolled as an undergraduate student\nGraduating between December 2022 - August 2023\n\nUS work authorization\n\n👀 Note: There are two separate 30min Live Q&A sessions. Make sure you register for the one that works best for you:\n1️⃣ January 4th @4pm Pacific (7pm Eastern)\n2️⃣ January 6th @6pm Pacific (9pm Eastern)\n
UID:89714-21665119@events.umich.edu
URL:https://events.umich.edu/event/89714
CLASS:PUBLIC
STATUS:CONFIRMED
CATEGORIES:
LOCATION:
CONTACT:
END:VEVENT
BEGIN:VEVENT
DTSTAMP:20210729T094238
DTSTART;TZID=America/Detroit:20220104T200000
DTEND;TZID=America/Detroit:20220104T220000
SUMMARY:Performance:Albert Lee
DESCRIPTION:British guitar legend Albert Lee\, regarded by many as one of the world’s finest guitar players\, with a career spanning more than 50 years\, needs no introduction for country music\, blues\, and rock fans. Widely hailed for his fingerstyle and hybrid picking technique\, Albert Lee helped to redefine country guitar for a whole generation of players with his song \"Country Boy.\" Albert’s many career highlights include two Grammy wins\, five years in the Eric Clapton band\, and stints with the Rolling Stones' Bill Wyman\, The Crickets\, the Everly Brothers\, Joe Cocker\, Emmylou Harris\, Rodney Crowell and many more. Take it from Emmylou\, who says\, \"When Saint Peter asks me to chronicle my time down here on earth\, I'll be able to say—with pride if that's allowed—that for a while I played rhythm guitar in a band with Albert Lee.\"
UID:84800-21625000@events.umich.edu
URL:https://events.umich.edu/event/84800
CLASS:PUBLIC
STATUS:CONFIRMED
CATEGORIES:The Ark
LOCATION:Off Campus Location
CONTACT:
END:VEVENT
BEGIN:VEVENT
DTSTAMP:20220103T181518
DTSTART;TZID=America/Detroit:20220104T200000
SUMMARY:Performance:Allison Nicotera\, bassoon
DESCRIPTION:PROGRAM\n\nRhapsody - Willson Osborne\nSortilege - Margaret Griebling-Haigh\nSonata for Bassoon and Piano - André Previn\nLe Phénix - Michel Corrette<\nScherzo - Oleg Miroshinikow\nElegy for Innocence - Jeff Scott
UID:90372-21670532@events.umich.edu
URL:https://events.umich.edu/event/90372
CLASS:PUBLIC
STATUS:CONFIRMED
CATEGORIES:Free
LOCATION:Walgreen Drama Center - Stamps Auditorium
CONTACT:
END:VEVENT
END:VCALENDAR