BEGIN:VCALENDAR
VERSION:2.0
PRODID:-//UM//UM*Events//EN
CALSCALE:GREGORIAN
BEGIN:VTIMEZONE
TZID:America/Detroit
TZURL:http://tzurl.org/zoneinfo/America/Detroit
X-LIC-LOCATION:America/Detroit
BEGIN:DAYLIGHT
TZOFFSETFROM:-0500
TZOFFSETTO:-0400
TZNAME:EDT
DTSTART:20070311T020000
RRULE:FREQ=YEARLY;BYMONTH=3;BYDAY=2SU
END:DAYLIGHT
BEGIN:STANDARD
TZOFFSETFROM:-0400
TZOFFSETTO:-0500
TZNAME:EST
DTSTART:20071104T020000
RRULE:FREQ=YEARLY;BYMONTH=11;BYDAY=1SU
END:STANDARD
END:VTIMEZONE
BEGIN:VEVENT
DTSTAMP:20211210T131521
DTSTART;TZID=America/Detroit:20220108T000000
DTEND;TZID=America/Detroit:20220108T235900
SUMMARY:Film Screening:Afghanistan Series: Online Film Screening of 'Sonita' by Rokhsareh Ghaemmaghami
DESCRIPTION:The third and final installment of the Afghanistan Series focuses on women in Afghanistan.We are hosting a free screening online of the documentary 'Sonita' with Women Make Movies. The film is available now on demand\, but views are limited to 60 views - so get yours while you can! The film will be available online until sellout.\n\n*Sonita* the Film by Rokhsareh Ghaemmaghami:\n   \n*SONITA*  tells the inspiring story of Sonita Alizadeh\, an 18-year-old Afghan refugee in Iran\, who dreams of becoming a big-name rapper. This documentary is a two-time Sundance Film Festival award winner.\n   \nVIRTUAL | FREE | ON-DEMAND\nOnly 60 tickets are available. Tickets are available from now until sellout.   \nhttp://bit.ly/WatchSONITA\nPW: sonita56342\n\nWe are also honored to be hosting Sonita Alizadeh herself for an online Q&A and conversation coming up on January 18th at 3pm. Sonita will speak about her advocacy for women’s rights and ending child marriage. Find more info here: http://bit.ly/SonitaAndCara\n   \nThis event is part of the three part Afghanistan Series hosted by the Global Islamic Studies Center this Fall semester. The Afghanistan Series is cosponsored by the Center for Middle Eastern & North African Studies\, Arab and Muslim American Studies\, American Culture\, the Center for South Asian Studies\, the Digital Islamic Studies Curriculum\, the Institute for Research on Women and Gender\, the Department Communication & Media\, Women and Gender Studies\, and Middle East Studies. This event was made possible thanks to Women Make Movies.\n   \n\n-----\nIf there is anything we can do to make this event accessible to you\, please contact islamicstudies@umich.edu. Please be aware that advance notice is necessary as some accommodations may require more time for the university to arrange.
UID:89447-21666778@events.umich.edu
URL:https://events.umich.edu/event/89447
CLASS:PUBLIC
STATUS:CONFIRMED
CATEGORIES:Afghanistan,Film,Global Islamic Studies,Middle East Studies,Virtual
LOCATION:Off Campus Location
CONTACT:
END:VEVENT
BEGIN:VEVENT
DTSTAMP:20211118T090926
DTSTART;TZID=America/Detroit:20220108T000000
DTEND;TZID=America/Detroit:20220108T235900
SUMMARY:Other:Call for Applications - Big Data Summer Institute in Biostatistics
DESCRIPTION:*The application for BDSI 2022 opens Wednesday\, December 1*\n\nThis year's Big Data Summer Institute in Biostatistics\, a SIBS program\, is a six-week full-time program designed to expose undergraduate students to the intersection of big data and human health. Students will have the opportunity to work in mentored research groups\, along with participating in social events across campus and in the surrounding area. Drawing from the expertise and experience of outstanding faculty of several departments at the University of Michigan — biostatistics\, statistics\, and electrical engineering and computer science — the institute exposes undergraduate students to diverse experiences and techniques that distinguishes it from any other undergraduate summer program in biostatistics in the country.\n\nwww.BigDataSummerInstitute.com
UID:89356-21662250@events.umich.edu
URL:https://events.umich.edu/event/89356
CLASS:PUBLIC
STATUS:CONFIRMED
CATEGORIES:Applications,biostatistics,Public Health,Research,Undergraduate Students
LOCATION:
CONTACT:
END:VEVENT
BEGIN:VEVENT
DTSTAMP:20220110T180006
DTSTART;TZID=America/Detroit:20220108T000000
DTEND;TZID=America/Detroit:20220108T235959
SUMMARY:Fair / Festival:Winterfest 2022 Session 1 | TABLES GO LIVE 1/10 FROM 2-4PM!
DESCRIPTION:Winterfest is your direct connection with great student orgs and clubs! The Winterfest org fair is broken into four sessions\, each focusing on a few categories of organizations. Winterfest Session 1 includes the following categories of organizations:Cultural/Ethnic   |   Gender/Sexuality   |   Religious/Spiritual   |   Sports Club/Recreation   |   Health & WellnessWinterfest 2022 will be held virtually this year to promote a safe and more inclusive environment. Virtual tables will be live on Monday\, January 10th from 2-4pm\, but you can explore the fair and participating orgs/departments anytime before that!
UID:90365-21673669@events.umich.edu
URL:https://events.umich.edu/event/90365
CLASS:PUBLIC
STATUS:CONFIRMED
CATEGORIES:
LOCATION:Online
CONTACT:
END:VEVENT
BEGIN:VEVENT
DTSTAMP:20220110T180006
DTSTART;TZID=America/Detroit:20220108T000000
DTEND;TZID=America/Detroit:20220108T235959
SUMMARY:Fair / Festival:Winterfest 2022 Session 2 | TABLES GO LIVE 1/10 FROM 5-7PM!
DESCRIPTION:Winterfest is your direct connection with great student orgs and clubs! The Winterfest org fair is broken into four sessions\, each focusing on a few categories of organizations. Winterfest Session 2 includes the following categories of organizations:Science/Technology/Engineering  |  Academic/Honor Society  |  EnvironmentalWinterfest 2022 will be held virtually this year to promote a safe and more inclusive environment. Virtual tables will be live on Monday\, January 10th from 5-7pm\, but you can explore the fair and participating orgs/departments anytime before that!
UID:90366-21673674@events.umich.edu
URL:https://events.umich.edu/event/90366
CLASS:PUBLIC
STATUS:CONFIRMED
CATEGORIES:
LOCATION:Online
CONTACT:
END:VEVENT
BEGIN:VEVENT
DTSTAMP:20220111T120007
DTSTART;TZID=America/Detroit:20220108T000000
DTEND;TZID=America/Detroit:20220108T235959
SUMMARY:Fair / Festival:Winterfest 2022 Session 3 | TABLES GO LIVE 1/11 FROM 2-4PM!
DESCRIPTION:Winterfest is your direct connection with great student orgs and clubs! The Winterfest org fair is broken into four sessions\, each focusing on a few categories of organizations. Winterfest Session 3 includes the following categories of organizations:Activism   |   Governance   |   Service/Service Learning   |   Graduate/Professional    |   Social Fraternity/SororityWinterfest 2022 will be held virtually this year to promote a safe and more inclusive environment. Virtual tables will be live on Tuesday\, January 11th from 2-4pm\, but you can explore the fair and participating orgs/departments anytime before that!
UID:90367-21674051@events.umich.edu
URL:https://events.umich.edu/event/90367
CLASS:PUBLIC
STATUS:CONFIRMED
CATEGORIES:
LOCATION:Online
CONTACT:
END:VEVENT
BEGIN:VEVENT
DTSTAMP:20220111T180010
DTSTART;TZID=America/Detroit:20220108T000000
DTEND;TZID=America/Detroit:20220108T235959
SUMMARY:Fair / Festival:Winterfest 2022 Session 4 | TABLES GO LIVE 1/11 FROM 5-7PM!
DESCRIPTION:Winterfest is your direct connection with great student orgs and clubs! The Winterfest org fair is broken into four sessions\, each focusing on a few categories of organizations. Winterfest Session 4 includes the following categories of organizations:Creative & Performing Arts   |   Media & Creative Writing   |   Business & EntrepreneurshipWinterfest 2022 will be held virtually this year to promote a safe and more inclusive environment. Virtual tables will be live on Tuesday\, January 11th from 5-7pm\, but you can explore the fair and participating orgs/departments anytime before that!
UID:90368-21674205@events.umich.edu
URL:https://events.umich.edu/event/90368
CLASS:PUBLIC
STATUS:CONFIRMED
CATEGORIES:
LOCATION:Online
CONTACT:
END:VEVENT
BEGIN:VEVENT
DTSTAMP:20220102T204027
DTSTART;TZID=America/Detroit:20220108T000000
DTEND;TZID=America/Detroit:20220108T235900
SUMMARY:Well-being:WSN Group Sign-Ups Open
DESCRIPTION:Wolverine Support Network (WSN) is a club that empowers University of Michigan students to create an inclusive community and support each other’s identity\, mental well-being\, and day-to-day lives. WSN facilitates 40+ cost-free\, confidential peer-led support groups across campus\, for both undergraduate and graduate students that fit within students’ own availability. WSN also holds community-building events to foster connection among those within the WSN community and beyond.\n\nWinter 2022 semester sign ups for peer-to-peer support groups are open now through the end of the semester so students can join at any time. Groups start Tuesday\, January 25th and meet weekly. To sign up\, visit umichwsn.org/join or contact wsndirectors@umich.edu with any questions.
UID:90309-21670233@events.umich.edu
URL:https://events.umich.edu/event/90309
CLASS:PUBLIC
STATUS:CONFIRMED
CATEGORIES:Culture,Disability,Diversity,Diversity Equity and Inclusion,Free,Graduate,Graduate and Professional Students,Graduate Professional Student Life,Graduate School,Graduate Students,Inclusion,LGBT,Mindfulness,Multicultural,Social,Student Affairs,Student Org,Transfer Students,Undergraduate,Undergraduate Students,Well-being
LOCATION:
CONTACT:
END:VEVENT
BEGIN:VEVENT
DTSTAMP:20211201T152834
DTSTART;TZID=America/Detroit:20220108T060000
DTEND;TZID=America/Detroit:20220108T235900
SUMMARY:Ceremony / Service:UROP Outstanding Mentor Nominations
DESCRIPTION:Undergraduate Research Opportunity Program students participating in UROP this academic year (2021-2022) can now nominate their research mentor(s) for the UROP Outstanding Research Mentor Award.\n\nThe award is announced during the annual spring research symposium.\n\nNominations are due February 11th.\nSubmit your nomination at: http://myumi.ch/pdxpE
UID:89680-21664841@events.umich.edu
URL:https://events.umich.edu/event/89680
CLASS:PUBLIC
STATUS:CONFIRMED
CATEGORIES:Mentorship,Research,symposium,Undergraduate,Undergraduate Students,Urop
LOCATION:Off Campus Location
CONTACT:
END:VEVENT
BEGIN:VEVENT
DTSTAMP:20220110T155719
DTSTART;TZID=America/Detroit:20220108T070000
DTEND;TZID=America/Detroit:20220108T230000
SUMMARY:Class / Instruction:Become a UROP Research Mentor
DESCRIPTION:Submit a Research Project for the 2021-2022 Academic Year: https://lsa.umich.edu/urop/research-mentors.html\n\nUROP Research Mentors are faculty and post-doc researchers from across all U-M's 19 Schools and Colleges who provide undergraduate student researchers an opportunity to engage in research activities that help them learn about the pursuit of knowledge within an academic discipline. This early exposure to research fosters a valuable academic experience for students. Through this collaboration\, students gain research skills and mentorship that lead to academic retention\, a more positive undergraduate experience and paths to graduate school.
UID:89182-21660922@events.umich.edu
URL:https://events.umich.edu/event/89182
CLASS:PUBLIC
STATUS:CONFIRMED
CATEGORIES:AEM Featured,Education,Faculty,Fellowship,first-generation,Graduate and Professional Students,Graduate Students,Humanities,Interdisciplinary,Leadership,Mentorship,Networking,Professional Development,Recruiting,Research,research data,Social Impact,Staff,Urop
LOCATION:Off Campus Location
CONTACT:
END:VEVENT
BEGIN:VEVENT
DTSTAMP:20220106T120904
DTSTART;TZID=America/Detroit:20220108T070000
DTEND;TZID=America/Detroit:20220108T210000
SUMMARY:Exercise / Fitness:Group-X Free Week
DESCRIPTION:Looking for a fun\, convenient way to fit movement into your schedule? Check out Group‑X classes! Starting January 5 - 16 you can try any class\, anytime for free during Group‑X Free Week. You’ll find Cycle\, Zumba\, Yoga\, Barre Above\, Total Body Strength\, and so many other great classes to join in-person and virtually. Download the Rec Sports app or visit our website to see our full schedule and how to register.\n\nSchedule: https://recsports.umich.edu/groupx/schedule/\n\nRegister: https://recsports.umich.edu/groupx/passes/
UID:90542-21671526@events.umich.edu
URL:https://events.umich.edu/event/90542
CLASS:PUBLIC
STATUS:CONFIRMED
CATEGORIES:ccrb,exercise class,fitness,Health & Wellness,imsb,Mindfulness,ncrb,rec sports,Well-being
LOCATION:
CONTACT:
END:VEVENT
BEGIN:VEVENT
DTSTAMP:20211216T153923
DTSTART;TZID=America/Detroit:20220108T070000
DTEND;TZID=America/Detroit:20220108T235900
SUMMARY:Careers / Jobs:Rising Sophomore UROP Application Open
DESCRIPTION:The Undergraduate Research Opportunity Program is accepting applications from U-M rising sophomores for the 2022-2023 academic year cohort.\n\nParticipate in year-long research with mentors from across campus.\n\nApplications open December 13\, 2021\nPriority Deadline March 7\, 2022\n\nInformation Sessions will be offered in 2022: \n- Wednesday\, January 12\, 2022 (12:00-1:00 p.m. ET)\n- Tuesday\, January 25\, 2022 (5:00-6:00 p.m. ET)\n- Monday\, February 7\, 2022 (12:00-1:00 p.m. ET)\n- Thursday\, February 24\, 2022  (5:00-6:00 p.m. ET)\nInfo Session Registration: https://myumi.ch/qA17D
UID:89569-21664160@events.umich.edu
URL:https://events.umich.edu/event/89569
CLASS:PUBLIC
STATUS:CONFIRMED
CATEGORIES:AEM Featured,Applications,Engineering,Environment,first-generation,Humanities,Interdisciplinary,Life Science,Public Health,Research,research data,Sophomore,Undergraduate,Undergraduate Students,Urop
LOCATION:Off Campus Location
CONTACT:
END:VEVENT
BEGIN:VEVENT
DTSTAMP:20211104T150425
DTSTART;TZID=America/Detroit:20220108T090000
DTEND;TZID=America/Detroit:20220108T170000
SUMMARY:Exhibition:Buying Home\, Selling America: the House Catalog\, 1906-1966
DESCRIPTION:Buying Home\, Selling America: the House Catalog\, 1906-1966 brings to light the collection of house catalogs in the Art\, Architecture & Engineering Library’s Special Collections. Focusing primarily on the kit house industry of Michigan and the Midwest\, the catalogs provide a portal to explore multiple themes\, such as\, the Michigan house catalog industry\, changing architectural styles\, the business of selling homes\, societal and cultural implications\, and domestic technologies. We hope the exhibit is not simply a nostalgic view back\, but raises awareness of our domestic surroundings today and compels us to ask questions as we look to the future.\n\nThe exhibit is available in the Clark Library (second floor Hatcher) during Hatcher Library hours.
UID:86339-21659383@events.umich.edu
URL:https://events.umich.edu/event/86339
CLASS:PUBLIC
STATUS:CONFIRMED
CATEGORIES:Architecture,Free,Library
LOCATION:Hatcher Graduate Library - Clark Library, 2nd Floor
CONTACT:
END:VEVENT
BEGIN:VEVENT
DTSTAMP:20220119T121743
DTSTART;TZID=America/Detroit:20220108T090000
DTEND;TZID=America/Detroit:20220108T230000
SUMMARY:Careers / Jobs:Detroit Community-Engaged Research Program Application Open
DESCRIPTION:Gain exposure to non-profits\, research and Detroit in Summer 2022.\n\nBe part of the DCERP social justice focused summer fellowship program run through the U-M’s Undergraduate Research Opportunity Program. Learn while helping community organizations with research projects addressing social and environmental justice\, food insecurity\, human rights\, public health\, youth development\, and more! Our program brings together aspiring change agents who will learn about the city\, non-profits\, community engagement and each other! \n\nhttps://myumi.ch/erK95\n\nPriority Deadline: December 3rd (5pm)\nFinal Application Deadline: January 31st 2022 (5pm)\n\nInfo Session offered Wednesdays at Noon weekly\nFrom October 27 - December 8\, January 5 - January 12\nRegister for an info session at: https://myumi.ch/kxprd
UID:87903-21647576@events.umich.edu
URL:https://events.umich.edu/event/87903
CLASS:PUBLIC
STATUS:CONFIRMED
CATEGORIES:Activism,AEM Featured,Applications,Dcerp,Detroit,Environment,Fellowship,first-generation,Free,Humanities,Interdisciplinary,Internship,Public Health,Public Policy,Research,Social Impact,Social Justice,Summer Jobs,Sustainability,The College Of Literature\, Science\, And The Arts,Transfer Students,Undergraduate,Undergraduate Students,Urop
LOCATION:Off Campus Location
CONTACT:
END:VEVENT
BEGIN:VEVENT
DTSTAMP:20211207T143030
DTSTART;TZID=America/Detroit:20220108T100000
DTEND;TZID=America/Detroit:20220108T180000
SUMMARY:Exhibition:Prisons and Politics in America
DESCRIPTION:This exhibit examines the political reasons for why people are imprisoned: for speaking out\, for writing\, for violating repressive laws\, framed because of their color or politics\, for stealing from the rich\, for refusing the military draft\, for whistleblowing\, for attempting to overthrow the government\, for standing up for a belief\, or for walking over a forbidden line.\n\nThe items focus on maintaining one's humanity behind bars\, promoting political causes\, and offering solidarity in support of prisoners.\n\nThe groups and individuals whose stories are featured in the Labadie Collection share one thing in common: fighting to make a better world. In the process\, many of them have been arrested\, brutalized\, censored\, deported\, imprisoned\, or executed. Some were innocent victims of violent police or discriminatory policies.\n\nThe U-M Library’s Joseph A. Labadie Collection documents the history of social protest movements and marginalized political communities from the nineteenth century to the present. Established in 1911\, it is the oldest and largest public archive of its kind in the world.
UID:89866-21672200@events.umich.edu
URL:https://events.umich.edu/event/89866
CLASS:PUBLIC
STATUS:CONFIRMED
CATEGORIES:Exhibition,Free,Library,Social Justice
LOCATION:Hatcher Graduate Library - Audubon Room, 1st floor
CONTACT:
END:VEVENT
BEGIN:VEVENT
DTSTAMP:20220103T181523
DTSTART;TZID=America/Detroit:20220108T110000
DTEND;TZID=America/Detroit:20220108T170000
SUMMARY:Exhibition:Envision: The Michigan Artist Initiative
DESCRIPTION:Exhibition: Nov 12\, 2021 - January 22\, 2022\nPublic Opening and Award Ceremony: November 12\, 2021\nOrganized by Stamps Gallery\, Envision: The Michigan Artist Initiative is a new awards program designed to support the development of contemporary artists living and working in Michigan. This inaugural program recognizes the creativity\, rigor\, and innovation of Michigan-based artists and collaboratives — and honors their role in inspiring the next generations of artists in our state. \nThe call for work went out to artists across the state in March 2020. In July 2020\, Envision jurors Carla Acevedo-Yates\, Curator\, MCA Chicago\; Ken Aptekar (BFA &#039\;73)\, Artist\; and Loring Randolph (BFA &#039\;04)\, Director\, Frieze New York\; gathered virtually to review the submissions. \nAfter evaluating 259 submissions from across the state\, the jurors selected five finalists to receive a group exhibition at Stamps Gallery. \nOn December 10\, 2021\, one finalist will be named the 2021 Envision Award recipient\, receiving a cash prize. \nThe exhibition will tour to different venues in Michigan\, including the Crooked Tree Art Center in Traverse City. \nEnvision Finalists\nNayda Collazo-Llorens examines the way in which we perceive and process information\, dealing with concepts of navigation\, memory\, language\, hyperconnectivity and noise through her interdisciplinary creative practice. Learn more: naydacollazollorens.com\nThrough oil painting\, Michael Dixon explores the personal\, societal\, and aesthetic struggles of belonging to both \"white\" and \"black\" racial and cultural identities\, yet simultaneously belonging fully to neither. Learn more: michaeldixonart.com\nCarole Harris is a fiber artist who extends the boundaries of traditional quilting by exploring other forms of stitchery\, irregular shapes\, textiles\, materials\, and objects. Learn more: charris-design.com\nKylie Lockwood is an interdisciplinary artist whose work reconciles the experience of living in a female body with the history of sculpture. Learn more: kylielockwood.com\nDarryl Terrell explores the displacement of black and brown people\, femme identity\, and strength\, the black family structure\, sexuality\, gender\, safe spaces\, and personal stories through photography and digital art. Learn more: darryldterrell.com\nThis program is supported by The Andy Warhol Foundation for the Visual Arts and the Michigan Council for Arts and Cultural Affairs (MCACA).\n
UID:84619-21657075@events.umich.edu
URL:https://events.umich.edu/event/84619
CLASS:PUBLIC
STATUS:CONFIRMED
CATEGORIES:Art
LOCATION:Off Campus Location
CONTACT:
END:VEVENT
BEGIN:VEVENT
DTSTAMP:20220323T103516
DTSTART;TZID=America/Detroit:20220108T113000
DTEND;TZID=America/Detroit:20220108T121500
SUMMARY:Presentation:Did an Asteroid Really Kill the Dinosaurs?
DESCRIPTION:Did a space rock six miles wide slam into the Earth 66 million years ago and wipe out 75 percent of all living species at that time\, including the dinosaurs? Explore this impact and cosmic collisions across the Solar System in this dynamic show. Includes footage from the first iridium layer found in Gubbio\, Italy. Includes an abbreviated star talk.\n\nThe state-of-the-art Planetarium & Dome Theater at the U-M Museum of Natural History transports visitors beyond distant stars and deep into the ocean from the comfort of reclining seats. Tickets $8. Tickets are available on the day of the show at the Museum Store.\nThe planetarium is operating at less than 50% capacity to maximize distancing between viewers. As with all University of Michigan buildings\, masks are required.
UID:89867-21666074@events.umich.edu
URL:https://events.umich.edu/event/89867
CLASS:PUBLIC
STATUS:CONFIRMED
CATEGORIES:Astronomy,Museum,natural history museum
LOCATION:Museum of Natural History - Planetarium and Dome Theatre
CONTACT:
END:VEVENT
BEGIN:VEVENT
DTSTAMP:20220406T105221
DTSTART;TZID=America/Detroit:20220108T123000
DTEND;TZID=America/Detroit:20220108T131500
SUMMARY:Presentation:Sky Tonight
DESCRIPTION:A live presentation on what to find in the sky tonight and for the coming few weeks. This presentation includes how to find the cardinal directions on your own by finding the north star\, current and upcoming constellations\, visible planets\, a few deep sky objects depending on the season\, and other interesting astronomical visualizations. \n\nThe state-of-the-art Planetarium & Dome Theater at the U-M Museum of Natural History transports visitors beyond distant stars and deep into the ocean from the comfort of reclining seats. Tickets $8. Tickets are available on the day of the show at the Museum Store.\nThe planetarium is operating at reduced capacity to maximize distancing between viewers and masks are required.
UID:89869-21666091@events.umich.edu
URL:https://events.umich.edu/event/89869
CLASS:PUBLIC
STATUS:CONFIRMED
CATEGORIES:Astronomy,Museum,natural history museum
LOCATION:Museum of Natural History - Planetarium and Dome Theatre
CONTACT:
END:VEVENT
BEGIN:VEVENT
DTSTAMP:20220105T150640
DTSTART;TZID=America/Detroit:20220108T130000
DTEND;TZID=America/Detroit:20220108T150000
SUMMARY:Film Screening:Korean Cinema NOW | Escape from Mogadishu/모가디슈
DESCRIPTION:2021 | 121 Minutes | Ryoo Seung-wan\n\nFree | Open to the public | In Korean with English subtitles\n\nDramatically constructed based on a true story: as civil war rages in Mogadishu\, rival North and South Korean diplomats are left trapped. With no aid from either government\, their only shot at survival may require uniting with bitter adversaries to escape.\n\nWatch the Trailer: https://www.wellgousa.com/films/escape-from-mogadishu\n\nPLEASE NOTE: Starting Jan. 6\, 2022 the Michigan & State Theaters will require proof of full COVID vaccination for ALL patrons over the age of five. Masks are required for all attendees and temperatures will be checked upon entry. \n\nClick here to learn more about COVID safety at the MTF: https://michtheater.org/covid-safety-plan
UID:90410-21670715@events.umich.edu
URL:https://events.umich.edu/event/90410
CLASS:PUBLIC
STATUS:CONFIRMED
CATEGORIES:Asia,Film,Korea
LOCATION:Off Campus Location
CONTACT:
END:VEVENT
BEGIN:VEVENT
DTSTAMP:20220323T103556
DTSTART;TZID=America/Detroit:20220108T133000
DTEND;TZID=America/Detroit:20220108T141500
SUMMARY:Presentation:Big Astronomy
DESCRIPTION:Big Astronomy focuses on three of Earth’s largest observatories in Chile’s rugged Andes Mountains and arid Atacama Desert. By avoiding clouds and light pollution\, mountain tops and dry deserts are ideal locations for Earth bound telescopes. Big Astronomy features the perspectives of not only astronomers\, but also the engineers\, technicians\, and support staff needed to keep these massive pieces of equipment running. Includes an abbreviated star talk.\n\nThe state-of-the-art Planetarium & Dome Theater at the U-M Museum of Natural History transports visitors beyond distant stars and deep into the ocean from the comfort of reclining seats. Tickets $8. Tickets are available on the day of the show at the Museum Store.\nThe planetarium is operating at less than 50% capacity to maximize distancing between viewers. As with all University of Michigan buildings\, masks are required.
UID:89871-21666157@events.umich.edu
URL:https://events.umich.edu/event/89871
CLASS:PUBLIC
STATUS:CONFIRMED
CATEGORIES:Astronomy,Museum,natural history museum
LOCATION:Museum of Natural History - Planetarium and Dome Theatre
CONTACT:
END:VEVENT
BEGIN:VEVENT
DTSTAMP:20220406T105221
DTSTART;TZID=America/Detroit:20220108T143000
DTEND;TZID=America/Detroit:20220108T151500
SUMMARY:Presentation:Sky Tonight
DESCRIPTION:A live presentation on what to find in the sky tonight and for the coming few weeks. This presentation includes how to find the cardinal directions on your own by finding the north star\, current and upcoming constellations\, visible planets\, a few deep sky objects depending on the season\, and other interesting astronomical visualizations. \n\nThe state-of-the-art Planetarium & Dome Theater at the U-M Museum of Natural History transports visitors beyond distant stars and deep into the ocean from the comfort of reclining seats. Tickets $8. Tickets are available on the day of the show at the Museum Store.\nThe planetarium is operating at reduced capacity to maximize distancing between viewers and masks are required.
UID:89869-21666104@events.umich.edu
URL:https://events.umich.edu/event/89869
CLASS:PUBLIC
STATUS:CONFIRMED
CATEGORIES:Astronomy,Museum,natural history museum
LOCATION:Museum of Natural History - Planetarium and Dome Theatre
CONTACT:
END:VEVENT
BEGIN:VEVENT
DTSTAMP:20220108T120010
DTSTART;TZID=America/Detroit:20220108T153000
DTEND;TZID=America/Detroit:20220108T180000
SUMMARY:Other:Away Game vs Davenport
DESCRIPTION:Game at Patterson Ice Center
UID:89579-21664423@events.umich.edu
URL:https://events.umich.edu/event/89579
CLASS:PUBLIC
STATUS:CONFIRMED
CATEGORIES:
LOCATION:Patterson Ice Center
CONTACT:
END:VEVENT
BEGIN:VEVENT
DTSTAMP:20220103T181518
DTSTART;TZID=America/Detroit:20220108T173000
SUMMARY:Performance:Philip Solomonick\, piano
DESCRIPTION:PROGRAM\nSonata in C Minor\, Op. 111 - Ludwig van Beethoven
UID:90374-21670534@events.umich.edu
URL:https://events.umich.edu/event/90374
CLASS:PUBLIC
STATUS:CONFIRMED
CATEGORIES:Free,Music,North campus
LOCATION:Earl V. Moore Building - Britton Recital Hall
CONTACT:
END:VEVENT
BEGIN:VEVENT
DTSTAMP:20220103T141226
DTSTART;TZID=America/Detroit:20220108T200000
DTEND;TZID=America/Detroit:20220108T220000
SUMMARY:Performance:CANCELED: The Yellow Room Gang
DESCRIPTION:It's a night with eight of our favorite Michigan songwriters: \"One Shining Moment\" composer David Barrett\, Detroit native and Great American Song Contest winner Jim Bizer\, contemporary country-folk road warrior Annie Capps\, Irish-American chanteuse Kitty Donohoe\, four-time Detroit Music Award winner Jan Krist\, Michael Hough and David Tamulevich of the \"Music to Cure What Ails You\" duo Mustard's Retreat\, and southeastern Michigan folk veteran Matt Watroba. The Yellow Room is the \"brilliantly yellow\" living room of Tamulevich's house on Ann Arbor's Old West Side\, where gang members meet monthly for musical brainstorming and mutual critique. Come and be a fly on the wall as the exchange of creative ideas flows freely! \"To have any one of these songwriters perform at Trinity House is a real treat\,\" says promoter Bill Keith. \"To have them perform together is unbelievable.\" The Yellow Room Gang has been around for over 15 years now\, with all the members coming up with new music all the while.
UID:84802-21625002@events.umich.edu
URL:https://events.umich.edu/event/84802
CLASS:PUBLIC
STATUS:CONFIRMED
CATEGORIES:The Ark
LOCATION:Off Campus Location
CONTACT:
END:VEVENT
END:VCALENDAR