BEGIN:VCALENDAR
VERSION:2.0
PRODID:-//UM//UM*Events//EN
CALSCALE:GREGORIAN
BEGIN:VTIMEZONE
TZID:America/Detroit
TZURL:http://tzurl.org/zoneinfo/America/Detroit
X-LIC-LOCATION:America/Detroit
BEGIN:DAYLIGHT
TZOFFSETFROM:-0500
TZOFFSETTO:-0400
TZNAME:EDT
DTSTART:20070311T020000
RRULE:FREQ=YEARLY;BYMONTH=3;BYDAY=2SU
END:DAYLIGHT
BEGIN:STANDARD
TZOFFSETFROM:-0400
TZOFFSETTO:-0500
TZNAME:EST
DTSTART:20071104T020000
RRULE:FREQ=YEARLY;BYMONTH=11;BYDAY=1SU
END:STANDARD
END:VTIMEZONE
BEGIN:VEVENT
DTSTAMP:20220417T180003
DTSTART;TZID=America/Detroit:20220417T000000
DTEND;TZID=America/Detroit:20220417T235959
SUMMARY:Other:2022 ECTC Vermont 
DESCRIPTION:Join us for Sparring and Poomsae matches at UVM! 
UID:93844-21758553@events.umich.edu
URL:https://events.umich.edu/event/93844
CLASS:PUBLIC
STATUS:CONFIRMED
CATEGORIES:
LOCATION:University of Vermont 
CONTACT:
END:VEVENT
BEGIN:VEVENT
DTSTAMP:20220417T120005
DTSTART;TZID=America/Detroit:20220417T000000
DTEND;TZID=America/Detroit:20220417T235959
SUMMARY:Other:Away Series vs Western Michigan
DESCRIPTION:Conference Series at Western Michigan. Doubleheader on Saturday\, 4/16 starting at 12 pm. 9-inning game on Sunday\, 4/17 starting at 12 pm.
UID:94386-21758505@events.umich.edu
URL:https://events.umich.edu/event/94386
CLASS:PUBLIC
STATUS:CONFIRMED
CATEGORIES:
LOCATION:Western Michigan
CONTACT:
END:VEVENT
BEGIN:VEVENT
DTSTAMP:20220408T152800
DTSTART;TZID=America/Detroit:20220417T000000
DTEND;TZID=America/Detroit:20220417T235900
SUMMARY:Other:BioArtography - Call for Images
DESCRIPTION:BioArtography is now collecting digital images for its 2022 collection\, which will debut at the Ann Arbor Art Fair in July 2022!\n\nThe BioArtography program\, a unique blend of art and science\, captures the microscopic beauty of cells in their environment\, affording the public a deeper understanding of state-of-the-art biomedical research at the University of Michigan. The goal of our program is to provide support for training of the next generation of scientists\, while simultaneously informing and engaging the public about important new developments in health and disease.\n\nThe top 3 images selected by our jury will receive $100!    \n\nPlease click the BioArtography Image Submission Info link for all details.
UID:73295-21742279@events.umich.edu
URL:https://events.umich.edu/event/73295
CLASS:PUBLIC
STATUS:CONFIRMED
CATEGORIES:Art,Basic Science,Biointerfaces,Biology,Biomedical Engineering,Biosciences,Engineering,Life Science,Medicine,Research,Science,Visual Arts
LOCATION:
CONTACT:
END:VEVENT
BEGIN:VEVENT
DTSTAMP:20220417T120005
DTSTART;TZID=America/Detroit:20220417T000000
DTEND;TZID=America/Detroit:20220417T235959
SUMMARY:Sporting Event:Buckeye Invite`
DESCRIPTION:MCSA Fleet Race Dingy Regatta
UID:94252-21758499@events.umich.edu
URL:https://events.umich.edu/event/94252
CLASS:PUBLIC
STATUS:CONFIRMED
CATEGORIES:
LOCATION:Ohio State University, Columbus, OH
CONTACT:
END:VEVENT
BEGIN:VEVENT
DTSTAMP:20230324T120005
DTSTART;TZID=America/Detroit:20220417T000000
DTEND;TZID=America/Detroit:20220417T235959
SUMMARY:Community Service:Homework Help at The Children's Center
DESCRIPTION:The Homework Help program offers children assistance with their homework assignments. Children are encouraged to bring homework and are paired with a volunteer to assist them. This program is a critical service in helping children thrive. Volunteers give children the tools they need to be successful in school.Virtual and in-person volunteer opportunities are available. If you would like to volunteer\, please start the enrollment process by creating an account on the Children Center's Volunteer Site found HERE. After your account is created\, the Children's Center will reach out to you within 2 business days to answer any questions and discuss the next steps.In accordance with the CMS Vaccine Mandate\, those volunteering in-person at the Children’s Center are required to be fully vaccinated and must provide proof of full vaccination upon request.
UID:93885-21787792@events.umich.edu
URL:https://events.umich.edu/event/93885
CLASS:PUBLIC
STATUS:CONFIRMED
CATEGORIES:
LOCATION:The Children&#039;s Center 
CONTACT:
END:VEVENT
BEGIN:VEVENT
DTSTAMP:20220417T120005
DTSTART;TZID=America/Detroit:20220417T000000
DTEND;TZID=America/Detroit:20220417T235959
SUMMARY:Sporting Event:MCSA Women's Fleet Race Championship
DESCRIPTION:MCSA Fleet Race Dingy Regatta Nationals Qualifier
UID:94263-21758502@events.umich.edu
URL:https://events.umich.edu/event/94263
CLASS:PUBLIC
STATUS:CONFIRMED
CATEGORIES:
LOCATION:University of Michigan, Ann Arbor, Michigan
CONTACT:
END:VEVENT
BEGIN:VEVENT
DTSTAMP:20220416T180005
DTSTART;TZID=America/Detroit:20220417T000000
DTEND;TZID=America/Detroit:20220417T000000
SUMMARY:Sporting Event:Navy Spring
DESCRIPTION:ICSA Fleet Race Dingy Regatta
UID:94262-21757199@events.umich.edu
URL:https://events.umich.edu/event/94262
CLASS:PUBLIC
STATUS:CONFIRMED
CATEGORIES:
LOCATION:Naval Academy, Annapolis, MD
CONTACT:
END:VEVENT
BEGIN:VEVENT
DTSTAMP:20220416T180006
DTSTART;TZID=America/Detroit:20220417T000000
DTEND;TZID=America/Detroit:20220417T210000
SUMMARY:Other:NCVF Championships
DESCRIPTION:NCVF Championships taking place April 14-16 In Phoenix\, Arizona.
UID:94449-21757212@events.umich.edu
URL:https://events.umich.edu/event/94449
CLASS:PUBLIC
STATUS:CONFIRMED
CATEGORIES:
LOCATION:Phoenix Convention Center
CONTACT:
END:VEVENT
BEGIN:VEVENT
DTSTAMP:20220417T180002
DTSTART;TZID=America/Detroit:20220417T000000
DTEND;TZID=America/Detroit:20220417T235959
SUMMARY:Other:NCVF Nationals
DESCRIPTION:NCVF National Championships in Phoenix\, Arizona
UID:90928-21758545@events.umich.edu
URL:https://events.umich.edu/event/90928
CLASS:PUBLIC
STATUS:CONFIRMED
CATEGORIES:
LOCATION:Phoenix Convention Center
CONTACT:
END:VEVENT
BEGIN:VEVENT
DTSTAMP:20220426T164709
DTSTART;TZID=America/Detroit:20220417T000000
DTEND;TZID=America/Detroit:20220417T235900
SUMMARY:Other:Poetry Blast!
DESCRIPTION:Complete details at https://lsa.umich.edu/humanities/programs/2022-poetry-blast.html.\n\nApril is National Poetry Month\, the largest literary celebration in the world. This year we're joining the tens of millions of readers\, students\, teachers\, librarians\, booksellers\, publishers\, families\, and\, of course\, poets\, in marking poetry's important place in our lives. Our goal is for everyone in our community to read a poem\, write a poem\, or listen to a poem in April. Why? As editor and teacher Alice Osborn said\, \"Poetry is like the Windex on a grubby car window—it bares open the vulnerabilities of human beings so we can all relate to each other a little better.\"\n\nHow to Get Involved\n\nNoon Poems\nTake a few minutes to listen to a poem. Every weekday at noon in April\, our Youtube channel will feature a U-M faculty member reading one of their poems. Videos will also be archived for those who wish to listen later. If you'd like to receive a daily reminder in your inbox\, sign up here: http://eepurl.com/hrZTGv. \n\nPrompt a Poem!—A Daily April Poetry Challenge\nCreative expression through poetry for everyone! Every weekday in April\, people from all walks of life can unite behind a common prompt by writing a poem. Sign up here to receive the daily prompts in your inbox\, or look here where we will list them. Many thanks to Laura Kasischke for creating the prompts and collaborating on Prompt a Poem.\n\nPop-Up Poems\nStroll around campus and read a poem! We've teamed up with Michigan Quarterly Review to make poetry part of the campus landscape. Look for poems all over campus in windows\, on the diag\, on buses\, and more.
UID:94022-21715698@events.umich.edu
URL:https://events.umich.edu/event/94022
CLASS:PUBLIC
STATUS:CONFIRMED
CATEGORIES:Faculty,Graduate Students,Humanities,Language,Poetry,Undergraduate Students
LOCATION:
CONTACT:
END:VEVENT
BEGIN:VEVENT
DTSTAMP:20220416T180006
DTSTART;TZID=America/Detroit:20220417T000000
DTEND;TZID=America/Detroit:20220417T220000
SUMMARY:Other:WCLL Regional Tournament
DESCRIPTION:road to nationals!!! coming for u @pitt
UID:94325-21757205@events.umich.edu
URL:https://events.umich.edu/event/94325
CLASS:PUBLIC
STATUS:CONFIRMED
CATEGORIES:
LOCATION:Detroit Country Day School
CONTACT:
END:VEVENT
BEGIN:VEVENT
DTSTAMP:20220222T145729
DTSTART;TZID=America/Detroit:20220417T050000
DTEND;TZID=America/Detroit:20220417T235900
SUMMARY:Other:Become a Summer Research Mentor
DESCRIPTION:UROP Research Mentors are faculty and post-doc researchers who provide undergraduate student researchers an opportunity to engage in research activities that help them learn about the pursuit of knowledge within an academic discipline. This early exposure to research fosters a valuable academic experience for students. Through this collaboration\, students gain research skills and mentorship that lead to academic retention\, a more positive undergraduate experience and paths to graduate school.\n\nJoin us by mentoring students participating in our summer research fellowships.\nhttps://lsa.umich.edu/urop/research-mentors.html
UID:92672-21694326@events.umich.edu
URL:https://events.umich.edu/event/92672
CLASS:PUBLIC
STATUS:CONFIRMED
CATEGORIES:AEM Featured,Alumni,Biomedical Engineering,Engineering,Environment,Fellowship,Free,Graduate and Professional Students,Graduate Students,Humanities,Interdisciplinary,Leadership,LGBT,Life Science,Mentorship,Networking,Professional Development,Research,research data,Social Impact,Social Justice,Social Sciences,The College Of Literature\, Science\, And The Arts,Urop,Women's Studies
LOCATION:Off Campus Location
CONTACT:
END:VEVENT
BEGIN:VEVENT
DTSTAMP:20211129T152100
DTSTART;TZID=America/Detroit:20220417T070000
DTEND;TZID=America/Detroit:20220417T235900
SUMMARY:Careers / Jobs:UROP 2022-2023 Rising Sophomore Applications Open
DESCRIPTION:The Undergraduate Research Opportunity Program is now accepting applications for students who will be rising sophomores during the 2022-2023 academic year.\n\nLearn more and apply today at http://myumi.ch/uropsophomore\n\nRising Sophomore Applications are being accepted on a rolling basis.
UID:89571-21664260@events.umich.edu
URL:https://events.umich.edu/event/89571
CLASS:PUBLIC
STATUS:CONFIRMED
CATEGORIES:AEM Featured,Applications,Engineering,Environment,first-generation,Humanities,Interdisciplinary,Life Science,Professional Development,Public Health,Recruiting,Research,research data,Social Sciences,Sophomore,Undergraduate,Undergraduate Students,Urop
LOCATION:Off Campus Location
CONTACT:
END:VEVENT
BEGIN:VEVENT
DTSTAMP:20220215T154124
DTSTART;TZID=America/Detroit:20220417T080000
DTEND;TZID=America/Detroit:20220417T230000
SUMMARY:Careers / Jobs:Apply to Changing Gears
DESCRIPTION:Changing Gears (CG) is a UROP program designed primarily for community college transfer students who will be attending the University of Michigan\, but also serves students transferring from 4 year institutions. Students in the CG Program become a part of an ongoing faculty-driven research\, scholarly or creative project in their field of interest. Students learn valuable academic skills\, applying these skills to their research project\, academics\, and future career opportunities\, while receiving academic credit or compensation for their efforts in research work.\n\nApplications are accepted on a rolling basis.\nLearn more about Changing Gears at: myumi.ch/uropcg
UID:92406-21690916@events.umich.edu
URL:https://events.umich.edu/event/92406
CLASS:PUBLIC
STATUS:CONFIRMED
CATEGORIES:AEM Featured,Applications,first-generation,Free,Interdisciplinary,Networking,Research,research data,Social Impact,The College Of Literature\, Science\, And The Arts,Transfer Students,Undergraduate,Undergraduate Students,Urop
LOCATION:Off Campus Location
CONTACT:
END:VEVENT
BEGIN:VEVENT
DTSTAMP:20220516T161143
DTSTART;TZID=America/Detroit:20220417T080000
DTEND;TZID=America/Detroit:20220417T190000
SUMMARY:Exhibition:Map ≠ Territory: Distortion and Power in Cartography
DESCRIPTION:More than strict representations of the world we inhabit\, maps are social constructions that embody the interests of their creators. Map ≠ Territory deconstructs maps that have been used to subjugate\, appropriate\, and oppress\, as well as the maps that counter that power through emancipation and advocacy. The exhibit critically engages with materials that span from the colonial era to modern-day Detroit.\n\nThe exhibit is available in the Clark Library (second floor Hatcher) during Hatcher Library hours. Please verify hours on the library's website: https://www.lib.umich.edu
UID:90765-21673578@events.umich.edu
URL:https://events.umich.edu/event/90765
CLASS:PUBLIC
STATUS:CONFIRMED
CATEGORIES:Library,Maps
LOCATION:Hatcher Graduate Library - Clark Library, 2nd Floor
CONTACT:
END:VEVENT
BEGIN:VEVENT
DTSTAMP:20220117T095807
DTSTART;TZID=America/Detroit:20220417T080000
DTEND;TZID=America/Detroit:20220417T230000
SUMMARY:Careers / Jobs:UROP Research Scholars Program Application Open
DESCRIPTION:The UROP Research Scholars Program is designed for students who want to expand on their first year UROP experience and participate in UROP for a second year at an advanced level. In this program\, students build upon the knowledge gained in a first undergraduate research experience to further explore the connections between research\, a liberal arts education\, and communicating skills to advance their future professional goals. Students are expected to explore various written and oral possibilities for communicating their research process\, identifying the limits set by the discipline and the opportunities that lie beyond.\n\nApplications for the 2022-2023 academic year cohort open February 14th.\nPriority Deadline for the applications is March 18th\n\nLearn more at: myumi.ch/uroprs
UID:91080-21676500@events.umich.edu
URL:https://events.umich.edu/event/91080
CLASS:PUBLIC
STATUS:CONFIRMED
CATEGORIES:AEM Featured,Applications,Fellowship,first-generation,Interdisciplinary,Networking,Research,research data,Sophomore,The College Of Literature\, Science\, And The Arts,Undergraduate,Undergraduate Students,Urop
LOCATION:Off Campus Location
CONTACT:
END:VEVENT
BEGIN:VEVENT
DTSTAMP:20220204T165932
DTSTART;TZID=America/Detroit:20220417T090000
DTEND;TZID=America/Detroit:20220417T180000
SUMMARY:Exhibition:Greek Manuscripts at the University of Michigan Library: A Celebration
DESCRIPTION:Splendors of the religious and artistic endeavors of Byzantine manuscript makers are on display in this exhibit of highlights from the Greek manuscript collection at the University of Michigan Library Special Collections Research Center. The collection — 110 codices (bound manuscripts) and fragments written in Greek from the fourth to the nineteenth centuries C.E. — is the largest such collection in the Western Hemisphere and provides unique insights into this era of achievement in textual transmission\, calligraphy\, illumination\, and bookbinding. The exhibit will be open during Audubon Room hours.\n\nA digital version of the exhibit will be available in the Audubon Room and online\, and allows visitors to explore other pages of the manuscripts on display and other manuscripts from the collection.\n\nThis exhibit celebrates two recent publications based on the collection: \n\n* Catalogue of Greek Manuscripts at the University of Michigan\, Ann Arbor. Vol. 1.\, by Nadezhda Kavrus-Hoffmann (Ann Arbor: University of Michigan Press\, 2021)\n\n* Tradition and Individuality: Bindings from the University of Michigan Greek Manuscript Collection\, by Julia Miller (Ann Arbor: The Legacy Press\, 2021)
UID:92000-21684884@events.umich.edu
URL:https://events.umich.edu/event/92000
CLASS:PUBLIC
STATUS:CONFIRMED
CATEGORIES:Classical Studies,Exhibition,Library
LOCATION:Hatcher Graduate Library - Audubon Room, 1st floor
CONTACT:
END:VEVENT
BEGIN:VEVENT
DTSTAMP:20220406T105221
DTSTART;TZID=America/Detroit:20220417T123000
DTEND;TZID=America/Detroit:20220417T131500
SUMMARY:Presentation:Sky Tonight
DESCRIPTION:A live presentation on what to find in the sky tonight and for the coming few weeks. This presentation includes how to find the cardinal directions on your own by finding the north star\, current and upcoming constellations\, visible planets\, a few deep sky objects depending on the season\, and other interesting astronomical visualizations. \n\nThe state-of-the-art Planetarium & Dome Theater at the U-M Museum of Natural History transports visitors beyond distant stars and deep into the ocean from the comfort of reclining seats. Tickets $8. Tickets are available on the day of the show at the Museum Store.\nThe planetarium is operating at reduced capacity to maximize distancing between viewers and masks are required.
UID:89869-21700848@events.umich.edu
URL:https://events.umich.edu/event/89869
CLASS:PUBLIC
STATUS:CONFIRMED
CATEGORIES:Astronomy,Museum,natural history museum
LOCATION:Museum of Natural History - Planetarium and Dome Theatre
CONTACT:
END:VEVENT
BEGIN:VEVENT
DTSTAMP:20220406T104838
DTSTART;TZID=America/Detroit:20220417T133000
DTEND;TZID=America/Detroit:20220417T141500
SUMMARY:Presentation:Natural Selection
DESCRIPTION:Natural Selection joins Darwin on his voyage with the HMS Beagle to the Galapagos Islands where he was inspired to develop his later theory of transmutation by natural selection. From the comfort of Down House in Kent\, Darwin himself will explain the mechanism of natural selection to the audience\, and support it by showing many beautiful examples in nature. The thrill of a scientific discovery\, the adventure of science and the beauty of nature are central in this show.\nThe planetarium is operating at reduced capacity to maximize distancing between viewers and masks are required.
UID:93136-21700931@events.umich.edu
URL:https://events.umich.edu/event/93136
CLASS:PUBLIC
STATUS:CONFIRMED
CATEGORIES:Astronomy,Museum,natural history museum
LOCATION:Museum of Natural History - Planetarium and Dome Theatre
CONTACT:
END:VEVENT
BEGIN:VEVENT
DTSTAMP:20220309T161847
DTSTART;TZID=America/Detroit:20220417T140000
DTEND;TZID=America/Detroit:20220417T160000
SUMMARY:Performance:Animal Farm
DESCRIPTION:Written by George Orwell\, Adapted by Ian Wooldridge.\n\nEnraged by their treatment from their caretaker\, Mr. Jones\, the animals of Manor Farm plot their revolution. Left to their own devices\, can they create a society in which they are better off than where they started?\n\nPlease be aware that this production makes use of light and sound effects (including gunshot) that may be overstimulating for certain audiences.
UID:93112-21700734@events.umich.edu
URL:https://events.umich.edu/event/93112
CLASS:PUBLIC
STATUS:CONFIRMED
CATEGORIES:Mutotix
LOCATION:Walgreen Drama Center - Arthur Miller Theatre
CONTACT:
END:VEVENT
BEGIN:VEVENT
DTSTAMP:20220408T121513
DTSTART;TZID=America/Detroit:20220417T140000
SUMMARY:Performance:Hair
DESCRIPTION:More than 50 years after it originally shook up Broadway\, the original “American tribal love rock musical” remains as relevant as ever. Exploring ideas of identity\, community\, global responsibility\, and peace\, set to an infectiously energetic rock beat\, Hair challenges audiences even as it wows them with songs like \"Aquarius\,\" \"Good Morning\, Starshine\,\" \"Easy to be Hard\,\" \"I Got Life\,\" and \"Let The Sun Shine In.\" More than 50 years after it originally shook up Broadway\, the original “American tribal love rock musical” remains as relevant as ever.\n\n**Recommended for ages 17+. Contains adult situations\, including frank references to sexuality\, war\, racism\, and drug use. May contain nudity.**\n\nDue to the curricular nature of our performances\, SMTD has chosen to maintain our mask requirements for the remainder of the semester. All audience members will be required to wear masks throughout all performances. 
UID:89238-21661196@events.umich.edu
URL:https://events.umich.edu/event/89238
CLASS:PUBLIC
STATUS:CONFIRMED
CATEGORIES:Concert,Culture,Dance,Music,Theater
LOCATION:Power Center for the Performing Arts
CONTACT:
END:VEVENT
BEGIN:VEVENT
DTSTAMP:20220404T181521
DTSTART;TZID=America/Detroit:20220417T143000
SUMMARY:Performance:Justin Brown\, saxophone
DESCRIPTION:PROGRAM\n\nSonata - William Albright\nCiudades - Guillermo Lago\nCrybaby - Erik Hose<\nCome As You Are - Steven Banks
UID:94352-21734880@events.umich.edu
URL:https://events.umich.edu/event/94352
CLASS:PUBLIC
STATUS:CONFIRMED
CATEGORIES:Free
LOCATION:Earl V. Moore Building - McIntosh Theatre
CONTACT:
END:VEVENT
BEGIN:VEVENT
DTSTAMP:20220406T105221
DTSTART;TZID=America/Detroit:20220417T143000
DTEND;TZID=America/Detroit:20220417T151500
SUMMARY:Presentation:Sky Tonight
DESCRIPTION:A live presentation on what to find in the sky tonight and for the coming few weeks. This presentation includes how to find the cardinal directions on your own by finding the north star\, current and upcoming constellations\, visible planets\, a few deep sky objects depending on the season\, and other interesting astronomical visualizations. \n\nThe state-of-the-art Planetarium & Dome Theater at the U-M Museum of Natural History transports visitors beyond distant stars and deep into the ocean from the comfort of reclining seats. Tickets $8. Tickets are available on the day of the show at the Museum Store.\nThe planetarium is operating at reduced capacity to maximize distancing between viewers and masks are required.
UID:89869-21700852@events.umich.edu
URL:https://events.umich.edu/event/89869
CLASS:PUBLIC
STATUS:CONFIRMED
CATEGORIES:Astronomy,Museum,natural history museum
LOCATION:Museum of Natural History - Planetarium and Dome Theatre
CONTACT:
END:VEVENT
BEGIN:VEVENT
DTSTAMP:20220413T181514
DTSTART;TZID=America/Detroit:20220417T151500
SUMMARY:Performance:Angie Zhang\, piano
DESCRIPTION:PROGRAM\nFantasie in F minor\, Op. 49 - Frederic Chopin\nPolonaise-Fantasie - Frederic Chopin\nFantasie-Impromptu - Frederic Chopin\nLos Requiebros from Goyescas - Enrique Granados\nLiebesfreud - Fritz Kreisler
UID:94602-21751921@events.umich.edu
URL:https://events.umich.edu/event/94602
CLASS:PUBLIC
STATUS:CONFIRMED
CATEGORIES:Free
LOCATION:Walgreen Drama Center - Stamps Auditorium
CONTACT:
END:VEVENT
BEGIN:VEVENT
DTSTAMP:20220414T181519
DTSTART;TZID=America/Detroit:20220417T160000
SUMMARY:Performance:Vocal Chamber Music
DESCRIPTION:Featuring new\, colorful\, and exciting vocal chamber works by Alexia Benson (premiere)\, Benjamin Britten\, Robert Danielpour\, Louise Talma\, Franz Schubert\, Michael Goodman (premiere)\, Simon Holt\, Frank Bridge\, Frank Ticheli\, Vaughan Williams\, Jean Francaix\, Richard Wernick\, and Andrew Caplet.
UID:94653-21753699@events.umich.edu
URL:https://events.umich.edu/event/94653
CLASS:PUBLIC
STATUS:CONFIRMED
CATEGORIES:Free
LOCATION:Earl V. Moore Building - Britton Recital Hall
CONTACT:
END:VEVENT
BEGIN:VEVENT
DTSTAMP:20220404T181521
DTSTART;TZID=America/Detroit:20220417T170000
SUMMARY:Performance:Matthew David Adams\, violin
DESCRIPTION:PROGRAM\n\nAir - Aaron Jay Kernis\nBlue/s Forms - Samuel Coleridge-Taylor\nViolin Sonata in A minor - Robert Schumann\nRondo in B minor for violin and piano - Franz Schubert
UID:94353-21734881@events.umich.edu
URL:https://events.umich.edu/event/94353
CLASS:PUBLIC
STATUS:CONFIRMED
CATEGORIES:Free
LOCATION:Stearns Building - Cady Room
CONTACT:
END:VEVENT
BEGIN:VEVENT
DTSTAMP:20220413T181514
DTSTART;TZID=America/Detroit:20220417T173000
SUMMARY:Performance:Terrance Lo\, cello
DESCRIPTION:PROGRAM\n5 Pieces in a Folk Style\, Op. 102 - Robert Schumann\nCello Sonata\, Op. 4 - Zoltan Kodaly\n7 Tunes Heard in China - Bright Sheng
UID:94603-21751922@events.umich.edu
URL:https://events.umich.edu/event/94603
CLASS:PUBLIC
STATUS:CONFIRMED
CATEGORIES:Free
LOCATION:Walgreen Drama Center - Stamps Auditorium
CONTACT:
END:VEVENT
BEGIN:VEVENT
DTSTAMP:20220125T141920
DTSTART;TZID=America/Detroit:20220417T180000
DTEND;TZID=America/Detroit:20220417T190000
SUMMARY:Social / Informal Gathering:Deutschtisch
DESCRIPTION:The semester\, Max Kade Deutschtisch will be offered online. Bring your dinner\, log onto Zoom and enjoy a casual conversation in German over your meal.\n\nhttps://umich.zoom.us/j/95110662089 \n\nPasscode:819189
UID:91491-21680083@events.umich.edu
URL:https://events.umich.edu/event/91491
CLASS:PUBLIC
STATUS:CONFIRMED
CATEGORIES:European,German,Max Kade,Social
LOCATION:Off Campus Location - https://umich.zoom.us/j/95110662089
CONTACT:
END:VEVENT
BEGIN:VEVENT
DTSTAMP:20220404T181521
DTSTART;TZID=America/Detroit:20220417T193000
SUMMARY:Performance:Jason Frazier\, saxophone
DESCRIPTION:PROGRAM\n\nTrio for Oboe\, Bassoon\, and Piano\, FP 43 - Francis Poulenc\nStar Bits - Corey Dundee\nSonata - William Albright\nPress Release - David Lang\nString Quartet No. 2 - Alexander Borodin
UID:94354-21734882@events.umich.edu
URL:https://events.umich.edu/event/94354
CLASS:PUBLIC
STATUS:CONFIRMED
CATEGORIES:Free
LOCATION:Earl V. Moore Building - McIntosh Theatre
CONTACT:
END:VEVENT
BEGIN:VEVENT
DTSTAMP:20220413T181514
DTSTART;TZID=America/Detroit:20220417T200000
SUMMARY:Performance:Iris Wu\, violin
DESCRIPTION:PROGRAM\nGrand Caprice on Schubert's \"Der Erlkönig\" Op. 26 - Heinrich Wilhelm Ernst\nSonata for Piano and Violin No. 2 in A Major\, Op. 100 - Johannes Brahms\nPiano Trio No. 1 in B Major\, Op. 8 - Johannes Brahms<
UID:94604-21751923@events.umich.edu
URL:https://events.umich.edu/event/94604
CLASS:PUBLIC
STATUS:CONFIRMED
CATEGORIES:Free
LOCATION:Walgreen Drama Center - Stamps Auditorium
CONTACT:
END:VEVENT
END:VCALENDAR